{"text_format":"1","workbook":"xlsx","n_sheets":92,"sheets":["Index","Introduction","Guidance Notes","Specifications","Shareholders","Shareholding structure","Disclosure","Corporate organisation chart","PCC","Checks","Simplifications","Corporate information","Balance Sheet>>>","BS","Assets>>>","A0","A1","A2","A3","A4","A5","A6","A7","A8","A9","A10","A11","A12","A13","Liabilities>>>","L0","L1","L2","L3","L4","L5","L6","L7","L8","Insurance&Reinsurance>>>","IR0","IR1","IR2","IR3","IR4","IR5","IR6","IR7","IR8","IR9","IR10","IR11","IR12","Profit&Loss>>>","I0","I1","I2","I3","I4","I5","I6","I7","I8","I9","PL0","PL1","PL2","PL3","Capital Requirements >>>","C0","C1","C2","C3","C4","C5","Subsidiary asset capital ratio","C6","C7","C8","C9","C10","C11","C12","Reporting >>>","R1","R2","R3","R4","R5","R6","R7","Dev"],"not_rendered":{"charts":0,"images":0,"macros":1,"external_links":5,"defined_names":26,"comments":0,"pivot_tables":0},"unopened":[],"bounds":{"document_bytes":16777216,"sheet_cells":100000,"rows_first":2000,"rows_last":500,"rows_between":2000,"halvings":0,"cell_chars":16384,"cell_head_chars":4096},"cells_cut":0,"cells_raw":0,"read":"whole","date_system":"1900"}

{"sheet":"Index","index":0,"n_rows":101,"n_cols":3,"rows_kept":101,"cut":false,"hidden":false,"merged":[[0,1,0,7],[4,2,4,7],[1,1,1,7]]}
[]
[null,"FIRST SCHEDULE: TABLE OF CONTENTS"]
[]
[]
[null,"SHEET","DESCRIPTION"]
[null,{"$f":"HYPERLINK(\"#'Introduction'!A1\", \"Introduction\")","v":"Introduction"}]
[null,{"$f":"HYPERLINK(\"#'Guidance Notes'!A1\", \"Guidance Notes\")","v":"Guidance Notes"},"Guidance notes to fill the template"]
[null,{"$f":"HYPERLINK(\"#'Specifications'!A1\", \"Specifications\")","v":"Specifications"},"Specifications for template completion"]
[null,{"$f":"HYPERLINK(\"#'Shareholders'!A1\", \"Shareholders\")","v":"Shareholders"},"Disclosure of company's shareholders"]
[null,{"$f":"HYPERLINK(\"#'Shareholding structure'!A1\", \"Shareholding structure\")","v":"Shareholding structure"},"Disclosure of company's shareholding structure"]
[null,{"$f":"HYPERLINK(\"#'Disclosure'!A1\", \"Disclosure\")","v":"Disclosure"},"Disclosure with respect to changes over previous period, Exchange rates, ESG, and other disclosures"]
[null,{"$f":"HYPERLINK(\"#'Corporate organisation chart'!A1\", \"Corporate organisation chart\")","v":"Corporate organisation chart"},"Disclosure of Corporate organisation chart"]
[null,{"$f":"HYPERLINK(\"#'PCC'!A1\", \"PCC\")","v":"PCC"},"Disclosure with respect to Protective Cell Companies (PCC)"]
[null,{"$f":"HYPERLINK(\"#'Checks'!A1\", \"Checks\")","v":"Checks"},"Checks to ensure proper filling of the template"]
[null,{"$f":"HYPERLINK(\"#'Simplifications'!A1\", \"Simplifications\")","v":"Simplifications"},"Simplifications or assumptions used for the completion of the statutory returns"]
[null,{"$f":"HYPERLINK(\"#'Corporate information'!A1\", \"Corporate information\")","v":"Corporate information"},"Specification of company information"]
[]
[null,{"$f":"HYPERLINK(\"#'BS'!A1\", \"BS\")","v":"BS"}]
[null,"Assets"]
[null,{"$f":"HYPERLINK(\"#'A0'!A1\",\"A0\")","v":"A0"},"Statement of assets"]
[null,{"$f":"HYPERLINK(\"#'A1'!A1\",\"A1\")","v":"A1"},"Property, plant and equipment"]
[null,{"$f":"HYPERLINK(\"#'A2'!A1\",\"A2\")","v":"A2"},"Goodwill and other intangible assets"]
[null,{"$f":"HYPERLINK(\"#'A3'!A1\",\"A3\")","v":"A3"},"Right-of-use Assets"]
[null,{"$f":"HYPERLINK(\"#'A4'!A1\",\"A4\")","v":"A4"},"Investment in Related Companies"]
[null,{"$f":"HYPERLINK(\"#'A5'!A1\",\"A5\")","v":"A5"},"Investment property"]
[null,{"$f":"HYPERLINK(\"#'A6'!A1\",\"A6\")","v":"A6"},"Financial investments"]
[null,{"$f":"HYPERLINK(\"#'A7'!A1\",\"A7\")","v":"A7"},"Derivative assets"]
[null,{"$f":"HYPERLINK(\"#'A8'!A1\",\"A8\")","v":"A8"},"Current and deferred tax assets and liabilities"]
[null,{"$f":"HYPERLINK(\"#'A9'!A1\",\"A9\")","v":"A9"},"Receivables"]
[null,{"$f":"HYPERLINK(\"#'A10'!A1\",\"A10\")","v":"A10"},"Recovery from insurance companies"]
[null,{"$f":"HYPERLINK(\"#'A11'!A1\",\"A11\")","v":"A11"},"Assets held for sale"]
[null,{"$f":"HYPERLINK(\"#'A12'!A1\",\"A12\")","v":"A12"},"Assets covering general business technical provisions"]
[null,{"$f":"HYPERLINK(\"#'A13'!A1\",\"A13\")","v":"A13"},"Cash and other assets"]
[]
[null,"Liabilities"]
[null,{"$f":"HYPERLINK(\"#'L0'!A1\", \"L0\")","v":"L0"},"Balance sheet liabilities and equity"]
[null,{"$f":"HYPERLINK(\"#'L1'!A1\", \"L1\")","v":"L1"},"Liabilities held for sale"]
[null,{"$f":"HYPERLINK(\"#'L2'!A1\", \"L2\")","v":"L2"},"Derivative liabilities"]
[null,{"$f":"HYPERLINK(\"#'L3'!A1\", \"L3\")","v":"L3"},"Investment contract liabilities"]
[null,{"$f":"HYPERLINK(\"#'L4'!A1\", \"L4\")","v":"L4"},"Lease liabilities"]
[null,{"$f":"HYPERLINK(\"#'L5'!A1\", \"L5\")","v":"L5"},"Trade and other payables, including insurance payables"]
[null,{"$f":"HYPERLINK(\"#'L6'!A1\", \"L6\")","v":"L6"},"Borrowings"]
[null,{"$f":"HYPERLINK(\"#'L7'!A1\", \"L7\")","v":"L7"},"Other liabilities"]
[null,{"$f":"HYPERLINK(\"#'L8'!A1\", \"L8\")","v":"L8"},"Statement of Changes in Equity"]
[]
[null,"Insurance & Reinsurance"]
[null,{"$f":"HYPERLINK(\"#'IR0'!A1\",\"IR0\")","v":"IR0"},"Balance sheet and reserves summary"]
[null,{"$f":"HYPERLINK(\"#'IR1'!A1\",\"IR1\")","v":"IR1"},"Insurance Liabilities"]
[null,{"$f":"HYPERLINK(\"#'IR2'!A1\",\"IR2\")","v":"IR2"},"Insurance assets"]
[null,{"$f":"HYPERLINK(\"#'IR3'!A1\",\"IR3\")","v":"IR3"},"Reinsurance Liabilities"]
[null,{"$f":"HYPERLINK(\"#'IR4'!A1\",\"IR4\")","v":"IR4"},"Reinsurance assets"]
[null,{"$f":"HYPERLINK(\"#'IR5'!A1\",\"IR5\")","v":"IR5"},"Liability roll forward for insurance contracts measured under GMM"]
[null,{"$f":"HYPERLINK(\"#'IR6'!A1\",\"IR6\")","v":"IR6"},"Liability roll forward for reinsurance contracts measured under GMM"]
[null,{"$f":"HYPERLINK(\"#'IR7'!A1\",\"IR7\")","v":"IR7"},"Liability roll forward for insurance contracts measured under GMM - 2"]
[null,{"$f":"HYPERLINK(\"#'IR8'!A1\",\"IR8\")","v":"IR8"},"Liability roll forward for reinsurance contracts measured under GMM - 2"]
[null,{"$f":"HYPERLINK(\"#'IR9'!A1\",\"IR9\")","v":"IR9"},"Liability roll forward for insurance contracts measured under PAA"]
[null,{"$f":"HYPERLINK(\"#'IR10'!A1\",\"IR10\")","v":"IR10"},"Liability roll forward for reinsurance contracts measured under PAA"]
[null,{"$f":"HYPERLINK(\"#'IR11'!A1\",\"IR11\")","v":"IR11"},"Cashflows"]
[null,{"$f":"HYPERLINK(\"#'IR12'!A1\",\"IR12\")","v":"IR12"},"Risk adjustment confidence interval"]
[]
[null,"Insurance finance result"]
[null,{"$f":"HYPERLINK(\"#'I0'!A1\", \"I0\")","v":"I0"},"Statement of financial performance"]
[null,{"$f":"HYPERLINK(\"#'I1'!A1\", \"I1\")","v":"I1"},"Insurance Revenue under GMM"]
[null,{"$f":"HYPERLINK(\"#'I2'!A1\", \"I2\")","v":"I2"},"Insurance Revenue under PAA"]
[null,{"$f":"HYPERLINK(\"#'I3'!A1\", \"I3\")","v":"I3"},"Insurance service expense measured under GMM"]
[null,{"$f":"HYPERLINK(\"#'I4'!A1\", \"I4\")","v":"I4"},"Insurance service expense measured under PAA"]
[null,{"$f":"HYPERLINK(\"#'I5'!A1\", \"I5\")","v":"I5"},"Net Expenses from Reinsurance Contracts"]
[null,{"$f":"HYPERLINK(\"#'I6'!A1\", \"I6\")","v":"I6"},"Finance income/(expenses) for insurance contracts issued"]
[null,{"$f":"HYPERLINK(\"#'I7'!A1\", \"I7\")","v":"I7"},"Finance income/(expenses) for reinsurance contracts held"]
[null,{"$f":"HYPERLINK(\"#'I8'!A1\", \"I8\")","v":"I8"},"Insurance service result"]
[null,{"$f":"HYPERLINK(\"#'I9'!A1\", \"I9\")","v":"I9"},"Net Expenses from reinsurance"]
[]
[null,"Profit and Loss"]
[null,{"$f":"HYPERLINK(\"#'PL0'!A1\", \"PL0\")","v":"PL0"},"Statement of profit and loss"]
[null,{"$f":"HYPERLINK(\"#'PL1'!A1\", \"PL1\")","v":"PL1"},"Non attributable expenses"]
[null,{"$f":"HYPERLINK(\"#'PL2'!A1\", \"PL2\")","v":"PL2"},"Investment income"]
[null,{"$f":"HYPERLINK(\"#'PL3'!A1\", \"PL3\")","v":"PL3"},"Other comprehensive income"]
[]
[null,"Capital"]
[null,{"$f":"HYPERLINK(\"#C0!A1\",\"C0\")","v":"C0"},"Capital Requirements"]
[null,{"$f":"HYPERLINK(\"#'C1'!A1\",\"C1\")","v":"C1"},"Capital requirement for insurance liabilities"]
[null,{"$f":"HYPERLINK(\"#'C2'!A1\",\"C2\")","v":"C2"},"Investment Risks"]
[null,{"$f":"HYPERLINK(\"#'C3'!A1\",\"C3\")","v":"C3"},"Investment in listed corporates"]
[null,{"$f":"HYPERLINK(\"#'C4'!A1\",\"C4\")","v":"C4"},"Investment in unlisted corporates"]
[null,{"$f":"HYPERLINK(\"#'C5'!A1\",\"C5\")","v":"C5"},"Investment in property"]
[null,{"$f":"HYPERLINK(\"#'C6'!A1\",\"C6\")","v":"C6"},"Investment in related companies"]
[null,{"$f":"HYPERLINK(\"#'C7'!A1\",\"C7\")","v":"C7"},"Investment in listed Commodities"]
[null,{"$f":"HYPERLINK(\"#'C8'!A1\",\"C8\")","v":"C8"},"Investment in unlisted Commodities"]
[null,{"$f":"HYPERLINK(\"#'C9'!A1\",\"C9\")","v":"C9"},"Other Assets"]
[null,{"$f":"HYPERLINK(\"#'C10'!A1\",\"C10\")","v":"C10"},"Catastrophe Risk"]
[null,{"$f":"HYPERLINK(\"#'C11'!A1\",\"C11\")","v":"C11"},"Capital charge on reinsurance ceded"]
[null,{"$f":"HYPERLINK(\"#'C12'!A1\",\"C12\")","v":"C12"},"Excess capital required over total asset value"]
[]
[null,"Reporting"]
[null,{"$f":"HYPERLINK(\"#'R1'!A1\", \"R1\")","v":"R1"},"Quarterly Returns For Direct Business - Policies, premiums and claims"]
[null,{"$f":"HYPERLINK(\"#'R2'!A1\", \"R2\")","v":"R2"},"Commissions"]
[null,{"$f":"HYPERLINK(\"#'R3'!A1\", \"R3\")","v":"R3"},"Financial ratios"]
[null,{"$f":"HYPERLINK(\"#'R4'!A1\", \"R4\")","v":"R4"},"Summary of reinsurance contracts held"]
[null,{"$f":"HYPERLINK(\"#'R5'!A1\", \"R5\")","v":"R5"},"Onerous contracts"]
[null,{"$f":"HYPERLINK(\"#'R6'!A1\",\"R6\")","v":"R6"},"Discount rates"]
[null,{"$f":"HYPERLINK(\"#'R7'!A1\",\"R7\")","v":"R7"},"Remaining Contractual Service Margin from insurance contracts estimated at the end of the year"]

{"sheet":"Introduction","index":1,"n_rows":17,"n_cols":4,"rows_kept":17,"cut":false,"hidden":false,"merged":[[16,1,16,2],[11,1,11,2],[8,1,8,2],[9,1,9,2],[10,1,10,2],[3,1,3,2],[5,1,5,2],[6,1,6,2],[7,1,7,2],[15,1,15,2]]}
[]
[]
[]
[null,"Formatting",null,"Description"]
[null,"Input field",null,"This item should be completed by typing information "]
[null,"Input field Selection",null,"This item should be completed by selecting an item from a drop - down list "]
[null,"Description",null,"This item provides a description of the information to be provided in the relevant input fields."]
[null,"Checks",null,"This item is used to check information across the data specification."]
[null,"Sub - heading",null,"This item describes the information that is contained in the section following it."]
[null,"Heading",null,"This item describes the information contained on the relevant worksheet."]
[null,"Calculations",null,"This item is used to calculate information across the data specification."]
[null,"Blank",null,"This item should be left blank"]
[]
[]
[null,"Please note: "]
[null,"Insurance contracts",null,"These relate to reinsurance contracts assumed by the reinsurer"]
[null,"Reinsurance contracts",null,"These relate to outwards reisurance contracts ceded by the reinsurer"]

{"sheet":"Guidance Notes","index":2,"n_rows":259,"n_cols":1,"rows_kept":259,"cut":false,"hidden":false,"merged":[]}
["The information in this sheet will assist you in populating the templates."]
[]
["Note that for any approximation/simplification used when filling the form, licensee will have to mention same in the \"Simplification\" form."]
[]
["Specifications"]
["The Specifications formsheet requires the following information pertaining to the Licensee completing the template: \n•\tName of the Licensee\n•\tLicense number\n•\tIs the entity a Protected Cell Company and is reporting being done at cell or consolidated level\n•\tThe year end of the reporting period and the date of completing the template\n•\tCurrency to be used for reporting\n•\tAnd the method used to value IFRS 17 liabilities (GMM, PAA or both)\n\nThe template will be updated according to the information provided in the specifications form.\nThe specification formsheet also requires the acknowledgement and signatures of the person completing the template, the person reviewing the template, and the Auditor. The acknowledgement and signature of the Actuary is required for the Capital Requirements section only. "]
["Shareholders"]
["This sheet is to be completed in the same way as it used to be under the previous Rule."]
["The Shareholders form requires the following information pertaining to the companies’ shareholders: \n•\tName\n•\tNumber of shares held\n•\tThe percentage voting right held "]
[]
["Shareholding Structure"]
["This sheet is to be completed in the same way as it used to be under the previous Rule."]
["The Shareholding structure form requires group structure of the entity up to the beneficial owner giving particulars of:\n   •\tBusiness activity of each entity within the group\n   •\tPlace of registration of each entity within the group \n   •\tThe license, authorisation, registration and approval, as the case may be, granted by any regulatory body"]
[]
["Disclosure"]
["The Disclosure form requires information pertaining to the following from the Licensee:\n•   \tSignificant methodology changes with respect to the previous reporting period*\n•   \tExchange rate used for conversion of numbers designated in foreign currencies (all currencies except MUR)\n•   \tEnvironmental, Social and Governance (ESG) disclosures"]
[]
["Corporate Organisation"]
["The Corporate organisation chart form requires the licensees to provide a chart showing their Internal Organogram. Any chart format is acceptable provided it being clear.\nSame as in the previous template"]
[]
["PCC"]
["The PCC form requires disclosure pertaining to Protective Cell Companies' (PCC) financial information.\nThis will only be applicable for PCC’s choosing to report at a consolidated level.  \nFor companies reporting at a consolidated level, the name of each cell disclosed must be input in row 6."]
[]
[]
["Checks"]
["The Checks form provides checks and warnings to ensure proper filling of the template. A summary of the checks is provided below:\n\n•  \tGeneral checks: These checks ensure that key financial figures are accurately aggregated over the different lines of business. They also check for    \nthe reasonableness of receivables by ensuring provisions for bad debts do not exceed gross receivables.\n\t\n•  \tInsurance contract checks: These checks ensure that Insurance Assets/(Liabilities) are consistent across all forms.\n\t\n•  \tAsset concentration limit checks: If there are investments over concentration limits, these checks will flag this as “Over concentration Limit”. However, this is a warning message and not a breach. Capital will need to be held for all investment exceeding the concentration limit.\n\t\n•  \tReconciliation checks for investments: These checks ensure that that all investment information disclosed in the “C” forms are consistent with those in the balance sheet.  \n\t\n•  \tCapital requirement checks: This check flags if the available capital is less than 150% of the minimum required capital.  "]
[]
[]
["Simplifications"]
["The simplifications form requires the entity to list the simplifications and/or approximations made in the process of filling the template.\nFor any simplification and/or approximation used in the template, the licensee should indicate the simplifications/approximations, the relevant cells affected and the description of the simplifications/approximations.\nThe form also requires the entity to list the reinstatements made to previous year numbers, the relevant amount of the reinstatement, and the reasons for the changes."]
[]
["Corporate Information"]
["The Corporate information form requires company personnel information such as:\n•   \tInformation regarding directors and whether the directors are Executive, Non-Executive or Independent\n•   \tName and description of Audit committee members\n•   \tName of sub-committee and sub-committee members\n•   \tNames of officers\n•   \tInformation pertaining to External auditor and Actuary Details of contact persons and\n•   \tCompany office address (including branch offices) information.\nSame as in the previous template."]
[]
["Balance Sheet"]
["BS"]
["The Balance Sheet form provides a summary of the assets, liabilities, and equity of the entity. This form is a summary sheet with no inputs required, all fields being pre-populated."]
[]
["Assets"]
["A0"]
["The A0 form provides a summary of the entity’s balance sheet assets. Inputs are required for previous year’s assets while current year asset amounts are pre-populated based on input from other form sheets."]
[]
["A1"]
["The A1 form Requires disclosure of balance sheet amounts for Property and, Plant and Equipment (PPE).\nFor each property owned, disclosure must be made separately while also providing the location and description of each property. \nIf the number of property exceeds the number of allowed rows, these can be grouped and indicated in the Simplifications form.\nIf any requested information is not available for PPE disclosure, licensee should mention same in the simplification form."]
[]
[]
["A2"]
["The A2 form requires disclosure of balance sheet amounts for Goodwill and Intangible assets. \nGoodwill and other intangible assets must be disclosed separately with a description of each item provided in the “Item” column. The licensee must choose whether the item can be classified as “Goodwill” or “Other intangible asset” from the dropdown in the “Description” column."]
[]
["A3"]
["The A3 form requires disclosure of balance sheet amounts for Right-of-use assets. \nEach Right-of-use asset must be disclosed separately with a relevant description provided in the “Right-of-use asset” column."]
[]
["A4"]
["The A4 form requires disclosure pertaining to licensees' investment in Related Companies. \nMore information can be provided on the type of related companies in the “Description” column (For example, the name of the Related Company can be specified)"]
[]
["A5"]
["The A5 form requires disclosure with regards to Investment property. \nThe disclosure must be separate for each investment property with the type of property (retail warehouse, supermarket, office, etc) chosen from the dropdown in the “Type of property column” with a description of the property. \nIf the number of investment property exceeds the number of allowed rows, these can be grouped and indicated in the simplifications form.\nIf any requested information is not available for investment property disclosure, licensee should mention same in the simplification form."]
[]
["A6"]
["The A6 form requires disclosure of details pertaining to financial investments.\nThe investment in each asset category needs to be disclosed separately using the schedules provided for each investment category and under the 3 valuation methods: fair value through profit and loss, fair value through other comprehensive income and amortized cost.\nAllowance for Expected Credit Losses (ECL) must be disclosed as per IFRS 9.\nAdditionally, fields have been included after the total columns for Deposits, Bonds and Debentures as well as Equity to allow for input relating to Accrued Interest. \nAll information provided will be used to populate a summary table that   categorizes financial investments by type, valuation method, and accrued interest, which will be included in the total financial investment amount on the balance sheet in A0. Cells where input is not required have been greyed out.\nAll financial investments combined and disclosed as a single line item should be mentionned in the simplification form."]
[]
["A7"]
["The A7 form requires disclosure pertaining to investment in derivative assets. The insurer is required to list the various types of derivative assets such as futures, options, swaps, forwards, and credit derivatives. \nFor each type, the issued currency, the total amount, credit rating, and the individual corresponding to the remaining term of exposure (less than 1 year, 1-5 years, over 5 years) need to be specified. \nIf any requested information is not available for derivative disclosure, licensee should mention same in the simplification form."]
[]
[]
["A8"]
["The A8 form requires disclosure of amounts for current and deferred tax assets and liabilities."]
[]
["A9"]
["The A9 form requires disclosure with regards to receivables from Related Companies, from Corporations, investment income receivables and other receivables. \nDisclosures with regards to each receivable must be made separately along with the required ageing for each gross receivable. \nWhere relevant, the bad debts written off and the provisions for doubtful debts must be disclosed. \nIf the number of receivables significantly exceeds the allowable number of rows, licensees can consider grouping the receivables while indicating this in the simplifications sheet. "]
[]
["A10"]
["The A10 form requires disclosure of receivables from each insurer along with an ageing of the gross receivables. \nThe list of insurance companies will be pre-populated by the FSC.\nPlease note that the information in this form is not included in the Balance Sheet, as it is not considered a balance sheet item under IFRS 17."]
[]
["A11"]
["The A11 form requires disclosure of Assets held for sale. \nAssets held for sale pertaining to PPE, Goodwill, Other intangible assets, and Investment property will be pre-populated based on the input from other forms."]
[]
["A12"]
["The A12 form captures details regarding Assets covering general business technical provisions and shows any surplus/shortage thereof.\nSame as in the previous template."]
[]
["A13"]
["The A13 form requires disclosure with regards to asset for insurance acquisition cashflows, prepayments and accrued income, retirement benefit asset, cash and other assets. \nFunds that are deposited in a bank account are disclosed in form A6 under Cash at Bank."]
[]
[]
["Liabilities"]
["L0"]
["The L0 form summarises amounts related to liability and equity items which make up the insurer's balance sheet. \nFields relating to the current year are pre-populated based on the other liability forms in the return. \nHowever, fields relating to the previous year must be populated. "]
[]
["L1"]
["The L1 form requires disclosure pertaining to liabilities held for sale. "]
[]
["L2"]
["The L2 form requires disclosure pertaining to derivative liabilities. \nThe total amount is subsequently reported in the balance sheet. \nThe currency, in which the derivative has been issued, can be selected from the drop down in the ‘Issued currency’ column.\nThe amount disclosed should be in the chosen currency (in the Specifications form) and the exchange rate used to the conversion (if applicable) should be disclosed in the “Disclosure” form.  "]
[]
["L3"]
["The L3 form Requires disclosure pertaining to investment contract liabilities.\nThe insurer needs to describe each liability (for example, unit-linked contracts, annuities, etc) and the amount associated with each liability."]
[]
["L4"]
["The L4 form Requires disclosure with regards to lease liabilities. \nType of the lease liabilities and currency can be selected from the drop down in the ‘Description’ and ‘Issued currency’ column respectively. "]
[]
["L5"]
["The L5 form requires disclosure with regards to trade and other payables.\nPayables due to agent, brokers and intermediaries are those payables which do not form part of the insurance or reinsurance cashflows."]
[]
["L6"]
["The L6 form requires disclosure with regards to borrowings. \nThe borrowings must be categorised as subordinated borrowings, senior borrowings, and short-term operational borrowings based on the drop down in the ‘Type’ column. Subordinated borrowings should be further categorised as secured or unsecured. \nAll information provided in this form will be used to populate a summary table containing a breakdown of the different types of borrowings and provide an aggregated amount.\nIf any requested information is not available for borrowings disclosure, licensee should mention same in the simplification form."]
[]
["L7"]
["The L7 form requires disclosure with regards to retirement benefit liabilities and other liabilities. "]
[]
[]
["Insurance & Reinsurance"]
["IR0"]
["The IR0 form provides a summary of the balance sheet (asset, liabilities, and equity). \nBoth the current year and previous year will be automatically populated based on data from other forms. \nThe form also provides also a reserves summary (summary of liability arising from insurance and reinsurance contracts and MCR ratio).  \nThe current year will be automatically populated based on data from other forms, while the previous year will need to be manually inputted."]
[]
["IR1"]
["The IR1 form requires disclosure with regards to insurance liabilities. \nLiability for Remaining Coverage (LRC) and Liability for Incurred Claims (LIC) which together constitute insurance liabilities must be disclosed separately. \nThe Best Estimate liability disclosure required for the LRC excludes the Loss Component since this must be disclosed under the “Loss Component” column.\nIf a discounted BEL is used and the values for “Impact of Discounting” is not available, please specify same in the “Simplification” form."]
[]
["IR2"]
["The IR2 form requires disclosure with regards to insurance assets (negative insurance liabilities) and follows a similar structure to the IR1 form. \nAll numbers must be input as positive in this form. \nIf a discounted BEL is used and the values for “Impact of Discounting” is not available, please specify same in the “Simplification” form."]
[]
["IR3"]
["The IR3 form requires disclosure with regards to reinsurance liabilities (negative reinsurance asset) and follows a similar structure to the IR1 form.\nAll numbers must be input as positive in this form.\nIf a discounted BEL is used and the values for “Impact of Discounting” is not available, please specify same in the “Simplification” form. "]
[]
["IR4"]
["The IR4 form requires disclosure with regards to reinsurance assets and follows a similar structure to the IR1 form. \nAll numbers must be input as positive in this form.\nIf a discounted BEL is used and the values for “Impact of Discounting” is not available, please specify same in the “Simplification” form."]
[]
["IR5"]
["The IR5 form requires disclosure of movement of liabilities during the year, from opening to closing, for insurance contracts issued measured under the GMM approach. Disclosure is required according to the following splits:\n•\tChanges to current service provided\n•\tFuture service to be provided\n•\tPast service provided. \nThe closing balance must match the closing balance of IR1 form.\nThis form will be greyed out if the PAA is chosen as the method of valuation.\nNet Finance (Income) / Expenses include the effect of and changes in time of time value of money and financial risk and the foreign exchange differences on changes in the carrying amount of groups of insurance contracts."]
[]
["IR6"]
["The IR6 form follows a similar structure to the IR5 form for reinsurance contracts.\nNet Finance (Income) / Expenses include the effect of and changes in time of time value of money and financial risk and the foreign exchange differences on changes in the carrying amount of groups of insurance contracts."]
[]
["IR7"]
["Requires disclosure of movement of liabilities during the year (from opening to closing) for insurance contracts issued measured under the GMM approach. \nDisclosure is required according to the following splits:\n•\tLiability for Remaining Coverage\n•\tLiability for Incurred Claims\nThis form will be greyed out if the PAA is chosen as the method of valuation.\nNet Finance (Income) / Expenses include the effect of and changes in time of time value of money and financial risk and the foreign exchange differences on changes in the carrying amount of groups of insurance contracts."]
[]
["IR8"]
["The IR8 form follows a similar structure to the IR7 form for reinsurance contract.\nNet Finance (Income) / Expenses include the effect of and changes in time of time value of money and financial risk and the foreign exchange differences on changes in the carrying amount of groups of insurance contracts."]
[]
["IR9"]
["The IR9 form requires disclosure of movement of liabilities during the year for insurance contracts issued measured under the PAA approach.\nDisclosure is required according to the following splits:\n•\tLiability for Remaining Coverage\n•\tLiability for Incurred Claims\nThis form will be greyed out if the GMM is chosen as the method of valuation. "]
[]
["IR10"]
["The IR10 form requires disclosure of movement of assets during the year for reinsurance contracts held measured under the PAA approach. \nThis form will be greyed out if the GMM is chosen as the method of valuation."]
[]
["IR11"]
["The IR11 form requires disclosure pertaining to cash flows relating to insurance business issued and reinsurance business held. \nCash flows relating to contracts measured under the GMM and PAA approach must be disclosed separately. \nIf the PAA approach is selected in the Specifications form, the inputs relating to GMM will be greyed out and vice versa.\nThe disclosures will be used to populate the liability roll forward forms (Forms IR5 to IR10)."]
[]
["IR12"]
["The IR12 form requires disclosure of the Risk Adjustment Confidence interval for each line of business and the corresponding method to derive the confidence interval. "]
[]
[]
["Insurance finance result"]
["I0"]
["The I0 form will be pre-populated based on the subsequent I-form, no input will be required.\nThis form summarises the insurance service results before and after accounting for reinsurance contracts."]
[]
["I1"]
["The I1 form requires disclosure of insurance revenue across different business lines measured under the GMM approach.\n\nNote that if the PAA approach is selected (selection made in the “Specification” form), this I1 form will be greyed out.\n"]
[]
["I2"]
["The I2 form requires disclosure of insurance revenue across different business lines measured under the PAA approach. \nNote that if the GMM approach is selected (selection made in the “Specification” form), this I2 form will be greyed out.\n"]
[]
["I3"]
["The I3 form requires disclosure of insurance service expense under the GMM approach. \nFor each subsections the disclosure of insurance service expense will be further classified into:\n•\tincurred insurance service expense\n•\tchanges in insurance service expense pertaining to past services\n•\tchanges in insurance service expense pertaining to future services\nNote that if the PAA approach is selected (selection made in the “Specification” form), this I3 form will be greyed out.\n"]
[]
["I4"]
["The I4 form requires disclosure of insurance service expense under the PAA approach. \n\nFor each subsections the disclosure of insurance service expense will be further classified into:\n•\tincurred insurance service expense\n•\tchanges in insurance service expense pertaining to past services\n•\tchanges in insurance service expense pertaining to future services\nPlease note that if the GMM approach is selected (selection made in the “Specification” form), this I4 form will be greyed out.\n"]
[]
["I5"]
["The I5 form requires the disclosure of reinsurance premiums paid, the amounts recoverable from reinsurance and the changes in risk of non-performance for each line of business. \nThe disclosed data then allows the net expenses from reinsurance contracts to be calculated."]
[]
["I6"]
["The I6 form requires the disclosure with regards to finance income/(expenses) for insurance contracts issued, disaggregated between the amount that pertains to the Profit and Loss and Other Comprehensive Income, and further segmented by line of business."]
[]
["I7"]
["The I7 form requires the disclosure with regards to finance income/(expenses) for reinsurance contracts held, disaggregated between the amount that pertains to the Profit and Loss and Other Comprehensive Income, and further segmented by line of business."]
[]
["I8"]
["The I8 form provides a summary on the insurance service results, in accordance with IFRS 17, split by class of business. \nNote that no additional inputs are required, as the data will be pre-populated based on the inputs from the other forms."]
[]
["I9"]
["The I9 form requires a detailed disclosure pertaining to reinsurance contracts with the ARC and ARIC, categorized by the type of reinsurance arrangement (quota share, surplus, excess of loss, and facultative) and further segmented by class of business.\nIf the level of granular information is not available, licensee should indicate same in the simplification form."]
[]
[]
["Profit and Loss"]
["PL0"]
["The PL0 form computes the statement of Profit and Loss of the entity updated for IFRS 17. \nPart of this form will be partly pre-populated based on the previous I-forms and the subsequent PL-forms.\nDisclosure will be required regarding: other sources of income, taxation, any transfer to reserves and dividends declared. \nData for the past year will also have to be disclosed."]
[]
["PL1"]
["The PL1 form requires disclosure with regards to non-attributable expenses per line of business.\nNot attributable expenses are expenses that cannot be directly attibutable to a group of insurance contract.\nNote that for this form other non-attributable expenses not mentioned in the list can be added by expanding the grouped rows. \nPlease specify the non-attributable expenses in the column B."]
[]
["PL2"]
["The PL2 form requires disclosure of a detailed summary of net investment income.\nIt includes information on realized and fair value gains and losses, gross and net investment income, and adjustments for investment expenses, taxes, and credit loss allowances."]
[]
["PL3"]
["The PL3 form requires disclosure pertaining to other comprehensive income (net of tax). \nIt specifies items that will be classified to profit or loss, those that will not be reclassified, and income related to insurance contracts."]
[]
[]
["Capital"]
["C0"]
["The C0 form computes:\n•\tTotal Capital Available\n•\tMinimum Capital Requirement\n•\tExcess Capital Requirement over Minimum Capital Requirement\n•\tCapital Available expressed as a percentage of Minimum Capital Requirement.\n\nDisclosure will be required for capital available and assets with a capital requirement of 100% not already listed in the C0 form. \nThis can be done by expanding the grouped rows."]
[]
["C1"]
["The C1 form calculates:\nThe liability for incurred claims (LIC), with an allowance made for recoveries from reinsurance contracts (reinsurance asset for incurred claims - ARIC).\nThe liability for remaining coverage (LRC), with an allowance for recoveries from reinsurance contract (reinsurace asset for remaining coverage - ARC)\nThe relevant capital factors are applied to LIC minus ARIC per line of business to compute the capital required for insurance liabilities.\nThe relevant capital factors are applied to LRC minus ARC per line of business to compute the capital required for insurance liabilities.\nA minimum condition is present in this form to ensure no negative capital requirement.\nThe C1 form will be pre-populated based on information provided in the previous IR-forms, no inputs will be required."]
[]
["C2"]
["The C2 form captures investment from balance sheet assets to calculate the capital required for each asset category. \nThe capital factor is applied to each asset class to derive the capital required, as per the General Insurance Solvency Rules."]
[]
["C3"]
["The C3 form requires disclosure of investment in listed corporates. \nThe C3 form compiles the amounts by which each individual investments in listed corporations exceed the concentration limit. The concentration limit is 10% of total assets. "]
[]
["C4"]
["The C4 form requires disclosure of investment in unlisted corporates. \nThe C4 form compiles the amounts by which each individual investments in unlisted corporations exceed the concentration limit. The concentration limit is 5% of total assets. "]
[]
["C5"]
["The C5 form requires disclosure of investment in property. \nThe C5 form compiles the amounts by which each individual investments in property exceed the concentration limit. The concentration limit is 10% of total assets. "]
[]
["C6"]
["The C6 form requires disclosure of investment in related companies. \nThe C6 form compiles the amounts by which total investment in related companies exceed the concentration limit. The concentration limit is 10% of total assets. "]
[]
["C7"]
["The C7 form requires disclosure of investment in listed commodities. \nThe C7 form compiles the amounts by which each individual investments in listed commodities exceed the concentration limit. The concentration limit is 10% of total assets. "]
[]
["C8"]
["The C8 form requires disclosure of investment in unlisted commodities. \nThe C8 form compiles the amounts by which each individual investments in unlisted commodities exceed the concentration limit. The concentration limit is 5% of total assets. "]
[]
["C9"]
["The C9 form requires disclosure of investment in other assets.\nThe C9 form computes the capital requirements for Other Assets based on the following:\nCapital required for “Other Assets” is defined to be equal to 35% the lesser of: \ni.\tOther Assets\nii.\t1% of total assets\nAnd any excess of “Other Assets” over 1% of total assets."]
[]
["C10"]
["The C10 form requires disclosure of gross insurance premiums and reinsurance premiums ceded for the preceding year. \nThe C10 form calculates the catastrophe risk charge as 5% of the net written premium (gross insurance premium minus reinsurance premium ceded).\nPlease note that preceding year in this form refers to the (current year minus 1)."]
[]
["C11"]
["The C11 form requires disclosure of reinsurance ceded to each reinsurer per line of business. \nDisclosure of reinsurers’ ratings and rating agency is also required. The FSC rating will be populated automatically.\nThe C11 form groups the reinsurance ceded by rating and calculates the capital charge applicable on reinsurance ceded based on the ratings. \nChecks have been implemented to ensure that the reinsurance ceded is being fully disclosed. "]
[]
["C12"]
["The form C12 summarises the capital required for exceeding concentration limit and investment risk.\nThis C12 form will be pre-populated based previous C-forms, no input will be required."]
[]
[]
["Reporting"]
["R1"]
["The R1 Form requires the insurer to provide the below detail (Please note that non-cumulative figures should be disclosed):\n\nNumber of policies written: The number of policies for each quarter for the current and previous year categorized by line of business.\nThere should be separate disclosure for personal and commercial lines.\n\nNumber of Claims paid: The number of claims paid for each quarter for the current and previous year categorized by line of business.There should be separate disclosure for personal and commercial lines.\n\nExposure: The total exposure (sum assured) for each quarter for the current and previous year categorized by line of business\n\nGross Written Premium: The gross written premium for each quarter for the current and previous year categorized by line of business.\n  \nClaims Paid: The total gross claims paid for each quarter for the current and previous year categorized by line of business.\n  \nTechnical reserves: The reserves that need to be set aside for each quarter for the current and previous year categorized by line of business. Three types of reserves need to be disclosed: Incurred But Not Reported (IBNR), Outstanding Claims Reserve (OCR), Unearned Premium Reserve (UPR)."]
[]
["R2"]
["The R3 form requires the disclosure of commission paid by insurer during the current and previous year, categorized by line of business. "]
[]
["R3"]
["The R4 form requires the disclosure of financial ratios as defined in the template. \nThe current year ratios have been pre-populated based on the input from other sheets while previous years’ ratios need to be input manually. "]
[]
["R4"]
["The R5 form requires the individual disclosure of reinsurance contracts held. \nFor each contract, the type of business covered, and the type of contract need to the specified as well as the net expenses, assets and receivables.\nIf the number of items exceed the allowance in the schedule, these can be grouped, and indication made in the Simplifications sheet."]
[]
["R5"]
["The R6 Form requires the disclosure of:\n•\tLosses and reversal of losses (pertaining to insurance and reinsurance contracts issued)\n•\tLoss-recovery and reversal of loss-recovery (pertaining to reinsurance contracts held) \nWhich are then used to compute the net onerous contracts losses.\n\nInformation required pertaining to losses and reversal of losses are pre-populated based on input from other sheets. "]
[]
["R6"]
["The R7 form requires the disclosure of discount rates used in the calculation of LIC and LRC.\n\nThe disclosure is categorized by class of business and by type of contract. The types of contracts are insurance contracts issued, reinsurance contracts issued, and reinsurance contracts held."]
[]
["R7"]
["The R8 Form requires the disclosure of remaining Contractual Service Margin (CSM) at the end of the reporting period. \nData need to be provided for the different lines of business separately for  individual and group policies.  "]

{"sheet":"Specifications","index":3,"n_rows":39,"n_cols":2,"rows_kept":39,"cut":false,"hidden":false,"merged":[]}
[]
[]
[]
[null,"Specification for template completion"]
[null,"Insurance Entity completing this template:"]
[null,"Insurance licence number for which this template is being completed"]
[]
[null,"Is the insurance entity completing this template a Protected Cell Company (PCC)?"]
[null,"If yes, how is reporting being done?"]
[]
[null,"Sheet information"]
[null,"Date of completion of this template (DD/MM/YYYY):"]
[null,"Year ended (DD/MM/YYYY):"]
[null,"Currency used: "]
[null,"Method used to value IFRS 17 liabilties"]
[]
[]
[null,"Acknowledgement and signatures: "]
[]
[null,"By signing this template, I acknowledge that I have duly reviewed and approved all the sheets in the template for completeness and accuracy. "]
[]
[null,"Name of person completing this template:"]
[null,"Position:"]
[null,"Signature:"]
[]
[null,"Name of person reviewing and signing off this template:"]
[null,"Position:"]
[null,"Signature:"]
[]
[null,"Name of Director:"]
[null,"Signature:"]
[]
[null,"Name of Auditor and Signing Partner:"]
[null,"Signature:"]
[]
[null,"By signing this template, I acknowledge that I have duly reviewed and approved the following sheets in the capital requirements section in the template for completeness and accuracy: C0, C1, C2, C9, C10, C11 and C12."]
[]
[null,"Name of Actuary:"]
[null,"Signature:"]

{"sheet":"Shareholders","index":4,"n_rows":10,"n_cols":4,"rows_kept":10,"cut":false,"hidden":false,"merged":[[2,1,2,3],[5,2,5,3],[6,2,6,3]]}
[]
[]
[null,"Shareholders"]
[]
[]
[null,"NAME OF REINSURER",{"$f":"Specifications!C5","v":"00:00:00"}]
[null,"YEAR ENDED",{"$f":"Specifications!C13","v":"00:00:00"}]
[]
[]
[null,"Name of Shareholders","Number of Shares Held","% of Voting Rights Held"]

{"sheet":"Shareholding structure","index":5,"n_rows":5,"n_cols":2,"rows_kept":5,"cut":false,"hidden":false,"merged":[[2,1,2,5],[4,1,25,5]]}
[]
[]
[null,"SHAREHOLDING STRUCTURE"]
[]
[null,"Comprehensive group structure up to the ultimate beneficial owner giving particulars of:\n(a)\tbusiness activity of each entity within the group.\n(b)\tplace of registration/incorporation of each entity within the group.\n(c)\tlicence, authorisation, registration and approval, as the case may be, granted by any regulatory body."]

{"sheet":"Disclosure","index":6,"n_rows":42,"n_cols":5,"rows_kept":42,"cut":false,"hidden":false,"merged":[]}
[]
[]
[]
[null,"Disclosure of changes over the previous period","Y/N","If yes, please provide further information ","Amount (If Applicable)"]
[null,null,null,null,{"$f":"Specifications!$C$14","v":0}]
[null,"Is the Licensee writing any new lines of business?"]
[null,"Has the Licensee discontinued any lines of business?"]
[null,"Does the Licensee have any exposures to counterparties that belong to the same corporate group?"]
[null,"Were any assets of the Licensee pledged as security or given as collateral?"]
[null,"Has the approach used to value insurance/ Reinsurance contracts changes since last valuation"]
[null,"Has the approach has been used to determine the risk adjustment changed since last valuation"]
[]
[]
[]
[]
[]
[]
[]
[]
[]
[]
[null,"Exchange rate disclosures: ",null,"If No, please provide further information "]
[null,"Have the same exchange rates as the financial statement been assumed for conversion to the reporting currency? ","Y "]
[]
[null,"Please provide the exchange rates assumed for the conversion to the reporting currency in the table below: "]
[]
[null,"Currency","Exchange rate"]
[null,null,{"$f":"Specifications!$C$14","v":0}]
[null,"Us Dollars"]
[null,"Euro"]
[null,"GPB"]
[null,"ZAR"]
[]
[]
[]
[null,"ESG disclosures: ","Y/N","If yes, please provide further information "]
[null,"Has the licensee considered Sustainability Disclosures in its Financial Statements?"]
[null,"Does the Licensee incorporate environmental, social and governance (ESG) factors in investment management processes and strategies?"]
[null,"Does the Licensee offer products or product features that incentivise health, safety or environmentally responsible actions or behaviours?"]
[null,"Has the licensee considered Climate-related Disclosures in its Financial Statements?"]
[null,"Does the Licensee consider the Probable Maximum Loss (PML) of insured products from weather-related natural catastrophes?"]
[null,"Does the Licensee incorporate climate- related risks in its ORSA Process?"]

{"sheet":"Corporate organisation chart","index":7,"n_rows":7,"n_cols":2,"rows_kept":7,"cut":false,"hidden":false,"merged":[[4,1,4,3],[6,1,13,3]]}
[]
[]
[]
[]
[null,"CORPORATE  ORGANIZATION  CHART "]
[]
[null," Please provide a chart showing Internal Organogram "]

{"sheet":"PCC","index":8,"n_rows":49,"n_cols":62,"rows_kept":49,"cut":false,"hidden":false,"merged":[[42,4,42,5],[42,8,42,9],[43,8,43,9],[5,1,8,1],[5,2,5,3],[42,2,42,3],[5,4,5,5],[42,10,42,11],[5,6,5,7],[5,8,5,9],[5,10,5,11],[42,6,42,7],[45,2,45,3],[43,2,43,3],[44,2,44,3],[44,4,44,5],[44,6,44,7],[43,6,43,7],[43,10,43,11],[44,8,44,9],[44,10,44,11],[43,4,43,5],[43,14,43,15],[43,16,43,17],[44,14,44,15],[44,16,44,17],[5,12,5,13],[5,14,5,15],[5,16,5,17],[42,14,42,15],[42,16,42,17],[44,12,44,13],[43,12,43,13],[42,12,42,13],[5,40,5,41],[5,22,5,23],[5,24,5,25],[5,26,5,27],[5,28,5,29],[5,30,5,31],[44,18,44,19],[44,20,44,21],[5,18,5,19],[5,20,5,21],[43,18,43,19],[43,20,43,21],[42,18,42,19],[42,20,42,21],[42,22,42,23],[42,24,42,25],[42,26,42,27],[42,28,42,29],[42,30,42,31],[5,32,5,33],[5,34,5,35],[5,36,5,37],[5,38,5,39],[44,22,44,23],[44,24,44,25],[44,26,44,27],[44,28,44,29],[44,30,44,31],[43,32,43,33],[43,34,43,35],[43,36,43,37],[43,38,43,39],[43,22,43,23],[43,24,43,25],[43,26,43,27],[43,28,43,29],[43,30,43,31],[42,42,42,43],[43,42,43,43],[44,42,44,43],[42,44,42,45],[43,44,43,45],[44,44,44,45],[44,32,44,33],[44,34,44,35],[44,36,44,37],[44,38,44,39],[44,40,44,41],[43,40,43,41],[42,32,42,33],[42,34,42,35],[42,36,42,37],[42,38,42,39],[42,40,42,41],[42,50,42,51],[43,50,43,51],[44,50,44,51],[42,52,42,53],[43,52,43,53],[44,52,44,53],[42,46,42,47],[43,46,43,47],[44,46,44,47],[42,48,42,49],[43,48,43,49],[44,48,44,49],[42,58,42,59],[43,58,43,59],[44,58,44,59],[42,60,42,61],[43,60,43,61],[44,60,44,61],[42,54,42,55],[43,54,43,55],[44,54,44,55],[42,56,42,57],[43,56,43,57],[44,56,44,57],[5,52,5,53],[5,54,5,55],[5,56,5,57],[5,58,5,59],[5,60,5,61],[5,42,5,43],[5,44,5,45],[5,46,5,47],[5,48,5,49],[5,50,5,51]]}
[]
[]
[]
[null,"Number of Cells",30]
[]
[null,null,{"$f":"\"Cell \"&C43","v":"Cell 1"},null,{"$f":"\"Cell \"&E43","v":"Cell 2"},null,{"$f":"\"Cell \"&G43","v":"Cell 3"},null,{"$f":"\"Cell \"&I43","v":"Cell 4"},null,{"$f":"\"Cell \"&K43","v":"Cell 5"},null,{"$f":"\"Cell \"&M43","v":"Cell 6"},null,{"$f":"\"Cell \"&O43","v":"Cell 7"},null,{"$f":"\"Cell \"&Q43","v":"Cell 8"},null,{"$f":"\"Cell \"&S43","v":"Cell 9"},null,{"$f":"\"Cell \"&U43","v":"Cell 10"},null,{"$f":"\"Cell \"&W43","v":"Cell 11"},null,{"$f":"\"Cell \"&Y43","v":"Cell 12"},null,{"$f":"\"Cell \"&AA43","v":"Cell 13"},null,{"$f":"\"Cell \"&AC43","v":"Cell 14"},null,{"$f":"\"Cell \"&AE43","v":"Cell 15"},null,{"$f":"\"Cell \"&AG43","v":"Cell 16"},null,{"$f":"\"Cell \"&AI43","v":"Cell 17"},null,{"$f":"\"Cell \"&AK43","v":"Cell 18"},null,{"$f":"\"Cell \"&AM43","v":"Cell 19"},null,{"$f":"\"Cell \"&AO43","v":"Cell 20"},null,{"$f":"\"Cell \"&AQ43","v":"Cell 21"},null,{"$f":"\"Cell \"&AS43","v":"Cell 22"},null,{"$f":"\"Cell \"&AU43","v":"Cell 23"},null,{"$f":"\"Cell \"&AW43","v":"Cell 24"},null,{"$f":"\"Cell \"&AY43","v":"Cell 25"},null,{"$f":"\"Cell \"&BA43","v":"Cell 26"},null,{"$f":"\"Cell \"&BC43","v":"Cell 27"},null,{"$f":"\"Cell \"&BE43","v":"Cell 28"},null,{"$f":"\"Cell \"&BG43","v":"Cell 29"},null,{"$f":"\"Cell \"&BI43","v":"Cell 30"}]
[null,null,"Curent Year","Previous Year","Curent Year","Previous Year","Curent Year","Previous Year","Curent Year","Previous Year","Curent Year","Previous Year","Curent Year","Previous Year","Curent Year","Previous Year","Curent Year","Previous Year","Curent Year","Previous Year","Curent Year","Previous Year","Curent Year","Previous Year","Curent Year","Previous Year","Curent Year","Previous Year","Curent Year","Previous Year","Curent Year","Previous Year","Curent Year","Previous Year","Curent Year","Previous Year","Curent Year","Previous Year","Curent Year","Previous Year","Curent Year","Previous Year","Curent Year","Previous Year","Curent Year","Previous Year","Curent Year","Previous Year","Curent Year","Previous Year","Curent Year","Previous Year","Curent Year","Previous Year","Curent Year","Previous Year","Curent Year","Previous Year","Curent Year","Previous Year","Curent Year","Previous Year"]
[]
[null,null,{"$f":"Specifications!$C$14","v":0},{"$f":"Specifications!$C$14","v":0},{"$f":"Specifications!$C$14","v":0},{"$f":"Specifications!$C$14","v":0},{"$f":"Specifications!$C$14","v":0},{"$f":"Specifications!$C$14","v":0},{"$f":"Specifications!$C$14","v":0},{"$f":"Specifications!$C$14","v":0},{"$f":"Specifications!$C$14","v":0},{"$f":"Specifications!$C$14","v":0},{"$f":"Specifications!$C$14","v":0},{"$f":"Specifications!$C$14","v":0},{"$f":"Specifications!$C$14","v":0},{"$f":"Specifications!$C$14","v":0},{"$f":"Specifications!$C$14","v":0},{"$f":"Specifications!$C$14","v":0},{"$f":"Specifications!$C$14","v":0},{"$f":"Specifications!$C$14","v":0},{"$f":"Specifications!$C$14","v":0},{"$f":"Specifications!$C$14","v":0},{"$f":"Specifications!$C$14","v":0},{"$f":"Specifications!$C$14","v":0},{"$f":"Specifications!$C$14","v":0},{"$f":"Specifications!$C$14","v":0},{"$f":"Specifications!$C$14","v":0},{"$f":"Specifications!$C$14","v":0},{"$f":"Specifications!$C$14","v":0},{"$f":"Specifications!$C$14","v":0},{"$f":"Specifications!$C$14","v":0},{"$f":"Specifications!$C$14","v":0},{"$f":"Specifications!$C$14","v":0},{"$f":"Specifications!$C$14","v":0},{"$f":"Specifications!$C$14","v":0},{"$f":"Specifications!$C$14","v":0},{"$f":"Specifications!$C$14","v":0},{"$f":"Specifications!$C$14","v":0},{"$f":"Specifications!$C$14","v":0},{"$f":"Specifications!$C$14","v":0},{"$f":"Specifications!$C$14","v":0},{"$f":"Specifications!$C$14","v":0},{"$f":"Specifications!$C$14","v":0},{"$f":"Specifications!$C$14","v":0},{"$f":"Specifications!$C$14","v":0},{"$f":"Specifications!$C$14","v":0},{"$f":"Specifications!$C$14","v":0},{"$f":"Specifications!$C$14","v":0},{"$f":"Specifications!$C$14","v":0},{"$f":"Specifications!$C$14","v":0},{"$f":"Specifications!$C$14","v":0},{"$f":"Specifications!$C$14","v":0},{"$f":"Specifications!$C$14","v":0},{"$f":"Specifications!$C$14","v":0},{"$f":"Specifications!$C$14","v":0},{"$f":"Specifications!$C$14","v":0},{"$f":"Specifications!$C$14","v":0},{"$f":"Specifications!$C$14","v":0},{"$f":"Specifications!$C$14","v":0},{"$f":"Specifications!$C$14","v":0},{"$f":"Specifications!$C$14","v":0},{"$f":"Specifications!$C$14","v":0}]
[null,"TOTAL ASSETS"]
[null,"Insurance contract assets"]
[null,"Reinsurance contract assets"]
[]
[null,"TOTAL Equity"]
[]
[null,"TOTAL Liability"]
[null,"Insurance contract liabilities"]
[null,"Reinsurance contract liabilities"]
[]
[null,"Minimum capital requirement (MCR)"]
[null,"Total Capital Available"]
[null,"Excess capital available over capital requirement"]
[null,"Excess Capital Available as a % of Minimum Capital Required "]
[]
[null,"Total insurance revenue"]
[null,"Insurance service expenses"]
[null,"Insurance Service Result Before Reinsurance Contracts Held "]
[]
[null,"Net income/(expenses) from reinsurance contracts held "]
[]
[null,"Insurance service result "]
[]
[null,"Net Insurance Financial Result"]
[]
[null,"Net Insurance Profit/(loss) before taxation "]
[null,"Net profit after tax"]
[null,"Retained profit"]
[]
[]
[]
[]
[]
[null,0,{"$f":"SUM($B$44:C44)","v":1},null,{"$f":"SUM($B$44:E44)","v":2},null,{"$f":"SUM($B$44:G44)","v":3},null,{"$f":"SUM($B$44:I44)","v":4},null,{"$f":"SUM($B$44:K44)","v":5},null,{"$f":"SUM($B$44:M44)","v":6},null,{"$f":"SUM($B$44:O44)","v":7},null,{"$f":"SUM($B$44:Q44)","v":8},null,{"$f":"SUM($B$44:S44)","v":9},null,{"$f":"SUM($B$44:U44)","v":10},null,{"$f":"SUM($B$44:W44)","v":11},null,{"$f":"SUM($B$44:Y44)","v":12},null,{"$f":"SUM($B$44:AA44)","v":13},null,{"$f":"SUM($B$44:AC44)","v":14},null,{"$f":"SUM($B$44:AE44)","v":15},null,{"$f":"SUM($B$44:AG44)","v":16},null,{"$f":"SUM($B$44:AI44)","v":17},null,{"$f":"SUM($B$44:AK44)","v":18},null,{"$f":"SUM($B$44:AM44)","v":19},null,{"$f":"SUM($B$44:AO44)","v":20},null,{"$f":"SUM($B$44:AQ44)","v":21},null,{"$f":"SUM($B$44:AS44)","v":22},null,{"$f":"SUM($B$44:AU44)","v":23},null,{"$f":"SUM($B$44:AW44)","v":24},null,{"$f":"SUM($B$44:AY44)","v":25},null,{"$f":"SUM($B$44:BA44)","v":26},null,{"$f":"SUM($B$44:BC44)","v":27},null,{"$f":"SUM($B$44:BE44)","v":28},null,{"$f":"SUM($B$44:BG44)","v":29},null,{"$f":"SUM($B$44:BI44)","v":30}]
[null,null,1,null,1,null,1,null,1,null,1,null,1,null,1,null,1,null,1,null,1,null,1,null,1,null,1,null,1,null,1,null,1,null,1,null,1,null,1,null,1,null,1,null,1,null,1,null,1,null,1,null,1,null,1,null,1,null,1,null,1]
[null,null,{"$f":"IF(ISBLANK(C6), \"\", 1)","v":1},null,{"$f":"IF(ISBLANK(E6), \"\", 1)","v":1},null,{"$f":"IF(ISBLANK(G6), \"\", 1)","v":1},null,{"$f":"IF(ISBLANK(I6), \"\", 1)","v":1},null,{"$f":"IF(ISBLANK(K6), \"\", 1)","v":1},null,{"$f":"IF(ISBLANK(M6), \"\", 1)","v":1},null,{"$f":"IF(ISBLANK(O6), \"\", 1)","v":1},null,{"$f":"IF(ISBLANK(Q6), \"\", 1)","v":1},null,{"$f":"IF(ISBLANK(S6), \"\", 1)","v":1},null,{"$f":"IF(ISBLANK(U6), \"\", 1)","v":1},null,1,null,1,null,1,null,1,null,1,null,1,null,1,null,1,null,1,null,1,null,{"$f":"IF(ISBLANK(AQ6), \"\", 1)","v":1},null,{"$f":"IF(ISBLANK(AS6), \"\", 1)","v":1},null,{"$f":"IF(ISBLANK(AU6), \"\", 1)","v":1},null,{"$f":"IF(ISBLANK(AW6), \"\", 1)","v":1},null,{"$f":"IF(ISBLANK(AY6), \"\", 1)","v":1},null,{"$f":"IF(ISBLANK(BA6), \"\", 1)","v":1},null,{"$f":"IF(ISBLANK(BC6), \"\", 1)","v":1},null,{"$f":"IF(ISBLANK(BE6), \"\", 1)","v":1},null,{"$f":"IF(ISBLANK(BG6), \"\", 1)","v":1},null,{"$f":"IF(ISBLANK(BI6), \"\", 1)","v":1}]
[null,null,{"$f":"1+SUM(C45:XFD45)","v":31}]
[null,null,{"$f":"C43","v":1},{"$f":"D43","v":0},{"$f":"E43","v":2},0,3,0,4,0,5,0,6,0,7,0,8,0,9,0,10,0,11,0,12,0,13,0,14,0,15,0,16,0,17,0,18,0,19,0,20,null,{"$f":"AQ43","v":21},null,{"$f":"AS43","v":22},null,{"$f":"AU43","v":23},null,{"$f":"AW43","v":24},null,{"$f":"AY43","v":25},null,{"$f":"BA43","v":26},null,{"$f":"BC43","v":27},null,{"$f":"BE43","v":28},null,{"$f":"BG43","v":29},null,{"$f":"BI43","v":30}]
[]
[null,null,{"$f":"SUM(B47:C47)","v":1},1,2,2,3,3,4,4,{"$f":"SUM(J47:K47)","v":5},5,6,6,7,7,8,8,9,9,10,10,11,11,12,12,13,13,14,14,15,15,16,16,17,17,18,18,19,19,20,{"$f":"SUM(AO47:AP47)","v":20},{"$f":"SUM(AP47:AQ47)","v":21},{"$f":"SUM(AQ47:AR47)","v":21},{"$f":"SUM(AR47:AS47)","v":22},{"$f":"SUM(AS47:AT47)","v":22},{"$f":"SUM(AT47:AU47)","v":23},{"$f":"SUM(AU47:AV47)","v":23},{"$f":"SUM(AV47:AW47)","v":24},{"$f":"SUM(AW47:AX47)","v":24},{"$f":"SUM(AX47:AY47)","v":25},{"$f":"SUM(AY47:AZ47)","v":25},{"$f":"SUM(AZ47:BA47)","v":26},{"$f":"SUM(BA47:BB47)","v":26},{"$f":"SUM(BB47:BC47)","v":27},{"$f":"SUM(BC47:BD47)","v":27},{"$f":"SUM(BD47:BE47)","v":28},{"$f":"SUM(BE47:BF47)","v":28},{"$f":"SUM(BF47:BG47)","v":29},{"$f":"SUM(BG47:BH47)","v":29},{"$f":"SUM(BH47:BI47)","v":30},{"$f":"SUM(BI47:BJ47)","v":30}]

{"sheet":"Checks","index":9,"n_rows":70,"n_cols":9,"rows_kept":70,"cut":false,"hidden":false,"merged":[[5,6,5,8],[68,1,68,2],[69,1,69,2],[67,1,67,2],[34,1,34,4],[65,1,65,3],[66,1,66,2],[46,4,46,5],[52,4,52,5],[45,4,45,5],[16,3,16,6],[47,4,47,5],[48,4,48,5],[49,4,49,5],[50,4,50,5],[51,4,51,5]]}
[]
[]
[]
[null,"GENERAL CHECKS"]
[]
[null,"Worksheet","Items","Descriptions","Checks","Reference","Links"]
[null,"Assets, Liabilities and Equity","Assets-Liabilities","Check whether Total Assets equal Total liabilities plus Equity",{"$f":"IFERROR(IF(ABS(A0!D41-L0!D45)>0.5,\"Breached\",\"Not Breached\"), \"Breached\")","v":"Not Breached"},{"$f":"IF(E7=\"Breached\",\"Check cells D41 of A0 and D45 of L0\",\"\")","v":""},{"$f":"HYPERLINK(\"#'A0'!A1\", \"A0\")","v":"A0"},{"$f":"HYPERLINK(\"#'L0'!A1\", \"L0\")","v":"L0"}]
[null,"Insurance financial result, I1 , I2","Insurance Service Revenue","Check whether the Total Insurance Revenue ties up with the sum of Insurance Revenue per line of business",{"$f":"IFERROR(IF(SUM('I1'!C23,'I2'!C17)=I0!D15,\"Not Breached\",\"Breached\"), \"Breached\")","v":"Not Breached"},{"$f":"IF(E8=\"Breached\",\"Check cell D15 of I0, cells C23 of I1 and cells C17 of I2\",\"\")","v":""},{"$f":"HYPERLINK(\"#'I0'!D17\", \"I0\")","v":"I0"},{"$f":"HYPERLINK(\"#'I1'!D23\", \"I1\")","v":"I1"},{"$f":"HYPERLINK(\"#'I2'!D24\", \"I2\")","v":"I2"}]
[null,"Insurance financial result, I3, I4","Insurance Service Expense","Check whether the Total Insurance Service Expense ties up with the sum of Insurance Service Expense per line of business",{"$f":"IFERROR(IF(SUM('I3'!C32,'I4'!C32)=I0!D19,\"Not Breached\",\"Breached\"), \"Breached\")","v":"Not Breached"},{"$f":"IF(E9=\"Breached\",\"Check cell D19 of I0, cells C32 of I3 and cells C32 of I4\",\"\")","v":""},{"$f":"HYPERLINK(\"#'I0'!D21\", \"I0\")","v":"I0"},{"$f":"HYPERLINK(\"#'I3'!D24\", \"I3\")","v":"I3"},{"$f":"HYPERLINK(\"#'I4'!D23\", \"I4\")","v":"I4"}]
[null,"Insurace financial result, I6","Finance Expenses","Check whether the Total Finance Expense from Insurance Contracts issued ties up with the sum of Finance Expense per line of business",{"$f":"IFERROR(IF(SUM('I6'!C31)=I0!D33,\"Not Breached\",\"Breached\"), \"Breached\")","v":"Not Breached"},{"$f":"IF(E10=\"Breached\",\"Check cell D33 of I0, C31 of I6\",\"\")","v":""},{"$f":"HYPERLINK(\"#'I0'!D34\", \"I0\")","v":"I0"},{"$f":"HYPERLINK(\"#'I6'!D21\", \"I6\")","v":"I6"}]
[null,"Insurance financial result, I7","Finance Income","Check whether the Total Finance Income from Reinsurance Contracts issued ties up with the sum of Finance Income per line of business",{"$f":"IFERROR(IF(SUM('I7'!C31)=I0!D34,\"Not Breached\",\"Breached\"), \"Breached\")","v":"Not Breached"},{"$f":"IF(E11=\"Breached\",\"Check cell D34 of I0, cell C31 of I7\",\"\")","v":""},{"$f":"HYPERLINK(\"#'I0'!D35\", \"I0\")","v":"I0"},{"$f":"HYPERLINK(\"#'I7'!D25\", \"I7\")","v":"I7"}]
[null,"Receivables","Receivables","Check whether receivables are negative (Provisions for bad debts and bad debt written off should not exceed gross receivables)",{"$f":"IFERROR(IF(PRODUCT('A9'!$AE$24:AE248) = 1,\"Not Breached\",\"Breached\"), \"Breached\")","v":"Not Breached"},{"$f":"IF(E12=\"Breached\",\"Check worksheet A9\",\"\")","v":""},{"$f":"HYPERLINK(\"#'A9'!D35\", \"A9\")","v":"A9"}]
[]
[]
[null,"INSURANCE CONTRACTS CHECKS"]
[]
[null,"Reconciliation check for:","Checks","Links"]
[null,"Insurance contract balances - GMM",{"$f":"IFERROR(IF('IR7'!F53='IR5'!F60, \"Not Breached\", \"Breached\"), \"Breached\")","v":"Not Breached"},{"$f":"HYPERLINK(\"#'IR5'!A1\",\"IR5\")","v":"IR5"},{"$f":"HYPERLINK(\"#'IR7'!A1\",\"IR7\")","v":"IR7"}]
[null,"Reinsurance contract balances - GMM",{"$f":"IFERROR(IF('IR8'!F51='IR6'!F61, \"Not Breached\", \"Breached\"), \"Breached\")","v":"Not Breached"},{"$f":"HYPERLINK(\"#'IR6'!A1\",\"IR6\")","v":"IR6"},{"$f":"HYPERLINK(\"#'IR8'!A1\",\"IR8\")","v":"IR8"}]
[null,"Liability for incurred claims ",{"$f":"IFERROR(IF('IR1'!F24-'IR2'!F24= 'IR9'!E48+'IR9'!F48+'IR7'!E53, \"Not Breached\", \"Breached\"), \"Breached\")","v":"Not Breached"},{"$f":"HYPERLINK(\"#'IR7'!A1\",\"IR7\")","v":"IR7"},{"$f":"HYPERLINK(\"#'IR9'!A1\",\"IR9\")","v":"IR9"},{"$f":"HYPERLINK(\"#'IR1'!A1\",\"IR1\")","v":"IR1"},{"$f":"HYPERLINK(\"#'IR2'!A1\",\"IR2\")","v":"IR2"}]
[null,"Liability for remaining coverage",{"$f":"IFERROR(IF('IR1'!I40-'IR2'!I40='IR9'!C48+'IR9'!D48+'IR7'!C53+'IR7'!D53, \"Not Breached\", \"Breached\"), \"Breached\")","v":"Not Breached"},{"$f":"HYPERLINK(\"#'IR7'!A1\",\"IR7\")","v":"IR7"},{"$f":"HYPERLINK(\"#'IR9'!A1\",\"IR9\")","v":"IR9"},{"$f":"HYPERLINK(\"#'IR1'!A1\",\"IR1\")","v":"IR1"},{"$f":"HYPERLINK(\"#'IR2'!A1\",\"IR2\")","v":"IR2"}]
[null,"Asset recoverable from incurred claims",{"$f":"IFERROR(IF('IR4'!F24-'IR3'!F24='IR8'!E51+'IR10'!E49+'IR10'!F49, \"Not Breached\", \"Breached\"), \"Breached\")","v":"Not Breached"},{"$f":"HYPERLINK(\"#'IR8'!A1\",\"IR8\")","v":"IR8"},{"$f":"HYPERLINK(\"#'IR10'!A1\",\"IR10\")","v":"IR10"},{"$f":"HYPERLINK(\"#'IR3'!A1\",\"IR3\")","v":"IR3"},{"$f":"HYPERLINK(\"#'IR4'!A1\",\"IR4\")","v":"IR4"}]
[null,"Assets for remaining coverage",{"$f":"IFERROR(IF('IR4'!I40-'IR3'!I40='IR10'!C49+'IR10'!D49+'IR8'!C51+'IR8'!D51, \"Not Breached\", \"Breached\"), \"Breached\")","v":"Not Breached"},{"$f":"HYPERLINK(\"#'IR8'!A1\",\"IR8\")","v":"IR8"},{"$f":"HYPERLINK(\"#'IR10'!A1\",\"IR10\")","v":"IR10"},{"$f":"HYPERLINK(\"#'IR3'!A1\",\"IR3\")","v":"IR3"},{"$f":"HYPERLINK(\"#'IR4'!A1\",\"IR4\")","v":"IR4"}]
[null,"Insurance contract liabillity",{"$f":"IFERROR(IF(L0!D26-A0!D33 = 'IR1'!F24+'IR1'!I40-'IR2'!F24-'IR2'!I40, \"Not Breached\", \"Breached\"), \"Breached\")","v":"Not Breached"},{"$f":"HYPERLINK(\"#'L0'!A1\",\"L0\")","v":"L0"},{"$f":"HYPERLINK(\"#'A0'!A1\",\"A0\")","v":"A0"},{"$f":"HYPERLINK(\"#'IR1'!A1\",\"IR1\")","v":"IR1"},{"$f":"HYPERLINK(\"#'IR2'!A1\",\"IR2\")","v":"IR2"}]
[null,"Reinsurance contract asset",{"$f":"IFERROR(IF(A0!D34-L0!D27 = 'IR4'!F24+'IR4'!I40- 'IR3'!F24-'IR3'!I40, \"Not Breached\", \"Breached\"), \"Breached\")","v":"Not Breached"},{"$f":"HYPERLINK(\"#'L0'!A1\",\"L0\")","v":"L0"},{"$f":"HYPERLINK(\"#'A0'!A1\",\"A0\")","v":"A0"},{"$f":"HYPERLINK(\"#'IR4'!A1\",\"IR4\")","v":"IR4"},{"$f":"HYPERLINK(\"#'IR3'!A1\",\"IR3\")","v":"IR3"}]
[]
[]
[null,"Warnings: "]
[null,"Insurance contract asset noted for insurer?",{"$f":"IF(A0!D33>0, \"Yes\", \"No\")","v":"No"}]
[null,"Reinsurance contract liability noted for insurer?",{"$f":"IF(L0!D27 > 0, \"Yes\", \"No\")","v":"No"}]
[]
[]
[null,"ASSET CONCENTRATION LIMIT CHECKS"]
[]
[null,"Concentration Limits warnings"]
[null,"Asset Type","Checks","Links"," Limit"]
[null,"Investment in Listed Corporates",{"$f":"IFERROR(IF('C3'!N3520>0,\"Over Concentration Limit\",\"Under Concentration Limit\"), \"Over Concentration Limit\")","v":"Under Concentration Limit"},{"$f":"HYPERLINK(\"#'C3'!A1\",\"C3\")","v":"C3"},0.1]
[null,"Investment in Unlisted Corporates",{"$f":"IFERROR(IF('C4'!N3520>0,\"Over Concentration Limit\",\"Under Concentration Limit\"), \"Over Concentration Limit\")","v":"Under Concentration Limit"},{"$f":"HYPERLINK(\"#'C4'!A1\",\"C4\")","v":"C4"},0.05]
[null,"Investment in Properties",{"$f":"IFERROR(IF('C5'!H102>0,\"Over Concentration Limit\",\"Under Concentration Limit\"), \"Over Concentration Limit\")","v":"Under Concentration Limit"},{"$f":"HYPERLINK(\"#'C5'!A1\",\"C5\")","v":"C5"},0.1]
[null,"Investment in Related Companies",{"$f":"IFERROR(IF('C6'!E19>0,\"Over Concentration Limit\",\"Under Concentration Limit\"), \"Over Concentration Limit\")","v":"Under Concentration Limit"},{"$f":"HYPERLINK(\"#'C6'!A1\",\"C6\")","v":"C6"},0.1]
[null,"Investment in Listed Commodities",{"$f":"IFERROR(IF('C7'!G102>0,\"Over Concentration Limit\",\"Under Concentration Limit\"), \"Over Concentration Limit\")","v":"Under Concentration Limit"},{"$f":"HYPERLINK(\"#'C7'!A1\",\"C7\")","v":"C7"},0.1]
[null,"Investment in Unlisted Commodities",{"$f":"IFERROR(IF('C8'!G102>0,\"Over Concentration Limit\",\"Under Concentration Limit\"), \"Over Concentration Limit\")","v":"Under Concentration Limit"},{"$f":"HYPERLINK(\"#'C8'!A1\",\"C8\")","v":"C8"},0.05]
[]
[]
[]
[null,"Reconciliation checks for Investment in corporates","Checks","Links"]
[null,"Corporate - Term Deposits, Bonds and Debentures",{"$f":"IFERROR(IF('C3'!D3520+'C3'!E3520+'C4'!D3520+'C4'!E3520='A6'!D21+'A6'!D24+'A6'!E27, \"Not Breached\", \"Breached\"),\"Breached\")","v":"Not Breached"},{"$f":"HYPERLINK(\"#'A6'!A1\",\"A6\")","v":"A6"},{"$f":"\"Information provided in sheets C3 and C4 must be consistent with sheet \"&D47","v":"Information provided in sheets C3 and C4 must be consistent with sheet A6"}]
[null,"Loans to coporates",{"$f":"IFERROR(IF('C3'!F3520+'C4'!F3520 = 'C2'!D54, \"Not Breached\", \"Breached\"), \"Breached\")","v":"Not Breached"},{"$f":"HYPERLINK(\"#'C2'!A1\",\"C2\")","v":"C2"},{"$f":"\"Information provided in sheets C3 and C4 must be consistent with sheet \"&D48","v":"Information provided in sheets C3 and C4 must be consistent with sheet C2"}]
[null,"Listed Corporate Preference shares",{"$f":"IFERROR(IF('C3'!H3520='C2'!D24, \"Not Breached\", \"Breached\"),\"Breached\")","v":"Not Breached"},{"$f":"HYPERLINK(\"#'C2'!A1\",\"C2\")","v":"C2"},{"$f":"\"Information provided in sheet C3 must be consistent with sheet \"&D49","v":"Information provided in sheet C3 must be consistent with sheet C2"}]
[null,"Listed Corporate Common shares",{"$f":"IFERROR(IF('C3'!I3520='C2'!D25, \"Not Breached\", \"Breached\"), \"Breached\")","v":"Not Breached"},{"$f":"HYPERLINK(\"#'C2'!A1\",\"C2\")","v":"C2"},{"$f":"\"Information provided in sheet C3 must be consistent with sheet \"&D50","v":"Information provided in sheet C3 must be consistent with sheet C2"}]
[null,"Unisted Corporate Preference shares",{"$f":"IFERROR(IF('C4'!H3520='C2'!D32, \"Not Breached\", \"Breached\"), \"Breached\")","v":"Not Breached"},{"$f":"HYPERLINK(\"#'C2'!A1\",\"C2\")","v":"C2"},{"$f":"\"Information provided in sheet C4 must be consistent with sheet \"&D51","v":"Information provided in sheet C4 must be consistent with sheet C2"}]
[null,"Unlisted Corporate Common shares",{"$f":"IFERROR(IF('C4'!I3520='C2'!D33,\"Not Breached\",\"Breached\"), \"Breached\")","v":"Not Breached"},{"$f":"HYPERLINK(\"#'C2'!A1\",\"C2\")","v":"C2"},{"$f":"\"Information provided in sheet C4 must be consistent with sheet \"&D52","v":"Information provided in sheet C4 must be consistent with sheet C2"}]
[null,"Receivables from Corporates",{"$f":"IFERROR(IF('C4'!J3520+'C3'!J3520='A9'!M14, \"Not Breached\", \"Breached\"), \"Breached\")","v":"Not Breached"},{"$f":"HYPERLINK(\"#'A9'!A1\",\"A9\")","v":"A9"},"Information provided in sheets C3 and C4 must be consistent with sheet A9"]
[]
[null,"Reconciliation checks for Investment in property","Checks","Links"]
[null,"Invesment property",{"$f":"IFERROR(IF('A5'!L13='C5'!C102, \"Not Breached\", \"Breached\"), \"Breached\")","v":"Not Breached"},{"$f":"HYPERLINK(\"#'A5'!A1\",\"A5\")","v":"A5"},{"$f":"\"Information provided in sheet C5 must be consistent with sheet \"&D56","v":"Information provided in sheet C5 must be consistent with sheet A5"}]
[null,"Freehold land and Buidling",{"$f":"IFERROR(IF('C5'!D102='A1'!K24, \"Not Breached\", \"Breached\"), \"Breached\")","v":"Not Breached"},{"$f":"HYPERLINK(\"#'A1'!A1\",\"A1\")","v":"A1"},{"$f":"\"Information provided in sheets C5 must be consistent with sheet \"&D57","v":"Information provided in sheets C5 must be consistent with sheet A1"}]
[]
[null,"Reconciliation checks for investment in commodities","Checks","Links"]
[null,"Listed Commodities",{"$f":"IFERROR(IF('C7'!E102='C2'!D28, \"Not Breached\", \"Breached\"), \"Breached\")","v":"Not Breached"},{"$f":"HYPERLINK(\"#'C2'!A1\",\"C2\")","v":"C2"},{"$f":"\"Information provided in sheet C7 must be consistent with sheet \"&D60","v":"Information provided in sheet C7 must be consistent with sheet C2"}]
[null,"Unlisted Commodities",{"$f":"IFERROR(IF('C8'!E102='C2'!D36, \"Not Breached\", \"Breached\"), \"Breached\")","v":"Not Breached"},{"$f":"HYPERLINK(\"#'C2'!A1\",\"C2\")","v":"C2"},{"$f":"\"Information provided in sheet C8 must be consistent with sheet \"&D61","v":"Information provided in sheet C8 must be consistent with sheet C2"}]
[]
[]
[null,"CAPITAL REQUIREMENTS CHECKS"]
[]
[null,"Capital Requirements"]
[null,"Total Capital Available ",null,{"$f":"C0!D55","v":0}]
[null,"Minimum Capital Required ",null,{"$f":"C0!D63","v":0}]
[null,"Excess Capital Available over Capital Required ",null,{"$f":"C0!D65","v":0}]
[null,"Capital Available as a % of Minimum Capital Required ",null,{"$f":"IFERROR(C0!D67, \"-\")","v":0}]

{"sheet":"Simplifications","index":10,"n_rows":33,"n_cols":4,"rows_kept":33,"cut":false,"hidden":false,"merged":[]}
[]
[]
[]
[null,"Simplification and/or Approximation made","Tab","Description of simplification/approximation"]
[]
[]
[]
[]
[]
[]
[]
[]
[]
[]
[]
[]
[]
[]
[]
[]
[]
[]
[]
[]
[]
[]
[]
[]
[]
[]
[]
[null,"Changes to Previous Year Numbers","Amount","Description/reasons"]
[null,null,{"$f":"Specifications!$C$14","v":0}]

{"sheet":"Corporate information","index":11,"n_rows":163,"n_cols":3,"rows_kept":163,"cut":false,"hidden":false,"merged":[]}
[]
[]
[]
[null,"Directors"]
[null,"Name","Description"]
[]
[]
[]
[]
[]
[]
[]
[]
[]
[]
[]
[]
[]
[]
[]
[]
[]
[]
[]
[]
[]
[]
[]
[]
[]
[]
[]
[]
[]
[]
[]
[]
[]
[]
[]
[]
[]
[]
[]
[]
[]
[]
[]
[]
[]
[]
[]
[]
[]
[]
[]
[]
[]
[]
[null,"Audit committee members"]
[]
[]
[]
[]
[]
[]
[]
[]
[]
[]
[]
[]
[]
[]
[]
[]
[]
[]
[]
[]
[]
[]
[]
[]
[]
[]
[]
[]
[]
[]
[]
[]
[]
[]
[]
[]
[]
[]
[]
[]
[]
[]
[]
[]
[]
[]
[]
[]
[]
[]
[]
[]
[]
[]
[]
[null,"Number of sub-comittees:",3]
[null,"Sub-committee:"]
[null,"Members: "]
[]
[]
[]
[]
[]
[]
[]
[]
[]
[]
[null,"Officers"]
[null,"General Manager / Chief Executive Officer"]
[null,"Chief Finance Officer"]
[null,"Compliance Officer"]
[null,"Chief Internal Auditor"]
[null,"Underwriting Manager"]
[null,"Claims Manager"]
[null,"Money Laundering reporting Officer"]
[null,"Complaints Coordinator"]
[]
[]
[null,"External auditor"]
[null,"Firm:"]
[null,"Signing partner: "]
[null,"Address: "]
[null,"Telephone number: "]
[null,"Fax number: "]
[null,"Email address:"]
[]
[null,"Actuary"]
[null,"Name: "]
[null,"Address: "]
[null,"Telephone number: "]
[null,"Fax number: "]
[null,"Email address:"]
[]
[null,"Contact persons"]
[null,"Number of contract persons:",3]
[null,"Name of contact person:"]
[null,"Position:"]
[null,"Telephone number: "]
[null,"Fax number: "]
[null,"Email address:"]
[]
[null,"Branch offices"]

{"sheet":"Balance Sheet>>>","index":12,"n_rows":0,"n_cols":0,"rows_kept":0,"cut":false,"hidden":false,"merged":[]}

{"sheet":"BS","index":13,"n_rows":78,"n_cols":5,"rows_kept":78,"cut":false,"hidden":false,"merged":[[45,1,48,1],[45,3,45,4],[2,1,2,4],[6,3,6,4],[11,1,14,1],[11,2,14,2],[11,3,11,4]]}
[]
[]
[null,"FORM BS: BALANCE SHEET"]
[]
[]
[]
[null,"NAME OF REINSURER",null,{"$f":"Specifications!C5","v":0}]
[null,"YEAR ENDED",null,{"$f":"Specifications!C13","v":"00:00:00"},{"$f":"Specifications!C13 - IF(MOD(YEAR(Specifications!C13),4)=0, 366, 365)","v":-366}]
[]
[null,"ASSETS"]
[]
[null,"ASSETS","Links","AMOUNT"]
[null,null,null,"Current","Previous"]
[null,null,null,"Year","Year"]
[null,null,null,{"$f":"Specifications!$C$14","v":0},{"$f":"Specifications!$C$14","v":0}]
[null,"Property, Plant and Equipment Owned",{"$f":"HYPERLINK(\"#'A1'!A1\",\"A1\")","v":"A1"},{"$f":"'A1'!K26","v":0},{"$f":"A0!E16","v":0}]
[null,"Goodwill",{"$f":"HYPERLINK(\"#'A2'!A1\",\"A2\")","v":"A2"},{"$f":"'A2'!L14","v":0},{"$f":"A0!E17","v":0}]
[null,"Other Intangible Assets",{"$f":"HYPERLINK(\"#'A2'!A1\",\"A2\")","v":"A2"},{"$f":"'A2'!L16","v":0},{"$f":"A0!E18","v":0}]
[null,"Right-of-use assets",{"$f":"HYPERLINK(\"#'A3'!A1\",\"A3\")","v":"A3"},{"$f":"'A3'!I13","v":0},{"$f":"A0!E19","v":0}]
[null,"Investment in Related Companies",{"$f":"HYPERLINK(\"#'A4'!A1\",\"A4\")","v":"A4"},{"$f":"'A4'!K14","v":0},{"$f":"A0!E20","v":0}]
[null,"Investment Property",{"$f":"HYPERLINK(\"#'A5'!A1\",\"A5\")","v":"A5"},{"$f":"'A5'!L13","v":0},{"$f":"A0!E21","v":0}]
[null,"Financial Investments",{"$f":"HYPERLINK(\"#'A6'!A1\",\"A6\")","v":"A6"}]
[null,"   Fair value through Profit and Loss",null,{"$f":"'A6'!E37","v":0},{"$f":"A0!E23","v":0}]
[null,"   Fair value through Other Comprehensive Income",null,{"$f":"'A6'!F37","v":0},{"$f":"A0!E24","v":0}]
[null,"   Amortised cost",null,{"$f":"'A6'!G37","v":0},{"$f":"A0!E25","v":0}]
[null,"   Accrued Interest",null,{"$f":"'A6'!H37","v":0},{"$f":"A0!E26","v":0}]
[null,"Financial Instrument Derivatives Assets",{"$f":"HYPERLINK(\"#'A7'!A1\",\"A7\")","v":"A7"},{"$f":"'A7'!D23","v":0},{"$f":"A0!E27","v":0}]
[null,"Current Tax Assets",{"$f":"HYPERLINK(\"#'A8'!A1\",\"A8\")","v":"A8"},{"$f":"'A8'!C18","v":0},{"$f":"A0!E28","v":0}]
[null,"Deferred Tax Assets",{"$f":"HYPERLINK(\"#'A8'!A1\",\"A8\")","v":"A8"},{"$f":"IF('A8'!G52 > 0, 'A8'!G52, 0)","v":0},{"$f":"A0!E29","v":0}]
[null,"Asset for Insurance Acquisition Cash Flows",{"$f":"HYPERLINK(\"#'A13'!A1\",\"A13\")","v":"A13"},{"$f":"'A13'!C12","v":0},{"$f":"A0!E30","v":0}]
[null,"Receivables ",{"$f":"HYPERLINK(\"#'A9'!A1\",\"A9\")","v":"A9"},{"$f":"'A9'!M18","v":0},{"$f":"A0!E31","v":0}]
[null,"Prepayments and Accrued Income",{"$f":"HYPERLINK(\"#'A13'!A1\",\"A13\")","v":"A13"},{"$f":"'A13'!C13","v":0},{"$f":"A0!E32","v":0}]
[null,"Insurance Contract Assets",{"$f":"HYPERLINK(\"#'IR2'!A1\",\"IR2\")","v":"IR2"},{"$f":"'IR2'!F24+'IR2'!I40+IF('IR1'!F24+'IR1'!I40<0, -( 'IR1'!F24+'IR1'!I40 ), 0)","v":0},{"$f":"A0!E33","v":0}]
[null,"Reinsurance Contract Assets",{"$f":"HYPERLINK(\"#'IR4'!A1\",\"IR4\")","v":"IR4"},{"$f":"'IR4'!F24+'IR4'!I40","v":0},{"$f":"A0!E34","v":0}]
[null,"Retirement Benefit Asset",{"$f":"HYPERLINK(\"#'A13'!A1\",\"A13\")","v":"A13"},{"$f":"'A13'!C14","v":0},{"$f":"A0!E35","v":0}]
[null,"Cash and Cash Equivalents",{"$f":"HYPERLINK(\"#'A13'!A1\",\"A13\")","v":"A13"},{"$f":"'A13'!C15","v":0},{"$f":"A0!E36","v":0}]
[null,"Assets Held For Sale",{"$f":"HYPERLINK(\"#'A11'!A1\",\"A11\")","v":"A11"},{"$f":"'A11'!C43","v":0},{"$f":"A0!E37","v":0}]
[null,"Assets encumberred ",{"$f":"HYPERLINK(\"#'A13'!A1\",\"A13\")","v":"A13"},{"$f":"'A13'!C16","v":0},{"$f":"A0!E38","v":0}]
[null,"Other assets",{"$f":"HYPERLINK(\"#'A13'!A1\",\"A13\")","v":"A13"},{"$f":"'A13'!C17","v":0},{"$f":"A0!E39","v":0}]
[]
[null,"TOTAL ASSETS",null,{"$f":"SUM(D16:D39)","v":0},{"$f":"SUM(E16:E39)","v":0}]
[]
[]
[null,"LIABITLIES AND EQUITY"]
[]
[null,"EQUITY",null,"AMOUNT"]
[null,null,null,"Curent","Previous"]
[null,null,null,"Year","Year"]
[null,null,null,{"$f":"Specifications!$C$14","v":0},{"$f":"Specifications!$C$14","v":0}]
[null,"Share Capital",{"$f":"HYPERLINK(\"#'L0'!A1\", \"L0\")","v":"L0"},{"$f":"L0!D17","v":0},{"$f":"L0!E17","v":0}]
[null,"Share Premium",{"$f":"HYPERLINK(\"#'L0'!A1\", \"L0\")","v":"L0"},{"$f":"L0!D18","v":0},{"$f":"L0!E18","v":0}]
[null,"Retained earnings","L0",{"$f":"L0!D19","v":0},{"$f":"L0!E19","v":0}]
[null,"Reserves","L0",{"$f":"L0!D20","v":0},{"$f":"L0!E20","v":0}]
[]
[null,"TOTAL EQUITIES",null,{"$f":"SUM(D50:D53)","v":0},{"$f":"SUM(E50:E53)","v":0}]
[]
[]
[null,"LIABILITIES"]
[null,"Insurance Contract Liabilities",{"$f":"HYPERLINK(\"#'L0'!A1\",\"L0\")","v":"L0"},{"$f":"L0!D26","v":0},{"$f":"L0!E26","v":0}]
[null,"Reinsurance Contract Liabilities",{"$f":"HYPERLINK(\"#'IR3'!A1\",\"IR3\")","v":"IR3"},{"$f":"IF('IR4'!F24 + 'IR4'!I40 <0, -('IR4'!F24+'IR4'!I40), 0)+'IR3'!F24+'IR3'!I40","v":0},{"$f":"L0!E27","v":0}]
[null,"Current tax liabilities",{"$f":"HYPERLINK(\"#'L0'!A1\", \"L0\")","v":"L0"},{"$f":"L0!D28","v":0},{"$f":"L0!E28","v":0}]
[null,"Deferrred tax liabilities",{"$f":"HYPERLINK(\"#'L0'!A1\", \"L0\")","v":"L0"},{"$f":"L0!D29","v":0},{"$f":"L0!E29","v":0}]
[null,"Liabilities held for sale",{"$f":"HYPERLINK(\"#'L0'!A1\", \"L0\")","v":"L0"},{"$f":"L0!D30","v":0},{"$f":"L0!E30","v":0}]
[null,"Financial liabilities"]
[null,"    Derivatives",{"$f":"HYPERLINK(\"#'L0'!A1\", \"L0\")","v":"L0"},{"$f":"L0!D32","v":0},{"$f":"L0!E32","v":0}]
[null,"    Investment contracts","L0",{"$f":"L0!D33","v":0},{"$f":"L0!E33","v":0}]
[null,"Lease liabilities","L0",{"$f":"L0!D34","v":0},{"$f":"L0!E34","v":0}]
[null,"Trade and other payables","L0",{"$f":"L0!D35","v":0},{"$f":"L0!E35","v":0}]
[null,"Borrowings"]
[null,"    Subordinated","L0",{"$f":"L0!D37","v":0},{"$f":"L0!E37","v":0}]
[null,"    Senior","L0",{"$f":"L0!D38","v":0},{"$f":"L0!E38","v":0}]
[null,"    Short term operational","L0",{"$f":"L0!D39","v":0},{"$f":"L0!E39","v":0}]
[null,"Retirement benefit liabilities","L0",{"$f":"L0!D40","v":0},{"$f":"L0!E40","v":0}]
[null,"Other Liabilities","L0",{"$f":"L0!D41","v":0},{"$f":"L0!E41","v":0}]
[]
[null,"TOTAL LIABILITIES",null,{"$f":"SUM(D59:D74)","v":0},{"$f":"SUM(E59:E74)","v":0}]
[]
[null,"TOTAL LIABILITIES AND EQUITY",null,{"$f":"SUM(D55,D76)","v":0},{"$f":"SUM(E55,E76)","v":0}]

{"sheet":"Assets>>>","index":14,"n_rows":0,"n_cols":0,"rows_kept":0,"cut":false,"hidden":false,"merged":[]}

{"sheet":"A0","index":15,"n_rows":41,"n_cols":5,"rows_kept":41,"cut":false,"hidden":false,"merged":[[11,3,11,4],[2,1,2,4],[6,3,6,4],[11,1,14,1],[11,2,14,2]]}
[]
[]
[null,"FORM A0: STATEMENT OF ASSETS"]
[]
[]
[]
[null,"NAME OF REINSURER",null,{"$f":"Specifications!C5","v":0}]
[null,"YEAR ENDED",null,{"$f":"Specifications!C13","v":"00:00:00"},{"$f":"Specifications!C13 - IF(MOD(YEAR(Specifications!C13),4)=0, 366, 365)","v":-366}]
[]
[null,"ASSETS"]
[]
[null,"ASSETS","Links","AMOUNT"]
[null,null,null,"Current","Previous"]
[null,null,null,"Year","Year"]
[null,null,null,{"$f":"Specifications!$C$14","v":0},{"$f":"Specifications!$C$14","v":0}]
[null,"Property, Plant and Equipment Owned",{"$f":"HYPERLINK(\"#'A1'!A1\",\"A1\")","v":"A1"},{"$f":"'A1'!K26","v":0}]
[null,"Goodwill",{"$f":"HYPERLINK(\"#'A2'!A1\",\"A2\")","v":"A2"},{"$f":"'A2'!L14","v":0}]
[null,"Other Intangible Assets",{"$f":"HYPERLINK(\"#'A2'!A1\",\"A2\")","v":"A2"},{"$f":"'A2'!L16","v":0}]
[null,"Right-of-use assets",{"$f":"HYPERLINK(\"#'A3'!A1\",\"A3\")","v":"A3"},{"$f":"'A3'!I13","v":0}]
[null,"Investment in Related Companies",{"$f":"HYPERLINK(\"#'A4'!A1\",\"A4\")","v":"A4"},{"$f":"'A4'!K14","v":0}]
[null,"Investment Property",{"$f":"HYPERLINK(\"#'A5'!A1\",\"A5\")","v":"A5"},{"$f":"'A5'!L13","v":0}]
[null,"Financial Investments",{"$f":"HYPERLINK(\"#'A6'!A1\",\"A6\")","v":"A6"}]
[null,"   Fair value through Profit and Loss",null,{"$f":"'A6'!E37","v":0}]
[null,"   Fair value through Other Comprehensive Income",null,{"$f":"'A6'!F37","v":0}]
[null,"   Amortised cost",null,{"$f":"'A6'!G37","v":0}]
[null,"   Accrued Interest",null,{"$f":"'A6'!H37","v":0}]
[null,"Financial Instrument Derivatives Assets",{"$f":"HYPERLINK(\"#'A7'!A1\",\"A7\")","v":"A7"},{"$f":"'A7'!D23","v":0}]
[null,"Current Tax Assets",{"$f":"HYPERLINK(\"#'A8'!A1\",\"A8\")","v":"A8"},{"$f":"'A8'!C18","v":0}]
[null,"Deferred Tax Assets",{"$f":"HYPERLINK(\"#'A8'!A1\",\"A8\")","v":"A8"},{"$f":"IF('A8'!G52 > 0, 'A8'!G52, 0)","v":0}]
[null,"Asset for Insurance Acquisition Cash Flows",{"$f":"HYPERLINK(\"#'A13'!A1\",\"A13\")","v":"A13"},{"$f":"'A13'!C12","v":0}]
[null,"Receivables ",{"$f":"HYPERLINK(\"#'A9'!A1\",\"A9\")","v":"A9"},{"$f":"'A9'!M18","v":0}]
[null,"Prepayments and Accrued Income",{"$f":"HYPERLINK(\"#'A13'!A1\",\"A13\")","v":"A13"},{"$f":"'A13'!C13","v":0}]
[null,"Insurance Contract Assets",{"$f":"HYPERLINK(\"#'IR2'!A1\",\"IR2\")","v":"IR2"},{"$f":"'IR2'!F24+'IR2'!I40+IF('IR1'!F24+'IR1'!I40<0, -( 'IR1'!F24+'IR1'!I40 ), 0)","v":0}]
[null,"Reinsurance Contract Assets",{"$f":"HYPERLINK(\"#'IR4'!A1\",\"IR4\")","v":"IR4"},{"$f":"'IR4'!F24 + 'IR4'!I40","v":0}]
[null,"Retirement Benefit Asset",{"$f":"HYPERLINK(\"#'A13'!A1\",\"A13\")","v":"A13"},{"$f":"'A13'!C14","v":0}]
[null,"Cash and Cash Equivalents",{"$f":"HYPERLINK(\"#'A13'!A1\",\"A13\")","v":"A13"},{"$f":"'A13'!C15","v":0}]
[null,"Assets Held For Sale",{"$f":"HYPERLINK(\"#'A11'!A1\",\"A11\")","v":"A11"},{"$f":"'A11'!C43","v":0}]
[null,"Assets encumberred ",{"$f":"HYPERLINK(\"#'A13'!A1\",\"A13\")","v":"A13"},{"$f":"'A13'!C16","v":0}]
[null,"Other assets",{"$f":"HYPERLINK(\"#'A13'!A1\",\"A13\")","v":"A13"},{"$f":"'A13'!C17","v":0}]
[]
[null,"TOTAL ASSETS",null,{"$f":"SUM(D16:D39)","v":0},{"$f":"SUM(E16:E39)","v":0}]

{"sheet":"A1","index":16,"n_rows":129,"n_cols":11,"rows_kept":129,"cut":false,"hidden":false,"merged":[[27,1,28,1],[2,1,2,10],[12,1,13,1],[6,2,6,4],[7,2,7,4]]}
[]
[]
[null,"FORM A1: PROPERTY, PLANT AND EQUIPMENT"]
[]
[]
[]
[null,"NAME OF REINSURER",{"$f":"Specifications!C5","v":0}]
[null,"YEAR ENDED",{"$f":"Specifications!C13","v":"00:00:00"}]
[]
[]
[]
[]
[null,"Property, Plant and Equipment Owned","Opening balance","Additions","Disposals","Revaluation gains/(losses)","Foreign exchange movements","Assets held for sale","Depreciation charge for the year","Impairement charge for the year","Closing balance"]
[null,null,{"$f":"Specifications!$C$14","v":0},{"$f":"Specifications!$C$14","v":0},{"$f":"Specifications!$C$14","v":0},{"$f":"Specifications!$C$14","v":0},{"$f":"Specifications!$C$14","v":0},{"$f":"Specifications!$C$14","v":0},{"$f":"Specifications!$C$14","v":0},{"$f":"Specifications!$C$14","v":0},{"$f":"Specifications!$C$14","v":0}]
[]
[null,"Plant and Equipment Owned"]
[null,"Furniture and Fittings",null,null,null,null,null,null,null,null,{"$f":"C17+D17-E17+F17+G17-H17-I17-J17","v":0}]
[null,"Office Equipment",null,null,null,null,null,null,null,null,{"$f":"C18+D18-E18+F18+G18-H18-I18-J18","v":0}]
[null,"Computer",null,null,null,null,null,null,null,null,0]
[null,"Motor vehicles",null,null,null,null,null,null,null,null,0]
[null,"Others",null,null,null,null,null,null,null,null,0]
[null,"Total Plant and Equipment",{"$f":"SUM(C17:C21)","v":0},{"$f":"SUM(D17:D21)","v":0},0,0,0,0,0,0,0]
[]
[null,"Total Property Owned",{"$f":"SUM(C30:C129)","v":0},0,0,0,0,0,0,0,0]
[]
[null,"Total Property, Plant and Equipment",{"$f":"SUM(C17:C21) + C24","v":0},0,0,0,0,0,0,0,0]
[]
[null,"Location and Description of property owned","Opening balance","Additions","Disposals","Revaluation gains/(losses)","Foreign exchange movements","Assets held for sale","Depreciation charge for the year","Impairement charge for the year","Closing balance"]
[null,null,{"$f":"Specifications!$C$14","v":0},{"$f":"Specifications!$C$14","v":0},{"$f":"Specifications!$C$14","v":0},{"$f":"Specifications!$C$14","v":0},{"$f":"Specifications!$C$14","v":0},{"$f":"Specifications!$C$14","v":0},{"$f":"Specifications!$C$14","v":0},{"$f":"Specifications!$C$14","v":0},{"$f":"Specifications!$C$14","v":0}]
[null,null,null,null,null,null,null,null,null,null,{"$f":"C30+D30-E30+F30+G30-H30-I30-J30","v":0}]
[null,null,null,null,null,null,null,null,null,null,{"$f":"C31+D31-E31+F31+G31-H31-I31-J31","v":0}]
[null,null,null,null,null,null,null,null,null,null,0]
[null,null,null,null,null,null,null,null,null,null,0]
[null,null,null,null,null,null,null,null,null,null,0]
[null,null,null,null,null,null,null,null,null,null,0]
[null,null,null,null,null,null,null,null,null,null,0]
[null,null,null,null,null,null,null,null,null,null,0]
[null,null,null,null,null,null,null,null,null,null,0]
[null,null,null,null,null,null,null,null,null,null,0]
[null,null,null,null,null,null,null,null,null,null,0]
[null,null,null,null,null,null,null,null,null,null,0]
[null,null,null,null,null,null,null,null,null,null,0]
[null,null,null,null,null,null,null,null,null,null,0]
[null,null,null,null,null,null,null,null,null,null,0]
[null,null,null,null,null,null,null,null,null,null,0]
[null,null,null,null,null,null,null,null,null,null,0]
[null,null,null,null,null,null,null,null,null,null,0]
[null,null,null,null,null,null,null,null,null,null,0]
[null,null,null,null,null,null,null,null,null,null,0]
[null,null,null,null,null,null,null,null,null,null,0]
[null,null,null,null,null,null,null,null,null,null,0]
[null,null,null,null,null,null,null,null,null,null,0]
[null,null,null,null,null,null,null,null,null,null,0]
[null,null,null,null,null,null,null,null,null,null,0]
[null,null,null,null,null,null,null,null,null,null,0]
[null,null,null,null,null,null,null,null,null,null,0]
[null,null,null,null,null,null,null,null,null,null,0]
[null,null,null,null,null,null,null,null,null,null,0]
[null,null,null,null,null,null,null,null,null,null,0]
[null,null,null,null,null,null,null,null,null,null,0]
[null,null,null,null,null,null,null,null,null,null,0]
[null,null,null,null,null,null,null,null,null,null,0]
[null,null,null,null,null,null,null,null,null,null,0]
[null,null,null,null,null,null,null,null,null,null,0]
[null,null,null,null,null,null,null,null,null,null,0]
[null,null,null,null,null,null,null,null,null,null,0]
[null,null,null,null,null,null,null,null,null,null,0]
[null,null,null,null,null,null,null,null,null,null,0]
[null,null,null,null,null,null,null,null,null,null,0]
[null,null,null,null,null,null,null,null,null,null,0]
[null,null,null,null,null,null,null,null,null,null,0]
[null,null,null,null,null,null,null,null,null,null,0]
[null,null,null,null,null,null,null,null,null,null,0]
[null,null,null,null,null,null,null,null,null,null,0]
[null,null,null,null,null,null,null,null,null,null,0]
[null,null,null,null,null,null,null,null,null,null,0]
[null,null,null,null,null,null,null,null,null,null,0]
[null,null,null,null,null,null,null,null,null,null,0]
[null,null,null,null,null,null,null,null,null,null,0]
[null,null,null,null,null,null,null,null,null,null,0]
[null,null,null,null,null,null,null,null,null,null,0]
[null,null,null,null,null,null,null,null,null,null,0]
[null,null,null,null,null,null,null,null,null,null,0]
[null,null,null,null,null,null,null,null,null,null,0]
[null,null,null,null,null,null,null,null,null,null,0]
[null,null,null,null,null,null,null,null,null,null,0]
[null,null,null,null,null,null,null,null,null,null,0]
[null,null,null,null,null,null,null,null,null,null,0]
[null,null,null,null,null,null,null,null,null,null,0]
[null,null,null,null,null,null,null,null,null,null,0]
[null,null,null,null,null,null,null,null,null,null,0]
[null,null,null,null,null,null,null,null,null,null,0]
[null,null,null,null,null,null,null,null,null,null,0]
[null,null,null,null,null,null,null,null,null,null,0]
[null,null,null,null,null,null,null,null,null,null,{"$f":"C95+D95-E95+F95+G95-H95-I95-J95","v":0}]
[null,null,null,null,null,null,null,null,null,null,0]
[null,null,null,null,null,null,null,null,null,null,0]
[null,null,null,null,null,null,null,null,null,null,0]
[null,null,null,null,null,null,null,null,null,null,0]
[null,null,null,null,null,null,null,null,null,null,0]
[null,null,null,null,null,null,null,null,null,null,0]
[null,null,null,null,null,null,null,null,null,null,0]
[null,null,null,null,null,null,null,null,null,null,0]
[null,null,null,null,null,null,null,null,null,null,0]
[null,null,null,null,null,null,null,null,null,null,0]
[null,null,null,null,null,null,null,null,null,null,0]
[null,null,null,null,null,null,null,null,null,null,0]
[null,null,null,null,null,null,null,null,null,null,0]
[null,null,null,null,null,null,null,null,null,null,0]
[null,null,null,null,null,null,null,null,null,null,0]
[null,null,null,null,null,null,null,null,null,null,0]
[null,null,null,null,null,null,null,null,null,null,0]
[null,null,null,null,null,null,null,null,null,null,0]
[null,null,null,null,null,null,null,null,null,null,0]
[null,null,null,null,null,null,null,null,null,null,0]
[null,null,null,null,null,null,null,null,null,null,0]
[null,null,null,null,null,null,null,null,null,null,0]
[null,null,null,null,null,null,null,null,null,null,0]
[null,null,null,null,null,null,null,null,null,null,0]
[null,null,null,null,null,null,null,null,null,null,0]
[null,null,null,null,null,null,null,null,null,null,0]
[null,null,null,null,null,null,null,null,null,null,0]
[null,null,null,null,null,null,null,null,null,null,0]
[null,null,null,null,null,null,null,null,null,null,0]
[null,null,null,null,null,null,null,null,null,null,0]
[null,null,null,null,null,null,null,null,null,null,0]
[null,null,null,null,null,null,null,null,null,null,0]
[null,null,null,null,null,null,null,null,null,null,0]
[null,null,null,null,null,null,null,null,null,null,{"$f":"C129+D129-E129+F129+G129-H129-I129-J129","v":0}]

{"sheet":"A2","index":17,"n_rows":73,"n_cols":12,"rows_kept":73,"cut":false,"hidden":false,"merged":[[2,1,2,11],[13,1,13,2],[15,1,15,2],[10,1,11,2],[6,2,6,3],[7,2,7,3]]}
[]
[]
[null,"FORM A2: GOODWILL AND OTHER INTANGIBLE ASSETS"]
[]
[]
[]
[null,"NAME OF REINSURER",{"$f":"Specifications!C5","v":0}]
[null,"YEAR ENDED",{"$f":"Specifications!C13","v":"00:00:00"}]
[]
[]
[null,"Description",null,"Opening balance","Additions","Disposals","Foreign exchange movements","Assets held for sale","Adjustment ","Amortisation charge for the year","Impairement charge for the year","Closing balance"]
[null,null,null,{"$f":"Specifications!$C$14","v":0},{"$f":"Specifications!$C$14","v":0},{"$f":"Specifications!$C$14","v":0},{"$f":"Specifications!$C$14","v":0},{"$f":"Specifications!$C$14","v":0},{"$f":"Specifications!$C$14","v":0},{"$f":"Specifications!$C$14","v":0},{"$f":"Specifications!$C$14","v":0},{"$f":"Specifications!$C$14","v":0}]
[]
[null,"Goodwill",null,{"$f":"SUMIFS(D23:D76, $B$23:$B$76, $B14)","v":0},{"$f":"SUMIFS(E23:E76, $B$23:$B$76, $B14)","v":0},0,0,0,0,0,0,0]
[]
[null,"Other Intangible Assets",null,{"$f":"SUMIFS(D23:D76, $B$23:$B$76, $B16)","v":0},{"$f":"SUMIFS(E23:E76, $B$23:$B$76, $B16)","v":0},0,0,0,0,0,{"$f":"SUMIFS(K23:K76, $B$23:$B$76, $B16)","v":0},0]
[]
[]
[]
[]
[null,"Description","Item","Opening balance","Additions","Disposals","Foreign exchange movements","Assets held for sale","Adjustments","Amortisation charge for the year","Impairement charge for the year","Closing balance"]
[null,null,null,{"$f":"Specifications!$C$14","v":0},{"$f":"Specifications!$C$14","v":0},{"$f":"Specifications!$C$14","v":0},{"$f":"Specifications!$C$14","v":0},{"$f":"Specifications!$C$14","v":0},{"$f":"Specifications!$C$14","v":0},{"$f":"Specifications!$C$14","v":0},{"$f":"Specifications!$C$14","v":0},{"$f":"Specifications!$C$14","v":0}]
[null,null,null,null,null,null,null,null,null,null,null,{"$f":"D23+E23-F23+G23+I23-H23-J23-K23","v":0}]
[null,null,null,null,null,null,null,null,null,null,null,{"$f":"D24+E24-F24+G24+I24-H24-J24-K24","v":0}]
[null,null,null,null,null,null,null,null,null,null,null,0]
[null,null,null,null,null,null,null,null,null,null,null,0]
[null,null,null,null,null,null,null,null,null,null,null,0]
[null,null,null,null,null,null,null,null,null,null,null,0]
[null,null,null,null,null,null,null,null,null,null,null,0]
[null,null,null,null,null,null,null,null,null,null,null,0]
[null,null,null,null,null,null,null,null,null,null,null,0]
[null,null,null,null,null,null,null,null,null,null,null,0]
[null,null,null,null,null,null,null,null,null,null,null,0]
[null,null,null,null,null,null,null,null,null,null,null,0]
[null,null,null,null,null,null,null,null,null,null,null,0]
[null,null,null,null,null,null,null,null,null,null,null,0]
[null,null,null,null,null,null,null,null,null,null,null,0]
[null,null,null,null,null,null,null,null,null,null,null,0]
[null,null,null,null,null,null,null,null,null,null,null,0]
[null,null,null,null,null,null,null,null,null,null,null,0]
[null,null,null,null,null,null,null,null,null,null,null,0]
[null,null,null,null,null,null,null,null,null,null,null,0]
[null,null,null,null,null,null,null,null,null,null,null,0]
[null,null,null,null,null,null,null,null,null,null,null,0]
[null,null,null,null,null,null,null,null,null,null,null,0]
[null,null,null,null,null,null,null,null,null,null,null,0]
[null,null,null,null,null,null,null,null,null,null,null,0]
[null,null,null,null,null,null,null,null,null,null,null,0]
[null,null,null,null,null,null,null,null,null,null,null,0]
[null,null,null,null,null,null,null,null,null,null,null,0]
[null,null,null,null,null,null,null,null,null,null,null,0]
[null,null,null,null,null,null,null,null,null,null,null,0]
[null,null,null,null,null,null,null,null,null,null,null,0]
[null,null,null,null,null,null,null,null,null,null,null,0]
[null,null,null,null,null,null,null,null,null,null,null,0]
[null,null,null,null,null,null,null,null,null,null,null,0]
[null,null,null,null,null,null,null,null,null,null,null,0]
[null,null,null,null,null,null,null,null,null,null,null,0]
[null,null,null,null,null,null,null,null,null,null,null,0]
[null,null,null,null,null,null,null,null,null,null,null,0]
[null,null,null,null,null,null,null,null,null,null,null,0]
[null,null,null,null,null,null,null,null,null,null,null,0]
[null,null,null,null,null,null,null,null,null,null,null,0]
[null,null,null,null,null,null,null,null,null,null,null,0]
[null,null,null,null,null,null,null,null,null,null,null,0]
[null,null,null,null,null,null,null,null,null,null,null,0]
[null,null,null,null,null,null,null,null,null,null,null,0]
[null,null,null,null,null,null,null,null,null,null,null,0]
[null,null,null,null,null,null,null,null,null,null,null,0]
[null,null,null,null,null,null,null,null,null,null,null,0]
[null,null,null,null,null,null,null,null,null,null,null,0]
[null,null,null,null,null,null,null,null,null,null,null,0]
[null,null,null,null,null,null,null,null,null,null,null,0]

{"sheet":"A3","index":18,"n_rows":68,"n_cols":9,"rows_kept":68,"cut":false,"hidden":false,"merged":[[15,1,16,1],[2,1,2,8],[9,1,10,1],[6,2,6,4],[7,2,7,4]]}
[]
[]
[null,"FORM A3: RIGHT-OF-USE ASSETS"]
[]
[]
[]
[null,"NAME OF REINSURER",{"$f":"Specifications!C5","v":0}]
[null,"YEAR ENDED",{"$f":"Specifications!C13","v":"00:00:00"}]
[]
[null,null,"Opening balance","Additions","Disposals","Modifications ","Foreign exchange movements","Depreciation charge for the year","Closing balance"]
[null,null,{"$f":"Specifications!$C$14","v":0},{"$f":"Specifications!$C$14","v":0},{"$f":"Specifications!$C$14","v":0},{"$f":"Specifications!$C$14","v":0},{"$f":"Specifications!$C$14","v":0},{"$f":"Specifications!$C$14","v":0},{"$f":"Specifications!$C$14","v":0}]
[]
[null,"TOTAL RIGHT OF USE ASSETS",{"$f":"SUM(C18:C69)","v":0},0,0,0,0,0,0]
[]
[]
[null,"Right-of-use asset","Opening balance","Additions","Disposals","Modifications ","Foreign exchange movements","Depreciation charge for the year","Closing balance"]
[null,null,{"$f":"Specifications!$C$14","v":0},{"$f":"Specifications!$C$14","v":0},{"$f":"Specifications!$C$14","v":0},{"$f":"Specifications!$C$14","v":0},{"$f":"Specifications!$C$14","v":0},{"$f":"Specifications!$C$14","v":0},{"$f":"Specifications!$C$14","v":0}]
[null,null,null,null,null,null,null,null,{"$f":"C18+D18-E18+F18+G18-H18","v":0}]
[null,null,null,null,null,null,null,null,{"$f":"C19+D19-E19+F19+G19-H19","v":0}]
[null,null,null,null,null,null,null,null,0]
[null,null,null,null,null,null,null,null,0]
[null,null,null,null,null,null,null,null,0]
[null,null,null,null,null,null,null,null,0]
[null,null,null,null,null,null,null,null,0]
[null,null,null,null,null,null,null,null,0]
[null,null,null,null,null,null,null,null,0]
[null,null,null,null,null,null,null,null,0]
[null,null,null,null,null,null,null,null,0]
[null,null,null,null,null,null,null,null,0]
[null,null,null,null,null,null,null,null,0]
[null,null,null,null,null,null,null,null,0]
[null,null,null,null,null,null,null,null,0]
[null,null,null,null,null,null,null,null,0]
[null,null,null,null,null,null,null,null,0]
[null,null,null,null,null,null,null,null,0]
[null,null,null,null,null,null,null,null,0]
[null,null,null,null,null,null,null,null,0]
[null,null,null,null,null,null,null,null,0]
[null,null,null,null,null,null,null,null,0]
[null,null,null,null,null,null,null,null,0]
[null,null,null,null,null,null,null,null,0]
[null,null,null,null,null,null,null,null,0]
[null,null,null,null,null,null,null,null,0]
[null,null,null,null,null,null,null,null,0]
[null,null,null,null,null,null,null,null,0]
[null,null,null,null,null,null,null,null,0]
[null,null,null,null,null,null,null,null,0]
[null,null,null,null,null,null,null,null,0]
[null,null,null,null,null,null,null,null,0]
[null,null,null,null,null,null,null,null,0]
[null,null,null,null,null,null,null,null,0]
[null,null,null,null,null,null,null,null,0]
[null,null,null,null,null,null,null,null,0]
[null,null,null,null,null,null,null,null,0]
[null,null,null,null,null,null,null,null,0]
[null,null,null,null,null,null,null,null,0]
[null,null,null,null,null,null,null,null,0]
[null,null,null,null,null,null,null,null,0]
[null,null,null,null,null,null,null,null,0]
[null,null,null,null,null,null,null,null,0]
[null,null,null,null,null,null,null,null,{"$f":"C61+D61-E61+F61+G61-H61","v":0}]
[null,null,null,null,null,null,null,null,0]
[null,null,null,null,null,null,null,null,0]
[null,null,null,null,null,null,null,null,0]
[null,null,null,null,null,null,null,null,{"$f":"C65+D65-E65+F65+G65-H65","v":0}]
[null,null,null,null,null,null,null,null,{"$f":"C66+D66-E66+F66+G66-H66","v":0}]
[null,null,null,null,null,null,null,null,0]
[null,null,null,null,null,null,null,null,{"$f":"C68+D68-E68+F68+G68-H68","v":0}]

{"sheet":"A4","index":19,"n_rows":119,"n_cols":11,"rows_kept":119,"cut":false,"hidden":false,"merged":[[16,2,16,4],[2,1,2,10],[16,1,18,1],[13,1,13,5],[9,1,11,1],[9,2,9,4],[6,2,6,4],[7,2,7,4]]}
[]
[]
[null,"FORM A4: INVESTMENT IN RELATED COMPANIES"]
[]
[]
[]
[null,"NAME OF REINSURER",{"$f":"Specifications!C5","v":0}]
[null,"YEAR ENDED",{"$f":"Specifications!C13","v":"00:00:00"}]
[]
[null,null,null,null,null,null,"Opening","Additions","Disposals","Revaluation","Closing"]
[null,null,null,null,null,null,"Balance",null,null,"gain/(loss)","Balance"]
[null,null,null,null,null,null,{"$f":"Specifications!$C$14","v":0},{"$f":"Specifications!$C$14","v":0},{"$f":"Specifications!$C$14","v":0},{"$f":"Specifications!$C$14","v":0},{"$f":"Specifications!$C$14","v":0}]
[]
[null,"TOTAL INVESTMENT IN RELATED COMPANIES",null,null,null,null,{"$f":"SUM(G20:G120)","v":0},{"$f":"SUM(H20:H120)","v":0},{"$f":"SUM(I20:I120)","v":0},{"$f":"SUM(J20:J120)","v":0},{"$f":"SUM(K20:K120)","v":0}]
[]
[]
[null,"Description","Number of shares",null,null,"%","Opening","Additions","Disposals","Revaluation","Closing"]
[null,null,"Opening","Additions/","Closing","Owned","Balance",null,null,"gain/(loss)","Balance"]
[null,null,null,"(Disposal)",null,null,{"$f":"Specifications!$C$14","v":0},{"$f":"Specifications!$C$14","v":0},{"$f":"Specifications!$C$14","v":0},{"$f":"Specifications!$C$14","v":0},{"$f":"Specifications!$C$14","v":0}]
[null,null,null,null,{"$f":"C20+D20","v":0},null,null,null,null,null,{"$f":"G20+H20-I20+J20","v":0}]
[null,null,null,null,{"$f":"C21+D21","v":0},null,null,null,null,null,{"$f":"G21+H21-I21+J21","v":0}]
[null,null,null,null,0,null,null,null,null,null,0]
[null,null,null,null,0,null,null,null,null,null,{"$f":"G23+H23-I23+J23","v":0}]
[null,null,null,null,0,null,null,null,null,null,0]
[null,null,null,null,0,null,null,null,null,null,0]
[null,null,null,null,0,null,null,null,null,null,0]
[null,null,null,null,0,null,null,null,null,null,0]
[null,null,null,null,0,null,null,null,null,null,0]
[null,null,null,null,0,null,null,null,null,null,0]
[null,null,null,null,0,null,null,null,null,null,0]
[null,null,null,null,0,null,null,null,null,null,0]
[null,null,null,null,0,null,null,null,null,null,0]
[null,null,null,null,0,null,null,null,null,null,0]
[null,null,null,null,0,null,null,null,null,null,0]
[null,null,null,null,0,null,null,null,null,null,0]
[null,null,null,null,0,null,null,null,null,null,0]
[null,null,null,null,0,null,null,null,null,null,0]
[null,null,null,null,0,null,null,null,null,null,0]
[null,null,null,null,0,null,null,null,null,null,0]
[null,null,null,null,0,null,null,null,null,null,0]
[null,null,null,null,0,null,null,null,null,null,0]
[null,null,null,null,0,null,null,null,null,null,0]
[null,null,null,null,0,null,null,null,null,null,0]
[null,null,null,null,0,null,null,null,null,null,0]
[null,null,null,null,0,null,null,null,null,null,0]
[null,null,null,null,0,null,null,null,null,null,0]
[null,null,null,null,0,null,null,null,null,null,0]
[null,null,null,null,0,null,null,null,null,null,0]
[null,null,null,null,0,null,null,null,null,null,0]
[null,null,null,null,0,null,null,null,null,null,0]
[null,null,null,null,0,null,null,null,null,null,0]
[null,null,null,null,0,null,null,null,null,null,0]
[null,null,null,null,0,null,null,null,null,null,0]
[null,null,null,null,0,null,null,null,null,null,0]
[null,null,null,null,0,null,null,null,null,null,0]
[null,null,null,null,0,null,null,null,null,null,0]
[null,null,null,null,0,null,null,null,null,null,0]
[null,null,null,null,0,null,null,null,null,null,0]
[null,null,null,null,0,null,null,null,null,null,0]
[null,null,null,null,0,null,null,null,null,null,0]
[null,null,null,null,0,null,null,null,null,null,0]
[null,null,null,null,0,null,null,null,null,null,0]
[null,null,null,null,0,null,null,null,null,null,0]
[null,null,null,null,0,null,null,null,null,null,0]
[null,null,null,null,0,null,null,null,null,null,0]
[null,null,null,null,0,null,null,null,null,null,0]
[null,null,null,null,{"$f":"C67+D67","v":0},null,null,null,null,null,0]
[null,null,null,null,{"$f":"C68+D68","v":0},null,null,null,null,null,{"$f":"G68+H68-I68+J68","v":0}]
[null,null,null,null,{"$f":"C69+D69","v":0},null,null,null,null,null,{"$f":"G69+H69-I69+J69","v":0}]
[null,null,null,null,{"$f":"C70+D70","v":0},null,null,null,null,null,{"$f":"G70+H70-I70+J70","v":0}]
[null,null,null,null,{"$f":"C71+D71","v":0},null,null,null,null,null,{"$f":"G71+H71-I71+J71","v":0}]
[null,null,null,null,{"$f":"C72+D72","v":0},null,null,null,null,null,{"$f":"G72+H72-I72+J72","v":0}]
[null,null,null,null,0,null,null,null,null,null,0]
[null,null,null,null,0,null,null,null,null,null,{"$f":"G74+H74-I74+J74","v":0}]
[null,null,null,null,0,null,null,null,null,null,{"$f":"G75+H75-I75+J75","v":0}]
[null,null,null,null,0,null,null,null,null,null,0]
[null,null,null,null,0,null,null,null,null,null,0]
[null,null,null,null,0,null,null,null,null,null,0]
[null,null,null,null,0,null,null,null,null,null,0]
[null,null,null,null,0,null,null,null,null,null,0]
[null,null,null,null,0,null,null,null,null,null,0]
[null,null,null,null,0,null,null,null,null,null,0]
[null,null,null,null,0,null,null,null,null,null,0]
[null,null,null,null,0,null,null,null,null,null,0]
[null,null,null,null,0,null,null,null,null,null,0]
[null,null,null,null,0,null,null,null,null,null,0]
[null,null,null,null,0,null,null,null,null,null,0]
[null,null,null,null,0,null,null,null,null,null,0]
[null,null,null,null,0,null,null,null,null,null,0]
[null,null,null,null,0,null,null,null,null,null,0]
[null,null,null,null,0,null,null,null,null,null,0]
[null,null,null,null,0,null,null,null,null,null,0]
[null,null,null,null,0,null,null,null,null,null,0]
[null,null,null,null,0,null,null,null,null,null,0]
[null,null,null,null,0,null,null,null,null,null,0]
[null,null,null,null,0,null,null,null,null,null,0]
[null,null,null,null,0,null,null,null,null,null,0]
[null,null,null,null,0,null,null,null,null,null,0]
[null,null,null,null,0,null,null,null,null,null,0]
[null,null,null,null,0,null,null,null,null,null,0]
[null,null,null,null,0,null,null,null,null,null,0]
[null,null,null,null,0,null,null,null,null,null,0]
[null,null,null,null,0,null,null,null,null,null,0]
[null,null,null,null,0,null,null,null,null,null,0]
[null,null,null,null,0,null,null,null,null,null,0]
[null,null,null,null,0,null,null,null,null,null,0]
[null,null,null,null,0,null,null,null,null,null,0]
[null,null,null,null,0,null,null,null,null,null,0]
[null,null,null,null,0,null,null,null,null,null,0]
[null,null,null,null,0,null,null,null,null,null,0]
[null,null,null,null,0,null,null,null,null,null,0]
[null,null,null,null,0,null,null,null,null,null,0]
[null,null,null,null,0,null,null,null,null,null,0]
[null,null,null,null,0,null,null,null,null,null,0]
[null,null,null,null,0,null,null,null,null,null,0]
[null,null,null,null,0,null,null,null,null,null,0]
[null,null,null,null,0,null,null,null,null,null,0]
[null,null,null,null,{"$f":"C118+D118","v":0},null,null,null,null,null,0]
[null,null,null,null,{"$f":"C119+D119","v":0},null,null,null,null,null,{"$f":"G119+H119-I119+J119","v":0}]

{"sheet":"A5","index":20,"n_rows":69,"n_cols":13,"rows_kept":69,"cut":false,"hidden":false,"merged":[[2,1,2,11],[12,1,12,3],[6,2,6,4],[7,2,7,4]]}
[]
[]
[null,"FORM A5: INVESTMENT PROPERTY"]
[]
[]
[]
[null,"NAME OF REINSURER",{"$f":"Specifications!C5","v":0}]
[null,"YEAR ENDED",{"$f":"Specifications!C13","v":"00:00:00"}]
[]
[null,null,null,null,"Opening balance","Fair value adjustments","Additions","Disposals","Transfer to assets held for sale","Foreign exchange movements","Capitalised expenditure","Closing balance"]
[null,null,null,null,{"$f":"Specifications!$C$14","v":0},{"$f":"Specifications!$C$14","v":0},{"$f":"Specifications!$C$14","v":0},{"$f":"Specifications!$C$14","v":0},{"$f":"Specifications!$C$14","v":0},{"$f":"Specifications!$C$14","v":0},{"$f":"Specifications!$C$14","v":0},{"$f":"Specifications!$C$14","v":0}]
[]
[null,"TOTAL INVESTMENT PROPERTY",null,null,{"$f":"SUM(E18:E69)","v":0},0,0,0,0,0,0,0]
[]
[]
[null,"Description of investment property","Type of property","Year Acquired","Opening balance","Fair value adjustments","Additions","Disposals","Transfer to assets held for sale","Foreign exchange movements","Capitalised expenditure","Closing balance"]
[null,null,null,null,{"$f":"Specifications!$C$14","v":0},{"$f":"Specifications!$C$14","v":0},{"$f":"Specifications!$C$14","v":0},{"$f":"Specifications!$C$14","v":0},{"$f":"Specifications!$C$14","v":0},{"$f":"Specifications!$C$14","v":0},{"$f":"Specifications!$C$14","v":0},{"$f":"Specifications!$C$14","v":0}]
[null,null,null,null,null,null,null,null,null,null,null,{"$f":"SUM(E18:G18, J18:K18) - I18 - H18","v":0}]
[null,null,null,null,null,null,null,null,null,null,null,{"$f":"SUM(E19:G19, J19:K19) - I19 - H19","v":0}]
[null,null,null,null,null,null,null,null,null,null,null,0]
[null,null,null,null,null,null,null,null,null,null,null,0]
[null,null,null,null,null,null,null,null,null,null,null,0]
[null,null,null,null,null,null,null,null,null,null,null,0]
[null,null,null,null,null,null,null,null,null,null,null,0]
[null,null,null,null,null,null,null,null,null,null,null,0]
[null,null,null,null,null,null,null,null,null,null,null,0]
[null,null,null,null,null,null,null,null,null,null,null,0]
[null,null,null,null,null,null,null,null,null,null,null,0]
[null,null,null,null,null,null,null,null,null,null,null,0]
[null,null,null,null,null,null,null,null,null,null,null,0]
[null,null,null,null,null,null,null,null,null,null,null,0]
[null,null,null,null,null,null,null,null,null,null,null,0]
[null,null,null,null,null,null,null,null,null,null,null,0]
[null,null,null,null,null,null,null,null,null,null,null,0]
[null,null,null,null,null,null,null,null,null,null,null,0]
[null,null,null,null,null,null,null,null,null,null,null,0]
[null,null,null,null,null,null,null,null,null,null,null,0]
[null,null,null,null,null,null,null,null,null,null,null,0]
[null,null,null,null,null,null,null,null,null,null,null,0]
[null,null,null,null,null,null,null,null,null,null,null,0]
[null,null,null,null,null,null,null,null,null,null,null,0]
[null,null,null,null,null,null,null,null,null,null,null,0]
[null,null,null,null,null,null,null,null,null,null,null,0]
[null,null,null,null,null,null,null,null,null,null,null,0]
[null,null,null,null,null,null,null,null,null,null,null,0]
[null,null,null,null,null,null,null,null,null,null,null,0]
[null,null,null,null,null,null,null,null,null,null,null,0]
[null,null,null,null,null,null,null,null,null,null,null,0]
[null,null,null,null,null,null,null,null,null,null,null,0]
[null,null,null,null,null,null,null,null,null,null,null,0]
[null,null,null,null,null,null,null,null,null,null,null,0]
[null,null,null,null,null,null,null,null,null,null,null,0]
[null,null,null,null,null,null,null,null,null,null,null,0]
[null,null,null,null,null,null,null,null,null,null,null,0]
[null,null,null,null,null,null,null,null,null,null,null,0]
[null,null,null,null,null,null,null,null,null,null,null,0]
[null,null,null,null,null,null,null,null,null,null,null,0]
[null,null,null,null,null,null,null,null,null,null,null,0]
[null,null,null,null,null,null,null,null,null,null,null,0]
[null,null,null,null,null,null,null,null,null,null,null,0]
[null,null,null,null,null,null,null,null,null,null,null,0]
[null,null,null,null,null,null,null,null,null,null,null,{"$f":"SUM(E62:G62, J62:K62) - I62 - H62","v":0}]
[null,null,null,null,null,null,null,null,null,null,null,0]
[null,null,null,null,null,null,null,null,null,null,null,0]
[null,null,null,null,null,null,null,null,null,null,null,0]
[null,null,null,null,null,null,null,null,null,null,null,0]
[null,null,null,null,null,null,null,null,null,null,null,{"$f":"SUM(E67:G67, J67:K67) - I67 - H67","v":0}]
[null,null,null,null,null,null,null,null,null,null,null,{"$f":"SUM(E68:G68, J68:K68) - I68 - H68","v":0}]
[null,null,null,null,null,null,null,null,null,null,null,null,"`"]

{"sheet":"A6","index":21,"n_rows":21100,"n_cols":17,"rows_kept":4500,"cut":true,"hidden":false,"merged":[[2,1,2,16],[30,1,30,2],[31,1,31,2],[10576,8,10579,8],[10576,1,10579,1],[10576,9,10579,9],[10576,2,10579,2],[10576,4,10579,4],[10576,3,10579,3],[10577,6,10579,6],[36,1,36,2],[6,2,6,3],[13,1,13,2],[14,1,14,2],[15,1,15,2],[16,1,16,2],[17597,8,17597,10],[11,1,12,2],[14088,6,14088,8],[42,9,42,11],[18,1,18,2],[19,1,19,2],[20,1,20,2],[24,1,24,2],[25,1,25,2],[21,1,21,2],[22,1,22,2],[23,1,23,2],[28,1,28,2],[29,1,29,2],[10576,10,10579,10],[27,1,27,2],[32,1,32,2],[33,1,33,2],[26,1,26,2],[10576,11,10579,11],[7,2,7,3],[7065,11,7065,13],[34,1,34,2],[17,1,17,2],[3553,13,3553,15]],"bounds":{"rows_first":2000,"rows_last":500,"rows_between":2000,"halvings":0}}
[]
[]
[null,"FORM A6: FINANCIAL INVESTMENTS"]
[]
[]
[]
[null,"NAME OF REINSURER",{"$f":"Specifications!C5","v":0}]
[null,"YEAR ENDED",{"$f":"Specifications!C13","v":"00:00:00"}]
[]
[]
[]
[null,"Type",null,"Total Asset Value","Fair value through Profit and Loss","Fair value through OCI","Amortised cost","Accrued Interest"]
[null,null,null,{"$f":"Specifications!$C$14","v":0},{"$f":"Specifications!$C$14","v":0},{"$f":"Specifications!$C$14","v":0},{"$f":"Specifications!$C$14","v":0},{"$f":"Specifications!$C$14","v":0}]
[null,"Short term investments"]
[null,"    Treasury Bills",null,{"$f":"SUMIFS($M$46:M3545,$C$46:C3545,TRIM($B$15))","v":0},{"$f":"SUMIFS($G$46:G3545,$C$46:C3545,TRIM($B$15))","v":0},{"$f":"SUMIFS($H$46:H3545,$C$46:C3545,TRIM($B$15))","v":0},{"$f":"SUMIFS($I$46:I3545,$C$46:C3545,TRIM($B$15))","v":0}]
[null,"    Cash at bank",null,{"$f":"SUMIFS($M$46:M3545,$C$46:C3545,TRIM($B$16))","v":0},{"$f":"SUMIFS($G$46:G3545,$C$46:C3545,TRIM($B$16))","v":0},{"$f":"SUMIFS($H$46:H3545,$C$46:C3545,TRIM($B$16))","v":0},{"$f":"SUMIFS($I$46:I3545,$C$46:C3545,TRIM($B$16))","v":0}]
[null,"    Other short term investments",null,{"$f":"SUMIFS($M$46:M3545,$C$46:C3545,TRIM($B$17))","v":0},{"$f":"SUMIFS($G$46:G3545,$C$46:C3545,TRIM($B$17))","v":0},{"$f":"SUMIFS($H$46:H3545,$C$46:C3545,TRIM($B$17))","v":0},{"$f":"SUMIFS($I$46:I3545,$C$46:C3545,TRIM($B$17))","v":0}]
[null,"Term Deposits, Bonds and Debentures"]
[null,"Term deposits"]
[null,"   Government",null,{"$f":"SUMIFS($Q$3557:Q7056, $C$3557:C7056, TRIM($B$19), $D$3557:D7056, TRIM($B$20))","v":0},{"$f":"SUMIFS($J$3557:J7057, $C$3557:C7057, TRIM($B$19), $D$3557:D7057, TRIM($B$20))","v":0},{"$f":"SUMIFS($K$3557:K7057, $C$3557:C7057, TRIM($B$19), $D$3557:D7057, TRIM($B$20))","v":0},{"$f":"SUMIFS($L$3557:L7057, $C$3557:C7057, TRIM($B$19), $D$3557:D7057, TRIM($B$20))","v":0},{"$f":"SUMIFS($M$3557:$M$7057, $C$3557:$C$7057, TRIM($B$19), $D$3557:$D$7057, TRIM($B$20))","v":0}]
[null,"   Corporate",null,{"$f":"SUMIFS($Q$3557:Q7057, $C$3557:C7057, $B$19, $D$3557:D7057, TRIM($B$21))","v":0},{"$f":"SUMIFS($J$3557:J7057, $C$3557:C7057, TRIM($B$19), $D$3557:D7057, TRIM($B$21))","v":0},{"$f":"SUMIFS($K$3557:K7057, $C$3557:C7057, TRIM($B$19), $D$3557:D7057, TRIM($B$21))","v":0},{"$f":"SUMIFS($L$3557:L7057, $C$3557:C7057, TRIM($B$19), $D$3557:D7057, TRIM($B$21))","v":0},{"$f":"SUMIFS($M$3557:$M$7057, $C$3557:$C$7057, TRIM($B$19), $D$3557:$D$7057, TRIM($B$21))","v":0}]
[null,"Bonds"]
[null,"   Government",null,{"$f":"SUMIFS($Q$3557:Q7057, $C$3557:C7057, $B$22, $D$3557:D7057, TRIM($B$23))","v":0},{"$f":"SUMIFS($J$3557:J7057, $C$3557:C7057, $B$22, $D$3557:D7057, TRIM($B$23))","v":0},{"$f":"SUMIFS($K$3557:K7057, $C$3557:C7057, $B$22, $D$3557:D7057, TRIM($B$23))","v":0},{"$f":"SUMIFS($L$3557:L7057, $C$3557:C7057, $B$22, $D$3557:D7057, TRIM($B$23))","v":0},{"$f":"SUMIFS($M$3557:$M$7057, $C$3557:$C$7057, TRIM($B$22), $D$3557:$D$7057, TRIM($B$23))","v":0}]
[null,"   Corporate",null,{"$f":"SUMIFS($Q$3557:Q7057, $C$3557:C7057, $B$22, $D$3557:D7057, TRIM($B$24))","v":0},{"$f":"SUMIFS($J$3557:J7057, $C$3557:C7057, $B$22, $D$3557:D7057, TRIM($B$24))","v":0},{"$f":"SUMIFS($K$3557:K7057, $C$3557:C7057, $B$22, $D$3557:D7057, TRIM($B$24))","v":0},{"$f":"SUMIFS($L$3557:L7057, $C$3557:C7057, $B$22, $D$3557:D7057, TRIM($B$24))","v":0},{"$f":"SUMIFS($M$3557:$M$7057, $C$3557:$C$7057, TRIM($B$22), $D$3557:$D$7057, TRIM($B$24))","v":0}]
[null,"Debentures"]
[null,"   Government",null,{"$f":"SUMIFS($Q$3557:Q7057, $C$3557:C7057, $B$25, $D$3557:D7057, TRIM($B$26))","v":0},{"$f":"SUMIFS($J$3557:J7057, $C$3557:C7057, $B$25, $D$3557:D7057, TRIM($B$26))","v":0},{"$f":"SUMIFS($K$3557:K7057, $C$3557:C7057, $B$25, $D$3557:D7057, TRIM($B$26))","v":0},{"$f":"SUMIFS($L$3557:L7057, $C$3557:C7057, $B$25, $D$3557:D7057, TRIM($B$26))","v":0},{"$f":"SUMIFS($M$3557:$M$7057, $C$3557:$C$7057, TRIM($B$25), $D$3557:$D$7057, TRIM($B$26))","v":0}]
[null,"   Corporate",null,{"$f":"SUMIFS($Q$3557:Q7057, $C$3557:C7057, $B$25, $D$3557:D7057, TRIM($B$27))","v":0},{"$f":"SUMIFS($J$3557:J7057, $C$3557:C7057, $B$25, $D$3557:D7057, TRIM($B$27))","v":0},{"$f":"SUMIFS($K$3557:K7057, $C$3557:C7057, $B$25, $D$3557:D7057, TRIM($B$27))","v":0},{"$f":"SUMIFS($L$3557:L7057, $C$3557:C7057, $B$25, $D$3557:D7057, TRIM($B$27))","v":0},{"$f":"SUMIFS($M$3557:$M$7057, $C$3557:$C$7057, TRIM($B$25), $D$3557:$D$7057, TRIM($B$27))","v":0}]
[null,"Structured notes",null,{"$f":"SUMIFS($O$7069:O10569,$C$7069:C10569, $B$28)","v":0},{"$f":"SUMIFS($I$7069:I10569,$C$7069:C10569, $B$28)","v":0},{"$f":"SUMIFS($J$7069:J10569,$C$7069:C10569, $B$28)","v":0},{"$f":"SUMIFS($K$7069:K10569,$C$7069:C10569, $B$28)","v":0}]
[null,"Collateralised securities",null,{"$f":"SUMIFS($O$7069:O10569,$C$7069:C10569, $B$29)","v":0},{"$f":"SUMIFS($I$7069:I10569,$C$7069:C10569, $B$29)","v":0},{"$f":"SUMIFS($J$7069:J10569,$C$7069:C10569, $B$29)","v":0},{"$f":"SUMIFS($K$7069:K10569,$C$7069:C10569, $B$29)","v":0}]
[null,"Equity securities"]
[null,"   Common shares",null,{"$f":"SUMIFS($L$10582:L14082,$C$10582:C14082, TRIM($B$31))","v":0},{"$f":"SUMIFS($I$10582:I14082,$C$10582:C14082, TRIM($B$31))","v":0},{"$f":"SUMIFS($J$10582:J14082,$C$10582:C14082, TRIM($B$31))","v":0},null,{"$f":"SUMIFS($K$10582:$K$14082,$C$10582:$C$14082, TRIM($B$31))","v":0}]
[null,"   Preference shares",null,{"$f":"SUMIFS($L$10582:$L14082,$C$10582:C14082, TRIM($B$32))","v":0},{"$f":"SUMIFS($I$10582:I14082,$C$10582:C14082, TRIM($B$32))","v":0},{"$f":"SUMIFS($J$10582:J14082,$C$10582:C14082, TRIM($B$32))","v":0},null,{"$f":"SUMIFS($K$10582:$K$14082,$C$10582:$C$14082, TRIM($B$32))","v":0}]
[null,"Loans and mortgages",null,{"$f":"SUM($J$14092:J17592)","v":0},null,null,{"$f":"SUM($J$14092:J17592)","v":0}]
[null,"Collective investment vehicles",null,{"$f":"SUMIFS($L$17601:L21101,$C$17601:C21101,$B$34)","v":0},{"$f":"SUMIFS($F$17601:F21101,$C$17601:C21101,$B$34)","v":0},{"$f":"SUMIFS($G$17601:G21101,$C$17601:C21101,$B$34)","v":0},{"$f":"SUMIFS($H$17601:H21101,$C$17601:C21101,$B$34)","v":0}]
[null,"Commodities",null,{"$f":"SUMIFS($L$17601:L21101,$C$17601:C21101,$B$35)","v":0},{"$f":"SUMIFS($F$17601:F21101,$C$17601:C21101,$B$35)","v":0},{"$f":"SUMIFS($G$17601:G21101,$C$17601:C21101,$B$35)","v":0},{"$f":"SUMIFS($H$17601:H21101,$C$17601:C21101,$B$35)","v":0}]
[]
[null,"TOTAL FINANCIAL INVESTMENTS",null,{"$f":"SUM(D14:D35)","v":0},{"$f":"SUM(E14:E35)","v":0},{"$f":"SUM(F14:F35)","v":0},{"$f":"SUM(G14:G35)","v":0},{"$f":"SUM(H14:H35)","v":0}]
[]
[]
[]
["SHORT TERM INVESTMENTS"]
[]
[null,null,null,null,null,null,null,null,null,"Allowances Current Period End (Including ECL)"]
[null,"Description","Type","Date of \nIssue","Date of Maturity","Issued Currency","Closing balance / Fair Value Through Profit or Loss","Closing balance / Fair Value Through Other Comprehensive Income","Amortized  Cost","Stage I","Stage II","Stage III","Total\n"]
[null,null,null,null,null,null,{"$f":"Specifications!$C$14","v":0},{"$f":"Specifications!$C$14","v":0},{"$f":"Specifications!$C$14","v":0},{"$f":"Specifications!$C$14","v":0},{"$f":"Specifications!$C$14","v":0},{"$f":"Specifications!$C$14","v":0},{"$f":"Specifications!$C$14","v":0}]
[null,null,null,null,null,null,null,null,null,null,null,null,{"$f":"SUM(G46:I46)","v":0}]
[null,null,null,null,null,null,null,null,null,null,null,null,0]
[null,null,null,null,null,null,null,null,null,null,null,null,0]
[null,null,null,null,null,null,null,null,null,null,null,null,{"$f":"SUM(G49:I49)","v":0}]
[null,null,null,null,null,null,null,null,null,null,null,null,0]
[null,null,null,null,null,null,null,null,null,null,null,null,0]
[null,null,null,null,null,null,null,null,null,null,null,null,0]
[null,null,null,null,null,null,null,null,null,null,null,null,0]
[null,null,null,null,null,null,null,null,null,null,null,null,0]
[null,null,null,null,null,null,null,null,null,null,null,null,0]
[null,null,null,null,null,null,null,null,null,null,null,null,0]
[null,null,null,null,null,null,null,null,null,null,null,null,0]
[null,null,null,null,null,null,null,null,null,null,null,null,0]
[null,null,null,null,null,null,null,null,null,null,null,null,0]
[null,null,null,null,null,null,null,null,null,null,null,null,0]
[null,null,null,null,null,null,null,null,null,null,null,null,0]
[null,null,null,null,null,null,null,null,null,null,null,null,0]
[null,null,null,null,null,null,null,null,null,null,null,null,0]
[null,null,null,null,null,null,null,null,null,null,null,null,0]
[null,null,null,null,null,null,null,null,null,null,null,null,0]
[null,null,null,null,null,null,null,null,null,null,null,null,0]
[null,null,null,null,null,null,null,null,null,null,null,null,0]
[null,null,null,null,null,null,null,null,null,null,null,null,0]
[null,null,null,null,null,null,null,null,null,null,null,null,0]
[null,null,null,null,null,null,null,null,null,null,null,null,0]
[null,null,null,null,null,null,null,null,null,null,null,null,0]
[null,null,null,null,null,null,null,null,null,null,null,null,0]
[null,null,null,null,null,null,null,null,null,null,null,null,0]
[null,null,null,null,null,null,null,null,null,null,null,null,0]
[null,null,null,null,null,null,null,null,null,null,null,null,0]
[null,null,null,null,null,null,null,null,null,null,null,null,0]
[null,null,null,null,null,null,null,null,null,null,null,null,0]
[null,null,null,null,null,null,null,null,null,null,null,null,0]
[null,null,null,null,null,null,null,null,null,null,null,null,0]
[null,null,null,null,null,null,null,null,null,null,null,null,0]
[null,null,null,null,null,null,null,null,null,null,null,null,{"$f":"SUM(G81:I81)","v":0}]
[null,null,null,null,null,null,null,null,null,null,null,null,0]
[null,null,null,null,null,null,null,null,null,null,null,null,0]
[null,null,null,null,null,null,null,null,null,null,null,null,0]
[null,null,null,null,null,null,null,null,null,null,null,null,0]
[null,null,null,null,null,null,null,null,null,null,null,null,0]
[null,null,null,null,null,null,null,null,null,null,null,null,0]
[null,null,null,null,null,null,null,null,null,null,null,null,0]
[null,null,null,null,null,null,null,null,null,null,null,null,0]
[null,null,null,null,null,null,null,null,null,null,null,null,0]
[null,null,null,null,null,null,null,null,null,null,null,null,0]
[null,null,null,null,null,null,null,null,null,null,null,null,0]
[null,null,null,null,null,null,null,null,null,null,null,null,0]
[null,null,null,null,null,null,null,null,null,null,null,null,0]
[null,null,null,null,null,null,null,null,null,null,null,null,0]
[null,null,null,null,null,null,null,null,null,null,null,null,0]
[null,null,null,null,null,null,null,null,null,null,null,null,0]
[null,null,null,null,null,null,null,null,null,null,null,null,0]
[null,null,null,null,null,null,null,null,null,null,null,null,0]
[null,null,null,null,null,null,null,null,null,null,null,null,0]
[null,null,null,null,null,null,null,null,null,null,null,null,0]
[null,null,null,null,null,null,null,null,null,null,null,null,0]
[null,null,null,null,null,null,null,null,null,null,null,null,0]
[null,null,null,null,null,null,null,null,null,null,null,null,0]
[null,null,null,null,null,null,null,null,null,null,null,null,0]
[null,null,null,null,null,null,null,null,null,null,null,null,0]
[null,null,null,null,null,null,null,null,null,null,null,null,0]
[null,null,null,null,null,null,null,null,null,null,null,null,0]
[null,null,null,null,null,null,null,null,null,null,null,null,0]
[null,null,null,null,null,null,null,null,null,null,null,null,0]
[null,null,null,null,null,null,null,null,null,null,null,null,0]
[null,null,null,null,null,null,null,null,null,null,null,null,0]
[null,null,null,null,null,null,null,null,null,null,null,null,0]
[null,null,null,null,null,null,null,null,null,null,null,null,0]
[null,null,null,null,null,null,null,null,null,null,null,null,0]
[null,null,null,null,null,null,null,null,null,null,null,null,0]
[null,null,null,null,null,null,null,null,null,null,null,null,0]
[null,null,null,null,null,null,null,null,null,null,null,null,0]
[null,null,null,null,null,null,null,null,null,null,null,null,0]
[null,null,null,null,null,null,null,null,null,null,null,null,0]
[null,null,null,null,null,null,null,null,null,null,null,null,0]
[null,null,null,null,null,null,null,null,null,null,null,null,0]
[null,null,null,null,null,null,null,null,null,null,null,null,0]
[null,null,null,null,null,null,null,null,null,null,null,null,0]
[null,null,null,null,null,null,null,null,null,null,null,null,0]
[null,null,null,null,null,null,null,null,null,null,null,null,0]
[null,null,null,null,null,null,null,null,null,null,null,null,0]
[null,null,null,null,null,null,null,null,null,null,null,null,0]
[null,null,null,null,null,null,null,null,null,null,null,null,0]
[null,null,null,null,null,null,null,null,null,null,null,null,0]
[null,null,null,null,null,null,null,null,null,null,null,null,0]
[null,null,null,null,null,null,null,null,null,null,null,null,0]
[null,null,null,null,null,null,null,null,null,null,null,null,0]
[null,null,null,null,null,null,null,null,null,null,null,null,0]
[null,null,null,null,null,null,null,null,null,null,null,null,0]
[null,null,null,null,null,null,null,null,null,null,null,null,0]
[null,null,null,null,null,null,null,null,null,null,null,null,0]
[null,null,null,null,null,null,null,null,null,null,null,null,0]
[null,null,null,null,null,null,null,null,null,null,null,null,0]
[null,null,null,null,null,null,null,null,null,null,null,null,0]
[null,null,null,null,null,null,null,null,null,null,null,null,0]
[null,null,null,null,null,null,null,null,null,null,null,null,0]
[null,null,null,null,null,null,null,null,null,null,null,null,0]
[null,null,null,null,null,null,null,null,null,null,null,null,0]
[null,null,null,null,null,null,null,null,null,null,null,null,0]
[null,null,null,null,null,null,null,null,null,null,null,null,0]
[null,null,null,null,null,null,null,null,null,null,null,null,0]
[null,null,null,null,null,null,null,null,null,null,null,null,0]
[null,null,null,null,null,null,null,null,null,null,null,null,0]
[null,null,null,null,null,null,null,null,null,null,null,null,0]
[null,null,null,null,null,null,null,null,null,null,null,null,0]
[null,null,null,null,null,null,null,null,null,null,null,null,0]
[null,null,null,null,null,null,null,null,null,null,null,null,0]
[null,null,null,null,null,null,null,null,null,null,null,null,0]
[null,null,null,null,null,null,null,null,null,null,null,null,0]
[null,null,null,null,null,null,null,null,null,null,null,null,0]
[null,null,null,null,null,null,null,null,null,null,null,null,0]
[null,null,null,null,null,null,null,null,null,null,null,null,0]
[null,null,null,null,null,null,null,null,null,null,null,null,0]
[null,null,null,null,null,null,null,null,null,null,null,null,{"$f":"SUM(G160:I160)","v":0}]
[null,null,null,null,null,null,null,null,null,null,null,null,0]
[null,null,null,null,null,null,null,null,null,null,null,null,0]
[null,null,null,null,null,null,null,null,null,null,null,null,0]
[null,null,null,null,null,null,null,null,null,null,null,null,0]
[null,null,null,null,null,null,null,null,null,null,null,null,0]
[null,null,null,null,null,null,null,null,null,null,null,null,0]
[null,null,null,null,null,null,null,null,null,null,null,null,0]
[null,null,null,null,null,null,null,null,null,null,null,null,0]
[null,null,null,null,null,null,null,null,null,null,null,null,0]
[null,null,null,null,null,null,null,null,null,null,null,null,0]
[null,null,null,null,null,null,null,null,null,null,null,null,0]
[null,null,null,null,null,null,null,null,null,null,null,null,0]
[null,null,null,null,null,null,null,null,null,null,null,null,0]
[null,null,null,null,null,null,null,null,null,null,null,null,0]
[null,null,null,null,null,null,null,null,null,null,null,null,0]
[null,null,null,null,null,null,null,null,null,null,null,null,0]
[null,null,null,null,null,null,null,null,null,null,null,null,0]
[null,null,null,null,null,null,null,null,null,null,null,null,0]
[null,null,null,null,null,null,null,null,null,null,null,null,0]
[null,null,null,null,null,null,null,null,null,null,null,null,0]
[null,null,null,null,null,null,null,null,null,null,null,null,0]
[null,null,null,null,null,null,null,null,null,null,null,null,0]
[null,null,null,null,null,null,null,null,null,null,null,null,0]
[null,null,null,null,null,null,null,null,null,null,null,null,0]
[null,null,null,null,null,null,null,null,null,null,null,null,0]
[null,null,null,null,null,null,null,null,null,null,null,null,0]
[null,null,null,null,null,null,null,null,null,null,null,null,0]
[null,null,null,null,null,null,null,null,null,null,null,null,0]
[null,null,null,null,null,null,null,null,null,null,null,null,0]
[null,null,null,null,null,null,null,null,null,null,null,null,0]
[null,null,null,null,null,null,null,null,null,null,null,null,0]
[null,null,null,null,null,null,null,null,null,null,null,null,0]
[null,null,null,null,null,null,null,null,null,null,null,null,0]
[null,null,null,null,null,null,null,null,null,null,null,null,0]
[null,null,null,null,null,null,null,null,null,null,null,null,0]
[null,null,null,null,null,null,null,null,null,null,null,null,0]
[null,null,null,null,null,null,null,null,null,null,null,null,0]
[null,null,null,null,null,null,null,null,null,null,null,null,0]
[null,null,null,null,null,null,null,null,null,null,null,null,0]
[null,null,null,null,null,null,null,null,null,null,null,null,0]
[null,null,null,null,null,null,null,null,null,null,null,null,0]
[null,null,null,null,null,null,null,null,null,null,null,null,0]
[null,null,null,null,null,null,null,null,null,null,null,null,0]
[null,null,null,null,null,null,null,null,null,null,null,null,0]
[null,null,null,null,null,null,null,null,null,null,null,null,0]
[null,null,null,null,null,null,null,null,null,null,null,null,0]
[null,null,null,null,null,null,null,null,null,null,null,null,0]
[null,null,null,null,null,null,null,null,null,null,null,null,0]
[null,null,null,null,null,null,null,null,null,null,null,null,0]
[null,null,null,null,null,null,null,null,null,null,null,null,0]
[null,null,null,null,null,null,null,null,null,null,null,null,0]
[null,null,null,null,null,null,null,null,null,null,null,null,0]
[null,null,null,null,null,null,null,null,null,null,null,null,0]
[null,null,null,null,null,null,null,null,null,null,null,null,0]
[null,null,null,null,null,null,null,null,null,null,null,null,0]
[null,null,null,null,null,null,null,null,null,null,null,null,0]
[null,null,null,null,null,null,null,null,null,null,null,null,0]
[null,null,null,null,null,null,null,null,null,null,null,null,0]
[null,null,null,null,null,null,null,null,null,null,null,null,0]
[null,null,null,null,null,null,null,null,null,null,null,null,0]
[null,null,null,null,null,null,null,null,null,null,null,null,0]
[null,null,null,null,null,null,null,null,null,null,null,null,0]
[null,null,null,null,null,null,null,null,null,null,null,null,0]
[null,null,null,null,null,null,null,null,null,null,null,null,0]
[null,null,null,null,null,null,null,null,null,null,null,null,0]
[null,null,null,null,null,null,null,null,null,null,null,null,0]
[null,null,null,null,null,null,null,null,null,null,null,null,0]
[null,null,null,null,null,null,null,null,null,null,null,null,0]
[null,null,null,null,null,null,null,null,null,null,null,null,0]
[null,null,null,null,null,null,null,null,null,null,null,null,0]
[null,null,null,null,null,null,null,null,null,null,null,null,0]
[null,null,null,null,null,null,null,null,null,null,null,null,0]
[null,null,null,null,null,null,null,null,null,null,null,null,0]
[null,null,null,null,null,null,null,null,null,null,null,null,0]
[null,null,null,null,null,null,null,null,null,null,null,null,0]
[null,null,null,null,null,null,null,null,null,null,null,null,0]
[null,null,null,null,null,null,null,null,null,null,null,null,0]
[null,null,null,null,null,null,null,null,null,null,null,null,0]
[null,null,null,null,null,null,null,null,null,null,null,null,0]
[null,null,null,null,null,null,null,null,null,null,null,null,0]
[null,null,null,null,null,null,null,null,null,null,null,null,0]
[null,null,null,null,null,null,null,null,null,null,null,null,0]
[null,null,null,null,null,null,null,null,null,null,null,null,0]
[null,null,null,null,null,null,null,null,null,null,null,null,0]
[null,null,null,null,null,null,null,null,null,null,null,null,0]
[null,null,null,null,null,null,null,null,null,null,null,null,0]
[null,null,null,null,null,null,null,null,null,null,null,null,0]
[null,null,null,null,null,null,null,null,null,null,null,null,0]
[null,null,null,null,null,null,null,null,null,null,null,null,0]
[null,null,null,null,null,null,null,null,null,null,null,null,0]
[null,null,null,null,null,null,null,null,null,null,null,null,0]
[null,null,null,null,null,null,null,null,null,null,null,null,0]
[null,null,null,null,null,null,null,null,null,null,null,null,0]
[null,null,null,null,null,null,null,null,null,null,null,null,0]
[null,null,null,null,null,null,null,null,null,null,null,null,0]
[null,null,null,null,null,null,null,null,null,null,null,null,0]
[null,null,null,null,null,null,null,null,null,null,null,null,0]
[null,null,null,null,null,null,null,null,null,null,null,null,0]
[null,null,null,null,null,null,null,null,null,null,null,null,0]
[null,null,null,null,null,null,null,null,null,null,null,null,0]
[null,null,null,null,null,null,null,null,null,null,null,null,0]
[null,null,null,null,null,null,null,null,null,null,null,null,0]
[null,null,null,null,null,null,null,null,null,null,null,null,0]
[null,null,null,null,null,null,null,null,null,null,null,null,0]
[null,null,null,null,null,null,null,null,null,null,null,null,0]
[null,null,null,null,null,null,null,null,null,null,null,null,0]
[null,null,null,null,null,null,null,null,null,null,null,null,0]
[null,null,null,null,null,null,null,null,null,null,null,null,0]
[null,null,null,null,null,null,null,null,null,null,null,null,0]
[null,null,null,null,null,null,null,null,null,null,null,null,0]
[null,null,null,null,null,null,null,null,null,null,null,null,0]
[null,null,null,null,null,null,null,null,null,null,null,null,0]
[null,null,null,null,null,null,null,null,null,null,null,null,0]
[null,null,null,null,null,null,null,null,null,null,null,null,0]
[null,null,null,null,null,null,null,null,null,null,null,null,0]
[null,null,null,null,null,null,null,null,null,null,null,null,0]
[null,null,null,null,null,null,null,null,null,null,null,null,0]
[null,null,null,null,null,null,null,null,null,null,null,null,0]
[null,null,null,null,null,null,null,null,null,null,null,null,0]
[null,null,null,null,null,null,null,null,null,null,null,null,0]
[null,null,null,null,null,null,null,null,null,null,null,null,0]
[null,null,null,null,null,null,null,null,null,null,null,null,0]
[null,null,null,null,null,null,null,null,null,null,null,null,0]
[null,null,null,null,null,null,null,null,null,null,null,null,0]
[null,null,null,null,null,null,null,null,null,null,null,null,0]
[null,null,null,null,null,null,null,null,null,null,null,null,0]
[null,null,null,null,null,null,null,null,null,null,null,null,0]
[null,null,null,null,null,null,null,null,null,null,null,null,0]
[null,null,null,null,null,null,null,null,null,null,null,null,0]
[null,null,null,null,null,null,null,null,null,null,null,null,0]
[null,null,null,null,null,null,null,null,null,null,null,null,0]
[null,null,null,null,null,null,null,null,null,null,null,null,0]
[null,null,null,null,null,null,null,null,null,null,null,null,0]
[null,null,null,null,null,null,null,null,null,null,null,null,0]
[null,null,null,null,null,null,null,null,null,null,null,null,0]
[null,null,null,null,null,null,null,null,null,null,null,null,0]
[null,null,null,null,null,null,null,null,null,null,null,null,0]
[null,null,null,null,null,null,null,null,null,null,null,null,0]
[null,null,null,null,null,null,null,null,null,null,null,null,0]
[null,null,null,null,null,null,null,null,null,null,null,null,0]
[null,null,null,null,null,null,null,null,null,null,null,null,0]
[null,null,null,null,null,null,null,null,null,null,null,null,0]
[null,null,null,null,null,null,null,null,null,null,null,null,0]
[null,null,null,null,null,null,null,null,null,null,null,null,0]
[null,null,null,null,null,null,null,null,null,null,null,null,0]
[null,null,null,null,null,null,null,null,null,null,null,null,0]
[null,null,null,null,null,null,null,null,null,null,null,null,0]
[null,null,null,null,null,null,null,null,null,null,null,null,0]
[null,null,null,null,null,null,null,null,null,null,null,null,0]
[null,null,null,null,null,null,null,null,null,null,null,null,0]
[null,null,null,null,null,null,null,null,null,null,null,null,0]
[null,null,null,null,null,null,null,null,null,null,null,null,0]
[null,null,null,null,null,null,null,null,null,null,null,null,0]
[null,null,null,null,null,null,null,null,null,null,null,null,0]
[null,null,null,null,null,null,null,null,null,null,null,null,0]
[null,null,null,null,null,null,null,null,null,null,null,null,0]
[null,null,null,null,null,null,null,null,null,null,null,null,0]
[null,null,null,null,null,null,null,null,null,null,null,null,0]
[null,null,null,null,null,null,null,null,null,null,null,null,0]
[null,null,null,null,null,null,null,null,null,null,null,null,0]
[null,null,null,null,null,null,null,null,null,null,null,null,0]
[null,null,null,null,null,null,null,null,null,null,null,null,0]
[null,null,null,null,null,null,null,null,null,null,null,null,0]
[null,null,null,null,null,null,null,null,null,null,null,null,0]
[null,null,null,null,null,null,null,null,null,null,null,null,0]
[null,null,null,null,null,null,null,null,null,null,null,null,0]
[null,null,null,null,null,null,null,null,null,null,null,null,0]
[null,null,null,null,null,null,null,null,null,null,null,null,0]
[null,null,null,null,null,null,null,null,null,null,null,null,0]
[null,null,null,null,null,null,null,null,null,null,null,null,0]
[null,null,null,null,null,null,null,null,null,null,null,null,0]
[null,null,null,null,null,null,null,null,null,null,null,null,0]
[null,null,null,null,null,null,null,null,null,null,null,null,0]
[null,null,null,null,null,null,null,null,null,null,null,null,0]
[null,null,null,null,null,null,null,null,null,null,null,null,0]
[null,null,null,null,null,null,null,null,null,null,null,null,0]
[null,null,null,null,null,null,null,null,null,null,null,null,0]
[null,null,null,null,null,null,null,null,null,null,null,null,0]
[null,null,null,null,null,null,null,null,null,null,null,null,0]
[null,null,null,null,null,null,null,null,null,null,null,null,0]
[null,null,null,null,null,null,null,null,null,null,null,null,0]
[null,null,null,null,null,null,null,null,null,null,null,null,0]
[null,null,null,null,null,null,null,null,null,null,null,null,0]
[null,null,null,null,null,null,null,null,null,null,null,null,0]
[null,null,null,null,null,null,null,null,null,null,null,null,0]
[null,null,null,null,null,null,null,null,null,null,null,null,0]
[null,null,null,null,null,null,null,null,null,null,null,null,0]
[null,null,null,null,null,null,null,null,null,null,null,null,0]
[null,null,null,null,null,null,null,null,null,null,null,null,0]
[null,null,null,null,null,null,null,null,null,null,null,null,0]
[null,null,null,null,null,null,null,null,null,null,null,null,0]
[null,null,null,null,null,null,null,null,null,null,null,null,0]
[null,null,null,null,null,null,null,null,null,null,null,null,0]
[null,null,null,null,null,null,null,null,null,null,null,null,0]
[null,null,null,null,null,null,null,null,null,null,null,null,0]
[null,null,null,null,null,null,null,null,null,null,null,null,0]
[null,null,null,null,null,null,null,null,null,null,null,null,0]
[null,null,null,null,null,null,null,null,null,null,null,null,0]
[null,null,null,null,null,null,null,null,null,null,null,null,0]
[null,null,null,null,null,null,null,null,null,null,null,null,0]
[null,null,null,null,null,null,null,null,null,null,null,null,0]
[null,null,null,null,null,null,null,null,null,null,null,null,0]
[null,null,null,null,null,null,null,null,null,null,null,null,0]
[null,null,null,null,null,null,null,null,null,null,null,null,0]
[null,null,null,null,null,null,null,null,null,null,null,null,0]
[null,null,null,null,null,null,null,null,null,null,null,null,0]
[null,null,null,null,null,null,null,null,null,null,null,null,0]
[null,null,null,null,null,null,null,null,null,null,null,null,0]
[null,null,null,null,null,null,null,null,null,null,null,null,0]
[null,null,null,null,null,null,null,null,null,null,null,null,0]
[null,null,null,null,null,null,null,null,null,null,null,null,0]
[null,null,null,null,null,null,null,null,null,null,null,null,0]
[null,null,null,null,null,null,null,null,null,null,null,null,0]
[null,null,null,null,null,null,null,null,null,null,null,null,0]
[null,null,null,null,null,null,null,null,null,null,null,null,0]
[null,null,null,null,null,null,null,null,null,null,null,null,0]
[null,null,null,null,null,null,null,null,null,null,null,null,0]
[null,null,null,null,null,null,null,null,null,null,null,null,0]
[null,null,null,null,null,null,null,null,null,null,null,null,0]
[null,null,null,null,null,null,null,null,null,null,null,null,0]
[null,null,null,null,null,null,null,null,null,null,null,null,0]
[null,null,null,null,null,null,null,null,null,null,null,null,0]
[null,null,null,null,null,null,null,null,null,null,null,null,0]
[null,null,null,null,null,null,null,null,null,null,null,null,0]
[null,null,null,null,null,null,null,null,null,null,null,null,0]
[null,null,null,null,null,null,null,null,null,null,null,null,0]
[null,null,null,null,null,null,null,null,null,null,null,null,0]
[null,null,null,null,null,null,null,null,null,null,null,null,0]
[null,null,null,null,null,null,null,null,null,null,null,null,0]
[null,null,null,null,null,null,null,null,null,null,null,null,0]
[null,null,null,null,null,null,null,null,null,null,null,null,0]
[null,null,null,null,null,null,null,null,null,null,null,null,0]
[null,null,null,null,null,null,null,null,null,null,null,null,0]
[null,null,null,null,null,null,null,null,null,null,null,null,0]
[null,null,null,null,null,null,null,null,null,null,null,null,0]
[null,null,null,null,null,null,null,null,null,null,null,null,0]
[null,null,null,null,null,null,null,null,null,null,null,null,0]
[null,null,null,null,null,null,null,null,null,null,null,null,0]
[null,null,null,null,null,null,null,null,null,null,null,null,0]
[null,null,null,null,null,null,null,null,null,null,null,null,0]
[null,null,null,null,null,null,null,null,null,null,null,null,0]
[null,null,null,null,null,null,null,null,null,null,null,null,0]
[null,null,null,null,null,null,null,null,null,null,null,null,0]
[null,null,null,null,null,null,null,null,null,null,null,null,0]
[null,null,null,null,null,null,null,null,null,null,null,null,0]
[null,null,null,null,null,null,null,null,null,null,null,null,0]
[null,null,null,null,null,null,null,null,null,null,null,null,0]
[null,null,null,null,null,null,null,null,null,null,null,null,0]
[null,null,null,null,null,null,null,null,null,null,null,null,0]
[null,null,null,null,null,null,null,null,null,null,null,null,0]
[null,null,null,null,null,null,null,null,null,null,null,null,0]
[null,null,null,null,null,null,null,null,null,null,null,null,0]
[null,null,null,null,null,null,null,null,null,null,null,null,0]
[null,null,null,null,null,null,null,null,null,null,null,null,0]
[null,null,null,null,null,null,null,null,null,null,null,null,{"$f":"SUM(G415:I415)","v":0}]
[null,null,null,null,null,null,null,null,null,null,null,null,0]
[null,null,null,null,null,null,null,null,null,null,null,null,0]
[null,null,null,null,null,null,null,null,null,null,null,null,0]
[null,null,null,null,null,null,null,null,null,null,null,null,0]
[null,null,null,null,null,null,null,null,null,null,null,null,0]
[null,null,null,null,null,null,null,null,null,null,null,null,0]
[null,null,null,null,null,null,null,null,null,null,null,null,0]
[null,null,null,null,null,null,null,null,null,null,null,null,0]
[null,null,null,null,null,null,null,null,null,null,null,null,0]
[null,null,null,null,null,null,null,null,null,null,null,null,0]
[null,null,null,null,null,null,null,null,null,null,null,null,0]
[null,null,null,null,null,null,null,null,null,null,null,null,0]
[null,null,null,null,null,null,null,null,null,null,null,null,0]
[null,null,null,null,null,null,null,null,null,null,null,null,0]
[null,null,null,null,null,null,null,null,null,null,null,null,0]
[null,null,null,null,null,null,null,null,null,null,null,null,0]
[null,null,null,null,null,null,null,null,null,null,null,null,0]
[null,null,null,null,null,null,null,null,null,null,null,null,0]
[null,null,null,null,null,null,null,null,null,null,null,null,0]
[null,null,null,null,null,null,null,null,null,null,null,null,0]
[null,null,null,null,null,null,null,null,null,null,null,null,0]
[null,null,null,null,null,null,null,null,null,null,null,null,0]
[null,null,null,null,null,null,null,null,null,null,null,null,0]
[null,null,null,null,null,null,null,null,null,null,null,null,0]
[null,null,null,null,null,null,null,null,null,null,null,null,0]
[null,null,null,null,null,null,null,null,null,null,null,null,0]
[null,null,null,null,null,null,null,null,null,null,null,null,0]
[null,null,null,null,null,null,null,null,null,null,null,null,0]
[null,null,null,null,null,null,null,null,null,null,null,null,0]
[null,null,null,null,null,null,null,null,null,null,null,null,0]
[null,null,null,null,null,null,null,null,null,null,null,null,0]
[null,null,null,null,null,null,null,null,null,null,null,null,0]
[null,null,null,null,null,null,null,null,null,null,null,null,0]
[null,null,null,null,null,null,null,null,null,null,null,null,0]
[null,null,null,null,null,null,null,null,null,null,null,null,0]
[null,null,null,null,null,null,null,null,null,null,null,null,0]
[null,null,null,null,null,null,null,null,null,null,null,null,0]
[null,null,null,null,null,null,null,null,null,null,null,null,0]
[null,null,null,null,null,null,null,null,null,null,null,null,0]
[null,null,null,null,null,null,null,null,null,null,null,null,0]
[null,null,null,null,null,null,null,null,null,null,null,null,0]
[null,null,null,null,null,null,null,null,null,null,null,null,0]
[null,null,null,null,null,null,null,null,null,null,null,null,0]
[null,null,null,null,null,null,null,null,null,null,null,null,0]
[null,null,null,null,null,null,null,null,null,null,null,null,0]
[null,null,null,null,null,null,null,null,null,null,null,null,0]
[null,null,null,null,null,null,null,null,null,null,null,null,0]
[null,null,null,null,null,null,null,null,null,null,null,null,0]
[null,null,null,null,null,null,null,null,null,null,null,null,0]
[null,null,null,null,null,null,null,null,null,null,null,null,0]
[null,null,null,null,null,null,null,null,null,null,null,null,0]
[null,null,null,null,null,null,null,null,null,null,null,null,0]
[null,null,null,null,null,null,null,null,null,null,null,null,0]
[null,null,null,null,null,null,null,null,null,null,null,null,0]
[null,null,null,null,null,null,null,null,null,null,null,null,0]
[null,null,null,null,null,null,null,null,null,null,null,null,0]
[null,null,null,null,null,null,null,null,null,null,null,null,0]
[null,null,null,null,null,null,null,null,null,null,null,null,0]
[null,null,null,null,null,null,null,null,null,null,null,null,0]
[null,null,null,null,null,null,null,null,null,null,null,null,0]
[null,null,null,null,null,null,null,null,null,null,null,null,0]
[null,null,null,null,null,null,null,null,null,null,null,null,0]
[null,null,null,null,null,null,null,null,null,null,null,null,0]
[null,null,null,null,null,null,null,null,null,null,null,null,0]
[null,null,null,null,null,null,null,null,null,null,null,null,0]
[null,null,null,null,null,null,null,null,null,null,null,null,0]
[null,null,null,null,null,null,null,null,null,null,null,null,0]
[null,null,null,null,null,null,null,null,null,null,null,null,0]
[null,null,null,null,null,null,null,null,null,null,null,null,0]
[null,null,null,null,null,null,null,null,null,null,null,null,0]
[null,null,null,null,null,null,null,null,null,null,null,null,0]
[null,null,null,null,null,null,null,null,null,null,null,null,0]
[null,null,null,null,null,null,null,null,null,null,null,null,0]
[null,null,null,null,null,null,null,null,null,null,null,null,0]
[null,null,null,null,null,null,null,null,null,null,null,null,0]
[null,null,null,null,null,null,null,null,null,null,null,null,0]
[null,null,null,null,null,null,null,null,null,null,null,null,0]
[null,null,null,null,null,null,null,null,null,null,null,null,0]
[null,null,null,null,null,null,null,null,null,null,null,null,0]
[null,null,null,null,null,null,null,null,null,null,null,null,0]
[null,null,null,null,null,null,null,null,null,null,null,null,0]
[null,null,null,null,null,null,null,null,null,null,null,null,0]
[null,null,null,null,null,null,null,null,null,null,null,null,0]
[null,null,null,null,null,null,null,null,null,null,null,null,0]
[null,null,null,null,null,null,null,null,null,null,null,null,0]
[null,null,null,null,null,null,null,null,null,null,null,null,{"$f":"SUM(G501:I501)","v":0}]
[null,null,null,null,null,null,null,null,null,null,null,null,0]
[null,null,null,null,null,null,null,null,null,null,null,null,0]
[null,null,null,null,null,null,null,null,null,null,null,null,0]
[null,null,null,null,null,null,null,null,null,null,null,null,0]
[null,null,null,null,null,null,null,null,null,null,null,null,0]
[null,null,null,null,null,null,null,null,null,null,null,null,0]
[null,null,null,null,null,null,null,null,null,null,null,null,0]
[null,null,null,null,null,null,null,null,null,null,null,null,0]
[null,null,null,null,null,null,null,null,null,null,null,null,0]
[null,null,null,null,null,null,null,null,null,null,null,null,0]
[null,null,null,null,null,null,null,null,null,null,null,null,0]
[null,null,null,null,null,null,null,null,null,null,null,null,0]
[null,null,null,null,null,null,null,null,null,null,null,null,0]
[null,null,null,null,null,null,null,null,null,null,null,null,0]
[null,null,null,null,null,null,null,null,null,null,null,null,0]
[null,null,null,null,null,null,null,null,null,null,null,null,0]
[null,null,null,null,null,null,null,null,null,null,null,null,0]
[null,null,null,null,null,null,null,null,null,null,null,null,0]
[null,null,null,null,null,null,null,null,null,null,null,null,0]
[null,null,null,null,null,null,null,null,null,null,null,null,0]
[null,null,null,null,null,null,null,null,null,null,null,null,0]
[null,null,null,null,null,null,null,null,null,null,null,null,0]
[null,null,null,null,null,null,null,null,null,null,null,null,0]
[null,null,null,null,null,null,null,null,null,null,null,null,0]
[null,null,null,null,null,null,null,null,null,null,null,null,0]
[null,null,null,null,null,null,null,null,null,null,null,null,0]
[null,null,null,null,null,null,null,null,null,null,null,null,0]
[null,null,null,null,null,null,null,null,null,null,null,null,0]
[null,null,null,null,null,null,null,null,null,null,null,null,0]
[null,null,null,null,null,null,null,null,null,null,null,null,0]
[null,null,null,null,null,null,null,null,null,null,null,null,0]
[null,null,null,null,null,null,null,null,null,null,null,null,0]
[null,null,null,null,null,null,null,null,null,null,null,null,0]
[null,null,null,null,null,null,null,null,null,null,null,null,0]
[null,null,null,null,null,null,null,null,null,null,null,null,0]
[null,null,null,null,null,null,null,null,null,null,null,null,0]
[null,null,null,null,null,null,null,null,null,null,null,null,0]
[null,null,null,null,null,null,null,null,null,null,null,null,0]
[null,null,null,null,null,null,null,null,null,null,null,null,0]
[null,null,null,null,null,null,null,null,null,null,null,null,0]
[null,null,null,null,null,null,null,null,null,null,null,null,0]
[null,null,null,null,null,null,null,null,null,null,null,null,0]
[null,null,null,null,null,null,null,null,null,null,null,null,0]
[null,null,null,null,null,null,null,null,null,null,null,null,0]
[null,null,null,null,null,null,null,null,null,null,null,null,0]
[null,null,null,null,null,null,null,null,null,null,null,null,0]
[null,null,null,null,null,null,null,null,null,null,null,null,0]
[null,null,null,null,null,null,null,null,null,null,null,null,0]
[null,null,null,null,null,null,null,null,null,null,null,null,0]
[null,null,null,null,null,null,null,null,null,null,null,null,0]
[null,null,null,null,null,null,null,null,null,null,null,null,0]
[null,null,null,null,null,null,null,null,null,null,null,null,0]
[null,null,null,null,null,null,null,null,null,null,null,null,0]
[null,null,null,null,null,null,null,null,null,null,null,null,0]
[null,null,null,null,null,null,null,null,null,null,null,null,0]
[null,null,null,null,null,null,null,null,null,null,null,null,0]
[null,null,null,null,null,null,null,null,null,null,null,null,0]
[null,null,null,null,null,null,null,null,null,null,null,null,0]
[null,null,null,null,null,null,null,null,null,null,null,null,0]
[null,null,null,null,null,null,null,null,null,null,null,null,0]
[null,null,null,null,null,null,null,null,null,null,null,null,0]
[null,null,null,null,null,null,null,null,null,null,null,null,0]
[null,null,null,null,null,null,null,null,null,null,null,null,0]
[null,null,null,null,null,null,null,null,null,null,null,null,0]
[null,null,null,null,null,null,null,null,null,null,null,null,0]
[null,null,null,null,null,null,null,null,null,null,null,null,0]
[null,null,null,null,null,null,null,null,null,null,null,null,0]
[null,null,null,null,null,null,null,null,null,null,null,null,0]
[null,null,null,null,null,null,null,null,null,null,null,null,0]
[null,null,null,null,null,null,null,null,null,null,null,null,0]
[null,null,null,null,null,null,null,null,null,null,null,null,0]
[null,null,null,null,null,null,null,null,null,null,null,null,0]
[null,null,null,null,null,null,null,null,null,null,null,null,0]
[null,null,null,null,null,null,null,null,null,null,null,null,0]
[null,null,null,null,null,null,null,null,null,null,null,null,0]
[null,null,null,null,null,null,null,null,null,null,null,null,0]
[null,null,null,null,null,null,null,null,null,null,null,null,0]
[null,null,null,null,null,null,null,null,null,null,null,null,0]
[null,null,null,null,null,null,null,null,null,null,null,null,0]
[null,null,null,null,null,null,null,null,null,null,null,null,0]
[null,null,null,null,null,null,null,null,null,null,null,null,0]
[null,null,null,null,null,null,null,null,null,null,null,null,0]
[null,null,null,null,null,null,null,null,null,null,null,null,0]
[null,null,null,null,null,null,null,null,null,null,null,null,0]
[null,null,null,null,null,null,null,null,null,null,null,null,0]
[null,null,null,null,null,null,null,null,null,null,null,null,0]
[null,null,null,null,null,null,null,null,null,null,null,null,0]
[null,null,null,null,null,null,null,null,null,null,null,null,0]
[null,null,null,null,null,null,null,null,null,null,null,null,0]
[null,null,null,null,null,null,null,null,null,null,null,null,0]
[null,null,null,null,null,null,null,null,null,null,null,null,0]
[null,null,null,null,null,null,null,null,null,null,null,null,0]
[null,null,null,null,null,null,null,null,null,null,null,null,0]
[null,null,null,null,null,null,null,null,null,null,null,null,0]
[null,null,null,null,null,null,null,null,null,null,null,null,0]
[null,null,null,null,null,null,null,null,null,null,null,null,0]
[null,null,null,null,null,null,null,null,null,null,null,null,0]
[null,null,null,null,null,null,null,null,null,null,null,null,0]
[null,null,null,null,null,null,null,null,null,null,null,null,0]
[null,null,null,null,null,null,null,null,null,null,null,null,0]
[null,null,null,null,null,null,null,null,null,null,null,null,0]
[null,null,null,null,null,null,null,null,null,null,null,null,0]
[null,null,null,null,null,null,null,null,null,null,null,null,0]
[null,null,null,null,null,null,null,null,null,null,null,null,0]
[null,null,null,null,null,null,null,null,null,null,null,null,0]
[null,null,null,null,null,null,null,null,null,null,null,null,0]
[null,null,null,null,null,null,null,null,null,null,null,null,0]
[null,null,null,null,null,null,null,null,null,null,null,null,0]
[null,null,null,null,null,null,null,null,null,null,null,null,0]
[null,null,null,null,null,null,null,null,null,null,null,null,0]
[null,null,null,null,null,null,null,null,null,null,null,null,0]
[null,null,null,null,null,null,null,null,null,null,null,null,0]
[null,null,null,null,null,null,null,null,null,null,null,null,0]
[null,null,null,null,null,null,null,null,null,null,null,null,0]
[null,null,null,null,null,null,null,null,null,null,null,null,0]
[null,null,null,null,null,null,null,null,null,null,null,null,0]
[null,null,null,null,null,null,null,null,null,null,null,null,0]
[null,null,null,null,null,null,null,null,null,null,null,null,0]
[null,null,null,null,null,null,null,null,null,null,null,null,0]
[null,null,null,null,null,null,null,null,null,null,null,null,0]
[null,null,null,null,null,null,null,null,null,null,null,null,0]
[null,null,null,null,null,null,null,null,null,null,null,null,0]
[null,null,null,null,null,null,null,null,null,null,null,null,0]
[null,null,null,null,null,null,null,null,null,null,null,null,0]
[null,null,null,null,null,null,null,null,null,null,null,null,0]
[null,null,null,null,null,null,null,null,null,null,null,null,0]
[null,null,null,null,null,null,null,null,null,null,null,null,0]
[null,null,null,null,null,null,null,null,null,null,null,null,0]
[null,null,null,null,null,null,null,null,null,null,null,null,0]
[null,null,null,null,null,null,null,null,null,null,null,null,0]
[null,null,null,null,null,null,null,null,null,null,null,null,0]
[null,null,null,null,null,null,null,null,null,null,null,null,0]
[null,null,null,null,null,null,null,null,null,null,null,null,{"$f":"SUM(G634:I634)","v":0}]
[null,null,null,null,null,null,null,null,null,null,null,null,0]
[null,null,null,null,null,null,null,null,null,null,null,null,0]
[null,null,null,null,null,null,null,null,null,null,null,null,0]
[null,null,null,null,null,null,null,null,null,null,null,null,0]
[null,null,null,null,null,null,null,null,null,null,null,null,0]
[null,null,null,null,null,null,null,null,null,null,null,null,0]
[null,null,null,null,null,null,null,null,null,null,null,null,0]
[null,null,null,null,null,null,null,null,null,null,null,null,0]
[null,null,null,null,null,null,null,null,null,null,null,null,0]
[null,null,null,null,null,null,null,null,null,null,null,null,0]
[null,null,null,null,null,null,null,null,null,null,null,null,0]
[null,null,null,null,null,null,null,null,null,null,null,null,0]
[null,null,null,null,null,null,null,null,null,null,null,null,0]
[null,null,null,null,null,null,null,null,null,null,null,null,0]
[null,null,null,null,null,null,null,null,null,null,null,null,0]
[null,null,null,null,null,null,null,null,null,null,null,null,0]
[null,null,null,null,null,null,null,null,null,null,null,null,0]
[null,null,null,null,null,null,null,null,null,null,null,null,0]
[null,null,null,null,null,null,null,null,null,null,null,null,0]
[null,null,null,null,null,null,null,null,null,null,null,null,0]
[null,null,null,null,null,null,null,null,null,null,null,null,0]
[null,null,null,null,null,null,null,null,null,null,null,null,0]
[null,null,null,null,null,null,null,null,null,null,null,null,0]
[null,null,null,null,null,null,null,null,null,null,null,null,0]
[null,null,null,null,null,null,null,null,null,null,null,null,0]
[null,null,null,null,null,null,null,null,null,null,null,null,0]
[null,null,null,null,null,null,null,null,null,null,null,null,0]
[null,null,null,null,null,null,null,null,null,null,null,null,0]
[null,null,null,null,null,null,null,null,null,null,null,null,0]
[null,null,null,null,null,null,null,null,null,null,null,null,0]
[null,null,null,null,null,null,null,null,null,null,null,null,0]
[null,null,null,null,null,null,null,null,null,null,null,null,0]
[null,null,null,null,null,null,null,null,null,null,null,null,0]
[null,null,null,null,null,null,null,null,null,null,null,null,0]
[null,null,null,null,null,null,null,null,null,null,null,null,0]
[null,null,null,null,null,null,null,null,null,null,null,null,0]
[null,null,null,null,null,null,null,null,null,null,null,null,0]
[null,null,null,null,null,null,null,null,null,null,null,null,0]
[null,null,null,null,null,null,null,null,null,null,null,null,0]
[null,null,null,null,null,null,null,null,null,null,null,null,0]
[null,null,null,null,null,null,null,null,null,null,null,null,0]
[null,null,null,null,null,null,null,null,null,null,null,null,0]
[null,null,null,null,null,null,null,null,null,null,null,null,0]
[null,null,null,null,null,null,null,null,null,null,null,null,0]
[null,null,null,null,null,null,null,null,null,null,null,null,0]
[null,null,null,null,null,null,null,null,null,null,null,null,0]
[null,null,null,null,null,null,null,null,null,null,null,null,0]
[null,null,null,null,null,null,null,null,null,null,null,null,0]
[null,null,null,null,null,null,null,null,null,null,null,null,0]
[null,null,null,null,null,null,null,null,null,null,null,null,0]
[null,null,null,null,null,null,null,null,null,null,null,null,0]
[null,null,null,null,null,null,null,null,null,null,null,null,0]
[null,null,null,null,null,null,null,null,null,null,null,null,0]
[null,null,null,null,null,null,null,null,null,null,null,null,0]
[null,null,null,null,null,null,null,null,null,null,null,null,0]
[null,null,null,null,null,null,null,null,null,null,null,null,0]
[null,null,null,null,null,null,null,null,null,null,null,null,0]
[null,null,null,null,null,null,null,null,null,null,null,null,0]
[null,null,null,null,null,null,null,null,null,null,null,null,0]
[null,null,null,null,null,null,null,null,null,null,null,null,0]
[null,null,null,null,null,null,null,null,null,null,null,null,0]
[null,null,null,null,null,null,null,null,null,null,null,null,0]
[null,null,null,null,null,null,null,null,null,null,null,null,0]
[null,null,null,null,null,null,null,null,null,null,null,null,0]
[null,null,null,null,null,null,null,null,null,null,null,null,0]
[null,null,null,null,null,null,null,null,null,null,null,null,0]
[null,null,null,null,null,null,null,null,null,null,null,null,0]
[null,null,null,null,null,null,null,null,null,null,null,null,0]
[null,null,null,null,null,null,null,null,null,null,null,null,0]
[null,null,null,null,null,null,null,null,null,null,null,null,0]
[null,null,null,null,null,null,null,null,null,null,null,null,0]
[null,null,null,null,null,null,null,null,null,null,null,null,0]
[null,null,null,null,null,null,null,null,null,null,null,null,0]
[null,null,null,null,null,null,null,null,null,null,null,null,0]
[null,null,null,null,null,null,null,null,null,null,null,null,0]
[null,null,null,null,null,null,null,null,null,null,null,null,0]
[null,null,null,null,null,null,null,null,null,null,null,null,0]
[null,null,null,null,null,null,null,null,null,null,null,null,0]
[null,null,null,null,null,null,null,null,null,null,null,null,0]
[null,null,null,null,null,null,null,null,null,null,null,null,0]
[null,null,null,null,null,null,null,null,null,null,null,null,0]
[null,null,null,null,null,null,null,null,null,null,null,null,0]
[null,null,null,null,null,null,null,null,null,null,null,null,0]
[null,null,null,null,null,null,null,null,null,null,null,null,0]
[null,null,null,null,null,null,null,null,null,null,null,null,0]
[null,null,null,null,null,null,null,null,null,null,null,null,0]
[null,null,null,null,null,null,null,null,null,null,null,null,0]
[null,null,null,null,null,null,null,null,null,null,null,null,0]
[null,null,null,null,null,null,null,null,null,null,null,null,0]
[null,null,null,null,null,null,null,null,null,null,null,null,0]
[null,null,null,null,null,null,null,null,null,null,null,null,0]
[null,null,null,null,null,null,null,null,null,null,null,null,0]
[null,null,null,null,null,null,null,null,null,null,null,null,0]
[null,null,null,null,null,null,null,null,null,null,null,null,0]
[null,null,null,null,null,null,null,null,null,null,null,null,0]
[null,null,null,null,null,null,null,null,null,null,null,null,0]
[null,null,null,null,null,null,null,null,null,null,null,null,0]
[null,null,null,null,null,null,null,null,null,null,null,null,0]
[null,null,null,null,null,null,null,null,null,null,null,null,0]
[null,null,null,null,null,null,null,null,null,null,null,null,0]
[null,null,null,null,null,null,null,null,null,null,null,null,{"$f":"SUM(G735:I735)","v":0}]
[null,null,null,null,null,null,null,null,null,null,null,null,0]
[null,null,null,null,null,null,null,null,null,null,null,null,0]
[null,null,null,null,null,null,null,null,null,null,null,null,0]
[null,null,null,null,null,null,null,null,null,null,null,null,0]
[null,null,null,null,null,null,null,null,null,null,null,null,0]
[null,null,null,null,null,null,null,null,null,null,null,null,0]
[null,null,null,null,null,null,null,null,null,null,null,null,0]
[null,null,null,null,null,null,null,null,null,null,null,null,0]
[null,null,null,null,null,null,null,null,null,null,null,null,0]
[null,null,null,null,null,null,null,null,null,null,null,null,0]
[null,null,null,null,null,null,null,null,null,null,null,null,0]
[null,null,null,null,null,null,null,null,null,null,null,null,0]
[null,null,null,null,null,null,null,null,null,null,null,null,0]
[null,null,null,null,null,null,null,null,null,null,null,null,0]
[null,null,null,null,null,null,null,null,null,null,null,null,0]
[null,null,null,null,null,null,null,null,null,null,null,null,0]
[null,null,null,null,null,null,null,null,null,null,null,null,0]
[null,null,null,null,null,null,null,null,null,null,null,null,0]
[null,null,null,null,null,null,null,null,null,null,null,null,0]
[null,null,null,null,null,null,null,null,null,null,null,null,0]
[null,null,null,null,null,null,null,null,null,null,null,null,0]
[null,null,null,null,null,null,null,null,null,null,null,null,0]
[null,null,null,null,null,null,null,null,null,null,null,null,0]
[null,null,null,null,null,null,null,null,null,null,null,null,0]
[null,null,null,null,null,null,null,null,null,null,null,null,0]
[null,null,null,null,null,null,null,null,null,null,null,null,0]
[null,null,null,null,null,null,null,null,null,null,null,null,0]
[null,null,null,null,null,null,null,null,null,null,null,null,0]
[null,null,null,null,null,null,null,null,null,null,null,null,0]
[null,null,null,null,null,null,null,null,null,null,null,null,0]
[null,null,null,null,null,null,null,null,null,null,null,null,0]
[null,null,null,null,null,null,null,null,null,null,null,null,0]
[null,null,null,null,null,null,null,null,null,null,null,null,0]
[null,null,null,null,null,null,null,null,null,null,null,null,0]
[null,null,null,null,null,null,null,null,null,null,null,null,0]
[null,null,null,null,null,null,null,null,null,null,null,null,0]
[null,null,null,null,null,null,null,null,null,null,null,null,0]
[null,null,null,null,null,null,null,null,null,null,null,null,0]
[null,null,null,null,null,null,null,null,null,null,null,null,0]
[null,null,null,null,null,null,null,null,null,null,null,null,0]
[null,null,null,null,null,null,null,null,null,null,null,null,0]
[null,null,null,null,null,null,null,null,null,null,null,null,0]
[null,null,null,null,null,null,null,null,null,null,null,null,0]
[null,null,null,null,null,null,null,null,null,null,null,null,0]
[null,null,null,null,null,null,null,null,null,null,null,null,0]
[null,null,null,null,null,null,null,null,null,null,null,null,0]
[null,null,null,null,null,null,null,null,null,null,null,null,0]
[null,null,null,null,null,null,null,null,null,null,null,null,0]
[null,null,null,null,null,null,null,null,null,null,null,null,0]
[null,null,null,null,null,null,null,null,null,null,null,null,0]
[null,null,null,null,null,null,null,null,null,null,null,null,0]
[null,null,null,null,null,null,null,null,null,null,null,null,0]
[null,null,null,null,null,null,null,null,null,null,null,null,0]
[null,null,null,null,null,null,null,null,null,null,null,null,0]
[null,null,null,null,null,null,null,null,null,null,null,null,0]
[null,null,null,null,null,null,null,null,null,null,null,null,0]
[null,null,null,null,null,null,null,null,null,null,null,null,0]
[null,null,null,null,null,null,null,null,null,null,null,null,0]
[null,null,null,null,null,null,null,null,null,null,null,null,0]
[null,null,null,null,null,null,null,null,null,null,null,null,0]
[null,null,null,null,null,null,null,null,null,null,null,null,0]
[null,null,null,null,null,null,null,null,null,null,null,null,0]
[null,null,null,null,null,null,null,null,null,null,null,null,0]
[null,null,null,null,null,null,null,null,null,null,null,null,0]
[null,null,null,null,null,null,null,null,null,null,null,null,0]
[null,null,null,null,null,null,null,null,null,null,null,null,0]
[null,null,null,null,null,null,null,null,null,null,null,null,0]
[null,null,null,null,null,null,null,null,null,null,null,null,0]
[null,null,null,null,null,null,null,null,null,null,null,null,0]
[null,null,null,null,null,null,null,null,null,null,null,null,0]
[null,null,null,null,null,null,null,null,null,null,null,null,0]
[null,null,null,null,null,null,null,null,null,null,null,null,0]
[null,null,null,null,null,null,null,null,null,null,null,null,0]
[null,null,null,null,null,null,null,null,null,null,null,null,0]
[null,null,null,null,null,null,null,null,null,null,null,null,0]
[null,null,null,null,null,null,null,null,null,null,null,null,0]
[null,null,null,null,null,null,null,null,null,null,null,null,0]
[null,null,null,null,null,null,null,null,null,null,null,null,0]
[null,null,null,null,null,null,null,null,null,null,null,null,0]
[null,null,null,null,null,null,null,null,null,null,null,null,0]
[null,null,null,null,null,null,null,null,null,null,null,null,0]
[null,null,null,null,null,null,null,null,null,null,null,null,0]
[null,null,null,null,null,null,null,null,null,null,null,null,0]
[null,null,null,null,null,null,null,null,null,null,null,null,0]
[null,null,null,null,null,null,null,null,null,null,null,null,0]
[null,null,null,null,null,null,null,null,null,null,null,null,0]
[null,null,null,null,null,null,null,null,null,null,null,null,0]
[null,null,null,null,null,null,null,null,null,null,null,null,0]
[null,null,null,null,null,null,null,null,null,null,null,null,0]
[null,null,null,null,null,null,null,null,null,null,null,null,0]
[null,null,null,null,null,null,null,null,null,null,null,null,0]
[null,null,null,null,null,null,null,null,null,null,null,null,0]
[null,null,null,null,null,null,null,null,null,null,null,null,0]
[null,null,null,null,null,null,null,null,null,null,null,null,0]
[null,null,null,null,null,null,null,null,null,null,null,null,0]
[null,null,null,null,null,null,null,null,null,null,null,null,0]
[null,null,null,null,null,null,null,null,null,null,null,null,0]
[null,null,null,null,null,null,null,null,null,null,null,null,0]
[null,null,null,null,null,null,null,null,null,null,null,null,0]
[null,null,null,null,null,null,null,null,null,null,null,null,0]
[null,null,null,null,null,null,null,null,null,null,null,null,0]
[null,null,null,null,null,null,null,null,null,null,null,null,0]
[null,null,null,null,null,null,null,null,null,null,null,null,0]
[null,null,null,null,null,null,null,null,null,null,null,null,0]
[null,null,null,null,null,null,null,null,null,null,null,null,0]
[null,null,null,null,null,null,null,null,null,null,null,null,0]
[null,null,null,null,null,null,null,null,null,null,null,null,0]
[null,null,null,null,null,null,null,null,null,null,null,null,0]
[null,null,null,null,null,null,null,null,null,null,null,null,0]
[null,null,null,null,null,null,null,null,null,null,null,null,0]
[null,null,null,null,null,null,null,null,null,null,null,null,0]
[null,null,null,null,null,null,null,null,null,null,null,null,0]
[null,null,null,null,null,null,null,null,null,null,null,null,0]
[null,null,null,null,null,null,null,null,null,null,null,null,0]
[null,null,null,null,null,null,null,null,null,null,null,null,0]
[null,null,null,null,null,null,null,null,null,null,null,null,0]
[null,null,null,null,null,null,null,null,null,null,null,null,0]
[null,null,null,null,null,null,null,null,null,null,null,null,0]
[null,null,null,null,null,null,null,null,null,null,null,null,0]
[null,null,null,null,null,null,null,null,null,null,null,null,0]
[null,null,null,null,null,null,null,null,null,null,null,null,0]
[null,null,null,null,null,null,null,null,null,null,null,null,0]
[null,null,null,null,null,null,null,null,null,null,null,null,0]
[null,null,null,null,null,null,null,null,null,null,null,null,0]
[null,null,null,null,null,null,null,null,null,null,null,null,0]
[null,null,null,null,null,null,null,null,null,null,null,null,0]
[null,null,null,null,null,null,null,null,null,null,null,null,0]
[null,null,null,null,null,null,null,null,null,null,null,null,0]
[null,null,null,null,null,null,null,null,null,null,null,null,0]
[null,null,null,null,null,null,null,null,null,null,null,null,0]
[null,null,null,null,null,null,null,null,null,null,null,null,0]
[null,null,null,null,null,null,null,null,null,null,null,null,0]
[null,null,null,null,null,null,null,null,null,null,null,null,{"$f":"SUM(G868:I868)","v":0}]
[null,null,null,null,null,null,null,null,null,null,null,null,0]
[null,null,null,null,null,null,null,null,null,null,null,null,0]
[null,null,null,null,null,null,null,null,null,null,null,null,0]
[null,null,null,null,null,null,null,null,null,null,null,null,0]
[null,null,null,null,null,null,null,null,null,null,null,null,0]
[null,null,null,null,null,null,null,null,null,null,null,null,0]
[null,null,null,null,null,null,null,null,null,null,null,null,0]
[null,null,null,null,null,null,null,null,null,null,null,null,0]
[null,null,null,null,null,null,null,null,null,null,null,null,0]
[null,null,null,null,null,null,null,null,null,null,null,null,0]
[null,null,null,null,null,null,null,null,null,null,null,null,0]
[null,null,null,null,null,null,null,null,null,null,null,null,0]
[null,null,null,null,null,null,null,null,null,null,null,null,0]
[null,null,null,null,null,null,null,null,null,null,null,null,0]
[null,null,null,null,null,null,null,null,null,null,null,null,0]
[null,null,null,null,null,null,null,null,null,null,null,null,0]
[null,null,null,null,null,null,null,null,null,null,null,null,0]
[null,null,null,null,null,null,null,null,null,null,null,null,0]
[null,null,null,null,null,null,null,null,null,null,null,null,0]
[null,null,null,null,null,null,null,null,null,null,null,null,0]
[null,null,null,null,null,null,null,null,null,null,null,null,0]
[null,null,null,null,null,null,null,null,null,null,null,null,0]
[null,null,null,null,null,null,null,null,null,null,null,null,0]
[null,null,null,null,null,null,null,null,null,null,null,null,0]
[null,null,null,null,null,null,null,null,null,null,null,null,0]
[null,null,null,null,null,null,null,null,null,null,null,null,0]
[null,null,null,null,null,null,null,null,null,null,null,null,0]
[null,null,null,null,null,null,null,null,null,null,null,null,0]
[null,null,null,null,null,null,null,null,null,null,null,null,0]
[null,null,null,null,null,null,null,null,null,null,null,null,0]
[null,null,null,null,null,null,null,null,null,null,null,null,0]
[null,null,null,null,null,null,null,null,null,null,null,null,0]
[null,null,null,null,null,null,null,null,null,null,null,null,0]
[null,null,null,null,null,null,null,null,null,null,null,null,0]
[null,null,null,null,null,null,null,null,null,null,null,null,0]
[null,null,null,null,null,null,null,null,null,null,null,null,0]
[null,null,null,null,null,null,null,null,null,null,null,null,0]
[null,null,null,null,null,null,null,null,null,null,null,null,0]
[null,null,null,null,null,null,null,null,null,null,null,null,0]
[null,null,null,null,null,null,null,null,null,null,null,null,0]
[null,null,null,null,null,null,null,null,null,null,null,null,0]
[null,null,null,null,null,null,null,null,null,null,null,null,0]
[null,null,null,null,null,null,null,null,null,null,null,null,0]
[null,null,null,null,null,null,null,null,null,null,null,null,0]
[null,null,null,null,null,null,null,null,null,null,null,null,0]
[null,null,null,null,null,null,null,null,null,null,null,null,0]
[null,null,null,null,null,null,null,null,null,null,null,null,0]
[null,null,null,null,null,null,null,null,null,null,null,null,0]
[null,null,null,null,null,null,null,null,null,null,null,null,0]
[null,null,null,null,null,null,null,null,null,null,null,null,0]
[null,null,null,null,null,null,null,null,null,null,null,null,0]
[null,null,null,null,null,null,null,null,null,null,null,null,0]
[null,null,null,null,null,null,null,null,null,null,null,null,0]
[null,null,null,null,null,null,null,null,null,null,null,null,0]
[null,null,null,null,null,null,null,null,null,null,null,null,0]
[null,null,null,null,null,null,null,null,null,null,null,null,0]
[null,null,null,null,null,null,null,null,null,null,null,null,0]
[null,null,null,null,null,null,null,null,null,null,null,null,0]
[null,null,null,null,null,null,null,null,null,null,null,null,0]
[null,null,null,null,null,null,null,null,null,null,null,null,0]
[null,null,null,null,null,null,null,null,null,null,null,null,0]
[null,null,null,null,null,null,null,null,null,null,null,null,0]
[null,null,null,null,null,null,null,null,null,null,null,null,0]
[null,null,null,null,null,null,null,null,null,null,null,null,0]
[null,null,null,null,null,null,null,null,null,null,null,null,0]
[null,null,null,null,null,null,null,null,null,null,null,null,0]
[null,null,null,null,null,null,null,null,null,null,null,null,0]
[null,null,null,null,null,null,null,null,null,null,null,null,0]
[null,null,null,null,null,null,null,null,null,null,null,null,0]
[null,null,null,null,null,null,null,null,null,null,null,null,0]
[null,null,null,null,null,null,null,null,null,null,null,null,0]
[null,null,null,null,null,null,null,null,null,null,null,null,0]
[null,null,null,null,null,null,null,null,null,null,null,null,0]
[null,null,null,null,null,null,null,null,null,null,null,null,0]
[null,null,null,null,null,null,null,null,null,null,null,null,0]
[null,null,null,null,null,null,null,null,null,null,null,null,0]
[null,null,null,null,null,null,null,null,null,null,null,null,0]
[null,null,null,null,null,null,null,null,null,null,null,null,0]
[null,null,null,null,null,null,null,null,null,null,null,null,0]
[null,null,null,null,null,null,null,null,null,null,null,null,0]
[null,null,null,null,null,null,null,null,null,null,null,null,0]
[null,null,null,null,null,null,null,null,null,null,null,null,0]
[null,null,null,null,null,null,null,null,null,null,null,null,0]
[null,null,null,null,null,null,null,null,null,null,null,null,0]
[null,null,null,null,null,null,null,null,null,null,null,null,0]
[null,null,null,null,null,null,null,null,null,null,null,null,0]
[null,null,null,null,null,null,null,null,null,null,null,null,0]
[null,null,null,null,null,null,null,null,null,null,null,null,0]
[null,null,null,null,null,null,null,null,null,null,null,null,0]
[null,null,null,null,null,null,null,null,null,null,null,null,0]
[null,null,null,null,null,null,null,null,null,null,null,null,0]
[null,null,null,null,null,null,null,null,null,null,null,null,0]
[null,null,null,null,null,null,null,null,null,null,null,null,0]
[null,null,null,null,null,null,null,null,null,null,null,null,0]
[null,null,null,null,null,null,null,null,null,null,null,null,0]
[null,null,null,null,null,null,null,null,null,null,null,null,0]
[null,null,null,null,null,null,null,null,null,null,null,null,0]
[null,null,null,null,null,null,null,null,null,null,null,null,0]
[null,null,null,null,null,null,null,null,null,null,null,null,0]
[null,null,null,null,null,null,null,null,null,null,null,null,0]
[null,null,null,null,null,null,null,null,null,null,null,null,0]
[null,null,null,null,null,null,null,null,null,null,null,null,0]
[null,null,null,null,null,null,null,null,null,null,null,null,0]
[null,null,null,null,null,null,null,null,null,null,null,null,0]
[null,null,null,null,null,null,null,null,null,null,null,null,0]
[null,null,null,null,null,null,null,null,null,null,null,null,0]
[null,null,null,null,null,null,null,null,null,null,null,null,0]
[null,null,null,null,null,null,null,null,null,null,null,null,0]
[null,null,null,null,null,null,null,null,null,null,null,null,0]
[null,null,null,null,null,null,null,null,null,null,null,null,0]
[null,null,null,null,null,null,null,null,null,null,null,null,0]
[null,null,null,null,null,null,null,null,null,null,null,null,0]
[null,null,null,null,null,null,null,null,null,null,null,null,0]
[null,null,null,null,null,null,null,null,null,null,null,null,0]
[null,null,null,null,null,null,null,null,null,null,null,null,0]
[null,null,null,null,null,null,null,null,null,null,null,null,0]
[null,null,null,null,null,null,null,null,null,null,null,null,0]
[null,null,null,null,null,null,null,null,null,null,null,null,0]
[null,null,null,null,null,null,null,null,null,null,null,null,0]
[null,null,null,null,null,null,null,null,null,null,null,null,0]
[null,null,null,null,null,null,null,null,null,null,null,null,0]
[null,null,null,null,null,null,null,null,null,null,null,null,0]
[null,null,null,null,null,null,null,null,null,null,null,null,0]
[null,null,null,null,null,null,null,null,null,null,null,null,0]
[null,null,null,null,null,null,null,null,null,null,null,null,0]
[null,null,null,null,null,null,null,null,null,null,null,null,0]
[null,null,null,null,null,null,null,null,null,null,null,null,0]
[null,null,null,null,null,null,null,null,null,null,null,null,0]
[null,null,null,null,null,null,null,null,null,null,null,null,0]
[null,null,null,null,null,null,null,null,null,null,null,null,0]
[null,null,null,null,null,null,null,null,null,null,null,null,0]
[null,null,null,null,null,null,null,null,null,null,null,null,0]
[null,null,null,null,null,null,null,null,null,null,null,null,0]
[null,null,null,null,null,null,null,null,null,null,null,null,0]
[null,null,null,null,null,null,null,null,null,null,null,null,0]
[null,null,null,null,null,null,null,null,null,null,null,null,0]
[null,null,null,null,null,null,null,null,null,null,null,null,0]
[null,null,null,null,null,null,null,null,null,null,null,null,0]
[null,null,null,null,null,null,null,null,null,null,null,null,0]
[null,null,null,null,null,null,null,null,null,null,null,null,0]
[null,null,null,null,null,null,null,null,null,null,null,null,0]
[null,null,null,null,null,null,null,null,null,null,null,null,0]
[null,null,null,null,null,null,null,null,null,null,null,null,0]
[null,null,null,null,null,null,null,null,null,null,null,null,0]
[null,null,null,null,null,null,null,null,null,null,null,null,0]
[null,null,null,null,null,null,null,null,null,null,null,null,0]
[null,null,null,null,null,null,null,null,null,null,null,null,0]
[null,null,null,null,null,null,null,null,null,null,null,null,0]
[null,null,null,null,null,null,null,null,null,null,null,null,0]
[null,null,null,null,null,null,null,null,null,null,null,null,0]
[null,null,null,null,null,null,null,null,null,null,null,null,0]
[null,null,null,null,null,null,null,null,null,null,null,null,0]
[null,null,null,null,null,null,null,null,null,null,null,null,0]
[null,null,null,null,null,null,null,null,null,null,null,null,0]
[null,null,null,null,null,null,null,null,null,null,null,null,0]
[null,null,null,null,null,null,null,null,null,null,null,null,0]
[null,null,null,null,null,null,null,null,null,null,null,null,0]
[null,null,null,null,null,null,null,null,null,null,null,null,0]
[null,null,null,null,null,null,null,null,null,null,null,null,0]
[null,null,null,null,null,null,null,null,null,null,null,null,0]
[null,null,null,null,null,null,null,null,null,null,null,null,0]
[null,null,null,null,null,null,null,null,null,null,null,null,0]
[null,null,null,null,null,null,null,null,null,null,null,null,0]
[null,null,null,null,null,null,null,null,null,null,null,null,0]
[null,null,null,null,null,null,null,null,null,null,null,null,0]
[null,null,null,null,null,null,null,null,null,null,null,null,0]
[null,null,null,null,null,null,null,null,null,null,null,null,0]
[null,null,null,null,null,null,null,null,null,null,null,null,0]
[null,null,null,null,null,null,null,null,null,null,null,null,0]
[null,null,null,null,null,null,null,null,null,null,null,null,0]
[null,null,null,null,null,null,null,null,null,null,null,null,0]
[null,null,null,null,null,null,null,null,null,null,null,null,0]
[null,null,null,null,null,null,null,null,null,null,null,null,0]
[null,null,null,null,null,null,null,null,null,null,null,null,0]
[null,null,null,null,null,null,null,null,null,null,null,null,0]
[null,null,null,null,null,null,null,null,null,null,null,null,0]
[null,null,null,null,null,null,null,null,null,null,null,null,0]
[null,null,null,null,null,null,null,null,null,null,null,null,0]
[null,null,null,null,null,null,null,null,null,null,null,null,0]
[null,null,null,null,null,null,null,null,null,null,null,null,0]
[null,null,null,null,null,null,null,null,null,null,null,null,0]
[null,null,null,null,null,null,null,null,null,null,null,null,0]
[null,null,null,null,null,null,null,null,null,null,null,null,0]
[null,null,null,null,null,null,null,null,null,null,null,null,0]
[null,null,null,null,null,null,null,null,null,null,null,null,0]
[null,null,null,null,null,null,null,null,null,null,null,null,0]
[null,null,null,null,null,null,null,null,null,null,null,null,0]
[null,null,null,null,null,null,null,null,null,null,null,null,0]
[null,null,null,null,null,null,null,null,null,null,null,null,0]
[null,null,null,null,null,null,null,null,null,null,null,null,0]
[null,null,null,null,null,null,null,null,null,null,null,null,0]
[null,null,null,null,null,null,null,null,null,null,null,null,0]
[null,null,null,null,null,null,null,null,null,null,null,null,0]
[null,null,null,null,null,null,null,null,null,null,null,null,0]
[null,null,null,null,null,null,null,null,null,null,null,null,0]
[null,null,null,null,null,null,null,null,null,null,null,null,0]
[null,null,null,null,null,null,null,null,null,null,null,null,0]
[null,null,null,null,null,null,null,null,null,null,null,null,0]
[null,null,null,null,null,null,null,null,null,null,null,null,0]
[null,null,null,null,null,null,null,null,null,null,null,null,0]
[null,null,null,null,null,null,null,null,null,null,null,null,0]
[null,null,null,null,null,null,null,null,null,null,null,null,0]
[null,null,null,null,null,null,null,null,null,null,null,null,0]
[null,null,null,null,null,null,null,null,null,null,null,null,0]
[null,null,null,null,null,null,null,null,null,null,null,null,0]
[null,null,null,null,null,null,null,null,null,null,null,null,0]
[null,null,null,null,null,null,null,null,null,null,null,null,0]
[null,null,null,null,null,null,null,null,null,null,null,null,0]
[null,null,null,null,null,null,null,null,null,null,null,null,0]
[null,null,null,null,null,null,null,null,null,null,null,null,0]
[null,null,null,null,null,null,null,null,null,null,null,null,0]
[null,null,null,null,null,null,null,null,null,null,null,null,0]
[null,null,null,null,null,null,null,null,null,null,null,null,0]
[null,null,null,null,null,null,null,null,null,null,null,null,0]
[null,null,null,null,null,null,null,null,null,null,null,null,0]
[null,null,null,null,null,null,null,null,null,null,null,null,0]
[null,null,null,null,null,null,null,null,null,null,null,null,0]
[null,null,null,null,null,null,null,null,null,null,null,null,0]
[null,null,null,null,null,null,null,null,null,null,null,null,0]
[null,null,null,null,null,null,null,null,null,null,null,null,0]
[null,null,null,null,null,null,null,null,null,null,null,null,0]
[null,null,null,null,null,null,null,null,null,null,null,null,0]
[null,null,null,null,null,null,null,null,null,null,null,null,0]
[null,null,null,null,null,null,null,null,null,null,null,null,0]
[null,null,null,null,null,null,null,null,null,null,null,null,0]
[null,null,null,null,null,null,null,null,null,null,null,null,0]
[null,null,null,null,null,null,null,null,null,null,null,null,0]
[null,null,null,null,null,null,null,null,null,null,null,null,0]
[null,null,null,null,null,null,null,null,null,null,null,null,0]
[null,null,null,null,null,null,null,null,null,null,null,null,0]
[null,null,null,null,null,null,null,null,null,null,null,null,0]
[null,null,null,null,null,null,null,null,null,null,null,null,0]
[null,null,null,null,null,null,null,null,null,null,null,null,0]
[null,null,null,null,null,null,null,null,null,null,null,null,0]
[null,null,null,null,null,null,null,null,null,null,null,null,0]
[null,null,null,null,null,null,null,null,null,null,null,null,0]
[null,null,null,null,null,null,null,null,null,null,null,null,0]
[null,null,null,null,null,null,null,null,null,null,null,null,0]
[null,null,null,null,null,null,null,null,null,null,null,null,0]
[null,null,null,null,null,null,null,null,null,null,null,null,0]
[null,null,null,null,null,null,null,null,null,null,null,null,0]
[null,null,null,null,null,null,null,null,null,null,null,null,0]
[null,null,null,null,null,null,null,null,null,null,null,null,0]
[null,null,null,null,null,null,null,null,null,null,null,null,0]
[null,null,null,null,null,null,null,null,null,null,null,null,0]
[null,null,null,null,null,null,null,null,null,null,null,null,0]
[null,null,null,null,null,null,null,null,null,null,null,null,0]
[null,null,null,null,null,null,null,null,null,null,null,null,0]
[null,null,null,null,null,null,null,null,null,null,null,null,0]
[null,null,null,null,null,null,null,null,null,null,null,null,0]
[null,null,null,null,null,null,null,null,null,null,null,null,0]
[null,null,null,null,null,null,null,null,null,null,null,null,0]
[null,null,null,null,null,null,null,null,null,null,null,null,0]
[null,null,null,null,null,null,null,null,null,null,null,null,0]
[null,null,null,null,null,null,null,null,null,null,null,null,{"$f":"SUM(G1123:I1123)","v":0}]
[null,null,null,null,null,null,null,null,null,null,null,null,0]
[null,null,null,null,null,null,null,null,null,null,null,null,0]
[null,null,null,null,null,null,null,null,null,null,null,null,0]
[null,null,null,null,null,null,null,null,null,null,null,null,0]
[null,null,null,null,null,null,null,null,null,null,null,null,0]
[null,null,null,null,null,null,null,null,null,null,null,null,0]
[null,null,null,null,null,null,null,null,null,null,null,null,0]
[null,null,null,null,null,null,null,null,null,null,null,null,0]
[null,null,null,null,null,null,null,null,null,null,null,null,0]
[null,null,null,null,null,null,null,null,null,null,null,null,0]
[null,null,null,null,null,null,null,null,null,null,null,null,0]
[null,null,null,null,null,null,null,null,null,null,null,null,0]
[null,null,null,null,null,null,null,null,null,null,null,null,0]
[null,null,null,null,null,null,null,null,null,null,null,null,0]
[null,null,null,null,null,null,null,null,null,null,null,null,0]
[null,null,null,null,null,null,null,null,null,null,null,null,0]
[null,null,null,null,null,null,null,null,null,null,null,null,0]
[null,null,null,null,null,null,null,null,null,null,null,null,0]
[null,null,null,null,null,null,null,null,null,null,null,null,0]
[null,null,null,null,null,null,null,null,null,null,null,null,0]
[null,null,null,null,null,null,null,null,null,null,null,null,0]
[null,null,null,null,null,null,null,null,null,null,null,null,0]
[null,null,null,null,null,null,null,null,null,null,null,null,0]
[null,null,null,null,null,null,null,null,null,null,null,null,0]
[null,null,null,null,null,null,null,null,null,null,null,null,0]
[null,null,null,null,null,null,null,null,null,null,null,null,0]
[null,null,null,null,null,null,null,null,null,null,null,null,0]
[null,null,null,null,null,null,null,null,null,null,null,null,0]
[null,null,null,null,null,null,null,null,null,null,null,null,0]
[null,null,null,null,null,null,null,null,null,null,null,null,0]
[null,null,null,null,null,null,null,null,null,null,null,null,0]
[null,null,null,null,null,null,null,null,null,null,null,null,0]
[null,null,null,null,null,null,null,null,null,null,null,null,0]
[null,null,null,null,null,null,null,null,null,null,null,null,0]
[null,null,null,null,null,null,null,null,null,null,null,null,0]
[null,null,null,null,null,null,null,null,null,null,null,null,0]
[null,null,null,null,null,null,null,null,null,null,null,null,0]
[null,null,null,null,null,null,null,null,null,null,null,null,0]
[null,null,null,null,null,null,null,null,null,null,null,null,0]
[null,null,null,null,null,null,null,null,null,null,null,null,0]
[null,null,null,null,null,null,null,null,null,null,null,null,0]
[null,null,null,null,null,null,null,null,null,null,null,null,0]
[null,null,null,null,null,null,null,null,null,null,null,null,0]
[null,null,null,null,null,null,null,null,null,null,null,null,0]
[null,null,null,null,null,null,null,null,null,null,null,null,0]
[null,null,null,null,null,null,null,null,null,null,null,null,0]
[null,null,null,null,null,null,null,null,null,null,null,null,0]
[null,null,null,null,null,null,null,null,null,null,null,null,0]
[null,null,null,null,null,null,null,null,null,null,null,null,0]
[null,null,null,null,null,null,null,null,null,null,null,null,0]
[null,null,null,null,null,null,null,null,null,null,null,null,0]
[null,null,null,null,null,null,null,null,null,null,null,null,0]
[null,null,null,null,null,null,null,null,null,null,null,null,0]
[null,null,null,null,null,null,null,null,null,null,null,null,0]
[null,null,null,null,null,null,null,null,null,null,null,null,0]
[null,null,null,null,null,null,null,null,null,null,null,null,0]
[null,null,null,null,null,null,null,null,null,null,null,null,0]
[null,null,null,null,null,null,null,null,null,null,null,null,0]
[null,null,null,null,null,null,null,null,null,null,null,null,0]
[null,null,null,null,null,null,null,null,null,null,null,null,0]
[null,null,null,null,null,null,null,null,null,null,null,null,0]
[null,null,null,null,null,null,null,null,null,null,null,null,0]
[null,null,null,null,null,null,null,null,null,null,null,null,0]
[null,null,null,null,null,null,null,null,null,null,null,null,0]
[null,null,null,null,null,null,null,null,null,null,null,null,0]
[null,null,null,null,null,null,null,null,null,null,null,null,0]
[null,null,null,null,null,null,null,null,null,null,null,null,0]
[null,null,null,null,null,null,null,null,null,null,null,null,0]
[null,null,null,null,null,null,null,null,null,null,null,null,0]
[null,null,null,null,null,null,null,null,null,null,null,null,0]
[null,null,null,null,null,null,null,null,null,null,null,null,0]
[null,null,null,null,null,null,null,null,null,null,null,null,0]
[null,null,null,null,null,null,null,null,null,null,null,null,0]
[null,null,null,null,null,null,null,null,null,null,null,null,0]
[null,null,null,null,null,null,null,null,null,null,null,null,0]
[null,null,null,null,null,null,null,null,null,null,null,null,0]
[null,null,null,null,null,null,null,null,null,null,null,null,0]
[null,null,null,null,null,null,null,null,null,null,null,null,0]
[null,null,null,null,null,null,null,null,null,null,null,null,0]
[null,null,null,null,null,null,null,null,null,null,null,null,0]
[null,null,null,null,null,null,null,null,null,null,null,null,0]
[null,null,null,null,null,null,null,null,null,null,null,null,0]
[null,null,null,null,null,null,null,null,null,null,null,null,0]
[null,null,null,null,null,null,null,null,null,null,null,null,0]
[null,null,null,null,null,null,null,null,null,null,null,null,0]
[null,null,null,null,null,null,null,null,null,null,null,null,{"$f":"SUM(G1209:I1209)","v":0}]
[null,null,null,null,null,null,null,null,null,null,null,null,0]
[null,null,null,null,null,null,null,null,null,null,null,null,0]
[null,null,null,null,null,null,null,null,null,null,null,null,0]
[null,null,null,null,null,null,null,null,null,null,null,null,0]
[null,null,null,null,null,null,null,null,null,null,null,null,0]
[null,null,null,null,null,null,null,null,null,null,null,null,0]
[null,null,null,null,null,null,null,null,null,null,null,null,0]
[null,null,null,null,null,null,null,null,null,null,null,null,0]
[null,null,null,null,null,null,null,null,null,null,null,null,0]
[null,null,null,null,null,null,null,null,null,null,null,null,0]
[null,null,null,null,null,null,null,null,null,null,null,null,0]
[null,null,null,null,null,null,null,null,null,null,null,null,0]
[null,null,null,null,null,null,null,null,null,null,null,null,0]
[null,null,null,null,null,null,null,null,null,null,null,null,0]
[null,null,null,null,null,null,null,null,null,null,null,null,0]
[null,null,null,null,null,null,null,null,null,null,null,null,0]
[null,null,null,null,null,null,null,null,null,null,null,null,0]
[null,null,null,null,null,null,null,null,null,null,null,null,0]
[null,null,null,null,null,null,null,null,null,null,null,null,0]
[null,null,null,null,null,null,null,null,null,null,null,null,0]
[null,null,null,null,null,null,null,null,null,null,null,null,0]
[null,null,null,null,null,null,null,null,null,null,null,null,0]
[null,null,null,null,null,null,null,null,null,null,null,null,0]
[null,null,null,null,null,null,null,null,null,null,null,null,0]
[null,null,null,null,null,null,null,null,null,null,null,null,0]
[null,null,null,null,null,null,null,null,null,null,null,null,0]
[null,null,null,null,null,null,null,null,null,null,null,null,0]
[null,null,null,null,null,null,null,null,null,null,null,null,0]
[null,null,null,null,null,null,null,null,null,null,null,null,0]
[null,null,null,null,null,null,null,null,null,null,null,null,0]
[null,null,null,null,null,null,null,null,null,null,null,null,0]
[null,null,null,null,null,null,null,null,null,null,null,null,0]
[null,null,null,null,null,null,null,null,null,null,null,null,0]
[null,null,null,null,null,null,null,null,null,null,null,null,0]
[null,null,null,null,null,null,null,null,null,null,null,null,0]
[null,null,null,null,null,null,null,null,null,null,null,null,0]
[null,null,null,null,null,null,null,null,null,null,null,null,0]
[null,null,null,null,null,null,null,null,null,null,null,null,0]
[null,null,null,null,null,null,null,null,null,null,null,null,0]
[null,null,null,null,null,null,null,null,null,null,null,null,0]
[null,null,null,null,null,null,null,null,null,null,null,null,0]
[null,null,null,null,null,null,null,null,null,null,null,null,0]
[null,null,null,null,null,null,null,null,null,null,null,null,0]
[null,null,null,null,null,null,null,null,null,null,null,null,0]
[null,null,null,null,null,null,null,null,null,null,null,null,0]
[null,null,null,null,null,null,null,null,null,null,null,null,0]
[null,null,null,null,null,null,null,null,null,null,null,null,0]
[null,null,null,null,null,null,null,null,null,null,null,null,0]
[null,null,null,null,null,null,null,null,null,null,null,null,0]
[null,null,null,null,null,null,null,null,null,null,null,null,0]
[null,null,null,null,null,null,null,null,null,null,null,null,0]
[null,null,null,null,null,null,null,null,null,null,null,null,0]
[null,null,null,null,null,null,null,null,null,null,null,null,0]
[null,null,null,null,null,null,null,null,null,null,null,null,0]
[null,null,null,null,null,null,null,null,null,null,null,null,0]
[null,null,null,null,null,null,null,null,null,null,null,null,0]
[null,null,null,null,null,null,null,null,null,null,null,null,0]
[null,null,null,null,null,null,null,null,null,null,null,null,0]
[null,null,null,null,null,null,null,null,null,null,null,null,0]
[null,null,null,null,null,null,null,null,null,null,null,null,0]
[null,null,null,null,null,null,null,null,null,null,null,null,0]
[null,null,null,null,null,null,null,null,null,null,null,null,0]
[null,null,null,null,null,null,null,null,null,null,null,null,0]
[null,null,null,null,null,null,null,null,null,null,null,null,0]
[null,null,null,null,null,null,null,null,null,null,null,null,0]
[null,null,null,null,null,null,null,null,null,null,null,null,0]
[null,null,null,null,null,null,null,null,null,null,null,null,0]
[null,null,null,null,null,null,null,null,null,null,null,null,0]
[null,null,null,null,null,null,null,null,null,null,null,null,0]
[null,null,null,null,null,null,null,null,null,null,null,null,0]
[null,null,null,null,null,null,null,null,null,null,null,null,0]
[null,null,null,null,null,null,null,null,null,null,null,null,0]
[null,null,null,null,null,null,null,null,null,null,null,null,0]
[null,null,null,null,null,null,null,null,null,null,null,null,0]
[null,null,null,null,null,null,null,null,null,null,null,null,0]
[null,null,null,null,null,null,null,null,null,null,null,null,0]
[null,null,null,null,null,null,null,null,null,null,null,null,0]
[null,null,null,null,null,null,null,null,null,null,null,null,0]
[null,null,null,null,null,null,null,null,null,null,null,null,0]
[null,null,null,null,null,null,null,null,null,null,null,null,0]
[null,null,null,null,null,null,null,null,null,null,null,null,0]
[null,null,null,null,null,null,null,null,null,null,null,null,0]
[null,null,null,null,null,null,null,null,null,null,null,null,0]
[null,null,null,null,null,null,null,null,null,null,null,null,0]
[null,null,null,null,null,null,null,null,null,null,null,null,0]
[null,null,null,null,null,null,null,null,null,null,null,null,0]
[null,null,null,null,null,null,null,null,null,null,null,null,0]
[null,null,null,null,null,null,null,null,null,null,null,null,0]
[null,null,null,null,null,null,null,null,null,null,null,null,0]
[null,null,null,null,null,null,null,null,null,null,null,null,0]
[null,null,null,null,null,null,null,null,null,null,null,null,0]
[null,null,null,null,null,null,null,null,null,null,null,null,0]
[null,null,null,null,null,null,null,null,null,null,null,null,0]
[null,null,null,null,null,null,null,null,null,null,null,null,0]
[null,null,null,null,null,null,null,null,null,null,null,null,0]
[null,null,null,null,null,null,null,null,null,null,null,null,0]
[null,null,null,null,null,null,null,null,null,null,null,null,0]
[null,null,null,null,null,null,null,null,null,null,null,null,0]
[null,null,null,null,null,null,null,null,null,null,null,null,0]
[null,null,null,null,null,null,null,null,null,null,null,null,0]
[null,null,null,null,null,null,null,null,null,null,null,null,0]
[null,null,null,null,null,null,null,null,null,null,null,null,0]
[null,null,null,null,null,null,null,null,null,null,null,null,0]
[null,null,null,null,null,null,null,null,null,null,null,null,0]
[null,null,null,null,null,null,null,null,null,null,null,null,0]
[null,null,null,null,null,null,null,null,null,null,null,null,0]
[null,null,null,null,null,null,null,null,null,null,null,null,0]
[null,null,null,null,null,null,null,null,null,null,null,null,0]
[null,null,null,null,null,null,null,null,null,null,null,null,0]
[null,null,null,null,null,null,null,null,null,null,null,null,0]
[null,null,null,null,null,null,null,null,null,null,null,null,0]
[null,null,null,null,null,null,null,null,null,null,null,null,0]
[null,null,null,null,null,null,null,null,null,null,null,null,0]
[null,null,null,null,null,null,null,null,null,null,null,null,0]
[null,null,null,null,null,null,null,null,null,null,null,null,0]
[null,null,null,null,null,null,null,null,null,null,null,null,0]
[null,null,null,null,null,null,null,null,null,null,null,null,0]
[null,null,null,null,null,null,null,null,null,null,null,null,0]
[null,null,null,null,null,null,null,null,null,null,null,null,0]
[null,null,null,null,null,null,null,null,null,null,null,null,0]
[null,null,null,null,null,null,null,null,null,null,null,null,0]
[null,null,null,null,null,null,null,null,null,null,null,null,0]
[null,null,null,null,null,null,null,null,null,null,null,null,0]
[null,null,null,null,null,null,null,null,null,null,null,null,0]
[null,null,null,null,null,null,null,null,null,null,null,null,0]
[null,null,null,null,null,null,null,null,null,null,null,null,0]
[null,null,null,null,null,null,null,null,null,null,null,null,0]
[null,null,null,null,null,null,null,null,null,null,null,null,0]
[null,null,null,null,null,null,null,null,null,null,null,null,0]
[null,null,null,null,null,null,null,null,null,null,null,null,0]
[null,null,null,null,null,null,null,null,null,null,null,null,0]
[null,null,null,null,null,null,null,null,null,null,null,null,0]
[null,null,null,null,null,null,null,null,null,null,null,null,{"$f":"SUM(G1342:I1342)","v":0}]
[null,null,null,null,null,null,null,null,null,null,null,null,0]
[null,null,null,null,null,null,null,null,null,null,null,null,0]
[null,null,null,null,null,null,null,null,null,null,null,null,0]
[null,null,null,null,null,null,null,null,null,null,null,null,0]
[null,null,null,null,null,null,null,null,null,null,null,null,0]
[null,null,null,null,null,null,null,null,null,null,null,null,0]
[null,null,null,null,null,null,null,null,null,null,null,null,0]
[null,null,null,null,null,null,null,null,null,null,null,null,0]
[null,null,null,null,null,null,null,null,null,null,null,null,0]
[null,null,null,null,null,null,null,null,null,null,null,null,0]
[null,null,null,null,null,null,null,null,null,null,null,null,0]
[null,null,null,null,null,null,null,null,null,null,null,null,0]
[null,null,null,null,null,null,null,null,null,null,null,null,0]
[null,null,null,null,null,null,null,null,null,null,null,null,0]
[null,null,null,null,null,null,null,null,null,null,null,null,0]
[null,null,null,null,null,null,null,null,null,null,null,null,0]
[null,null,null,null,null,null,null,null,null,null,null,null,0]
[null,null,null,null,null,null,null,null,null,null,null,null,0]
[null,null,null,null,null,null,null,null,null,null,null,null,0]
[null,null,null,null,null,null,null,null,null,null,null,null,0]
[null,null,null,null,null,null,null,null,null,null,null,null,0]
[null,null,null,null,null,null,null,null,null,null,null,null,0]
[null,null,null,null,null,null,null,null,null,null,null,null,0]
[null,null,null,null,null,null,null,null,null,null,null,null,0]
[null,null,null,null,null,null,null,null,null,null,null,null,0]
[null,null,null,null,null,null,null,null,null,null,null,null,0]
[null,null,null,null,null,null,null,null,null,null,null,null,0]
[null,null,null,null,null,null,null,null,null,null,null,null,0]
[null,null,null,null,null,null,null,null,null,null,null,null,0]
[null,null,null,null,null,null,null,null,null,null,null,null,0]
[null,null,null,null,null,null,null,null,null,null,null,null,0]
[null,null,null,null,null,null,null,null,null,null,null,null,0]
[null,null,null,null,null,null,null,null,null,null,null,null,0]
[null,null,null,null,null,null,null,null,null,null,null,null,0]
[null,null,null,null,null,null,null,null,null,null,null,null,0]
[null,null,null,null,null,null,null,null,null,null,null,null,0]
[null,null,null,null,null,null,null,null,null,null,null,null,0]
[null,null,null,null,null,null,null,null,null,null,null,null,0]
[null,null,null,null,null,null,null,null,null,null,null,null,0]
[null,null,null,null,null,null,null,null,null,null,null,null,0]
[null,null,null,null,null,null,null,null,null,null,null,null,0]
[null,null,null,null,null,null,null,null,null,null,null,null,0]
[null,null,null,null,null,null,null,null,null,null,null,null,0]
[null,null,null,null,null,null,null,null,null,null,null,null,0]
[null,null,null,null,null,null,null,null,null,null,null,null,0]
[null,null,null,null,null,null,null,null,null,null,null,null,0]
[null,null,null,null,null,null,null,null,null,null,null,null,0]
[null,null,null,null,null,null,null,null,null,null,null,null,0]
[null,null,null,null,null,null,null,null,null,null,null,null,0]
[null,null,null,null,null,null,null,null,null,null,null,null,0]
[null,null,null,null,null,null,null,null,null,null,null,null,0]
[null,null,null,null,null,null,null,null,null,null,null,null,0]
[null,null,null,null,null,null,null,null,null,null,null,null,0]
[null,null,null,null,null,null,null,null,null,null,null,null,0]
[null,null,null,null,null,null,null,null,null,null,null,null,0]
[null,null,null,null,null,null,null,null,null,null,null,null,0]
[null,null,null,null,null,null,null,null,null,null,null,null,0]
[null,null,null,null,null,null,null,null,null,null,null,null,0]
[null,null,null,null,null,null,null,null,null,null,null,null,0]
[null,null,null,null,null,null,null,null,null,null,null,null,0]
[null,null,null,null,null,null,null,null,null,null,null,null,0]
[null,null,null,null,null,null,null,null,null,null,null,null,0]
[null,null,null,null,null,null,null,null,null,null,null,null,0]
[null,null,null,null,null,null,null,null,null,null,null,null,0]
[null,null,null,null,null,null,null,null,null,null,null,null,0]
[null,null,null,null,null,null,null,null,null,null,null,null,0]
[null,null,null,null,null,null,null,null,null,null,null,null,0]
[null,null,null,null,null,null,null,null,null,null,null,null,0]
[null,null,null,null,null,null,null,null,null,null,null,null,0]
[null,null,null,null,null,null,null,null,null,null,null,null,0]
[null,null,null,null,null,null,null,null,null,null,null,null,0]
[null,null,null,null,null,null,null,null,null,null,null,null,0]
[null,null,null,null,null,null,null,null,null,null,null,null,0]
[null,null,null,null,null,null,null,null,null,null,null,null,0]
[null,null,null,null,null,null,null,null,null,null,null,null,0]
[null,null,null,null,null,null,null,null,null,null,null,null,0]
[null,null,null,null,null,null,null,null,null,null,null,null,0]
[null,null,null,null,null,null,null,null,null,null,null,null,0]
[null,null,null,null,null,null,null,null,null,null,null,null,0]
[null,null,null,null,null,null,null,null,null,null,null,null,0]
[null,null,null,null,null,null,null,null,null,null,null,null,0]
[null,null,null,null,null,null,null,null,null,null,null,null,0]
[null,null,null,null,null,null,null,null,null,null,null,null,0]
[null,null,null,null,null,null,null,null,null,null,null,null,0]
[null,null,null,null,null,null,null,null,null,null,null,null,0]
[null,null,null,null,null,null,null,null,null,null,null,null,0]
[null,null,null,null,null,null,null,null,null,null,null,null,0]
[null,null,null,null,null,null,null,null,null,null,null,null,0]
[null,null,null,null,null,null,null,null,null,null,null,null,0]
[null,null,null,null,null,null,null,null,null,null,null,null,0]
[null,null,null,null,null,null,null,null,null,null,null,null,0]
[null,null,null,null,null,null,null,null,null,null,null,null,0]
[null,null,null,null,null,null,null,null,null,null,null,null,0]
[null,null,null,null,null,null,null,null,null,null,null,null,0]
[null,null,null,null,null,null,null,null,null,null,null,null,0]
[null,null,null,null,null,null,null,null,null,null,null,null,0]
[null,null,null,null,null,null,null,null,null,null,null,null,0]
[null,null,null,null,null,null,null,null,null,null,null,null,0]
[null,null,null,null,null,null,null,null,null,null,null,null,0]
[null,null,null,null,null,null,null,null,null,null,null,null,0]
[null,null,null,null,null,null,null,null,null,null,null,null,0]
[null,null,null,null,null,null,null,null,null,null,null,null,0]
[null,null,null,null,null,null,null,null,null,null,null,null,0]
[null,null,null,null,null,null,null,null,null,null,null,null,0]
[null,null,null,null,null,null,null,null,null,null,null,null,0]
[null,null,null,null,null,null,null,null,null,null,null,null,0]
[null,null,null,null,null,null,null,null,null,null,null,null,0]
[null,null,null,null,null,null,null,null,null,null,null,null,0]
[null,null,null,null,null,null,null,null,null,null,null,null,0]
[null,null,null,null,null,null,null,null,null,null,null,null,0]
[null,null,null,null,null,null,null,null,null,null,null,null,0]
[null,null,null,null,null,null,null,null,null,null,null,null,0]
[null,null,null,null,null,null,null,null,null,null,null,null,0]
[null,null,null,null,null,null,null,null,null,null,null,null,0]
[null,null,null,null,null,null,null,null,null,null,null,null,{"$f":"SUM(G1457:I1457)","v":0}]
[null,null,null,null,null,null,null,null,null,null,null,null,0]
[null,null,null,null,null,null,null,null,null,null,null,null,0]
[null,null,null,null,null,null,null,null,null,null,null,null,0]
[null,null,null,null,null,null,null,null,null,null,null,null,0]
[null,null,null,null,null,null,null,null,null,null,null,null,0]
[null,null,null,null,null,null,null,null,null,null,null,null,0]
[null,null,null,null,null,null,null,null,null,null,null,null,0]
[null,null,null,null,null,null,null,null,null,null,null,null,0]
[null,null,null,null,null,null,null,null,null,null,null,null,0]
[null,null,null,null,null,null,null,null,null,null,null,null,0]
[null,null,null,null,null,null,null,null,null,null,null,null,0]
[null,null,null,null,null,null,null,null,null,null,null,null,0]
[null,null,null,null,null,null,null,null,null,null,null,null,0]
[null,null,null,null,null,null,null,null,null,null,null,null,0]
[null,null,null,null,null,null,null,null,null,null,null,null,0]
[null,null,null,null,null,null,null,null,null,null,null,null,0]
[null,null,null,null,null,null,null,null,null,null,null,null,0]
[null,null,null,null,null,null,null,null,null,null,null,null,0]
[null,null,null,null,null,null,null,null,null,null,null,null,0]
[null,null,null,null,null,null,null,null,null,null,null,null,0]
[null,null,null,null,null,null,null,null,null,null,null,null,0]
[null,null,null,null,null,null,null,null,null,null,null,null,0]
[null,null,null,null,null,null,null,null,null,null,null,null,0]
[null,null,null,null,null,null,null,null,null,null,null,null,0]
[null,null,null,null,null,null,null,null,null,null,null,null,0]
[null,null,null,null,null,null,null,null,null,null,null,null,0]
[null,null,null,null,null,null,null,null,null,null,null,null,0]
[null,null,null,null,null,null,null,null,null,null,null,null,0]
[null,null,null,null,null,null,null,null,null,null,null,null,0]
[null,null,null,null,null,null,null,null,null,null,null,null,0]
[null,null,null,null,null,null,null,null,null,null,null,null,0]
[null,null,null,null,null,null,null,null,null,null,null,null,0]
[null,null,null,null,null,null,null,null,null,null,null,null,0]
[null,null,null,null,null,null,null,null,null,null,null,null,0]
[null,null,null,null,null,null,null,null,null,null,null,null,0]
[null,null,null,null,null,null,null,null,null,null,null,null,0]
[null,null,null,null,null,null,null,null,null,null,null,null,0]
[null,null,null,null,null,null,null,null,null,null,null,null,0]
[null,null,null,null,null,null,null,null,null,null,null,null,0]
[null,null,null,null,null,null,null,null,null,null,null,null,0]
[null,null,null,null,null,null,null,null,null,null,null,null,0]
[null,null,null,null,null,null,null,null,null,null,null,null,0]
[null,null,null,null,null,null,null,null,null,null,null,null,0]
[null,null,null,null,null,null,null,null,null,null,null,null,0]
[null,null,null,null,null,null,null,null,null,null,null,null,0]
[null,null,null,null,null,null,null,null,null,null,null,null,0]
[null,null,null,null,null,null,null,null,null,null,null,null,0]
[null,null,null,null,null,null,null,null,null,null,null,null,0]
[null,null,null,null,null,null,null,null,null,null,null,null,0]
[null,null,null,null,null,null,null,null,null,null,null,null,0]
[null,null,null,null,null,null,null,null,null,null,null,null,0]
[null,null,null,null,null,null,null,null,null,null,null,null,0]
[null,null,null,null,null,null,null,null,null,null,null,null,0]
[null,null,null,null,null,null,null,null,null,null,null,null,0]
[null,null,null,null,null,null,null,null,null,null,null,null,0]
[null,null,null,null,null,null,null,null,null,null,null,null,0]
[null,null,null,null,null,null,null,null,null,null,null,null,0]
[null,null,null,null,null,null,null,null,null,null,null,null,0]
[null,null,null,null,null,null,null,null,null,null,null,null,0]
[null,null,null,null,null,null,null,null,null,null,null,null,0]
[null,null,null,null,null,null,null,null,null,null,null,null,0]
[null,null,null,null,null,null,null,null,null,null,null,null,0]
[null,null,null,null,null,null,null,null,null,null,null,null,0]
[null,null,null,null,null,null,null,null,null,null,null,null,0]
[null,null,null,null,null,null,null,null,null,null,null,null,0]
[null,null,null,null,null,null,null,null,null,null,null,null,0]
[null,null,null,null,null,null,null,null,null,null,null,null,0]
[null,null,null,null,null,null,null,null,null,null,null,null,0]
[null,null,null,null,null,null,null,null,null,null,null,null,0]
[null,null,null,null,null,null,null,null,null,null,null,null,0]
[null,null,null,null,null,null,null,null,null,null,null,null,0]
[null,null,null,null,null,null,null,null,null,null,null,null,0]
[null,null,null,null,null,null,null,null,null,null,null,null,0]
[null,null,null,null,null,null,null,null,null,null,null,null,0]
[null,null,null,null,null,null,null,null,null,null,null,null,0]
[null,null,null,null,null,null,null,null,null,null,null,null,0]
[null,null,null,null,null,null,null,null,null,null,null,null,0]
[null,null,null,null,null,null,null,null,null,null,null,null,0]
[null,null,null,null,null,null,null,null,null,null,null,null,0]
[null,null,null,null,null,null,null,null,null,null,null,null,0]
[null,null,null,null,null,null,null,null,null,null,null,null,0]
[null,null,null,null,null,null,null,null,null,null,null,null,0]
[null,null,null,null,null,null,null,null,null,null,null,null,0]
[null,null,null,null,null,null,null,null,null,null,null,null,0]
[null,null,null,null,null,null,null,null,null,null,null,null,0]
[null,null,null,null,null,null,null,null,null,null,null,null,0]
[null,null,null,null,null,null,null,null,null,null,null,null,0]
[null,null,null,null,null,null,null,null,null,null,null,null,0]
[null,null,null,null,null,null,null,null,null,null,null,null,0]
[null,null,null,null,null,null,null,null,null,null,null,null,0]
[null,null,null,null,null,null,null,null,null,null,null,null,0]
[null,null,null,null,null,null,null,null,null,null,null,null,0]
[null,null,null,null,null,null,null,null,null,null,null,null,0]
[null,null,null,null,null,null,null,null,null,null,null,null,0]
[null,null,null,null,null,null,null,null,null,null,null,null,0]
[null,null,null,null,null,null,null,null,null,null,null,null,0]
[null,null,null,null,null,null,null,null,null,null,null,null,0]
[null,null,null,null,null,null,null,null,null,null,null,null,0]
[null,null,null,null,null,null,null,null,null,null,null,null,0]
[null,null,null,null,null,null,null,null,null,null,null,null,0]
[null,null,null,null,null,null,null,null,null,null,null,null,0]
[null,null,null,null,null,null,null,null,null,null,null,null,0]
[null,null,null,null,null,null,null,null,null,null,null,null,0]
[null,null,null,null,null,null,null,null,null,null,null,null,0]
[null,null,null,null,null,null,null,null,null,null,null,null,0]
[null,null,null,null,null,null,null,null,null,null,null,null,0]
[null,null,null,null,null,null,null,null,null,null,null,null,0]
[null,null,null,null,null,null,null,null,null,null,null,null,0]
[null,null,null,null,null,null,null,null,null,null,null,null,0]
[null,null,null,null,null,null,null,null,null,null,null,null,0]
[null,null,null,null,null,null,null,null,null,null,null,null,0]
[null,null,null,null,null,null,null,null,null,null,null,null,0]
[null,null,null,null,null,null,null,null,null,null,null,null,0]
[null,null,null,null,null,null,null,null,null,null,null,null,0]
[null,null,null,null,null,null,null,null,null,null,null,null,0]
[null,null,null,null,null,null,null,null,null,null,null,null,0]
[null,null,null,null,null,null,null,null,null,null,null,null,0]
[null,null,null,null,null,null,null,null,null,null,null,null,0]
[null,null,null,null,null,null,null,null,null,null,null,null,0]
[null,null,null,null,null,null,null,null,null,null,null,null,0]
[null,null,null,null,null,null,null,null,null,null,null,null,0]
[null,null,null,null,null,null,null,null,null,null,null,null,0]
[null,null,null,null,null,null,null,null,null,null,null,null,0]
[null,null,null,null,null,null,null,null,null,null,null,null,0]
[null,null,null,null,null,null,null,null,null,null,null,null,0]
[null,null,null,null,null,null,null,null,null,null,null,null,0]
[null,null,null,null,null,null,null,null,null,null,null,null,0]
[null,null,null,null,null,null,null,null,null,null,null,null,0]
[null,null,null,null,null,null,null,null,null,null,null,null,0]
[null,null,null,null,null,null,null,null,null,null,null,null,0]
[null,null,null,null,null,null,null,null,null,null,null,null,0]
[null,null,null,null,null,null,null,null,null,null,null,null,0]
[null,null,null,null,null,null,null,null,null,null,null,null,{"$f":"SUM(G1590:I1590)","v":0}]
[null,null,null,null,null,null,null,null,null,null,null,null,0]
[null,null,null,null,null,null,null,null,null,null,null,null,0]
[null,null,null,null,null,null,null,null,null,null,null,null,0]
[null,null,null,null,null,null,null,null,null,null,null,null,0]
[null,null,null,null,null,null,null,null,null,null,null,null,0]
[null,null,null,null,null,null,null,null,null,null,null,null,0]
[null,null,null,null,null,null,null,null,null,null,null,null,0]
[null,null,null,null,null,null,null,null,null,null,null,null,0]
[null,null,null,null,null,null,null,null,null,null,null,null,0]
[null,null,null,null,null,null,null,null,null,null,null,null,0]
[null,null,null,null,null,null,null,null,null,null,null,null,0]
[null,null,null,null,null,null,null,null,null,null,null,null,0]
[null,null,null,null,null,null,null,null,null,null,null,null,0]
[null,null,null,null,null,null,null,null,null,null,null,null,0]
[null,null,null,null,null,null,null,null,null,null,null,null,0]
[null,null,null,null,null,null,null,null,null,null,null,null,0]
[null,null,null,null,null,null,null,null,null,null,null,null,0]
[null,null,null,null,null,null,null,null,null,null,null,null,0]
[null,null,null,null,null,null,null,null,null,null,null,null,0]
[null,null,null,null,null,null,null,null,null,null,null,null,0]
[null,null,null,null,null,null,null,null,null,null,null,null,0]
[null,null,null,null,null,null,null,null,null,null,null,null,0]
[null,null,null,null,null,null,null,null,null,null,null,null,0]
[null,null,null,null,null,null,null,null,null,null,null,null,0]
[null,null,null,null,null,null,null,null,null,null,null,null,0]
[null,null,null,null,null,null,null,null,null,null,null,null,0]
[null,null,null,null,null,null,null,null,null,null,null,null,0]
[null,null,null,null,null,null,null,null,null,null,null,null,0]
[null,null,null,null,null,null,null,null,null,null,null,null,0]
[null,null,null,null,null,null,null,null,null,null,null,null,0]
[null,null,null,null,null,null,null,null,null,null,null,null,0]
[null,null,null,null,null,null,null,null,null,null,null,null,0]
[null,null,null,null,null,null,null,null,null,null,null,null,0]
[null,null,null,null,null,null,null,null,null,null,null,null,0]
[null,null,null,null,null,null,null,null,null,null,null,null,0]
[null,null,null,null,null,null,null,null,null,null,null,null,0]
[null,null,null,null,null,null,null,null,null,null,null,null,0]
[null,null,null,null,null,null,null,null,null,null,null,null,0]
[null,null,null,null,null,null,null,null,null,null,null,null,0]
[null,null,null,null,null,null,null,null,null,null,null,null,0]
[null,null,null,null,null,null,null,null,null,null,null,null,0]
[null,null,null,null,null,null,null,null,null,null,null,null,0]
[null,null,null,null,null,null,null,null,null,null,null,null,0]
[null,null,null,null,null,null,null,null,null,null,null,null,0]
[null,null,null,null,null,null,null,null,null,null,null,null,0]
[null,null,null,null,null,null,null,null,null,null,null,null,0]
[null,null,null,null,null,null,null,null,null,null,null,null,0]
[null,null,null,null,null,null,null,null,null,null,null,null,0]
[null,null,null,null,null,null,null,null,null,null,null,null,0]
[null,null,null,null,null,null,null,null,null,null,null,null,0]
[null,null,null,null,null,null,null,null,null,null,null,null,0]
[null,null,null,null,null,null,null,null,null,null,null,null,0]
[null,null,null,null,null,null,null,null,null,null,null,null,0]
[null,null,null,null,null,null,null,null,null,null,null,null,0]
[null,null,null,null,null,null,null,null,null,null,null,null,0]
[null,null,null,null,null,null,null,null,null,null,null,null,0]
[null,null,null,null,null,null,null,null,null,null,null,null,0]
[null,null,null,null,null,null,null,null,null,null,null,null,0]
[null,null,null,null,null,null,null,null,null,null,null,null,0]
[null,null,null,null,null,null,null,null,null,null,null,null,0]
[null,null,null,null,null,null,null,null,null,null,null,null,0]
[null,null,null,null,null,null,null,null,null,null,null,null,0]
[null,null,null,null,null,null,null,null,null,null,null,null,0]
[null,null,null,null,null,null,null,null,null,null,null,null,0]
[null,null,null,null,null,null,null,null,null,null,null,null,0]
[null,null,null,null,null,null,null,null,null,null,null,null,0]
[null,null,null,null,null,null,null,null,null,null,null,null,0]
[null,null,null,null,null,null,null,null,null,null,null,null,0]
[null,null,null,null,null,null,null,null,null,null,null,null,0]
[null,null,null,null,null,null,null,null,null,null,null,null,0]
[null,null,null,null,null,null,null,null,null,null,null,null,0]
[null,null,null,null,null,null,null,null,null,null,null,null,0]
[null,null,null,null,null,null,null,null,null,null,null,null,0]
[null,null,null,null,null,null,null,null,null,null,null,null,0]
[null,null,null,null,null,null,null,null,null,null,null,null,0]
[null,null,null,null,null,null,null,null,null,null,null,null,0]
[null,null,null,null,null,null,null,null,null,null,null,null,0]
[null,null,null,null,null,null,null,null,null,null,null,null,0]
[null,null,null,null,null,null,null,null,null,null,null,null,0]
[null,null,null,null,null,null,null,null,null,null,null,null,0]
[null,null,null,null,null,null,null,null,null,null,null,null,0]
[null,null,null,null,null,null,null,null,null,null,null,null,0]
[null,null,null,null,null,null,null,null,null,null,null,null,0]
[null,null,null,null,null,null,null,null,null,null,null,null,0]
[null,null,null,null,null,null,null,null,null,null,null,null,0]
[null,null,null,null,null,null,null,null,null,null,null,null,0]
[null,null,null,null,null,null,null,null,null,null,null,null,0]
[null,null,null,null,null,null,null,null,null,null,null,null,0]
[null,null,null,null,null,null,null,null,null,null,null,null,0]
[null,null,null,null,null,null,null,null,null,null,null,null,0]
[null,null,null,null,null,null,null,null,null,null,null,null,0]
[null,null,null,null,null,null,null,null,null,null,null,null,0]
[null,null,null,null,null,null,null,null,null,null,null,null,0]
[null,null,null,null,null,null,null,null,null,null,null,null,0]
[null,null,null,null,null,null,null,null,null,null,null,null,0]
[null,null,null,null,null,null,null,null,null,null,null,null,0]
[null,null,null,null,null,null,null,null,null,null,null,null,0]
[null,null,null,null,null,null,null,null,null,null,null,null,0]
[null,null,null,null,null,null,null,null,null,null,null,null,0]
[null,null,null,null,null,null,null,null,null,null,null,null,0]
[null,null,null,null,null,null,null,null,null,null,null,null,0]
[null,null,null,null,null,null,null,null,null,null,null,null,0]
[null,null,null,null,null,null,null,null,null,null,null,null,0]
[null,null,null,null,null,null,null,null,null,null,null,null,0]
[null,null,null,null,null,null,null,null,null,null,null,null,0]
[null,null,null,null,null,null,null,null,null,null,null,null,0]
[null,null,null,null,null,null,null,null,null,null,null,null,0]
[null,null,null,null,null,null,null,null,null,null,null,null,0]
[null,null,null,null,null,null,null,null,null,null,null,null,0]
[null,null,null,null,null,null,null,null,null,null,null,null,0]
[null,null,null,null,null,null,null,null,null,null,null,null,0]
[null,null,null,null,null,null,null,null,null,null,null,null,0]
[null,null,null,null,null,null,null,null,null,null,null,null,0]
[null,null,null,null,null,null,null,null,null,null,null,null,0]
[null,null,null,null,null,null,null,null,null,null,null,null,0]
[null,null,null,null,null,null,null,null,null,null,null,null,0]
[null,null,null,null,null,null,null,null,null,null,null,null,0]
[null,null,null,null,null,null,null,null,null,null,null,null,0]
[null,null,null,null,null,null,null,null,null,null,null,null,0]
[null,null,null,null,null,null,null,null,null,null,null,null,0]
[null,null,null,null,null,null,null,null,null,null,null,null,0]
[null,null,null,null,null,null,null,null,null,null,null,null,0]
[null,null,null,null,null,null,null,null,null,null,null,null,0]
[null,null,null,null,null,null,null,null,null,null,null,null,0]
[null,null,null,null,null,null,null,null,null,null,null,null,0]
[null,null,null,null,null,null,null,null,null,null,null,null,0]
[null,null,null,null,null,null,null,null,null,null,null,null,0]
[null,null,null,null,null,null,null,null,null,null,null,null,0]
[null,null,null,null,null,null,null,null,null,null,null,null,0]
[null,null,null,null,null,null,null,null,null,null,null,null,0]
[null,null,null,null,null,null,null,null,null,null,null,null,0]
[null,null,null,null,null,null,null,null,null,null,null,null,0]
[null,null,null,null,null,null,null,null,null,null,null,null,0]
[null,null,null,null,null,null,null,null,null,null,null,null,0]
[null,null,null,null,null,null,null,null,null,null,null,null,0]
[null,null,null,null,null,null,null,null,null,null,null,null,0]
[null,null,null,null,null,null,null,null,null,null,null,null,0]
[null,null,null,null,null,null,null,null,null,null,null,null,0]
[null,null,null,null,null,null,null,null,null,null,null,null,0]
[null,null,null,null,null,null,null,null,null,null,null,null,0]
[null,null,null,null,null,null,null,null,null,null,null,null,0]
[null,null,null,null,null,null,null,null,null,null,null,null,0]
[null,null,null,null,null,null,null,null,null,null,null,null,0]
[null,null,null,null,null,null,null,null,null,null,null,null,0]
[null,null,null,null,null,null,null,null,null,null,null,null,0]
[null,null,null,null,null,null,null,null,null,null,null,null,0]
[null,null,null,null,null,null,null,null,null,null,null,null,0]
[null,null,null,null,null,null,null,null,null,null,null,null,0]
[null,null,null,null,null,null,null,null,null,null,null,null,0]
[null,null,null,null,null,null,null,null,null,null,null,null,0]
[null,null,null,null,null,null,null,null,null,null,null,null,0]
[null,null,null,null,null,null,null,null,null,null,null,null,0]
[null,null,null,null,null,null,null,null,null,null,null,null,0]
[null,null,null,null,null,null,null,null,null,null,null,null,0]
[null,null,null,null,null,null,null,null,null,null,null,null,0]
[null,null,null,null,null,null,null,null,null,null,null,null,0]
[null,null,null,null,null,null,null,null,null,null,null,null,0]
[null,null,null,null,null,null,null,null,null,null,null,null,0]
[null,null,null,null,null,null,null,null,null,null,null,null,0]
[null,null,null,null,null,null,null,null,null,null,null,null,0]
[null,null,null,null,null,null,null,null,null,null,null,null,0]
[null,null,null,null,null,null,null,null,null,null,null,null,0]
[null,null,null,null,null,null,null,null,null,null,null,null,0]
[null,null,null,null,null,null,null,null,null,null,null,null,0]
[null,null,null,null,null,null,null,null,null,null,null,null,0]
[null,null,null,null,null,null,null,null,null,null,null,null,0]
[null,null,null,null,null,null,null,null,null,null,null,null,0]
[null,null,null,null,null,null,null,null,null,null,null,null,0]
[null,null,null,null,null,null,null,null,null,null,null,null,0]
[null,null,null,null,null,null,null,null,null,null,null,null,0]
[null,null,null,null,null,null,null,null,null,null,null,null,0]
[null,null,null,null,null,null,null,null,null,null,null,null,0]
[null,null,null,null,null,null,null,null,null,null,null,null,0]
[null,null,null,null,null,null,null,null,null,null,null,null,0]
[null,null,null,null,null,null,null,null,null,null,null,null,0]
[null,null,null,null,null,null,null,null,null,null,null,null,0]
[null,null,null,null,null,null,null,null,null,null,null,null,0]
[null,null,null,null,null,null,null,null,null,null,null,null,0]
[null,null,null,null,null,null,null,null,null,null,null,null,0]
[null,null,null,null,null,null,null,null,null,null,null,null,0]
[null,null,null,null,null,null,null,null,null,null,null,null,0]
[null,null,null,null,null,null,null,null,null,null,null,null,0]
[null,null,null,null,null,null,null,null,null,null,null,null,0]
[null,null,null,null,null,null,null,null,null,null,null,null,0]
[null,null,null,null,null,null,null,null,null,null,null,null,0]
[null,null,null,null,null,null,null,null,null,null,null,null,0]
[null,null,null,null,null,null,null,null,null,null,null,null,0]
[null,null,null,null,null,null,null,null,null,null,null,null,0]
[null,null,null,null,null,null,null,null,null,null,null,null,0]
[null,null,null,null,null,null,null,null,null,null,null,null,0]
[null,null,null,null,null,null,null,null,null,null,null,null,0]
[null,null,null,null,null,null,null,null,null,null,null,null,0]
[null,null,null,null,null,null,null,null,null,null,null,null,0]
[null,null,null,null,null,null,null,null,null,null,null,null,0]
[null,null,null,null,null,null,null,null,null,null,null,null,0]
[null,null,null,null,null,null,null,null,null,null,null,null,0]
[null,null,null,null,null,null,null,null,null,null,null,null,0]
[null,null,null,null,null,null,null,null,null,null,null,null,0]
[null,null,null,null,null,null,null,null,null,null,null,null,0]
[null,null,null,null,null,null,null,null,null,null,null,null,0]
[null,null,null,null,null,null,null,null,null,null,null,null,0]
[null,null,null,null,null,null,null,null,null,null,null,null,0]
[null,null,null,null,null,null,null,null,null,null,null,null,0]
[null,null,null,null,null,null,null,null,null,null,null,null,0]
[null,null,null,null,null,null,null,null,null,null,null,null,0]
[null,null,null,null,null,null,null,null,null,null,null,null,0]
[null,null,null,null,null,null,null,null,null,null,null,null,0]
[null,null,null,null,null,null,null,null,null,null,null,null,0]
[null,null,null,null,null,null,null,null,null,null,null,null,0]
[null,null,null,null,null,null,null,null,null,null,null,null,0]
[null,null,null,null,null,null,null,null,null,null,null,null,0]
[null,null,null,null,null,null,null,null,null,null,null,null,0]
[null,null,null,null,null,null,null,null,null,null,null,null,0]
[null,null,null,null,null,null,null,null,null,null,null,null,0]
[null,null,null,null,null,null,null,null,null,null,null,null,0]
[null,null,null,null,null,null,null,null,null,null,null,null,0]
[null,null,null,null,null,null,null,null,null,null,null,null,0]
[null,null,null,null,null,null,null,null,null,null,null,null,0]
[null,null,null,null,null,null,null,null,null,null,null,null,0]
[null,null,null,null,null,null,null,null,null,null,null,null,0]
[null,null,null,null,null,null,null,null,null,null,null,null,0]
[null,null,null,null,null,null,null,null,null,null,null,null,0]
[null,null,null,null,null,null,null,null,null,null,null,null,0]
[null,null,null,null,null,null,null,null,null,null,null,null,0]
[null,null,null,null,null,null,null,null,null,null,null,null,0]
[null,null,null,null,null,null,null,null,null,null,null,null,0]
[null,null,null,null,null,null,null,null,null,null,null,null,0]
[null,null,null,null,null,null,null,null,null,null,null,null,0]
[null,null,null,null,null,null,null,null,null,null,null,null,0]
[null,null,null,null,null,null,null,null,null,null,null,null,0]
[null,null,null,null,null,null,null,null,null,null,null,null,0]
[null,null,null,null,null,null,null,null,null,null,null,null,0]
[null,null,null,null,null,null,null,null,null,null,null,null,0]
[null,null,null,null,null,null,null,null,null,null,null,null,0]
[null,null,null,null,null,null,null,null,null,null,null,null,0]
[null,null,null,null,null,null,null,null,null,null,null,null,0]
[null,null,null,null,null,null,null,null,null,null,null,null,0]
[null,null,null,null,null,null,null,null,null,null,null,null,0]
[null,null,null,null,null,null,null,null,null,null,null,null,0]
[null,null,null,null,null,null,null,null,null,null,null,null,0]
[null,null,null,null,null,null,null,null,null,null,null,null,0]
[null,null,null,null,null,null,null,null,null,null,null,null,0]
[null,null,null,null,null,null,null,null,null,null,null,null,0]
[null,null,null,null,null,null,null,null,null,null,null,null,0]
[null,null,null,null,null,null,null,null,null,null,null,null,0]
[null,null,null,null,null,null,null,null,null,null,null,null,0]
[null,null,null,null,null,null,null,null,null,null,null,null,0]
[null,null,null,null,null,null,null,null,null,null,null,null,0]
[null,null,null,null,null,null,null,null,null,null,null,null,0]
[null,null,null,null,null,null,null,null,null,null,null,null,0]
[null,null,null,null,null,null,null,null,null,null,null,null,0]
[null,null,null,null,null,null,null,null,null,null,null,null,0]
[null,null,null,null,null,null,null,null,null,null,null,null,0]
[null,null,null,null,null,null,null,null,null,null,null,null,0]
[null,null,null,null,null,null,null,null,null,null,null,null,{"$f":"SUM(G1845:I1845)","v":0}]
[null,null,null,null,null,null,null,null,null,null,null,null,0]
[null,null,null,null,null,null,null,null,null,null,null,null,0]
[null,null,null,null,null,null,null,null,null,null,null,null,0]
[null,null,null,null,null,null,null,null,null,null,null,null,0]
[null,null,null,null,null,null,null,null,null,null,null,null,0]
[null,null,null,null,null,null,null,null,null,null,null,null,0]
[null,null,null,null,null,null,null,null,null,null,null,null,0]
[null,null,null,null,null,null,null,null,null,null,null,null,0]
[null,null,null,null,null,null,null,null,null,null,null,null,0]
[null,null,null,null,null,null,null,null,null,null,null,null,0]
[null,null,null,null,null,null,null,null,null,null,null,null,0]
[null,null,null,null,null,null,null,null,null,null,null,null,0]
[null,null,null,null,null,null,null,null,null,null,null,null,0]
[null,null,null,null,null,null,null,null,null,null,null,null,0]
[null,null,null,null,null,null,null,null,null,null,null,null,0]
[null,null,null,null,null,null,null,null,null,null,null,null,0]
[null,null,null,null,null,null,null,null,null,null,null,null,0]
[null,null,null,null,null,null,null,null,null,null,null,null,0]
[null,null,null,null,null,null,null,null,null,null,null,null,0]
[null,null,null,null,null,null,null,null,null,null,null,null,0]
[null,null,null,null,null,null,null,null,null,null,null,null,0]
[null,null,null,null,null,null,null,null,null,null,null,null,0]
[null,null,null,null,null,null,null,null,null,null,null,null,0]
[null,null,null,null,null,null,null,null,null,null,null,null,0]
[null,null,null,null,null,null,null,null,null,null,null,null,0]
[null,null,null,null,null,null,null,null,null,null,null,null,0]
[null,null,null,null,null,null,null,null,null,null,null,null,0]
[null,null,null,null,null,null,null,null,null,null,null,null,0]
[null,null,null,null,null,null,null,null,null,null,null,null,0]
[null,null,null,null,null,null,null,null,null,null,null,null,0]
[null,null,null,null,null,null,null,null,null,null,null,null,0]
[null,null,null,null,null,null,null,null,null,null,null,null,0]
[null,null,null,null,null,null,null,null,null,null,null,null,0]
[null,null,null,null,null,null,null,null,null,null,null,null,0]
[null,null,null,null,null,null,null,null,null,null,null,null,0]
[null,null,null,null,null,null,null,null,null,null,null,null,0]
[null,null,null,null,null,null,null,null,null,null,null,null,0]
[null,null,null,null,null,null,null,null,null,null,null,null,0]
[null,null,null,null,null,null,null,null,null,null,null,null,0]
[null,null,null,null,null,null,null,null,null,null,null,null,0]
[null,null,null,null,null,null,null,null,null,null,null,null,0]
[null,null,null,null,null,null,null,null,null,null,null,null,0]
[null,null,null,null,null,null,null,null,null,null,null,null,0]
[null,null,null,null,null,null,null,null,null,null,null,null,0]
[null,null,null,null,null,null,null,null,null,null,null,null,0]
[null,null,null,null,null,null,null,null,null,null,null,null,0]
[null,null,null,null,null,null,null,null,null,null,null,null,0]
[null,null,null,null,null,null,null,null,null,null,null,null,0]
[null,null,null,null,null,null,null,null,null,null,null,null,0]
[null,null,null,null,null,null,null,null,null,null,null,null,0]
[null,null,null,null,null,null,null,null,null,null,null,null,0]
[null,null,null,null,null,null,null,null,null,null,null,null,0]
[null,null,null,null,null,null,null,null,null,null,null,null,0]
[null,null,null,null,null,null,null,null,null,null,null,null,0]
[null,null,null,null,null,null,null,null,null,null,null,null,0]
[null,null,null,null,null,null,null,null,null,null,null,null,0]
[null,null,null,null,null,null,null,null,null,null,null,null,0]
[null,null,null,null,null,null,null,null,null,null,null,null,0]
[null,null,null,null,null,null,null,null,null,null,null,null,0]
[null,null,null,null,null,null,null,null,null,null,null,null,0]
[null,null,null,null,null,null,null,null,null,null,null,null,0]
[null,null,null,null,null,null,null,null,null,null,null,null,0]
[null,null,null,null,null,null,null,null,null,null,null,null,0]
[null,null,null,null,null,null,null,null,null,null,null,null,0]
[null,null,null,null,null,null,null,null,null,null,null,null,0]
[null,null,null,null,null,null,null,null,null,null,null,null,0]
[null,null,null,null,null,null,null,null,null,null,null,null,0]
[null,null,null,null,null,null,null,null,null,null,null,null,0]
[null,null,null,null,null,null,null,null,null,null,null,null,0]
[null,null,null,null,null,null,null,null,null,null,null,null,0]
[null,null,null,null,null,null,null,null,null,null,null,null,0]
[null,null,null,null,null,null,null,null,null,null,null,null,0]
[null,null,null,null,null,null,null,null,null,null,null,null,0]
[null,null,null,null,null,null,null,null,null,null,null,null,0]
[null,null,null,null,null,null,null,null,null,null,null,null,0]
[null,null,null,null,null,null,null,null,null,null,null,null,0]
[null,null,null,null,null,null,null,null,null,null,null,null,0]
[null,null,null,null,null,null,null,null,null,null,null,null,0]
[null,null,null,null,null,null,null,null,null,null,null,null,0]
[null,null,null,null,null,null,null,null,null,null,null,null,0]
[null,null,null,null,null,null,null,null,null,null,null,null,0]
[null,null,null,null,null,null,null,null,null,null,null,null,0]
[null,null,null,null,null,null,null,null,null,null,null,null,0]
[null,null,null,null,null,null,null,null,null,null,null,null,0]
[null,null,null,null,null,null,null,null,null,null,null,null,0]
[null,null,null,null,null,null,null,null,null,null,null,null,{"$f":"SUM(G1931:I1931)","v":0}]
[null,null,null,null,null,null,null,null,null,null,null,null,0]
[null,null,null,null,null,null,null,null,null,null,null,null,0]
[null,null,null,null,null,null,null,null,null,null,null,null,0]
[null,null,null,null,null,null,null,null,null,null,null,null,0]
[null,null,null,null,null,null,null,null,null,null,null,null,0]
[null,null,null,null,null,null,null,null,null,null,null,null,0]
[null,null,null,null,null,null,null,null,null,null,null,null,0]
[null,null,null,null,null,null,null,null,null,null,null,null,0]
[null,null,null,null,null,null,null,null,null,null,null,null,0]
[null,null,null,null,null,null,null,null,null,null,null,null,0]
[null,null,null,null,null,null,null,null,null,null,null,null,0]
[null,null,null,null,null,null,null,null,null,null,null,null,0]
[null,null,null,null,null,null,null,null,null,null,null,null,0]
[null,null,null,null,null,null,null,null,null,null,null,null,0]
[null,null,null,null,null,null,null,null,null,null,null,null,0]
[null,null,null,null,null,null,null,null,null,null,null,null,0]
[null,null,null,null,null,null,null,null,null,null,null,null,0]
[null,null,null,null,null,null,null,null,null,null,null,null,0]
[null,null,null,null,null,null,null,null,null,null,null,null,0]
[null,null,null,null,null,null,null,null,null,null,null,null,0]
[null,null,null,null,null,null,null,null,null,null,null,null,0]
[null,null,null,null,null,null,null,null,null,null,null,null,0]
[null,null,null,null,null,null,null,null,null,null,null,null,0]
[null,null,null,null,null,null,null,null,null,null,null,null,0]
[null,null,null,null,null,null,null,null,null,null,null,null,0]
[null,null,null,null,null,null,null,null,null,null,null,null,0]
[null,null,null,null,null,null,null,null,null,null,null,null,0]
[null,null,null,null,null,null,null,null,null,null,null,null,0]
[null,null,null,null,null,null,null,null,null,null,null,null,0]
[null,null,null,null,null,null,null,null,null,null,null,null,0]
[null,null,null,null,null,null,null,null,null,null,null,null,0]
[null,null,null,null,null,null,null,null,null,null,null,null,0]
[null,null,null,null,null,null,null,null,null,null,null,null,0]
[null,null,null,null,null,null,null,null,null,null,null,null,0]
[null,null,null,null,null,null,null,null,null,null,null,null,0]
[null,null,null,null,null,null,null,null,null,null,null,null,0]
[null,null,null,null,null,null,null,null,null,null,null,null,0]
[null,null,null,null,null,null,null,null,null,null,null,null,0]
[null,null,null,null,null,null,null,null,null,null,null,null,0]
[null,null,null,null,null,null,null,null,null,null,null,null,0]
[null,null,null,null,null,null,null,null,null,null,null,null,0]
[null,null,null,null,null,null,null,null,null,null,null,null,0]
[null,null,null,null,null,null,null,null,null,null,null,null,0]
[null,null,null,null,null,null,null,null,null,null,null,null,0]
[null,null,null,null,null,null,null,null,null,null,null,null,0]
[null,null,null,null,null,null,null,null,null,null,null,null,0]
[null,null,null,null,null,null,null,null,null,null,null,null,0]
[null,null,null,null,null,null,null,null,null,null,null,null,0]
[null,null,null,null,null,null,null,null,null,null,null,null,0]
[null,null,null,null,null,null,null,null,null,null,null,null,0]
[null,null,null,null,null,null,null,null,null,null,null,null,0]
[null,null,null,null,null,null,null,null,null,null,null,null,0]
[null,null,null,null,null,null,null,null,null,null,null,null,0]
[null,null,null,null,null,null,null,null,null,null,null,null,0]
[null,null,null,null,null,null,null,null,null,null,null,null,0]
[null,null,null,null,null,null,null,null,null,null,null,null,0]
[null,null,null,null,null,null,null,null,null,null,null,null,0]
[null,null,null,null,null,null,null,null,null,null,null,null,0]
[null,null,null,null,null,null,null,null,null,null,null,null,0]
[null,null,null,null,null,null,null,null,null,null,null,null,0]
[null,null,null,null,null,null,null,null,null,null,null,null,0]
[null,null,null,null,null,null,null,null,null,null,null,null,0]
[null,null,null,null,null,null,null,null,null,null,null,null,0]
[null,null,null,null,null,null,null,null,null,null,null,null,0]
[null,null,null,null,null,null,null,null,null,null,null,null,0]
[null,null,null,null,null,null,null,null,null,null,null,null,0]
[null,null,null,null,null,null,null,null,null,null,null,null,0]
[null,null,null,null,null,null,null,null,null,null,null,null,0]
[null,null,null,null,null,null,null,null,null,null,null,null,0]
[null,null,null,null,null,null,null,null,null,null,null,null,0]
[null,null,null,null,null,null,null,null,null,null,null,null,0]
[null,null,null,null,null,null,null,null,null,null,null,null,0]
[null,null,null,null,null,null,null,null,null,null,null,null,0]
[null,null,null,null,null,null,null,null,null,null,null,null,0]
[null,null,null,null,null,null,null,null,null,null,null,null,0]
[null,null,null,null,null,null,null,null,null,null,null,null,0]
[null,null,null,null,null,null,null,null,null,null,null,null,0]
[null,null,null,null,null,null,null,null,null,null,null,null,0]
[null,null,null,null,null,null,null,null,null,null,null,null,0]
[null,null,null,null,null,null,null,null,null,null,null,null,0]
[null,null,null,null,null,null,null,null,null,null,null,null,0]
[null,null,null,null,null,null,null,null,null,null,null,null,0]
[null,null,null,null,null,null,null,null,null,null,null,null,0]
[null,null,null,null,null,null,null,null,null,null,null,null,0]
[null,null,null,null,null,null,null,null,null,null,null,null,0]
[null,null,null,null,null,null,null,null,null,null,null,null,0]
[null,null,null,null,null,null,null,null,null,null,null,null,0]
[null,null,null,null,null,null,null,null,null,null,null,null,0]
[null,null,null,null,null,null,null,null,null,null,null,null,0]
[null,null,null,null,null,null,null,null,null,null,null,null,0]
[null,null,null,null,null,null,null,null,null,null,null,null,0]
[null,null,null,null,null,null,null,null,null,null,null,null,0]
[null,null,null,null,null,null,null,null,null,null,null,null,0]
[null,null,null,null,null,null,null,null,null,null,null,null,0]
[null,null,null,null,null,null,null,null,null,null,null,null,0]
[null,null,null,null,null,null,null,null,null,null,null,null,0]
[null,null,null,null,null,null,null,null,null,null,null,null,0]
[null,null,null,null,null,null,null,null,null,null,null,null,0]
[null,null,null,null,null,null,null,null,null,null,null,null,0]
[null,null,null,null,null,null,null,null,null,null,null,null,0]
[null,null,null,null,null,null,null,null,null,null,null,null,0]
[null,null,null,null,null,null,null,null,null,null,null,null,0]
[null,null,null,null,null,null,null,null,null,null,null,null,0]
[null,null,null,null,null,null,null,null,null,null,null,null,0]
[null,null,null,null,null,null,null,null,null,null,null,null,0]
[null,null,null,null,null,null,null,null,null,null,null,null,0]
[null,null,null,null,null,null,null,null,null,null,null,null,0]
[null,null,null,null,null,null,null,null,null,null,null,null,0]
[null,null,null,null,null,null,null,null,null,null,null,null,0]
[null,null,null,null,null,null,null,null,null,null,null,null,0]
[null,null,null,null,null,null,null,null,null,null,null,null,0]
[null,null,null,null,null,null,null,null,null,null,null,null,0]
[null,null,null,null,null,null,null,null,null,null,null,null,0]
[null,null,null,null,null,null,null,null,null,null,null,null,0]
[null,null,null,null,null,null,null,null,null,null,null,null,0]
[null,null,null,null,null,null,null,null,null,null,null,null,0]
[null,null,null,null,null,null,null,null,null,null,null,null,0]
[null,null,null,null,null,null,null,null,null,null,null,null,0]
[null,null,null,null,null,null,null,null,null,null,null,null,0]
[null,null,null,null,null,null,null,null,null,null,null,null,0]
[null,null,null,null,null,null,null,null,null,null,null,null,0]
[null,null,null,null,null,null,null,null,null,null,null,null,0]
[null,null,null,null,null,null,null,null,null,null,null,null,0]
[null,null,null,null,null,null,null,null,null,null,null,null,0]
[null,null,null,null,null,null,null,null,null,null,null,null,0]
[null,null,null,null,null,null,null,null,null,null,null,null,0]
[null,null,null,null,null,null,null,null,null,null,null,null,0]
[null,null,null,null,null,null,null,null,null,null,null,null,0]
[null,null,null,null,null,null,null,null,null,null,null,null,0]
[null,null,null,null,null,null,null,null,null,null,null,null,0]
[null,null,null,null,null,null,null,null,null,null,null,null,0]
[null,null,null,null,null,null,null,null,null,null,null,null,0]
[null,null,null,null,null,null,null,null,null,null,null,null,0]
[null,null,null,null,null,null,null,null,null,null,null,null,0]
[null,null,null,null,null,null,null,null,null,null,null,null,0]
[null,null,null,null,null,null,null,null,null,null,null,null,0]
[null,null,null,null,null,null,null,null,null,null,null,null,0]
[null,null,null,null,null,null,null,null,null,null,null,null,0]
[null,null,null,null,null,null,null,null,null,null,null,null,0]
[null,null,null,null,null,null,null,null,null,null,null,null,0]
[null,null,null,null,null,null,null,null,null,null,null,null,0]
[null,null,null,null,null,null,null,null,null,null,null,null,0]
[null,null,null,null,null,null,null,null,null,null,null,null,0]
[null,null,null,null,null,null,null,null,null,null,null,null,0]
[null,null,null,null,null,null,null,null,null,null,null,null,0]
[null,null,null,null,null,null,null,null,null,null,null,null,0]
[null,null,null,null,null,null,null,null,null,null,null,null,0]
[null,null,null,null,null,null,null,null,null,null,null,null,0]
[null,null,null,null,null,null,null,null,null,null,null,null,0]
[null,null,null,null,null,null,null,null,null,null,null,null,0]
[null,null,null,null,null,null,null,null,null,null,null,null,{"$f":"SUM(G2758:I2758)","v":0}]
[null,null,null,null,null,null,null,null,null,null,null,null,0]
[null,null,null,null,null,null,null,null,null,null,null,null,0]
[null,null,null,null,null,null,null,null,null,null,null,null,0]
[null,null,null,null,null,null,null,null,null,null,null,null,0]
[null,null,null,null,null,null,null,null,null,null,null,null,0]
[null,null,null,null,null,null,null,null,null,null,null,null,0]
[null,null,null,null,null,null,null,null,null,null,null,null,0]
[null,null,null,null,null,null,null,null,null,null,null,null,0]
[null,null,null,null,null,null,null,null,null,null,null,null,0]
[null,null,null,null,null,null,null,null,null,null,null,null,0]
[null,null,null,null,null,null,null,null,null,null,null,null,0]
[null,null,null,null,null,null,null,null,null,null,null,null,0]
[null,null,null,null,null,null,null,null,null,null,null,null,0]
[null,null,null,null,null,null,null,null,null,null,null,null,0]
[null,null,null,null,null,null,null,null,null,null,null,null,0]
[null,null,null,null,null,null,null,null,null,null,null,null,0]
[null,null,null,null,null,null,null,null,null,null,null,null,0]
[null,null,null,null,null,null,null,null,null,null,null,null,0]
[null,null,null,null,null,null,null,null,null,null,null,null,0]
[null,null,null,null,null,null,null,null,null,null,null,null,0]
[null,null,null,null,null,null,null,null,null,null,null,null,0]
[null,null,null,null,null,null,null,null,null,null,null,null,0]
[null,null,null,null,null,null,null,null,null,null,null,null,0]
[null,null,null,null,null,null,null,null,null,null,null,null,0]
[null,null,null,null,null,null,null,null,null,null,null,null,0]
[null,null,null,null,null,null,null,null,null,null,null,null,0]
[null,null,null,null,null,null,null,null,null,null,null,null,0]
[null,null,null,null,null,null,null,null,null,null,null,null,0]
[null,null,null,null,null,null,null,null,null,null,null,null,0]
[null,null,null,null,null,null,null,null,null,null,null,null,0]
[null,null,null,null,null,null,null,null,null,null,null,null,0]
[null,null,null,null,null,null,null,null,null,null,null,null,0]
[null,null,null,null,null,null,null,null,null,null,null,null,0]
[null,null,null,null,null,null,null,null,null,null,null,null,0]
[null,null,null,null,null,null,null,null,null,null,null,null,0]
[null,null,null,null,null,null,null,null,null,null,null,null,0]
[null,null,null,null,null,null,null,null,null,null,null,null,0]
[null,null,null,null,null,null,null,null,null,null,null,null,0]
[null,null,null,null,null,null,null,null,null,null,null,null,0]
[null,null,null,null,null,null,null,null,null,null,null,null,0]
[null,null,null,null,null,null,null,null,null,null,null,null,0]
[null,null,null,null,null,null,null,null,null,null,null,null,0]
[null,null,null,null,null,null,null,null,null,null,null,null,0]
[null,null,null,null,null,null,null,null,null,null,null,null,0]
[null,null,null,null,null,null,null,null,null,null,null,null,0]
[null,null,null,null,null,null,null,null,null,null,null,null,0]
[null,null,null,null,null,null,null,null,null,null,null,null,0]
[null,null,null,null,null,null,null,null,null,null,null,null,0]
[null,null,null,null,null,null,null,null,null,null,null,null,0]
[null,null,null,null,null,null,null,null,null,null,null,null,0]
[null,null,null,null,null,null,null,null,null,null,null,null,0]
[null,null,null,null,null,null,null,null,null,null,null,null,0]
[null,null,null,null,null,null,null,null,null,null,null,null,0]
[null,null,null,null,null,null,null,null,null,null,null,null,0]
[null,null,null,null,null,null,null,null,null,null,null,null,0]
[null,null,null,null,null,null,null,null,null,null,null,null,0]
[null,null,null,null,null,null,null,null,null,null,null,null,0]
[null,null,null,null,null,null,null,null,null,null,null,null,0]
[null,null,null,null,null,null,null,null,null,null,null,null,0]
[null,null,null,null,null,null,null,null,null,null,null,null,0]
[null,null,null,null,null,null,null,null,null,null,null,null,0]
[null,null,null,null,null,null,null,null,null,null,null,null,0]
[null,null,null,null,null,null,null,null,null,null,null,null,0]
[null,null,null,null,null,null,null,null,null,null,null,null,0]
[null,null,null,null,null,null,null,null,null,null,null,null,0]
[null,null,null,null,null,null,null,null,null,null,null,null,0]
[null,null,null,null,null,null,null,null,null,null,null,null,0]
[null,null,null,null,null,null,null,null,null,null,null,null,0]
[null,null,null,null,null,null,null,null,null,null,null,null,0]
[null,null,null,null,null,null,null,null,null,null,null,null,0]
[null,null,null,null,null,null,null,null,null,null,null,null,0]
[null,null,null,null,null,null,null,null,null,null,null,null,0]
[null,null,null,null,null,null,null,null,null,null,null,null,0]
[null,null,null,null,null,null,null,null,null,null,null,null,0]
[null,null,null,null,null,null,null,null,null,null,null,null,0]
[null,null,null,null,null,null,null,null,null,null,null,null,0]
[null,null,null,null,null,null,null,null,null,null,null,null,0]
[null,null,null,null,null,null,null,null,null,null,null,null,0]
[null,null,null,null,null,null,null,null,null,null,null,null,0]
[null,null,null,null,null,null,null,null,null,null,null,null,0]
[null,null,null,null,null,null,null,null,null,null,null,null,0]
[null,null,null,null,null,null,null,null,null,null,null,null,0]
[null,null,null,null,null,null,null,null,null,null,null,null,0]
[null,null,null,null,null,null,null,null,null,null,null,null,0]
[]
[null,null,null,null,null,null,null,null,null,null,null,null,null,null,null,null,0]
[null,null,null,null,null,null,null,null,null,null,null,null,null,null,null,null,0]
[null,null,null,null,null,null,null,null,null,null,null,null,null,null,null,null,0]
[null,null,null,null,null,null,null,null,null,null,null,null,null,null,null,null,0]
[null,null,null,null,null,null,null,null,null,null,null,null,null,null,null,null,0]
[null,null,null,null,null,null,null,null,null,null,null,null,null,null,null,null,0]
[null,null,null,null,null,null,null,null,null,null,null,null,null,null,null,null,0]
[null,null,null,null,null,null,null,null,null,null,null,null,null,null,null,null,0]
[null,null,null,null,null,null,null,null,null,null,null,null,null,null,null,null,0]
[null,null,null,null,null,null,null,null,null,null,null,null,null,null,null,null,0]
[null,null,null,null,null,null,null,null,null,null,null,null,null,null,null,null,0]
[null,null,null,null,null,null,null,null,null,null,null,null,null,null,null,null,0]
[null,null,null,null,null,null,null,null,null,null,null,null,null,null,null,null,0]
[null,null,null,null,null,null,null,null,null,null,null,null,null,null,null,null,0]
[null,null,null,null,null,null,null,null,null,null,null,null,null,null,null,null,0]
[null,null,null,null,null,null,null,null,null,null,null,null,null,null,null,null,0]
[null,null,null,null,null,null,null,null,null,null,null,null,null,null,null,null,0]
[null,null,null,null,null,null,null,null,null,null,null,null,null,null,null,null,0]
[null,null,null,null,null,null,null,null,null,null,null,null,null,null,null,null,0]
[null,null,null,null,null,null,null,null,null,null,null,null,null,null,null,null,0]
[null,null,null,null,null,null,null,null,null,null,null,null,null,null,null,null,0]
[null,null,null,null,null,null,null,null,null,null,null,null,null,null,null,null,{"$f":"SUM(J3752:M3752)","v":0}]
[null,null,null,null,null,null,null,null,null,null,null,null,null,null,null,null,0]
[null,null,null,null,null,null,null,null,null,null,null,null,null,null,null,null,0]
[null,null,null,null,null,null,null,null,null,null,null,null,null,null,null,null,0]
[null,null,null,null,null,null,null,null,null,null,null,null,null,null,null,null,0]
[null,null,null,null,null,null,null,null,null,null,null,null,null,null,null,null,0]
[null,null,null,null,null,null,null,null,null,null,null,null,null,null,null,null,0]
[null,null,null,null,null,null,null,null,null,null,null,null,null,null,null,null,0]
[null,null,null,null,null,null,null,null,null,null,null,null,null,null,null,null,0]
[null,null,null,null,null,null,null,null,null,null,null,null,null,null,null,null,0]
[null,null,null,null,null,null,null,null,null,null,null,null,null,null,null,null,0]
[null,null,null,null,null,null,null,null,null,null,null,null,null,null,null,null,0]
[null,null,null,null,null,null,null,null,null,null,null,null,null,null,null,null,0]
[null,null,null,null,null,null,null,null,null,null,null,null,null,null,null,null,0]
[null,null,null,null,null,null,null,null,null,null,null,null,null,null,null,null,0]
[null,null,null,null,null,null,null,null,null,null,null,null,null,null,null,null,0]
[null,null,null,null,null,null,null,null,null,null,null,null,null,null,null,null,0]
[null,null,null,null,null,null,null,null,null,null,null,null,null,null,null,null,0]
[null,null,null,null,null,null,null,null,null,null,null,null,null,null,null,null,0]
[null,null,null,null,null,null,null,null,null,null,null,null,null,null,null,null,{"$f":"SUM(J3928:M3928)","v":0}]
[null,null,null,null,null,null,null,null,null,null,null,null,null,null,null,null,0]
[null,null,null,null,null,null,null,null,null,null,null,null,null,null,null,null,0]
[null,null,null,null,null,null,null,null,null,null,null,null,null,null,null,null,0]
[null,null,null,null,null,null,null,null,null,null,null,null,null,null,null,null,0]
[null,null,null,null,null,null,null,null,null,null,null,null,null,null,null,null,0]
[null,null,null,null,null,null,null,null,null,null,null,null,null,null,null,null,0]
[null,null,null,null,null,null,null,null,null,null,null,null,null,null,null,null,0]
[null,null,null,null,null,null,null,null,null,null,null,null,null,null,null,null,0]
[null,null,null,null,null,null,null,null,null,null,null,null,null,null,null,null,0]
[null,null,null,null,null,null,null,null,null,null,null,null,null,null,null,null,0]
[null,null,null,null,null,null,null,null,null,null,null,null,null,null,null,null,0]
[null,null,null,null,null,null,null,null,null,null,null,null,null,null,null,null,0]
[null,null,null,null,null,null,null,null,null,null,null,null,null,null,null,null,0]
[null,null,null,null,null,null,null,null,null,null,null,null,null,null,null,null,0]
[null,null,null,null,null,null,null,null,null,null,null,null,null,null,null,null,0]
[null,null,null,null,null,null,null,null,null,null,null,null,null,null,null,null,0]
[null,null,null,null,null,null,null,null,null,null,null,null,null,null,null,null,0]
[null,null,null,null,null,null,null,null,null,null,null,null,null,null,null,null,0]
[null,null,null,null,null,null,null,null,null,null,null,null,null,null,null,null,0]
[null,null,null,null,null,null,null,null,null,null,null,null,null,null,null,null,0]
[null,null,null,null,null,null,null,null,null,null,null,null,null,null,null,null,0]
[null,null,null,null,null,null,null,null,null,null,null,null,null,null,null,null,0]
[null,null,null,null,null,null,null,null,null,null,null,null,null,null,null,null,0]
[null,null,null,null,null,null,null,null,null,null,null,null,null,null,null,null,0]
[null,null,null,null,null,null,null,null,null,null,null,null,null,null,null,null,0]
[null,null,null,null,null,null,null,null,null,null,null,null,null,null,null,null,0]
[null,null,null,null,null,null,null,null,null,null,null,null,null,null,null,null,0]
[null,null,null,null,null,null,null,null,null,null,null,null,null,null,null,null,0]
[null,null,null,null,null,null,null,null,null,null,null,null,null,null,null,null,0]
[null,null,null,null,null,null,null,null,null,null,null,null,null,null,null,null,0]
[null,null,null,null,null,null,null,null,null,null,null,null,null,null,null,null,0]
[null,null,null,null,null,null,null,null,null,null,null,null,null,null,null,null,0]
[null,null,null,null,null,null,null,null,null,null,null,null,null,null,null,null,0]
[null,null,null,null,null,null,null,null,null,null,null,null,null,null,null,null,0]
[null,null,null,null,null,null,null,null,null,null,null,null,null,null,null,null,0]
[null,null,null,null,null,null,null,null,null,null,null,null,null,null,null,null,0]
[null,null,null,null,null,null,null,null,null,null,null,null,null,null,null,null,0]
[null,null,null,null,null,null,null,null,null,null,null,null,null,null,null,null,0]
[null,null,null,null,null,null,null,null,null,null,null,null,null,null,null,null,0]
[null,null,null,null,null,null,null,null,null,null,null,null,null,null,null,null,0]
[null,null,null,null,null,null,null,null,null,null,null,null,null,null,null,null,0]
[null,null,null,null,null,null,null,null,null,null,null,null,null,null,null,null,0]
[null,null,null,null,null,null,null,null,null,null,null,null,null,null,null,null,0]
[null,null,null,null,null,null,null,null,null,null,null,null,null,null,null,null,0]
[null,null,null,null,null,null,null,null,null,null,null,null,null,null,null,null,0]
[null,null,null,null,null,null,null,null,null,null,null,null,null,null,null,null,0]
[null,null,null,null,null,null,null,null,null,null,null,null,null,null,null,null,0]
[null,null,null,null,null,null,null,null,null,null,null,null,null,null,null,null,0]
[null,null,null,null,null,null,null,null,null,null,null,null,null,null,null,null,0]
[null,null,null,null,null,null,null,null,null,null,null,null,null,null,null,null,0]
[null,null,null,null,null,null,null,null,null,null,null,null,null,null,null,null,0]
[null,null,null,null,null,null,null,null,null,null,null,null,null,null,null,null,0]
[null,null,null,null,null,null,null,null,null,null,null,null,null,null,null,null,0]
[null,null,null,null,null,null,null,null,null,null,null,null,null,null,null,null,0]
[null,null,null,null,null,null,null,null,null,null,null,null,null,null,null,null,0]
[null,null,null,null,null,null,null,null,null,null,null,null,null,null,null,null,0]
[null,null,null,null,null,null,null,null,null,null,null,null,null,null,null,null,0]
[null,null,null,null,null,null,null,null,null,null,null,null,null,null,null,null,0]
[null,null,null,null,null,null,null,null,null,null,null,null,null,null,null,null,0]
[null,null,null,null,null,null,null,null,null,null,null,null,null,null,null,null,0]
[null,null,null,null,null,null,null,null,null,null,null,null,null,null,null,null,0]
[null,null,null,null,null,null,null,null,null,null,null,null,null,null,null,null,0]
[null,null,null,null,null,null,null,null,null,null,null,null,null,null,null,null,0]
[null,null,null,null,null,null,null,null,null,null,null,null,null,null,null,null,0]
[null,null,null,null,null,null,null,null,null,null,null,null,null,null,null,null,0]
[null,null,null,null,null,null,null,null,null,null,null,null,null,null,null,null,0]
[null,null,null,null,null,null,null,null,null,null,null,null,null,null,null,null,0]
[null,null,null,null,null,null,null,null,null,null,null,null,null,null,null,null,0]
[null,null,null,null,null,null,null,null,null,null,null,null,null,null,null,null,0]
[null,null,null,null,null,null,null,null,null,null,null,null,null,null,null,null,0]
[null,null,null,null,null,null,null,null,null,null,null,null,null,null,null,null,0]
[null,null,null,null,null,null,null,null,null,null,null,null,null,null,null,null,0]
[null,null,null,null,null,null,null,null,null,null,null,null,null,null,null,null,0]
[null,null,null,null,null,null,null,null,null,null,null,null,null,null,null,null,0]
[null,null,null,null,null,null,null,null,null,null,null,null,null,null,null,null,0]
[null,null,null,null,null,null,null,null,null,null,null,null,null,null,null,null,0]
[null,null,null,null,null,null,null,null,null,null,null,null,null,null,null,null,0]
[null,null,null,null,null,null,null,null,null,null,null,null,null,null,null,null,0]
[null,null,null,null,null,null,null,null,null,null,null,null,null,null,null,null,0]
[null,null,null,null,null,null,null,null,null,null,null,null,null,null,null,null,0]
[null,null,null,null,null,null,null,null,null,null,null,null,null,null,null,null,0]
[null,null,null,null,null,null,null,null,null,null,null,null,null,null,null,null,0]
[null,null,null,null,null,null,null,null,null,null,null,null,null,null,null,null,0]
[null,null,null,null,null,null,null,null,null,null,null,null,null,null,null,null,0]
[null,null,null,null,null,null,null,null,null,null,null,null,null,null,null,null,0]
[null,null,null,null,null,null,null,null,null,null,null,null,null,null,null,null,0]
[null,null,null,null,null,null,null,null,null,null,null,null,null,null,null,null,0]
[null,null,null,null,null,null,null,null,null,null,null,null,null,null,null,null,0]
[null,null,null,null,null,null,null,null,null,null,null,null,null,null,null,null,0]
[null,null,null,null,null,null,null,null,null,null,null,null,null,null,null,null,0]
[null,null,null,null,null,null,null,null,null,null,null,null,null,null,null,null,0]
[null,null,null,null,null,null,null,null,null,null,null,null,null,null,null,null,0]
[null,null,null,null,null,null,null,null,null,null,null,null,null,null,null,null,0]
[null,null,null,null,null,null,null,null,null,null,null,null,null,null,null,null,0]
[null,null,null,null,null,null,null,null,null,null,null,null,null,null,null,null,0]
[null,null,null,null,null,null,null,null,null,null,null,null,null,null,null,null,0]
[null,null,null,null,null,null,null,null,null,null,null,null,null,null,null,null,0]
[null,null,null,null,null,null,null,null,null,null,null,null,null,null,null,null,0]
[null,null,null,null,null,null,null,null,null,null,null,null,null,null,null,null,0]
[null,null,null,null,null,null,null,null,null,null,null,null,null,null,null,null,0]
[null,null,null,null,null,null,null,null,null,null,null,null,null,null,null,null,0]
[null,null,null,null,null,null,null,null,null,null,null,null,null,null,null,null,0]
[null,null,null,null,null,null,null,null,null,null,null,null,null,null,null,null,0]
[null,null,null,null,null,null,null,null,null,null,null,null,null,null,null,null,{"$f":"SUM(J4895:M4895)","v":0}]
[null,null,null,null,null,null,null,null,null,null,null,null,null,null,null,null,0]
[null,null,null,null,null,null,null,null,null,null,null,null,null,null,null,null,0]
[null,null,null,null,null,null,null,null,null,null,null,null,null,null,null,null,0]
[null,null,null,null,null,null,null,null,null,null,null,null,null,null,null,null,0]
[null,null,null,null,null,null,null,null,null,null,null,null,null,null,null,null,0]
[null,null,null,null,null,null,null,null,null,null,null,null,null,null,null,null,0]
[null,null,null,null,null,null,null,null,null,null,null,null,null,null,null,null,0]
[null,null,null,null,null,null,null,null,null,null,null,null,null,null,null,null,0]
[null,null,null,null,null,null,null,null,null,null,null,null,null,null,null,null,0]
[null,null,null,null,null,null,null,null,null,null,null,null,null,null,null,null,0]
[null,null,null,null,null,null,null,null,null,null,null,null,null,null,null,null,0]
[null,null,null,null,null,null,null,null,null,null,null,null,null,null,null,null,0]
[null,null,null,null,null,null,null,null,null,null,null,null,null,null,null,null,0]
[null,null,null,null,null,null,null,null,null,null,null,null,null,null,null,null,0]
[null,null,null,null,null,null,null,null,null,null,null,null,null,null,null,null,0]
[null,null,null,null,null,null,null,null,null,null,null,null,null,null,null,null,0]
[null,null,null,null,null,null,null,null,null,null,null,null,null,null,null,null,0]
[null,null,null,null,null,null,null,null,null,null,null,null,null,null,null,null,0]
[null,null,null,null,null,null,null,null,null,null,null,null,null,null,null,null,0]
[null,null,null,null,null,null,null,null,null,null,null,null,null,null,null,null,0]
[null,null,null,null,null,null,null,null,null,null,null,null,null,null,null,null,0]
[null,null,null,null,null,null,null,null,null,null,null,null,null,null,null,null,0]
[null,null,null,null,null,null,null,null,null,null,null,null,null,null,null,null,0]
[null,null,null,null,null,null,null,null,null,null,null,null,null,null,null,null,0]
[null,null,null,null,null,null,null,null,null,null,null,null,null,null,null,null,0]
[null,null,null,null,null,null,null,null,null,null,null,null,null,null,null,null,0]
[null,null,null,null,null,null,null,null,null,null,null,null,null,null,null,null,0]
[null,null,null,null,null,null,null,null,null,null,null,null,null,null,null,null,0]
[null,null,null,null,null,null,null,null,null,null,null,null,null,null,null,null,0]
[null,null,null,null,null,null,null,null,null,null,null,null,null,null,null,null,0]
[null,null,null,null,null,null,null,null,null,null,null,null,null,null,null,null,0]
[null,null,null,null,null,null,null,null,null,null,null,null,null,null,null,null,0]
[null,null,null,null,null,null,null,null,null,null,null,null,null,null,null,null,0]
[null,null,null,null,null,null,null,null,null,null,null,null,null,null,null,null,0]
[null,null,null,null,null,null,null,null,null,null,null,null,null,null,null,null,0]
[null,null,null,null,null,null,null,null,null,null,null,null,null,null,null,null,0]
[null,null,null,null,null,null,null,null,null,null,null,null,null,null,null,null,0]
[null,null,null,null,null,null,null,null,null,null,null,null,null,null,null,null,0]
[null,null,null,null,null,null,null,null,null,null,null,null,null,null,null,null,0]
[null,null,null,null,null,null,null,null,null,null,null,null,null,null,null,null,0]
[null,null,null,null,null,null,null,null,null,null,null,null,null,null,null,null,0]
[null,null,null,null,null,null,null,null,null,null,null,null,null,null,null,null,0]
[null,null,null,null,null,null,null,null,null,null,null,null,null,null,null,null,0]
[null,null,null,null,null,null,null,null,null,null,null,null,null,null,null,null,0]
[null,null,null,null,null,null,null,null,null,null,null,null,null,null,null,null,0]
[null,null,null,null,null,null,null,null,null,null,null,null,null,null,null,null,0]
[null,null,null,null,null,null,null,null,null,null,null,null,null,null,null,null,0]
[null,null,null,null,null,null,null,null,null,null,null,null,null,null,null,null,0]
[null,null,null,null,null,null,null,null,null,null,null,null,null,null,null,null,0]
[null,null,null,null,null,null,null,null,null,null,null,null,null,null,null,null,0]
[null,null,null,null,null,null,null,null,null,null,null,null,null,null,null,null,0]
[null,null,null,null,null,null,null,null,null,null,null,null,null,null,null,null,0]
[null,null,null,null,null,null,null,null,null,null,null,null,null,null,null,null,0]
[null,null,null,null,null,null,null,null,null,null,null,null,null,null,null,null,0]
[null,null,null,null,null,null,null,null,null,null,null,null,null,null,null,null,0]
[null,null,null,null,null,null,null,null,null,null,null,null,null,null,null,null,0]
[null,null,null,null,null,null,null,null,null,null,null,null,null,null,null,null,0]
[null,null,null,null,null,null,null,null,null,null,null,null,null,null,null,null,0]
[null,null,null,null,null,null,null,null,null,null,null,null,null,null,null,null,0]
[null,null,null,null,null,null,null,null,null,null,null,null,null,null,null,null,0]
[null,null,null,null,null,null,null,null,null,null,null,null,null,null,null,null,0]
[null,null,null,null,null,null,null,null,null,null,null,null,null,null,null,null,0]
[null,null,null,null,null,null,null,null,null,null,null,null,null,null,null,null,0]
[null,null,null,null,null,null,null,null,null,null,null,null,null,null,null,null,0]
[null,null,null,null,null,null,null,null,null,null,null,null,null,null,null,null,0]
[null,null,null,null,null,null,null,null,null,null,null,null,null,null,null,null,0]
[null,null,null,null,null,null,null,null,null,null,null,null,null,null,null,null,0]
[null,null,null,null,null,null,null,null,null,null,null,null,null,null,null,null,0]
[null,null,null,null,null,null,null,null,null,null,null,null,null,null,null,null,0]
[null,null,null,null,null,null,null,null,null,null,null,null,null,null,null,null,0]
[null,null,null,null,null,null,null,null,null,null,null,null,null,null,null,null,0]
[null,null,null,null,null,null,null,null,null,null,null,null,null,null,null,null,0]
[null,null,null,null,null,null,null,null,null,null,null,null,null,null,null,null,0]
[null,null,null,null,null,null,null,null,null,null,null,null,null,null,null,null,0]
[null,null,null,null,null,null,null,null,null,null,null,null,null,null,null,null,0]
[null,null,null,null,null,null,null,null,null,null,null,null,null,null,null,null,0]
[null,null,null,null,null,null,null,null,null,null,null,null,null,null,null,null,0]
[null,null,null,null,null,null,null,null,null,null,null,null,null,null,null,null,0]
[null,null,null,null,null,null,null,null,null,null,null,null,null,null,null,null,0]
[null,null,null,null,null,null,null,null,null,null,null,null,null,null,null,null,0]
[null,null,null,null,null,null,null,null,null,null,null,null,null,null,null,null,0]
[null,null,null,null,null,null,null,null,null,null,null,null,null,null,null,null,0]
[null,null,null,null,null,null,null,null,null,null,null,null,null,null,null,null,0]
[null,null,null,null,null,null,null,null,null,null,null,null,null,null,null,null,0]
[null,null,null,null,null,null,null,null,null,null,null,null,null,null,null,null,0]
[null,null,null,null,null,null,null,null,null,null,null,null,null,null,null,null,0]
[null,null,null,null,null,null,null,null,null,null,null,null,null,null,null,null,0]
[null,null,null,null,null,null,null,null,null,null,null,null,null,null,null,null,0]
[null,null,null,null,null,null,null,null,null,null,null,null,null,null,null,null,0]
[null,null,null,null,null,null,null,null,null,null,null,null,null,null,null,null,0]
[null,null,null,null,null,null,null,null,null,null,null,null,null,null,null,null,0]
[null,null,null,null,null,null,null,null,null,null,null,null,null,null,null,null,0]
[null,null,null,null,null,null,null,null,null,null,null,null,null,null,null,null,0]
[null,null,null,null,null,null,null,null,null,null,null,null,null,null,null,null,0]
[null,null,null,null,null,null,null,null,null,null,null,null,null,null,null,null,0]
[null,null,null,null,null,null,null,null,null,null,null,null,null,null,null,null,0]
[null,null,null,null,null,null,null,null,null,null,null,null,null,null,null,null,0]
[null,null,null,null,null,null,null,null,null,null,null,null,null,null,null,null,0]
[null,null,null,null,null,null,null,null,null,null,null,null,null,null,null,null,0]
[null,null,null,null,null,null,null,null,null,null,null,null,null,null,null,null,0]
[null,null,null,null,null,null,null,null,null,null,null,null,null,null,null,null,0]
[null,null,null,null,null,null,null,null,null,null,null,null,null,null,null,null,0]
[null,null,null,null,null,null,null,null,null,null,null,null,null,null,null,null,0]
[null,null,null,null,null,null,null,null,null,null,null,null,null,null,null,null,0]
[null,null,null,null,null,null,null,null,null,null,null,null,null,null,null,null,0]
[null,null,null,null,null,null,null,null,null,null,null,null,null,null,null,null,0]
[null,null,null,null,null,null,null,null,null,null,null,null,null,null,null,null,0]
[null,null,null,null,null,null,null,null,null,null,null,null,null,null,null,null,0]
[null,null,null,null,null,null,null,null,null,null,null,null,null,null,null,null,0]
[null,null,null,null,null,null,null,null,null,null,null,null,null,null,null,null,0]
[null,null,null,null,null,null,null,null,null,null,null,null,null,null,null,null,0]
[null,null,null,null,null,null,null,null,null,null,null,null,null,null,null,null,0]
[null,null,null,null,null,null,null,null,null,null,null,null,null,null,null,null,0]
[null,null,null,null,null,null,null,null,null,null,null,null,null,null,null,null,0]
[null,null,null,null,null,null,null,null,null,null,null,null,null,null,null,null,0]
[null,null,null,null,null,null,null,null,null,null,null,null,null,null,null,null,0]
[null,null,null,null,null,null,null,null,null,null,null,null,null,null,null,null,0]
[null,null,null,null,null,null,null,null,null,null,null,null,null,null,null,null,0]
[null,null,null,null,null,null,null,null,null,null,null,null,null,null,null,null,0]
[null,null,null,null,null,null,null,null,null,null,null,null,null,null,null,null,0]
[null,null,null,null,null,null,null,null,null,null,null,null,null,null,null,null,0]
[null,null,null,null,null,null,null,null,null,null,null,null,null,null,null,null,0]
[null,null,null,null,null,null,null,null,null,null,null,null,null,null,null,null,0]
[null,null,null,null,null,null,null,null,null,null,null,null,null,null,null,null,0]
[null,null,null,null,null,null,null,null,null,null,null,null,null,null,null,null,0]
[null,null,null,null,null,null,null,null,null,null,null,null,null,null,null,null,0]
[null,null,null,null,null,null,null,null,null,null,null,null,null,null,null,null,0]
[null,null,null,null,null,null,null,null,null,null,null,null,null,null,null,null,0]
[null,null,null,null,null,null,null,null,null,null,null,null,null,null,null,null,0]
[null,null,null,null,null,null,null,null,null,null,null,null,null,null,null,null,0]
[null,null,null,null,null,null,null,null,null,null,null,null,null,null,null,null,0]
[null,null,null,null,null,null,null,null,null,null,null,null,null,null,null,null,0]
[null,null,null,null,null,null,null,null,null,null,null,null,null,null,null,null,0]
[null,null,null,null,null,null,null,null,null,null,null,null,null,null,null,null,0]
[null,null,null,null,null,null,null,null,null,null,null,null,null,null,null,null,0]
[null,null,null,null,null,null,null,null,null,null,null,null,null,null,null,null,0]
[null,null,null,null,null,null,null,null,null,null,null,null,null,null,null,null,0]
[null,null,null,null,null,null,null,null,null,null,null,null,null,null,null,null,0]
[null,null,null,null,null,null,null,null,null,null,null,null,null,null,null,null,0]
[null,null,null,null,null,null,null,null,null,null,null,null,null,null,null,null,0]
[null,null,null,null,null,null,null,null,null,null,null,null,null,null,null,null,0]
[null,null,null,null,null,null,null,null,null,null,null,null,null,null,null,null,0]
[null,null,null,null,null,null,null,null,null,null,null,null,null,null,null,null,0]
[null,null,null,null,null,null,null,null,null,null,null,null,null,null,null,null,0]
[null,null,null,null,null,null,null,null,null,null,null,null,null,null,null,null,0]
[null,null,null,null,null,null,null,null,null,null,null,null,null,null,null,null,0]
[null,null,null,null,null,null,null,null,null,null,null,null,null,null,null,null,0]
[null,null,null,null,null,null,null,null,null,null,null,null,null,null,null,null,0]
[null,null,null,null,null,null,null,null,null,null,null,null,null,null,null,null,0]
[null,null,null,null,null,null,null,null,null,null,null,null,null,null,null,null,0]
[null,null,null,null,null,null,null,null,null,null,null,null,null,null,null,null,0]
[null,null,null,null,null,null,null,null,null,null,null,null,null,null,null,null,0]
[null,null,null,null,null,null,null,null,null,null,null,null,null,null,null,null,0]
[null,null,null,null,null,null,null,null,null,null,null,null,null,null,null,null,0]
[null,null,null,null,null,null,null,null,null,null,null,null,null,null,null,null,0]
[null,null,null,null,null,null,null,null,null,null,null,null,null,null,null,null,0]
[null,null,null,null,null,null,null,null,null,null,null,null,null,null,null,null,0]
[null,null,null,null,null,null,null,null,null,null,null,null,null,null,null,null,0]
[null,null,null,null,null,null,null,null,null,null,null,null,null,null,null,null,0]
[null,null,null,null,null,null,null,null,null,null,null,null,null,null,null,null,0]
[null,null,null,null,null,null,null,null,null,null,null,null,null,null,null,null,0]
[null,null,null,null,null,null,null,null,null,null,null,null,null,null,null,null,0]
[null,null,null,null,null,null,null,null,null,null,null,null,null,null,null,null,0]
[null,null,null,null,null,null,null,null,null,null,null,null,null,null,null,null,0]
[null,null,null,null,null,null,null,null,null,null,null,null,null,null,null,null,0]
[null,null,null,null,null,null,null,null,null,null,null,null,null,null,null,null,0]
[null,null,null,null,null,null,null,null,null,null,null,null,null,null,null,null,0]
[null,null,null,null,null,null,null,null,null,null,null,null,null,null,null,null,0]
[null,null,null,null,null,null,null,null,null,null,null,null,null,null,null,null,0]
[null,null,null,null,null,null,null,null,null,null,null,null,null,null,null,null,0]
[null,null,null,null,null,null,null,null,null,null,null,null,null,null,null,null,0]
[null,null,null,null,null,null,null,null,null,null,null,null,null,null,null,null,0]
[null,null,null,null,null,null,null,null,null,null,null,null,null,null,null,null,0]
[null,null,null,null,null,null,null,null,null,null,null,null,null,null,null,null,0]
[null,null,null,null,null,null,null,null,null,null,null,null,null,null,null,null,0]
[null,null,null,null,null,null,null,null,null,null,null,null,null,null,null,null,0]
[null,null,null,null,null,null,null,null,null,null,null,null,null,null,null,null,0]
[null,null,null,null,null,null,null,null,null,null,null,null,null,null,null,null,0]
[null,null,null,null,null,null,null,null,null,null,null,null,null,null,null,null,0]
[null,null,null,null,null,null,null,null,null,null,null,null,null,null,null,null,0]
[null,null,null,null,null,null,null,null,null,null,null,null,null,null,null,null,0]
[null,null,null,null,null,null,null,null,null,null,null,null,null,null,null,null,0]
[null,null,null,null,null,null,null,null,null,null,null,null,null,null,null,null,0]
[null,null,null,null,null,null,null,null,null,null,null,null,null,null,null,null,0]
[null,null,null,null,null,null,null,null,null,null,null,null,null,null,null,null,0]
[null,null,null,null,null,null,null,null,null,null,null,null,null,null,null,null,0]
[null,null,null,null,null,null,null,null,null,null,null,null,null,null,null,null,0]
[null,null,null,null,null,null,null,null,null,null,null,null,null,null,null,null,0]
[null,null,null,null,null,null,null,null,null,null,null,null,null,null,null,null,0]
[null,null,null,null,null,null,null,null,null,null,null,null,null,null,null,null,0]
[null,null,null,null,null,null,null,null,null,null,null,null,null,null,null,null,0]
[null,null,null,null,null,null,null,null,null,null,null,null,null,null,null,null,0]
[null,null,null,null,null,null,null,null,null,null,null,null,null,null,null,null,0]
[null,null,null,null,null,null,null,null,null,null,null,null,null,null,null,null,0]
[null,null,null,null,null,null,null,null,null,null,null,null,null,null,null,null,0]
[null,null,null,null,null,null,null,null,null,null,null,null,null,null,null,null,0]
[null,null,null,null,null,null,null,null,null,null,null,null,null,null,null,null,0]
[null,null,null,null,null,null,null,null,null,null,null,null,null,null,null,null,0]
[null,null,null,null,null,null,null,null,null,null,null,null,null,null,null,null,0]
[null,null,null,null,null,null,null,null,null,null,null,null,null,null,null,null,0]
[null,null,null,null,null,null,null,null,null,null,null,null,null,null,null,null,0]
[null,null,null,null,null,null,null,null,null,null,null,null,null,null,null,null,0]
[null,null,null,null,null,null,null,null,null,null,null,null,null,null,null,null,0]
[null,null,null,null,null,null,null,null,null,null,null,null,null,null,null,null,0]
[null,null,null,null,null,null,null,null,null,null,null,null,null,null,null,null,0]
[null,null,null,null,null,null,null,null,null,null,null,null,null,null,null,null,0]
[null,null,null,null,null,null,null,null,null,null,null,null,null,null,null,null,0]
[null,null,null,null,null,null,null,null,null,null,null,null,null,null,null,null,0]
[null,null,null,null,null,null,null,null,null,null,null,null,null,null,null,null,0]
[null,null,null,null,null,null,null,null,null,null,null,null,null,null,null,null,0]
[null,null,null,null,null,null,null,null,null,null,null,null,null,null,null,null,0]
[null,null,null,null,null,null,null,null,null,null,null,null,null,null,null,null,0]
[null,null,null,null,null,null,null,null,null,null,null,null,null,null,null,null,0]
[null,null,null,null,null,null,null,null,null,null,null,null,null,null,null,null,0]
[null,null,null,null,null,null,null,null,null,null,null,null,null,null,null,null,0]
[null,null,null,null,null,null,null,null,null,null,null,null,null,null,null,null,0]
[null,null,null,null,null,null,null,null,null,null,null,null,null,null,null,null,0]
[null,null,null,null,null,null,null,null,null,null,null,null,null,null,null,null,0]
[null,null,null,null,null,null,null,null,null,null,null,null,null,null,null,null,0]
[null,null,null,null,null,null,null,null,null,null,null,null,null,null,null,null,0]
[null,null,null,null,null,null,null,null,null,null,null,null,null,null,null,null,0]
[null,null,null,null,null,null,null,null,null,null,null,null,null,null,null,null,0]
[null,null,null,null,null,null,null,null,null,null,null,null,null,null,null,null,0]
[null,null,null,null,null,null,null,null,null,null,null,null,null,null,null,null,0]
[null,null,null,null,null,null,null,null,null,null,null,null,null,null,null,null,0]
[null,null,null,null,null,null,null,null,null,null,null,null,null,null,null,null,0]
[null,null,null,null,null,null,null,null,null,null,null,null,null,null,null,null,0]
[null,null,null,null,null,null,null,null,null,null,null,null,null,null,null,null,0]
[null,null,null,null,null,null,null,null,null,null,null,null,null,null,null,null,0]
[null,null,null,null,null,null,null,null,null,null,null,null,null,null,null,null,0]
[null,null,null,null,null,null,null,null,null,null,null,null,null,null,null,null,0]
[]
[]
[null,null,null,null,null,null,null,null,null,null,null,null,null,null,0]
[null,null,null,null,null,null,null,null,null,null,null,null,null,null,0]
[null,null,null,null,null,null,null,null,null,null,null,null,null,null,0]
[null,null,null,null,null,null,null,null,null,null,null,null,null,null,0]
[null,null,null,null,null,null,null,null,null,null,null,null,null,null,0]
[null,null,null,null,null,null,null,null,null,null,null,null,null,null,0]
[null,null,null,null,null,null,null,null,null,null,null,null,null,null,0]
[null,null,null,null,null,null,null,null,null,null,null,null,null,null,0]
[null,null,null,null,null,null,null,null,null,null,null,null,null,null,0]
[null,null,null,null,null,null,null,null,null,null,null,null,null,null,0]
[null,null,null,null,null,null,null,null,null,null,null,null,null,null,0]
[null,null,null,null,null,null,null,null,null,null,null,null,null,null,0]
[null,null,null,null,null,null,null,null,null,null,null,null,null,null,0]
[null,null,null,null,null,null,null,null,null,null,null,null,null,null,0]
[null,null,null,null,null,null,null,null,null,null,null,null,null,null,0]
[null,null,null,null,null,null,null,null,null,null,null,null,null,null,0]
[null,null,null,null,null,null,null,null,null,null,null,null,null,null,0]
[null,null,null,null,null,null,null,null,null,null,null,null,null,null,0]
[null,null,null,null,null,null,null,null,null,null,null,null,null,null,0]
[null,null,null,null,null,null,null,null,null,null,null,null,null,null,0]
[null,null,null,null,null,null,null,null,null,null,null,null,null,null,0]
[null,null,null,null,null,null,null,null,null,null,null,null,null,null,0]
[null,null,null,null,null,null,null,null,null,null,null,null,null,null,0]
[null,null,null,null,null,null,null,null,null,null,null,null,null,null,0]
[null,null,null,null,null,null,null,null,null,null,null,null,null,null,0]
[null,null,null,null,null,null,null,null,null,null,null,null,null,null,0]
[null,null,null,null,null,null,null,null,null,null,null,null,null,null,0]
[null,null,null,null,null,null,null,null,null,null,null,null,null,null,0]
[null,null,null,null,null,null,null,null,null,null,null,null,null,null,0]
[null,null,null,null,null,null,null,null,null,null,null,null,null,null,0]
[null,null,null,null,null,null,null,null,null,null,null,null,null,null,0]
[null,null,null,null,null,null,null,null,null,null,null,null,null,null,0]
[null,null,null,null,null,null,null,null,null,null,null,null,null,null,0]
[null,null,null,null,null,null,null,null,null,null,null,null,null,null,0]
[null,null,null,null,null,null,null,null,null,null,null,null,null,null,0]
[null,null,null,null,null,null,null,null,null,null,null,null,null,null,0]
[null,null,null,null,null,null,null,null,null,null,null,null,null,null,0]
[null,null,null,null,null,null,null,null,null,null,null,null,null,null,0]
[null,null,null,null,null,null,null,null,null,null,null,null,null,null,0]
[null,null,null,null,null,null,null,null,null,null,null,null,null,null,0]
[null,null,null,null,null,null,null,null,null,null,null,null,null,null,0]
[null,null,null,null,null,null,null,null,null,null,null,null,null,null,0]
[null,null,null,null,null,null,null,null,null,null,null,null,null,null,0]
[null,null,null,null,null,null,null,null,null,null,null,null,null,null,0]
[null,null,null,null,null,null,null,null,null,null,null,null,null,null,0]
[null,null,null,null,null,null,null,null,null,null,null,null,null,null,0]
[null,null,null,null,null,null,null,null,null,null,null,null,null,null,0]
[null,null,null,null,null,null,null,null,null,null,null,null,null,null,0]
[null,null,null,null,null,null,null,null,null,null,null,null,null,null,0]
[null,null,null,null,null,null,null,null,null,null,null,null,null,null,0]
[null,null,null,null,null,null,null,null,null,null,null,null,null,null,0]
[null,null,null,null,null,null,null,null,null,null,null,null,null,null,{"$f":"SUM(I7546:K7546)","v":0}]
[null,null,null,null,null,null,null,null,null,null,null,null,null,null,0]
[null,null,null,null,null,null,null,null,null,null,null,null,null,null,0]
[null,null,null,null,null,null,null,null,null,null,null,null,null,null,0]
[null,null,null,null,null,null,null,null,null,null,null,null,null,null,0]
[null,null,null,null,null,null,null,null,null,null,null,null,null,null,0]
[null,null,null,null,null,null,null,null,null,null,null,null,null,null,0]
[null,null,null,null,null,null,null,null,null,null,null,null,null,null,0]
[null,null,null,null,null,null,null,null,null,null,null,null,null,null,0]
[null,null,null,null,null,null,null,null,null,null,null,null,null,null,0]
[null,null,null,null,null,null,null,null,null,null,null,null,null,null,0]
[null,null,null,null,null,null,null,null,null,null,null,null,null,null,0]
[null,null,null,null,null,null,null,null,null,null,null,null,null,null,0]
[null,null,null,null,null,null,null,null,null,null,null,null,null,null,0]
[null,null,null,null,null,null,null,null,null,null,null,null,null,null,0]
[null,null,null,null,null,null,null,null,null,null,null,null,null,null,0]
[null,null,null,null,null,null,null,null,null,null,null,null,null,null,0]
[null,null,null,null,null,null,null,null,null,null,null,null,null,null,0]
[null,null,null,null,null,null,null,null,null,null,null,null,null,null,0]
[null,null,null,null,null,null,null,null,null,null,null,null,null,null,0]
[null,null,null,null,null,null,null,null,null,null,null,null,null,null,0]
[null,null,null,null,null,null,null,null,null,null,null,null,null,null,0]
[null,null,null,null,null,null,null,null,null,null,null,null,null,null,0]
[null,null,null,null,null,null,null,null,null,null,null,null,null,null,0]
[null,null,null,null,null,null,null,null,null,null,null,null,null,null,0]
[null,null,null,null,null,null,null,null,null,null,null,null,null,null,0]
[null,null,null,null,null,null,null,null,null,null,null,null,null,null,0]
[null,null,null,null,null,null,null,null,null,null,null,null,null,null,0]
[null,null,null,null,null,null,null,null,null,null,null,null,null,null,{"$f":"SUM(I7812:K7812)","v":0}]
[null,null,null,null,null,null,null,null,null,null,null,null,null,null,0]
[null,null,null,null,null,null,null,null,null,null,null,null,null,null,0]
[null,null,null,null,null,null,null,null,null,null,null,null,null,null,0]
[null,null,null,null,null,null,null,null,null,null,null,null,null,null,0]
[null,null,null,null,null,null,null,null,null,null,null,null,null,null,0]
[null,null,null,null,null,null,null,null,null,null,null,null,null,null,0]
[null,null,null,null,null,null,null,null,null,null,null,null,null,null,0]
[null,null,null,null,null,null,null,null,null,null,null,null,null,null,0]
[null,null,null,null,null,null,null,null,null,null,null,null,null,null,0]
[null,null,null,null,null,null,null,null,null,null,null,null,null,null,0]
[null,null,null,null,null,null,null,null,null,null,null,null,null,null,0]
[null,null,null,null,null,null,null,null,null,null,null,null,null,null,0]
[null,null,null,null,null,null,null,null,null,null,null,null,null,null,0]
[null,null,null,null,null,null,null,null,null,null,null,null,null,null,0]
[null,null,null,null,null,null,null,null,null,null,null,null,null,null,0]
[null,null,null,null,null,null,null,null,null,null,null,null,null,null,0]
[null,null,null,null,null,null,null,null,null,null,null,null,null,null,0]
[null,null,null,null,null,null,null,null,null,null,null,null,null,null,0]
[null,null,null,null,null,null,null,null,null,null,null,null,null,null,0]
[null,null,null,null,null,null,null,null,null,null,null,null,null,null,0]
[null,null,null,null,null,null,null,null,null,null,null,null,null,null,0]
[null,null,null,null,null,null,null,null,null,null,null,null,null,null,0]
[null,null,null,null,null,null,null,null,null,null,null,null,null,null,0]
[null,null,null,null,null,null,null,null,null,null,null,null,null,null,0]
[null,null,null,null,null,null,null,null,null,null,null,null,null,null,0]
[null,null,null,null,null,null,null,null,null,null,null,null,null,null,0]
[null,null,null,null,null,null,null,null,null,null,null,null,null,null,0]
[null,null,null,null,null,null,null,null,null,null,null,null,null,null,0]
[null,null,null,null,null,null,null,null,null,null,null,null,null,null,0]
[null,null,null,null,null,null,null,null,null,null,null,null,null,null,0]
[null,null,null,null,null,null,null,null,null,null,null,null,null,null,0]
[null,null,null,null,null,null,null,null,null,null,null,null,null,null,0]
[null,null,null,null,null,null,null,null,null,null,null,null,null,null,0]
[null,null,null,null,null,null,null,null,null,null,null,null,null,null,0]
[null,null,null,null,null,null,null,null,null,null,null,null,null,null,0]
[null,null,null,null,null,null,null,null,null,null,null,null,null,null,0]
[null,null,null,null,null,null,null,null,null,null,null,null,null,null,0]
[null,null,null,null,null,null,null,null,null,null,null,null,null,null,0]
[null,null,null,null,null,null,null,null,null,null,null,null,null,null,0]
[null,null,null,null,null,null,null,null,null,null,null,null,null,null,0]
[null,null,null,null,null,null,null,null,null,null,null,null,null,null,0]
[null,null,null,null,null,null,null,null,null,null,null,null,null,null,0]
[null,null,null,null,null,null,null,null,null,null,null,null,null,null,0]
[null,null,null,null,null,null,null,null,null,null,null,null,null,null,0]
[null,null,null,null,null,null,null,null,null,null,null,null,null,null,0]
[null,null,null,null,null,null,null,null,null,null,null,null,null,null,0]
[null,null,null,null,null,null,null,null,null,null,null,null,null,null,0]
[null,null,null,null,null,null,null,null,null,null,null,null,null,null,0]
[null,null,null,null,null,null,null,null,null,null,null,null,null,null,0]
[null,null,null,null,null,null,null,null,null,null,null,null,null,null,0]
[null,null,null,null,null,null,null,null,null,null,null,null,null,null,0]
[null,null,null,null,null,null,null,null,null,null,null,null,null,null,0]
[null,null,null,null,null,null,null,null,null,null,null,null,null,null,0]
[null,null,null,null,null,null,null,null,null,null,null,null,null,null,0]
[null,null,null,null,null,null,null,null,null,null,null,null,null,null,0]
[null,null,null,null,null,null,null,null,null,null,null,null,null,null,0]
[null,null,null,null,null,null,null,null,null,null,null,null,null,null,0]
[null,null,null,null,null,null,null,null,null,null,null,null,null,null,0]
[null,null,null,null,null,null,null,null,null,null,null,null,null,null,0]
[null,null,null,null,null,null,null,null,null,null,null,null,null,null,0]
[null,null,null,null,null,null,null,null,null,null,null,null,null,null,0]
[null,null,null,null,null,null,null,null,null,null,null,null,null,null,0]
[null,null,null,null,null,null,null,null,null,null,null,null,null,null,0]
[null,null,null,null,null,null,null,null,null,null,null,null,null,null,0]
[null,null,null,null,null,null,null,null,null,null,null,null,null,null,0]
[null,null,null,null,null,null,null,null,null,null,null,null,null,null,0]
[null,null,null,null,null,null,null,null,null,null,null,null,null,null,0]
[null,null,null,null,null,null,null,null,null,null,null,null,null,null,0]
[null,null,null,null,null,null,null,null,null,null,null,null,null,null,0]
[null,null,null,null,null,null,null,null,null,null,null,null,null,null,0]
[null,null,null,null,null,null,null,null,null,null,null,null,null,null,0]
[null,null,null,null,null,null,null,null,null,null,null,null,null,null,0]
[null,null,null,null,null,null,null,null,null,null,null,null,null,null,0]
[null,null,null,null,null,null,null,null,null,null,null,null,null,null,0]
[null,null,null,null,null,null,null,null,null,null,null,null,null,null,0]
[null,null,null,null,null,null,null,null,null,null,null,null,null,null,0]
[null,null,null,null,null,null,null,null,null,null,null,null,null,null,0]
[null,null,null,null,null,null,null,null,null,null,null,null,null,null,0]
[null,null,null,null,null,null,null,null,null,null,null,null,null,null,0]
[null,null,null,null,null,null,null,null,null,null,null,null,null,null,0]
[null,null,null,null,null,null,null,null,null,null,null,null,null,null,0]
[null,null,null,null,null,null,null,null,null,null,null,null,null,null,0]
[null,null,null,null,null,null,null,null,null,null,null,null,null,null,0]
[null,null,null,null,null,null,null,null,null,null,null,null,null,null,0]
[null,null,null,null,null,null,null,null,null,null,null,null,null,null,0]
[null,null,null,null,null,null,null,null,null,null,null,null,null,null,0]
[null,null,null,null,null,null,null,null,null,null,null,null,null,null,0]
[null,null,null,null,null,null,null,null,null,null,null,null,null,null,0]
[null,null,null,null,null,null,null,null,null,null,null,null,null,null,0]
[null,null,null,null,null,null,null,null,null,null,null,null,null,null,0]
[null,null,null,null,null,null,null,null,null,null,null,null,null,null,0]
[null,null,null,null,null,null,null,null,null,null,null,null,null,null,0]
[null,null,null,null,null,null,null,null,null,null,null,null,null,null,0]
[null,null,null,null,null,null,null,null,null,null,null,null,null,null,0]
[null,null,null,null,null,null,null,null,null,null,null,null,null,null,0]
[null,null,null,null,null,null,null,null,null,null,null,null,null,null,0]
[null,null,null,null,null,null,null,null,null,null,null,null,null,null,0]
[null,null,null,null,null,null,null,null,null,null,null,null,null,null,0]
[null,null,null,null,null,null,null,null,null,null,null,null,null,null,0]
[null,null,null,null,null,null,null,null,null,null,null,null,null,null,0]
[null,null,null,null,null,null,null,null,null,null,null,null,null,null,0]
[null,null,null,null,null,null,null,null,null,null,null,null,null,null,0]
[null,null,null,null,null,null,null,null,null,null,null,null,null,null,0]
[null,null,null,null,null,null,null,null,null,null,null,null,null,null,0]
[null,null,null,null,null,null,null,null,null,null,null,null,null,null,0]
[null,null,null,null,null,null,null,null,null,null,null,null,null,null,0]
[null,null,null,null,null,null,null,null,null,null,null,null,null,null,0]
[null,null,null,null,null,null,null,null,null,null,null,null,null,null,0]
[null,null,null,null,null,null,null,null,null,null,null,null,null,null,0]
[null,null,null,null,null,null,null,null,null,null,null,null,null,null,0]
[null,null,null,null,null,null,null,null,null,null,null,null,null,null,0]
[null,null,null,null,null,null,null,null,null,null,null,null,null,null,0]
[null,null,null,null,null,null,null,null,null,null,null,null,null,null,0]
[null,null,null,null,null,null,null,null,null,null,null,null,null,null,0]
[null,null,null,null,null,null,null,null,null,null,null,null,null,null,0]
[null,null,null,null,null,null,null,null,null,null,null,null,null,null,0]
[null,null,null,null,null,null,null,null,null,null,null,null,null,null,0]
[null,null,null,null,null,null,null,null,null,null,null,null,null,null,0]
[null,null,null,null,null,null,null,null,null,null,null,null,null,null,{"$f":"SUM(I8914:K8914)","v":0}]
[null,null,null,null,null,null,null,null,null,null,null,null,null,null,0]
[null,null,null,null,null,null,null,null,null,null,null,null,null,null,0]
[null,null,null,null,null,null,null,null,null,null,null,null,null,null,0]
[null,null,null,null,null,null,null,null,null,null,null,null,null,null,0]
[null,null,null,null,null,null,null,null,null,null,null,null,null,null,0]
[null,null,null,null,null,null,null,null,null,null,null,null,null,null,0]
[null,null,null,null,null,null,null,null,null,null,null,null,null,null,0]
[null,null,null,null,null,null,null,null,null,null,null,null,null,null,0]
[null,null,null,null,null,null,null,null,null,null,null,null,null,null,0]
[null,null,null,null,null,null,null,null,null,null,null,null,null,null,0]
[null,null,null,null,null,null,null,null,null,null,null,null,null,null,0]
[null,null,null,null,null,null,null,null,null,null,null,null,null,null,0]
[null,null,null,null,null,null,null,null,null,null,null,null,null,null,0]
[null,null,null,null,null,null,null,null,null,null,null,null,null,null,0]
[null,null,null,null,null,null,null,null,null,null,null,null,null,null,0]
[null,null,null,null,null,null,null,null,null,null,null,null,null,null,0]
[null,null,null,null,null,null,null,null,null,null,null,null,null,null,0]
[null,null,null,null,null,null,null,null,null,null,null,null,null,null,0]
[null,null,null,null,null,null,null,null,null,null,null,null,null,null,0]
[null,null,null,null,null,null,null,null,null,null,null,null,null,null,0]
[null,null,null,null,null,null,null,null,null,null,null,null,null,null,0]
[null,null,null,null,null,null,null,null,null,null,null,null,null,null,0]
[null,null,null,null,null,null,null,null,null,null,null,null,null,null,0]
[null,null,null,null,null,null,null,null,null,null,null,null,null,null,0]
[null,null,null,null,null,null,null,null,null,null,null,null,null,null,0]
[null,null,null,null,null,null,null,null,null,null,null,null,null,null,0]
[null,null,null,null,null,null,null,null,null,null,null,null,null,null,0]
[null,null,null,null,null,null,null,null,null,null,null,null,null,null,0]
[null,null,null,null,null,null,null,null,null,null,null,null,null,null,0]
[null,null,null,null,null,null,null,null,null,null,null,null,null,null,0]
[null,null,null,null,null,null,null,null,null,null,null,null,null,null,0]
[null,null,null,null,null,null,null,null,null,null,null,null,null,null,0]
[null,null,null,null,null,null,null,null,null,null,null,null,null,null,0]
[null,null,null,null,null,null,null,null,null,null,null,null,null,null,0]
[null,null,null,null,null,null,null,null,null,null,null,null,null,null,0]
[null,null,null,null,null,null,null,null,null,null,null,null,null,null,0]
[null,null,null,null,null,null,null,null,null,null,null,null,null,null,0]
[null,null,null,null,null,null,null,null,null,null,null,null,null,null,0]
[null,null,null,null,null,null,null,null,null,null,null,null,null,null,0]
[null,null,null,null,null,null,null,null,null,null,null,null,null,null,0]
[null,null,null,null,null,null,null,null,null,null,null,null,null,null,0]
[null,null,null,null,null,null,null,null,null,null,null,null,null,null,0]
[null,null,null,null,null,null,null,null,null,null,null,null,null,null,0]
[null,null,null,null,null,null,null,null,null,null,null,null,null,null,0]
[null,null,null,null,null,null,null,null,null,null,null,null,null,null,0]
[null,null,null,null,null,null,null,null,null,null,null,null,null,null,0]
[null,null,null,null,null,null,null,null,null,null,null,null,null,null,0]
[null,null,null,null,null,null,null,null,null,null,null,null,null,null,0]
[null,null,null,null,null,null,null,null,null,null,null,null,null,null,0]
[null,null,null,null,null,null,null,null,null,null,null,null,null,null,0]
[null,null,null,null,null,null,null,null,null,null,null,null,null,null,0]
[null,null,null,null,null,null,null,null,null,null,null,null,null,null,0]
[null,null,null,null,null,null,null,null,null,null,null,null,null,null,0]
[null,null,null,null,null,null,null,null,null,null,null,null,null,null,0]
[null,null,null,null,null,null,null,null,null,null,null,null,null,null,0]
[null,null,null,null,null,null,null,null,null,null,null,null,null,null,0]
[null,null,null,null,null,null,null,null,null,null,null,null,null,null,0]
[null,null,null,null,null,null,null,null,null,null,null,null,null,null,0]
[null,null,null,null,null,null,null,null,null,null,null,null,null,null,0]
[null,null,null,null,null,null,null,null,null,null,null,null,null,null,0]
[null,null,null,null,null,null,null,null,null,null,null,null,null,null,0]
[null,null,null,null,null,null,null,null,null,null,null,null,null,null,0]
[null,null,null,null,null,null,null,null,null,null,null,null,null,null,0]
[null,null,null,null,null,null,null,null,null,null,null,null,null,null,0]
[null,null,null,null,null,null,null,null,null,null,null,null,null,null,0]
[null,null,null,null,null,null,null,null,null,null,null,null,null,null,0]
[null,null,null,null,null,null,null,null,null,null,null,null,null,null,0]
[null,null,null,null,null,null,null,null,null,null,null,null,null,null,0]
[null,null,null,null,null,null,null,null,null,null,null,null,null,null,0]
[null,null,null,null,null,null,null,null,null,null,null,null,null,null,0]
[null,null,null,null,null,null,null,null,null,null,null,null,null,null,0]
[null,null,null,null,null,null,null,null,null,null,null,null,null,null,0]
[null,null,null,null,null,null,null,null,null,null,null,null,null,null,0]
[null,null,null,null,null,null,null,null,null,null,null,null,null,null,0]
[null,null,null,null,null,null,null,null,null,null,null,null,null,null,0]
[null,null,null,null,null,null,null,null,null,null,null,null,null,null,0]
[null,null,null,null,null,null,null,null,null,null,null,null,null,null,0]
[null,null,null,null,null,null,null,null,null,null,null,null,null,null,0]
[null,null,null,null,null,null,null,null,null,null,null,null,null,null,0]
[null,null,null,null,null,null,null,null,null,null,null,null,null,null,0]
[null,null,null,null,null,null,null,null,null,null,null,null,null,null,0]
[null,null,null,null,null,null,null,null,null,null,null,null,null,null,0]
[null,null,null,null,null,null,null,null,null,null,null,null,null,null,0]
[null,null,null,null,null,null,null,null,null,null,null,null,null,null,0]
[null,null,null,null,null,null,null,null,null,null,null,null,null,null,0]
[null,null,null,null,null,null,null,null,null,null,null,null,null,null,0]
[null,null,null,null,null,null,null,null,null,null,null,null,null,null,{"$f":"SUM(I9726:K9726)","v":0}]
[null,null,null,null,null,null,null,null,null,null,null,null,null,null,0]
[null,null,null,null,null,null,null,null,null,null,null,null,null,null,0]
[null,null,null,null,null,null,null,null,null,null,null,null,null,null,0]
[null,null,null,null,null,null,null,null,null,null,null,null,null,null,0]
[null,null,null,null,null,null,null,null,null,null,null,null,null,null,0]
[null,null,null,null,null,null,null,null,null,null,null,null,null,null,0]
[null,null,null,null,null,null,null,null,null,null,null,null,null,null,0]
[null,null,null,null,null,null,null,null,null,null,null,null,null,null,0]
[null,null,null,null,null,null,null,null,null,null,null,null,null,null,0]
[null,null,null,null,null,null,null,null,null,null,null,null,null,null,0]
[null,null,null,null,null,null,null,null,null,null,null,null,null,null,0]
[null,null,null,null,null,null,null,null,null,null,null,null,null,null,0]
[null,null,null,null,null,null,null,null,null,null,null,null,null,null,0]
[null,null,null,null,null,null,null,null,null,null,null,null,null,null,0]
[null,null,null,null,null,null,null,null,null,null,null,null,null,null,0]
[null,null,null,null,null,null,null,null,null,null,null,null,null,null,0]
[null,null,null,null,null,null,null,null,null,null,null,null,null,null,0]
[null,null,null,null,null,null,null,null,null,null,null,null,null,null,0]
[null,null,null,null,null,null,null,null,null,null,null,null,null,null,0]
[null,null,null,null,null,null,null,null,null,null,null,null,null,null,0]
[null,null,null,null,null,null,null,null,null,null,null,null,null,null,{"$f":"SUM(I9917:K9917)","v":0}]
[null,null,null,null,null,null,null,null,null,null,null,null,null,null,0]
[null,null,null,null,null,null,null,null,null,null,null,null,null,null,0]
[null,null,null,null,null,null,null,null,null,null,null,null,null,null,0]
[null,null,null,null,null,null,null,null,null,null,null,null,null,null,0]
[null,null,null,null,null,null,null,null,null,null,null,null,null,null,0]
[null,null,null,null,null,null,null,null,null,null,null,null,null,null,0]
[null,null,null,null,null,null,null,null,null,null,null,null,null,null,0]
[null,null,null,null,null,null,null,null,null,null,null,null,null,null,0]
[null,null,null,null,null,null,null,null,null,null,null,null,null,null,0]
[null,null,null,null,null,null,null,null,null,null,null,null,null,null,0]
[null,null,null,null,null,null,null,null,null,null,null,null,null,null,0]
[null,null,null,null,null,null,null,null,null,null,null,null,null,null,0]
[null,null,null,null,null,null,null,null,null,null,null,null,null,null,0]
[null,null,null,null,null,null,null,null,null,null,null,null,null,null,0]
[null,null,null,null,null,null,null,null,null,null,null,null,null,null,0]
[null,null,null,null,null,null,null,null,null,null,null,null,null,null,0]
[null,null,null,null,null,null,null,null,null,null,null,null,null,null,0]
[null,null,null,null,null,null,null,null,null,null,null,null,null,null,0]
[null,null,null,null,null,null,null,null,null,null,null,null,null,null,0]
[null,null,null,null,null,null,null,null,null,null,null,null,null,null,0]
[null,null,null,null,null,null,null,null,null,null,null,null,null,null,0]
[null,null,null,null,null,null,null,null,null,null,null,null,null,null,0]
[null,null,null,null,null,null,null,null,null,null,null,null,null,null,0]
[null,null,null,null,null,null,null,null,null,null,null,null,null,null,0]
[null,null,null,null,null,null,null,null,null,null,null,null,null,null,0]
[null,null,null,null,null,null,null,null,null,null,null,null,null,null,0]
[null,null,null,null,null,null,null,null,null,null,null,null,null,null,0]
[null,null,null,null,null,null,null,null,null,null,null,null,null,null,0]
[null,null,null,null,null,null,null,null,null,null,null,null,null,null,0]
[null,null,null,null,null,null,null,null,null,null,null,null,null,null,0]
[null,null,null,null,null,null,null,null,null,null,null,null,null,null,0]
[null,null,null,null,null,null,null,null,null,null,null,null,null,null,0]
[null,null,null,null,null,null,null,null,null,null,null,null,null,null,0]
[null,null,null,null,null,null,null,null,null,null,null,null,null,null,0]
[null,null,null,null,null,null,null,null,null,null,null,null,null,null,0]
[null,null,null,null,null,null,null,null,null,null,null,null,null,null,0]
[null,null,null,null,null,null,null,null,null,null,null,null,null,null,0]
[null,null,null,null,null,null,null,null,null,null,null,null,null,null,0]
[null,null,null,null,null,null,null,null,null,null,null,null,null,null,0]
[null,null,null,null,null,null,null,null,null,null,null,null,null,null,0]
[null,null,null,null,null,null,null,null,null,null,null,null,null,null,0]
[null,null,null,null,null,null,null,null,null,null,null,null,null,null,0]
[null,null,null,null,null,null,null,null,null,null,null,null,null,null,0]
[null,null,null,null,null,null,null,null,null,null,null,null,null,null,0]
[null,null,null,null,null,null,null,null,null,null,null,null,null,null,0]
[null,null,null,null,null,null,null,null,null,null,null,null,null,null,0]
[null,null,null,null,null,null,null,null,null,null,null,null,null,null,0]
[null,null,null,null,null,null,null,null,null,null,null,null,null,null,0]
[null,null,null,null,null,null,null,null,null,null,null,null,null,null,0]
[null,null,null,null,null,null,null,null,null,null,null,null,null,null,0]
[null,null,null,null,null,null,null,null,null,null,null,null,null,null,0]
[null,null,null,null,null,null,null,null,null,null,null,null,null,null,0]
[null,null,null,null,null,null,null,null,null,null,null,null,null,null,0]
[null,null,null,null,null,null,null,null,null,null,null,null,null,null,0]
[null,null,null,null,null,null,null,null,null,null,null,null,null,null,0]
[null,null,null,null,null,null,null,null,null,null,null,null,null,null,0]
[null,null,null,null,null,null,null,null,null,null,null,null,null,null,0]
[null,null,null,null,null,null,null,null,null,null,null,null,null,null,0]
[null,null,null,null,null,null,null,null,null,null,null,null,null,null,0]
[null,null,null,null,null,null,null,null,null,null,null,null,null,null,0]
[null,null,null,null,null,null,null,null,null,null,null,null,null,null,{"$f":"SUM(I10489:K10489)","v":0}]
[null,null,null,null,null,null,null,null,null,null,null,null,null,null,0]
[null,null,null,null,null,null,null,null,null,null,null,null,null,null,0]
[null,null,null,null,null,null,null,null,null,null,null,null,null,null,0]
[null,null,null,null,null,null,null,null,null,null,null,null,null,null,0]
[null,null,null,null,null,null,null,null,null,null,null,null,null,null,0]
[null,null,null,null,null,null,null,null,null,null,null,null,null,null,0]
[null,null,null,null,null,null,null,null,null,null,null,null,null,null,0]
[null,null,null,null,null,null,null,null,null,null,null,null,null,null,0]
[null,null,null,null,null,null,null,null,null,null,null,null,null,null,0]
[null,null,null,null,null,null,null,0,null,null,null,{"$f":"I10583+J10583+K10583","v":0}]
[null,null,null,null,null,null,null,0,null,null,null,0]
[null,null,null,null,null,null,null,0,null,null,null,0]
[null,null,null,null,null,null,null,0,null,null,null,0]
[null,null,null,null,null,null,null,0,null,null,null,0]
[null,null,null,null,null,null,null,0,null,null,null,0]
[null,null,null,null,null,null,null,0,null,null,null,0]
[null,null,null,null,null,null,null,0,null,null,null,0]
[null,null,null,null,null,null,null,0,null,null,null,0]
[null,null,null,null,null,null,null,0,null,null,null,0]
[null,null,null,null,null,null,null,0,null,null,null,0]
[null,null,null,null,null,null,null,0,null,null,null,0]
[null,null,null,null,null,null,null,0,null,null,null,0]
[null,null,null,null,null,null,null,0,null,null,null,0]
[null,null,null,null,null,null,null,0,null,null,null,0]
[null,null,null,null,null,null,null,{"$f":"F10716+G10716","v":0},null,null,null,0]
[null,null,null,null,null,null,null,0,null,null,null,0]
[null,null,null,null,null,null,null,0,null,null,null,0]
[null,null,null,null,null,null,null,0,null,null,null,0]
[null,null,null,null,null,null,null,0,null,null,null,0]
[null,null,null,null,null,null,null,0,null,null,null,0]
[null,null,null,null,null,null,null,0,null,null,null,0]
[null,null,null,null,null,null,null,0,null,null,null,0]
[null,null,null,null,null,null,null,0,null,null,null,0]
[null,null,null,null,null,null,null,0,null,null,null,0]
[null,null,null,null,null,null,null,0,null,null,null,0]
[null,null,null,null,null,null,null,0,null,null,null,0]
[null,null,null,null,null,null,null,0,null,null,null,0]
[null,null,null,null,null,null,null,0,null,null,null,0]
[null,null,null,null,null,null,null,0,null,null,null,0]
[null,null,null,null,null,null,null,0,null,null,null,0]
[null,null,null,null,null,null,null,0,null,null,null,0]
[null,null,null,null,null,null,null,0,null,null,null,0]
[null,null,null,null,null,null,null,0,null,null,null,0]
[null,null,null,null,null,null,null,0,null,null,null,0]
[null,null,null,null,null,null,null,0,null,null,null,0]
[null,null,null,null,null,null,null,0,null,null,null,0]
[null,null,null,null,null,null,null,0,null,null,null,0]
[null,null,null,null,null,null,null,0,null,null,null,0]
[null,null,null,null,null,null,null,0,null,null,null,0]
[null,null,null,null,null,null,null,0,null,null,null,0]
[null,null,null,null,null,null,null,0,null,null,null,0]
[null,null,null,null,null,null,null,0,null,null,null,0]
[null,null,null,null,null,null,null,0,null,null,null,0]
[null,null,null,null,null,null,null,0,null,null,null,0]
[null,null,null,null,null,null,null,0,null,null,null,0]
[null,null,null,null,null,null,null,0,null,null,null,0]
[null,null,null,null,null,null,null,0,null,null,null,0]
[null,null,null,null,null,null,null,0,null,null,null,{"$f":"I11030+J11030+K11030","v":0}]
[null,null,null,null,null,null,null,0,null,null,null,0]
[null,null,null,null,null,null,null,0,null,null,null,0]
[null,null,null,null,null,null,null,0,null,null,null,0]
[null,null,null,null,null,null,null,0,null,null,null,0]
[null,null,null,null,null,null,null,0,null,null,null,0]
[null,null,null,null,null,null,null,0,null,null,null,0]
[null,null,null,null,null,null,null,0,null,null,null,0]
[null,null,null,null,null,null,null,0,null,null,null,0]
[null,null,null,null,null,null,null,0,null,null,null,0]
[null,null,null,null,null,null,null,0,null,null,null,0]
[null,null,null,null,null,null,null,0,null,null,null,0]
[null,null,null,null,null,null,null,0,null,null,null,0]
[null,null,null,null,null,null,null,0,null,null,null,0]
[null,null,null,null,null,null,null,0,null,null,null,0]
[null,null,null,null,null,null,null,0,null,null,null,0]
[null,null,null,null,null,null,null,0,null,null,null,{"$f":"I11177+J11177+K11177","v":0}]
[null,null,null,null,null,null,null,0,null,null,null,0]
[null,null,null,null,null,null,null,0,null,null,null,0]
[null,null,null,null,null,null,null,0,null,null,null,0]
[null,null,null,null,null,null,null,0,null,null,null,0]
[null,null,null,null,null,null,null,0,null,null,null,0]
[null,null,null,null,null,null,null,0,null,null,null,0]
[null,null,null,null,null,null,null,0,null,null,null,0]
[null,null,null,null,null,null,null,0,null,null,null,0]
[null,null,null,null,null,null,null,0,null,null,null,0]
[null,null,null,null,null,null,null,0,null,null,null,0]
[null,null,null,null,null,null,null,0,null,null,null,0]
[null,null,null,null,null,null,null,0,null,null,null,0]
[null,null,null,null,null,null,null,0,null,null,null,0]
[null,null,null,null,null,null,null,0,null,null,null,0]
[null,null,null,null,null,null,null,0,null,null,null,0]
[null,null,null,null,null,null,null,0,null,null,null,0]
[null,null,null,null,null,null,null,0,null,null,null,0]
[null,null,null,null,null,null,null,0,null,null,null,0]
[null,null,null,null,null,null,null,0,null,null,null,0]
[null,null,null,null,null,null,null,0,null,null,null,{"$f":"I11361+J11361+K11361","v":0}]
[null,null,null,null,null,null,null,0,null,null,null,0]
[null,null,null,null,null,null,null,0,null,null,null,0]
[null,null,null,null,null,null,null,0,null,null,null,0]
[null,null,null,null,null,null,null,0,null,null,null,0]
[null,null,null,null,null,null,null,0,null,null,null,0]
[null,null,null,null,null,null,null,0,null,null,null,0]
[null,null,null,null,null,null,null,0,null,null,null,0]
[null,null,null,null,null,null,null,0,null,null,null,0]
[null,null,null,null,null,null,null,0,null,null,null,0]
[null,null,null,null,null,null,null,0,null,null,null,0]
[null,null,null,null,null,null,null,0,null,null,null,0]
[null,null,null,null,null,null,null,0,null,null,null,0]
[null,null,null,null,null,null,null,0,null,null,null,0]
[null,null,null,null,null,null,null,0,null,null,null,0]
[null,null,null,null,null,null,null,0,null,null,null,0]
[null,null,null,null,null,null,null,0,null,null,null,0]
[null,null,null,null,null,null,null,0,null,null,null,0]
[null,null,null,null,null,null,null,0,null,null,null,0]
[null,null,null,null,null,null,null,0,null,null,null,0]
[null,null,null,null,null,null,null,0,null,null,null,0]
[null,null,null,null,null,null,null,0,null,null,null,0]
[null,null,null,null,null,null,null,0,null,null,null,0]
[null,null,null,null,null,null,null,0,null,null,null,0]
[null,null,null,null,null,null,null,0,null,null,null,0]
[null,null,null,null,null,null,null,0,null,null,null,0]
[null,null,null,null,null,null,null,0,null,null,null,0]
[null,null,null,null,null,null,null,0,null,null,null,0]
[null,null,null,null,null,null,null,0,null,null,null,0]
[null,null,null,null,null,null,null,0,null,null,null,0]
[null,null,null,null,null,null,null,0,null,null,null,0]
[null,null,null,null,null,null,null,0,null,null,null,0]
[null,null,null,null,null,null,null,0,null,null,null,0]
[null,null,null,null,null,null,null,0,null,null,null,0]
[null,null,null,null,null,null,null,0,null,null,null,0]
[null,null,null,null,null,null,null,0,null,null,null,0]
[null,null,null,null,null,null,null,0,null,null,null,0]
[null,null,null,null,null,null,null,0,null,null,null,0]
[null,null,null,null,null,null,null,0,null,null,null,0]
[null,null,null,null,null,null,null,0,null,null,null,0]
[null,null,null,null,null,null,null,0,null,null,null,0]
[null,null,null,null,null,null,null,0,null,null,null,0]
[null,null,null,null,null,null,null,0,null,null,null,0]
[null,null,null,null,null,null,null,0,null,null,null,0]
[null,null,null,null,null,null,null,0,null,null,null,0]
[null,null,null,null,null,null,null,0,null,null,null,0]
[null,null,null,null,null,null,null,0,null,null,null,0]
[null,null,null,null,null,null,null,0,null,null,null,0]
[null,null,null,null,null,null,null,0,null,null,null,0]
[null,null,null,null,null,null,null,0,null,null,null,{"$f":"I11816+J11816+K11816","v":0}]
[null,null,null,null,null,null,null,0,null,null,null,0]
[null,null,null,null,null,null,null,0,null,null,null,0]
[null,null,null,null,null,null,null,0,null,null,null,0]
[null,null,null,null,null,null,null,0,null,null,null,0]
[null,null,null,null,null,null,null,0,null,null,null,0]
[null,null,null,null,null,null,null,0,null,null,null,0]
[null,null,null,null,null,null,null,0,null,null,null,0]
[null,null,null,null,null,null,null,0,null,null,null,0]
[null,null,null,null,null,null,null,0,null,null,null,0]
[null,null,null,null,null,null,null,0,null,null,null,0]
[null,null,null,null,null,null,null,0,null,null,null,0]
[null,null,null,null,null,null,null,0,null,null,null,0]
[null,null,null,null,null,null,null,0,null,null,null,0]
[null,null,null,null,null,null,null,0,null,null,null,0]
[null,null,null,null,null,null,null,0,null,null,null,0]
[null,null,null,null,null,null,null,0,null,null,null,0]
[null,null,null,null,null,null,null,0,null,null,null,0]
[null,null,null,null,null,null,null,0,null,null,null,0]
[null,null,null,null,null,null,null,0,null,null,null,0]
[null,null,null,null,null,null,null,0,null,null,null,0]
[null,null,null,null,null,null,null,0,null,null,null,{"$f":"I12008+J12008+K12008","v":0}]
[null,null,null,null,null,null,null,0,null,null,null,0]
[null,null,null,null,null,null,null,0,null,null,null,0]
[null,null,null,null,null,null,null,0,null,null,null,0]
[null,null,null,null,null,null,null,0,null,null,null,0]
[null,null,null,null,null,null,null,0,null,null,null,0]
[null,null,null,null,null,null,null,0,null,null,null,0]
[null,null,null,null,null,null,null,0,null,null,null,0]
[null,null,null,null,null,null,null,0,null,null,null,0]
[null,null,null,null,null,null,null,0,null,null,null,0]
[null,null,null,null,null,null,null,0,null,null,null,0]
[null,null,null,null,null,null,null,0,null,null,null,0]
[null,null,null,null,null,null,null,0,null,null,null,0]
[null,null,null,null,null,null,null,0,null,null,null,0]
[null,null,null,null,null,null,null,0,null,null,null,0]
[null,null,null,null,null,null,null,0,null,null,null,0]
[null,null,null,null,null,null,null,0,null,null,null,0]
[null,null,null,null,null,null,null,0,null,null,null,0]
[null,null,null,null,null,null,null,0,null,null,null,0]
[null,null,null,null,null,null,null,0,null,null,null,0]
[null,null,null,null,null,null,null,0,null,null,null,0]
[null,null,null,null,null,null,null,0,null,null,null,0]
[null,null,null,null,null,null,null,0,null,null,null,0]
[null,null,null,null,null,null,null,0,null,null,null,0]
[null,null,null,null,null,null,null,0,null,null,null,0]
[null,null,null,null,null,null,null,0,null,null,null,0]
[null,null,null,null,null,null,null,0,null,null,null,0]
[null,null,null,null,null,null,null,0,null,null,null,0]
[null,null,null,null,null,null,null,0,null,null,null,0]
[null,null,null,null,null,null,null,0,null,null,null,0]
[null,null,null,null,null,null,null,0,null,null,null,0]
[null,null,null,null,null,null,null,0,null,null,null,0]
[null,null,null,null,null,null,null,0,null,null,null,0]
[null,null,null,null,null,null,null,0,null,null,null,0]
[null,null,null,null,null,null,null,0,null,null,null,{"$f":"I12325+J12325+K12325","v":0}]
[null,null,null,null,null,null,null,0,null,null,null,0]
[null,null,null,null,null,null,null,0,null,null,null,0]
[null,null,null,null,null,null,null,0,null,null,null,0]
[null,null,null,null,null,null,null,0,null,null,null,0]
[null,null,null,null,null,null,null,0,null,null,null,0]
[null,null,null,null,null,null,null,0,null,null,null,0]
[null,null,null,null,null,null,null,0,null,null,null,0]
[null,null,null,null,null,null,null,0,null,null,null,0]
[null,null,null,null,null,null,null,0,null,null,null,{"$f":"I12415+J12415+K12415","v":0}]
[null,null,null,null,null,null,null,0,null,null,null,0]
[null,null,null,null,null,null,null,0,null,null,null,0]
[null,null,null,null,null,null,null,0,null,null,null,0]
[null,null,null,null,null,null,null,0,null,null,null,0]
[null,null,null,null,null,null,null,0,null,null,null,0]
[null,null,null,null,null,null,null,0,null,null,null,0]
[null,null,null,null,null,null,null,0,null,null,null,0]
[null,null,null,null,null,null,null,0,null,null,null,0]
[null,null,null,null,null,null,null,0,null,null,null,0]
[null,null,null,null,null,null,null,0,null,null,null,0]
[null,null,null,null,null,null,null,0,null,null,null,0]
[null,null,null,null,null,null,null,0,null,null,null,0]
[null,null,null,null,null,null,null,0,null,null,null,0]
[null,null,null,null,null,null,null,0,null,null,null,0]
[null,null,null,null,null,null,null,0,null,null,null,0]
[null,null,null,null,null,null,null,0,null,null,null,0]
[null,null,null,null,null,null,null,0,null,null,null,0]
[null,null,null,null,null,null,null,0,null,null,null,0]
[null,null,null,null,null,null,null,0,null,null,null,0]
[null,null,null,null,null,null,null,0,null,null,null,0]
[null,null,null,null,null,null,null,0,null,null,null,0]
[null,null,null,null,null,null,null,0,null,null,null,0]
[null,null,null,null,null,null,null,0,null,null,null,0]
[null,null,null,null,null,null,null,0,null,null,null,0]
[null,null,null,null,null,null,null,0,null,null,null,0]
[null,null,null,null,null,null,null,0,null,null,null,0]
[null,null,null,null,null,null,null,0,null,null,null,0]
[null,null,null,null,null,null,null,0,null,null,null,0]
[null,null,null,null,null,null,null,0,null,null,null,0]
[null,null,null,null,null,null,null,{"$f":"F12690+G12690","v":0},null,null,null,0]
[null,null,null,null,null,null,null,0,null,null,null,0]
[null,null,null,null,null,null,null,0,null,null,null,0]
[null,null,null,null,null,null,null,0,null,null,null,0]
[null,null,null,null,null,null,null,0,null,null,null,0]
[null,null,null,null,null,null,null,0,null,null,null,0]
[null,null,null,null,null,null,null,0,null,null,null,0]
[null,null,null,null,null,null,null,0,null,null,null,0]
[null,null,null,null,null,null,null,0,null,null,null,0]
[null,null,null,null,null,null,null,0,null,null,null,0]
[null,null,null,null,null,null,null,0,null,null,null,0]
[null,null,null,null,null,null,null,0,null,null,null,0]
[null,null,null,null,null,null,null,0,null,null,null,0]
[null,null,null,null,null,null,null,0,null,null,null,0]
[null,null,null,null,null,null,null,0,null,null,null,0]
[null,null,null,null,null,null,null,0,null,null,null,0]
[null,null,null,null,null,null,null,0,null,null,null,0]
[null,null,null,null,null,null,null,0,null,null,null,0]
[null,null,null,null,null,null,null,0,null,null,null,0]
[null,null,null,null,null,null,null,0,null,null,null,0]
[null,null,null,null,null,null,null,0,null,null,null,{"$f":"I12874+J12874+K12874","v":0}]
[null,null,null,null,null,null,null,0,null,null,null,0]
[null,null,null,null,null,null,null,0,null,null,null,0]
[null,null,null,null,null,null,null,0,null,null,null,0]
[null,null,null,null,null,null,null,0,null,null,null,0]
[null,null,null,null,null,null,null,0,null,null,null,0]
[null,null,null,null,null,null,null,0,null,null,null,0]
[null,null,null,null,null,null,null,0,null,null,null,0]
[null,null,null,null,null,null,null,0,null,null,null,0]
[null,null,null,null,null,null,null,0,null,null,null,0]
[null,null,null,null,null,null,null,0,null,null,null,0]
[null,null,null,null,null,null,null,0,null,null,null,0]
[null,null,null,null,null,null,null,0,null,null,null,0]
[null,null,null,null,null,null,null,0,null,null,null,0]
[null,null,null,null,null,null,null,0,null,null,null,{"$f":"I13004+J13004+K13004","v":0}]
[null,null,null,null,null,null,null,0,null,null,null,0]
[null,null,null,null,null,null,null,0,null,null,null,0]
[null,null,null,null,null,null,null,0,null,null,null,0]
[null,null,null,null,null,null,null,0,null,null,null,0]
[null,null,null,null,null,null,null,0,null,null,null,0]
[null,null,null,null,null,null,null,0,null,null,null,{"$f":"I13058+J13058+K13058","v":0}]
[null,null,null,null,null,null,null,0,null,null,null,0]
[null,null,null,null,null,null,null,0,null,null,null,0]
[null,null,null,null,null,null,null,0,null,null,null,0]
[null,null,null,null,null,null,null,0,null,null,null,0]
[null,null,null,null,null,null,null,0,null,null,null,0]
[null,null,null,null,null,null,null,0,null,null,null,0]
[null,null,null,null,null,null,null,0,null,null,null,0]
[null,null,null,null,null,null,null,0,null,null,null,0]
[null,null,null,null,null,null,null,0,null,null,null,{"$f":"I13147+J13147+K13147","v":0}]
[null,null,null,null,null,null,null,0,null,null,null,0]
[null,null,null,null,null,null,null,0,null,null,null,0]
[null,null,null,null,null,null,null,0,null,null,null,0]
[null,null,null,null,null,null,null,0,null,null,null,{"$f":"I13186+J13186+K13186","v":0}]
[null,null,null,null,null,null,null,0,null,null,null,0]
[null,null,null,null,null,null,null,0,null,null,null,0]
[null,null,null,null,null,null,null,0,null,null,null,0]
[null,null,null,null,null,null,null,0,null,null,null,0]
[null,null,null,null,null,null,null,0,null,null,null,0]
[null,null,null,null,null,null,null,0,null,null,null,{"$f":"I13241+J13241+K13241","v":0}]
[null,null,null,null,null,null,null,0,null,null,null,0]
[null,null,null,null,null,null,null,0,null,null,null,0]
[null,null,null,null,null,null,null,0,null,null,null,0]
[null,null,null,null,null,null,null,0,null,null,null,0]
[null,null,null,null,null,null,null,0,null,null,null,0]
[null,null,null,null,null,null,null,{"$f":"F13296+G13296","v":0},null,null,null,0]
[null,null,null,null,null,null,null,0,null,null,null,0]
[null,null,null,null,null,null,null,0,null,null,null,0]
[null,null,null,null,null,null,null,0,null,null,null,0]
[null,null,null,null,null,null,null,0,null,null,null,0]
[null,null,null,null,null,null,null,0,null,null,null,0]
[null,null,null,null,null,null,null,0,null,null,null,0]
[null,null,null,null,null,null,null,0,null,null,null,0]
[null,null,null,null,null,null,null,0,null,null,null,{"$f":"I13370+J13370+K13370","v":0}]
[null,null,null,null,null,null,null,0,null,null,null,0]
[null,null,null,null,null,null,null,0,null,null,null,0]
[null,null,null,null,null,null,null,0,null,null,null,0]
[null,null,null,null,null,null,null,0,null,null,null,0]
[null,null,null,null,null,null,null,0,null,null,null,0]
[null,null,null,null,null,null,null,0,null,null,null,0]
[null,null,null,null,null,null,null,{"$f":"F13430+G13430","v":0},null,null,null,0]
[null,null,null,null,null,null,null,0,null,null,null,0]
[null,null,null,null,null,null,null,0,null,null,null,0]
[null,null,null,null,null,null,null,0,null,null,null,{"$f":"I13464+J13464+K13464","v":0}]
[null,null,null,null,null,null,null,0,null,null,null,0]
[null,null,null,null,null,null,null,0,null,null,null,0]
[null,null,null,null,null,null,null,0,null,null,null,0]
[null,null,null,null,null,null,null,0,null,null,null,0]
[null,null,null,null,null,null,null,0,null,null,null,0]
[null,null,null,null,null,null,null,0,null,null,null,0]
[null,null,null,null,null,null,null,0,null,null,null,0]
[null,null,null,null,null,null,null,0,null,null,null,0]
[null,null,null,null,null,null,null,0,null,null,null,0]
[null,null,null,null,null,null,null,0,null,null,null,0]
[null,null,null,null,null,null,null,0,null,null,null,0]
[null,null,null,null,null,null,null,0,null,null,null,0]
[null,null,null,null,null,null,null,0,null,null,null,0]
[null,null,null,null,null,null,null,0,null,null,null,0]
[null,null,null,null,null,null,null,0,null,null,null,0]
[null,null,null,null,null,null,null,0,null,null,null,0]
[null,null,null,null,null,null,null,0,null,null,null,0]
[null,null,null,null,null,null,null,0,null,null,null,0]
[null,null,null,null,null,null,null,0,null,null,null,0]
[null,null,null,null,null,null,null,0,null,null,null,0]
[null,null,null,null,null,null,null,0,null,null,null,0]
[null,null,null,null,null,null,null,0,null,null,null,0]
[null,null,null,null,null,null,null,0,null,null,null,0]
[null,null,null,null,null,null,null,0,null,null,null,0]
[null,null,null,null,null,null,null,0,null,null,null,{"$f":"I13695+J13695+K13695","v":0}]
[null,null,null,null,null,null,null,0,null,null,null,0]
[null,null,null,null,null,null,null,0,null,null,null,0]
[null,null,null,null,null,null,null,0,null,null,null,0]
[null,null,null,null,null,null,null,0,null,null,null,0]
[null,null,null,null,null,null,null,0,null,null,null,0]
[null,null,null,null,null,null,null,0,null,null,null,0]
[null,null,null,null,null,null,null,0,null,null,null,0]
[null,null,null,null,null,null,null,{"$f":"F13769+G13769","v":0},null,null,null,0]
[null,null,null,null,null,null,null,0,null,null,null,0]
[null,null,null,null,null,null,null,0,null,null,null,0]
[null,null,null,null,null,null,null,0,null,null,null,0]
[null,null,null,null,null,null,null,0,null,null,null,0]
[null,null,null,null,null,null,null,0,null,null,null,0]
[null,null,null,null,null,null,null,0,null,null,null,0]
[null,null,null,null,null,null,null,0,null,null,null,0]
[null,null,null,null,null,null,null,0,null,null,null,0]
[null,null,null,null,null,null,null,0,null,null,null,0]
[null,null,null,null,null,null,null,0,null,null,null,0]
[null,null,null,null,null,null,null,0,null,null,null,0]
[null,null,null,null,null,null,null,0,null,null,null,0]
[null,null,null,null,null,null,null,0,null,null,null,{"$f":"I13886+J13886+K13886","v":0}]
[null,null,null,null,null,null,null,0,null,null,null,0]
[null,null,null,null,null,null,null,0,null,null,null,0]
[null,null,null,null,null,null,null,0,null,null,null,0]
[null,null,null,null,null,null,null,0,null,null,null,0]
[null,null,null,null,null,null,null,0,null,null,null,0]
[null,null,null,null,null,null,null,0,null,null,null,0]
[null,null,null,null,null,null,null,0,null,null,null,0]
[null,null,null,null,null,null,null,0,null,null,null,{"$f":"I13967+J13967+K13967","v":0}]
[null,null,null,null,null,null,null,0,null,null,null,0]
[null,null,null,null,null,null,null,0,null,null,null,0]
[null,null,null,null,null,null,null,0,null,null,null,0]
[null,null,null,null,null,null,null,0,null,null,null,0]
[null,null,null,null,null,null,null,0,null,null,null,0]
[null,null,null,null,null,null,null,0,null,null,null,0]
[null,null,null,null,null,null,null,0,null,null,null,0]
[null,null,null,null,null,null,null,0,null,null,null,0]
[null,null,null,null,null,null,null,0,null,null,null,0]
[null,null,null,null,null,null,null,0,null,null,null,0]
[null,null,null,null,null,null,null,0,null,null,null,0]
[null,null,null,null,null,null,null,0,null,null,null,0]
[]
[null,null,null,null,null,null,null,null,null,0]
[null,null,null,null,null,null,null,null,null,0]
[null,null,null,null,null,null,null,null,null,{"$f":"F14109","v":0}]
[null,null,null,null,null,null,null,null,null,0]
[null,null,null,null,null,null,null,null,null,0]
[null,null,null,null,null,null,null,null,null,0]
[null,null,null,null,null,null,null,null,null,0]
[null,null,null,null,null,null,null,null,null,0]
[null,null,null,null,null,null,null,null,null,0]
[null,null,null,null,null,null,null,null,null,0]
[null,null,null,null,null,null,null,null,null,0]
[null,null,null,null,null,null,null,null,null,{"$f":"F14196","v":0}]
[null,null,null,null,null,null,null,null,null,0]
[null,null,null,null,null,null,null,null,null,0]
[null,null,null,null,null,null,null,null,null,0]
[null,null,null,null,null,null,null,null,null,0]
[null,null,null,null,null,null,null,null,null,0]
[null,null,null,null,null,null,null,null,null,0]
[null,null,null,null,null,null,null,null,null,0]
[null,null,null,null,null,null,null,null,null,0]
[null,null,null,null,null,null,null,null,null,0]
[null,null,null,null,null,null,null,null,null,0]
[null,null,null,null,null,null,null,null,null,0]
[null,null,null,null,null,null,null,null,null,0]
[null,null,null,null,null,null,null,null,null,0]
[null,null,null,null,null,null,null,null,null,0]
[null,null,null,null,null,null,null,null,null,0]
[null,null,null,null,null,null,null,null,null,0]
[null,null,null,null,null,null,null,null,null,0]
[null,null,null,null,null,null,null,null,null,0]
[null,null,null,null,null,null,null,null,null,0]
[null,null,null,null,null,null,null,null,null,0]
[null,null,null,null,null,null,null,null,null,0]
[null,null,null,null,null,null,null,null,null,0]
[null,null,null,null,null,null,null,null,null,0]
[null,null,null,null,null,null,null,null,null,0]
[null,null,null,null,null,null,null,null,null,{"$f":"F14426","v":0}]
[null,null,null,null,null,null,null,null,null,0]
[null,null,null,null,null,null,null,null,null,0]
[null,null,null,null,null,null,null,null,null,0]
[null,null,null,null,null,null,null,null,null,0]
[null,null,null,null,null,null,null,null,null,0]
[null,null,null,null,null,null,null,null,null,0]
[null,null,null,null,null,null,null,null,null,0]
[null,null,null,null,null,null,null,null,null,0]
[null,null,null,null,null,null,null,null,null,0]
[null,null,null,null,null,null,null,null,null,0]
[null,null,null,null,null,null,null,null,null,0]
[null,null,null,null,null,null,null,null,null,0]
[null,null,null,null,null,null,null,null,null,0]
[null,null,null,null,null,null,null,null,null,{"$f":"F14556","v":0}]
[null,null,null,null,null,null,null,null,null,0]
[null,null,null,null,null,null,null,null,null,0]
[null,null,null,null,null,null,null,null,null,0]
[null,null,null,null,null,null,null,null,null,0]
[null,null,null,null,null,null,null,null,null,0]
[null,null,null,null,null,null,null,null,null,0]
[null,null,null,null,null,null,null,null,null,0]
[null,null,null,null,null,null,null,null,null,0]
[null,null,null,null,null,null,null,null,null,0]
[null,null,null,null,null,null,null,null,null,0]
[null,null,null,null,null,null,null,null,null,0]
[null,null,null,null,null,null,null,null,null,0]
[null,null,null,null,null,null,null,null,null,0]
[null,null,null,null,null,null,null,null,null,0]
[null,null,null,null,null,null,null,null,null,0]
[null,null,null,null,null,null,null,null,null,0]
[null,null,null,null,null,null,null,null,null,0]
[null,null,null,null,null,null,null,null,null,0]
[null,null,null,null,null,null,null,null,null,0]
[null,null,null,null,null,null,null,null,null,0]
[null,null,null,null,null,null,null,null,null,0]
[null,null,null,null,null,null,null,null,null,0]
[null,null,null,null,null,null,null,null,null,0]
[null,null,null,null,null,null,null,null,null,{"$f":"F14779","v":0}]
[null,null,null,null,null,null,null,null,null,0]
[null,null,null,null,null,null,null,null,null,0]
[null,null,null,null,null,null,null,null,null,0]
[null,null,null,null,null,null,null,null,null,0]
[null,null,null,null,null,null,null,null,null,0]
[null,null,null,null,null,null,null,null,null,0]
[null,null,null,null,null,null,null,null,null,0]
[null,null,null,null,null,null,null,null,null,0]
[null,null,null,null,null,null,null,null,null,0]
[null,null,null,null,null,null,null,null,null,0]
[null,null,null,null,null,null,null,null,null,0]
[null,null,null,null,null,null,null,null,null,0]
[null,null,null,null,null,null,null,null,null,0]
[null,null,null,null,null,null,null,null,null,{"$f":"F14912","v":0}]
[null,null,null,null,null,null,null,null,null,0]
[null,null,null,null,null,null,null,null,null,0]
[null,null,null,null,null,null,null,null,null,0]
[null,null,null,null,null,null,null,null,null,0]
[null,null,null,null,null,null,null,null,null,0]
[null,null,null,null,null,null,null,null,null,0]
[null,null,null,null,null,null,null,null,null,0]
[null,null,null,null,null,null,null,null,null,0]
[null,null,null,null,null,null,null,null,null,{"$f":"F14999","v":0}]
[null,null,null,null,null,null,null,null,null,{"$f":"F15002","v":0}]
[null,null,null,null,null,null,null,null,null,0]
[null,null,null,null,null,null,null,null,null,0]
[null,null,null,null,null,null,null,null,null,0]
[null,null,null,null,null,null,null,null,null,0]
[null,null,null,null,null,null,null,null,null,0]
[null,null,null,null,null,null,null,null,null,0]
[null,null,null,null,null,null,null,null,null,0]
[null,null,null,null,null,null,null,null,null,0]
[null,null,null,null,null,null,null,null,null,0]
[null,null,null,null,null,null,null,null,null,0]
[null,null,null,null,null,null,null,null,null,0]
[null,null,null,null,null,null,null,null,null,0]
[null,null,null,null,null,null,null,null,null,0]
[null,null,null,null,null,null,null,null,null,0]
[null,null,null,null,null,null,null,null,null,0]
[null,null,null,null,null,null,null,null,null,0]
[null,null,null,null,null,null,null,null,null,0]
[null,null,null,null,null,null,null,null,null,0]
[null,null,null,null,null,null,null,null,null,0]
[null,null,null,null,null,null,null,null,null,0]
[null,null,null,null,null,null,null,null,null,0]
[null,null,null,null,null,null,null,null,null,0]
[null,null,null,null,null,null,null,null,null,0]
[null,null,null,null,null,null,null,null,null,0]
[null,null,null,null,null,null,null,null,null,0]
[null,null,null,null,null,null,null,null,null,{"$f":"F15245","v":0}]
[null,null,null,null,null,null,null,null,null,0]
[null,null,null,null,null,null,null,null,null,0]
[null,null,null,null,null,null,null,null,null,0]
[null,null,null,null,null,null,null,null,null,0]
[null,null,null,null,null,null,null,null,null,0]
[null,null,null,null,null,null,null,null,null,0]
[null,null,null,null,null,null,null,null,null,0]
[null,null,null,null,null,null,null,null,null,{"$f":"F15319","v":0}]
[null,null,null,null,null,null,null,null,null,0]
[null,null,null,null,null,null,null,null,null,0]
[null,null,null,null,null,null,null,null,null,0]
[null,null,null,null,null,null,null,null,null,0]
[null,null,null,null,null,null,null,null,null,0]
[null,null,null,null,null,null,null,null,null,0]
[null,null,null,null,null,null,null,null,null,0]
[null,null,null,null,null,null,null,null,null,0]
[null,null,null,null,null,null,null,null,null,0]
[null,null,null,null,null,null,null,null,null,0]
[null,null,null,null,null,null,null,null,null,0]
[null,null,null,null,null,null,null,null,null,0]
[null,null,null,null,null,null,null,null,null,0]
[null,null,null,null,null,null,null,null,null,{"$f":"F15451","v":0}]
[null,null,null,null,null,null,null,null,null,0]
[null,null,null,null,null,null,null,null,null,0]
[null,null,null,null,null,null,null,null,null,0]
[null,null,null,null,null,null,null,null,null,{"$f":"F15488","v":0}]
[null,null,null,null,null,null,null,null,null,0]
[null,null,null,null,null,null,null,null,null,0]
[null,null,null,null,null,null,null,null,null,0]
[null,null,null,null,null,null,null,null,null,{"$f":"F15527","v":0}]
[null,null,null,null,null,null,null,null,null,0]
[null,null,null,null,null,null,null,null,null,0]
[null,null,null,null,null,null,null,null,null,0]
[null,null,null,null,null,null,null,null,null,0]
[null,null,null,null,null,null,null,null,null,0]
[null,null,null,null,null,null,null,null,null,0]
[null,null,null,null,null,null,null,null,null,0]
[null,null,null,null,null,null,null,null,null,0]
[null,null,null,null,null,null,null,null,null,0]
[null,null,null,null,null,null,null,null,null,0]
[null,null,null,null,null,null,null,null,null,0]
[null,null,null,null,null,null,null,null,null,0]
[null,null,null,null,null,null,null,null,null,0]
[null,null,null,null,null,null,null,null,null,0]
[null,null,null,null,null,null,null,null,null,0]
[null,null,null,null,null,null,null,null,null,0]
[null,null,null,null,null,null,null,null,null,0]
[null,null,null,null,null,null,null,null,null,0]
[null,null,null,null,null,null,null,null,null,{"$f":"F15707","v":0}]
[null,null,null,null,null,null,null,null,null,0]
[null,null,null,null,null,null,null,null,null,0]
[null,null,null,null,null,null,null,null,null,0]
[null,null,null,null,null,null,null,null,null,0]
[null,null,null,null,null,null,null,null,null,0]
[null,null,null,null,null,null,null,null,null,0]
[null,null,null,null,null,null,null,null,null,0]
[null,null,null,null,null,null,null,null,null,0]
[null,null,null,null,null,null,null,null,null,0]
[null,null,null,null,null,null,null,null,null,0]
[null,null,null,null,null,null,null,null,null,0]
[null,null,null,null,null,null,null,null,null,0]
[null,null,null,null,null,null,null,null,null,0]
[null,null,null,null,null,null,null,null,null,0]
[null,null,null,null,null,null,null,null,null,0]
[null,null,null,null,null,null,null,null,null,0]
[null,null,null,null,null,null,null,null,null,0]
[null,null,null,null,null,null,null,null,null,0]
[null,null,null,null,null,null,null,null,null,0]
[null,null,null,null,null,null,null,null,null,0]
[null,null,null,null,null,null,null,null,null,0]
[null,null,null,null,null,null,null,null,null,0]
[null,null,null,null,null,null,null,null,null,0]
[null,null,null,null,null,null,null,null,null,0]
[null,null,null,null,null,null,null,null,null,0]
[null,null,null,null,null,null,null,null,null,0]
[null,null,null,null,null,null,null,null,null,0]
[null,null,null,null,null,null,null,null,null,0]
[null,null,null,null,null,null,null,null,null,0]
[null,null,null,null,null,null,null,null,null,{"$f":"F15978","v":0}]
[null,null,null,null,null,null,null,null,null,0]
[null,null,null,null,null,null,null,null,null,0]
[null,null,null,null,null,null,null,null,null,0]
[null,null,null,null,null,null,null,null,null,0]
[null,null,null,null,null,null,null,null,null,0]
[null,null,null,null,null,null,null,null,null,0]
[null,null,null,null,null,null,null,null,null,0]
[null,null,null,null,null,null,null,null,null,0]
[null,null,null,null,null,null,null,null,null,{"$f":"F16067","v":0}]
[null,null,null,null,null,null,null,null,null,0]
[null,null,null,null,null,null,null,null,null,0]
[null,null,null,null,null,null,null,null,null,0]
[null,null,null,null,null,null,null,null,null,0]
[null,null,null,null,null,null,null,null,null,0]
[null,null,null,null,null,null,null,null,null,0]
[null,null,null,null,null,null,null,null,null,{"$f":"F16133","v":0}]
[null,null,null,null,null,null,null,null,null,0]
[null,null,null,null,null,null,null,null,null,0]
[null,null,null,null,null,null,null,null,null,0]
[null,null,null,null,null,null,null,null,null,0]
[null,null,null,null,null,null,null,null,null,0]
[null,null,null,null,null,null,null,null,null,0]
[null,null,null,null,null,null,null,null,null,0]
[null,null,null,null,null,null,null,null,null,{"$f":"F16204","v":0}]
[null,null,null,null,null,null,null,null,null,0]
[null,null,null,null,null,null,null,null,null,0]
[null,null,null,null,null,null,null,null,null,0]
[null,null,null,null,null,null,null,null,null,0]
[null,null,null,null,null,null,null,null,null,0]
[null,null,null,null,null,null,null,null,null,0]
[null,null,null,null,null,null,null,null,null,0]
[null,null,null,null,null,null,null,null,null,0]
[null,null,null,null,null,null,null,null,null,0]
[null,null,null,null,null,null,null,null,null,0]
[null,null,null,null,null,null,null,null,null,0]
[null,null,null,null,null,null,null,null,null,0]
[null,null,null,null,null,null,null,null,null,0]
[null,null,null,null,null,null,null,null,null,0]
[null,null,null,null,null,null,null,null,null,0]
[null,null,null,null,null,null,null,null,null,0]
[null,null,null,null,null,null,null,null,null,0]
[null,null,null,null,null,null,null,null,null,0]
[null,null,null,null,null,null,null,null,null,0]
[null,null,null,null,null,null,null,null,null,0]
[null,null,null,null,null,null,null,null,null,0]
[null,null,null,null,null,null,null,null,null,0]
[null,null,null,null,null,null,null,null,null,{"$f":"F16424","v":0}]
[null,null,null,null,null,null,null,null,null,{"$f":"F16427","v":0}]
[null,null,null,null,null,null,null,null,null,0]
[null,null,null,null,null,null,null,null,null,0]
[null,null,null,null,null,null,null,null,null,0]
[null,null,null,null,null,null,null,null,null,0]
[null,null,null,null,null,null,null,null,null,0]
[null,null,null,null,null,null,null,null,null,0]
[null,null,null,null,null,null,null,null,null,0]
[null,null,null,null,null,null,null,null,null,0]
[null,null,null,null,null,null,null,null,null,{"$f":"F16514","v":0}]
[null,null,null,null,null,null,null,null,null,0]
[null,null,null,null,null,null,null,null,null,0]
[null,null,null,null,null,null,null,null,null,0]
[null,null,null,null,null,null,null,null,null,0]
[null,null,null,null,null,null,null,null,null,0]
[null,null,null,null,null,null,null,null,null,0]
[null,null,null,null,null,null,null,null,null,0]
[null,null,null,null,null,null,null,null,null,0]
[null,null,null,null,null,null,null,null,null,0]
[null,null,null,null,null,null,null,null,null,0]
[null,null,null,null,null,null,null,null,null,0]
[null,null,null,null,null,null,null,null,null,0]
[null,null,null,null,null,null,null,null,null,0]
[null,null,null,null,null,null,null,null,null,0]
[null,null,null,null,null,null,null,null,null,0]
[null,null,null,null,null,null,null,null,null,0]
[null,null,null,null,null,null,null,null,null,{"$f":"F16670","v":0}]
[null,null,null,null,null,null,null,null,null,0]
[null,null,null,null,null,null,null,null,null,0]
[null,null,null,null,null,null,null,null,null,0]
[null,null,null,null,null,null,null,null,null,0]
[null,null,null,null,null,null,null,null,null,0]
[null,null,null,null,null,null,null,null,null,0]
[null,null,null,null,null,null,null,null,null,0]
[null,null,null,null,null,null,null,null,null,{"$f":"F16744","v":0}]
[null,null,null,null,null,null,null,null,null,0]
[null,null,null,null,null,null,null,null,null,0]
[null,null,null,null,null,null,null,null,null,0]
[null,null,null,null,null,null,null,null,null,0]
[null,null,null,null,null,null,null,null,null,0]
[null,null,null,null,null,null,null,null,null,0]
[null,null,null,null,null,null,null,null,null,0]
[null,null,null,null,null,null,null,null,null,0]
[null,null,null,null,null,null,null,null,null,0]
[null,null,null,null,null,null,null,null,null,0]
[null,null,null,null,null,null,null,null,null,0]
[null,null,null,null,null,null,null,null,null,0]
[null,null,null,null,null,null,null,null,null,0]
[null,null,null,null,null,null,null,null,null,0]
[null,null,null,null,null,null,null,null,null,0]
[null,null,null,null,null,null,null,null,null,0]
[null,null,null,null,null,null,null,null,null,0]
[null,null,null,null,null,null,null,null,null,0]
[null,null,null,null,null,null,null,null,null,0]
[null,null,null,null,null,null,null,null,null,0]
[null,null,null,null,null,null,null,null,null,0]
[null,null,null,null,null,null,null,null,null,0]
[null,null,null,null,null,null,null,null,null,0]
[null,null,null,null,null,null,null,null,null,{"$f":"F16964","v":0}]
[null,null,null,null,null,null,null,null,null,0]
[null,null,null,null,null,null,null,null,null,0]
[null,null,null,null,null,null,null,null,null,0]
[null,null,null,null,null,null,null,null,null,0]
[null,null,null,null,null,null,null,null,null,0]
[null,null,null,null,null,null,null,null,null,0]
[null,null,null,null,null,null,null,null,null,0]
[null,null,null,null,null,null,null,null,null,0]
[null,null,null,null,null,null,null,null,null,0]
[null,null,null,null,null,null,null,null,null,0]
[null,null,null,null,null,null,null,null,null,0]
[null,null,null,null,null,null,null,null,null,0]
[null,null,null,null,null,null,null,null,null,0]
[null,null,null,null,null,null,null,null,null,0]
[null,null,null,null,null,null,null,null,null,0]
[null,null,null,null,null,null,null,null,null,0]
[null,null,null,null,null,null,null,null,null,0]
[null,null,null,null,null,null,null,null,null,0]
[null,null,null,null,null,null,null,null,null,0]
[null,null,null,null,null,null,null,null,null,0]
[null,null,null,null,null,null,null,null,null,0]
[null,null,null,null,null,null,null,null,null,0]
[null,null,null,null,null,null,null,null,null,0]
[null,null,null,null,null,null,null,null,null,0]
[null,null,null,null,null,null,null,null,null,0]
[null,null,null,null,null,null,null,null,null,0]
[null,null,null,null,null,null,null,null,null,0]
[null,null,null,null,null,null,null,null,null,0]
[null,null,null,null,null,null,null,null,null,0]
[null,null,null,null,null,null,null,null,null,0]
[null,null,null,null,null,null,null,null,null,0]
[null,null,null,null,null,null,null,null,null,0]
[null,null,null,null,null,null,null,null,null,0]
[null,null,null,null,null,null,null,null,null,0]
[null,null,null,null,null,null,null,null,null,0]
[null,null,null,null,null,null,null,null,null,0]
[null,null,null,null,null,null,null,null,null,0]
[null,null,null,null,null,null,null,null,null,0]
[null,null,null,null,null,null,null,null,null,0]
[null,null,null,null,null,null,null,null,null,0]
[null,null,null,null,null,null,null,null,null,0]
[null,null,null,null,null,null,null,null,null,0]
[null,null,null,null,null,null,null,null,null,0]
[null,null,null,null,null,null,null,null,null,0]
[null,null,null,null,null,null,null,null,null,0]
[null,null,null,null,null,null,null,null,null,0]
[null,null,null,null,null,null,null,null,null,0]
[null,null,null,null,null,null,null,null,null,0]
[null,null,null,null,null,null,null,null,null,0]
[null,null,null,null,null,null,null,null,null,0]
[null,null,null,null,null,null,null,null,null,0]
[null,null,null,null,null,null,null,null,null,0]
[null,null,null,null,null,null,null,null,null,0]
[null,null,null,null,null,null,null,null,null,0]
[null,null,null,null,null,null,null,null,null,0]
[null,null,null,null,null,null,null,null,null,0]
[null,null,null,null,null,null,null,null,null,{"$f":"F17501","v":0}]
[null,null,null,null,null,null,null,null,null,0]
[null,null,null,null,null,null,null,null,null,0]
[null,null,null,null,null,null,null,null,null,0]
[null,null,null,null,null,null,null,null,null,0]
[null,null,null,null,null,null,null,null,null,0]
[null,null,null,null,null,null,null,null,null,0]
[null,null,null,null,null,null,null,null,null,0]
[null,null,null,null,null,null,null,null,null,0]
[null,null,null,null,null,null,null,null,null,0]
[null,null,null,null,null,null,null,null,null,0]
[null,null,null,null,null,null,null,null,null,null,null,0]
[null,null,null,null,null,null,null,null,null,null,null,0]
[null,null,null,null,null,null,null,null,null,null,null,0]
[null,null,null,null,null,null,null,null,null,null,null,0]
[null,null,null,null,null,null,null,null,null,null,null,0]
[null,null,null,null,null,null,null,null,null,null,null,0]
[null,null,null,null,null,null,null,null,null,null,null,0]
[null,null,null,null,null,null,null,null,null,null,null,0]
[null,null,null,null,null,null,null,null,null,null,null,0]
[null,null,null,null,null,null,null,null,null,null,null,0]
[null,null,null,null,null,null,null,null,null,null,null,0]
[null,null,null,null,null,null,null,null,null,null,null,0]
[null,null,null,null,null,null,null,null,null,null,null,0]
[null,null,null,null,null,null,null,null,null,null,null,0]
[null,null,null,null,null,null,null,null,null,null,null,0]
[null,null,null,null,null,null,null,null,null,null,null,0]
[null,null,null,null,null,null,null,null,null,null,null,0]
[null,null,null,null,null,null,null,null,null,null,null,0]
[null,null,null,null,null,null,null,null,null,null,null,0]
[null,null,null,null,null,null,null,null,null,null,null,0]
[null,null,null,null,null,null,null,null,null,null,null,0]
[null,null,null,null,null,null,null,null,null,null,null,0]
[null,null,null,null,null,null,null,null,null,null,null,0]
[null,null,null,null,null,null,null,null,null,null,null,0]
[null,null,null,null,null,null,null,null,null,null,null,0]
[null,null,null,null,null,null,null,null,null,null,null,0]
[null,null,null,null,null,null,null,null,null,null,null,0]
[null,null,null,null,null,null,null,null,null,null,null,{"$f":"SUM(F17848:H17848)","v":0}]
[null,null,null,null,null,null,null,null,null,null,null,0]
[null,null,null,null,null,null,null,null,null,null,null,0]
[null,null,null,null,null,null,null,null,null,null,null,0]
[null,null,null,null,null,null,null,null,null,null,null,0]
[null,null,null,null,null,null,null,null,null,null,null,0]
[null,null,null,null,null,null,null,null,null,null,null,0]
[null,null,null,null,null,null,null,null,null,null,null,0]
[null,null,null,null,null,null,null,null,null,null,null,0]
[null,null,null,null,null,null,null,null,null,null,null,0]
[null,null,null,null,null,null,null,null,null,null,null,0]
[null,null,null,null,null,null,null,null,null,null,null,0]
[null,null,null,null,null,null,null,null,null,null,null,0]
[null,null,null,null,null,null,null,null,null,null,null,0]
[null,null,null,null,null,null,null,null,null,null,null,0]
[null,null,null,null,null,null,null,null,null,null,null,0]
[null,null,null,null,null,null,null,null,null,null,null,0]
[null,null,null,null,null,null,null,null,null,null,null,0]
[null,null,null,null,null,null,null,null,null,null,null,0]
[null,null,null,null,null,null,null,null,null,null,null,{"$f":"SUM(F18028:H18028)","v":0}]
[null,null,null,null,null,null,null,null,null,null,null,0]
[null,null,null,null,null,null,null,null,null,null,null,0]
[null,null,null,null,null,null,null,null,null,null,null,0]
[null,null,null,null,null,null,null,null,null,null,null,0]
[null,null,null,null,null,null,null,null,null,null,null,0]
[null,null,null,null,null,null,null,null,null,null,null,0]
[null,null,null,null,null,null,null,null,null,null,null,0]
[null,null,null,null,null,null,null,null,null,null,null,0]
[null,null,null,null,null,null,null,null,null,null,null,0]
[null,null,null,null,null,null,null,null,null,null,null,0]
[null,null,null,null,null,null,null,null,null,null,null,0]
[null,null,null,null,null,null,null,null,null,null,null,0]
[null,null,null,null,null,null,null,null,null,null,null,0]
[null,null,null,null,null,null,null,null,null,null,null,0]
[null,null,null,null,null,null,null,null,null,null,null,0]
[null,null,null,null,null,null,null,null,null,null,null,0]
[null,null,null,null,null,null,null,null,null,null,null,0]
[null,null,null,null,null,null,null,null,null,null,null,0]
[null,null,null,null,null,null,null,null,null,null,null,0]
[null,null,null,null,null,null,null,null,null,null,null,0]
[null,null,null,null,null,null,null,null,null,null,null,0]
[null,null,null,null,null,null,null,null,null,null,null,0]
[null,null,null,null,null,null,null,null,null,null,null,0]
[null,null,null,null,null,null,null,null,null,null,null,0]
[null,null,null,null,null,null,null,null,null,null,null,0]
[null,null,null,null,null,null,null,null,null,null,null,0]
[null,null,null,null,null,null,null,null,null,null,null,0]
[null,null,null,null,null,null,null,null,null,null,null,0]
[null,null,null,null,null,null,null,null,null,null,null,0]
[null,null,null,null,null,null,null,null,null,null,null,0]
[null,null,null,null,null,null,null,null,null,null,null,0]
[null,null,null,null,null,null,null,null,null,null,null,0]
[null,null,null,null,null,null,null,null,null,null,null,0]
[null,null,null,null,null,null,null,null,null,null,null,0]
[null,null,null,null,null,null,null,null,null,null,null,0]
[null,null,null,null,null,null,null,null,null,null,null,{"$f":"SUM(F18361:H18361)","v":0}]
[null,null,null,null,null,null,null,null,null,null,null,0]
[null,null,null,null,null,null,null,null,null,null,null,0]
[null,null,null,null,null,null,null,null,null,null,null,0]
[null,null,null,null,null,null,null,null,null,null,null,0]
[null,null,null,null,null,null,null,null,null,null,null,0]
[null,null,null,null,null,null,null,null,null,null,null,0]
[null,null,null,null,null,null,null,null,null,null,null,0]
[null,null,null,null,null,null,null,null,null,null,null,0]
[null,null,null,null,null,null,null,null,null,null,null,0]
[null,null,null,null,null,null,null,null,null,null,null,0]
[null,null,null,null,null,null,null,null,null,null,null,0]
[null,null,null,null,null,null,null,null,null,null,null,0]
[null,null,null,null,null,null,null,null,null,null,null,0]
[null,null,null,null,null,null,null,null,null,null,null,0]
[null,null,null,null,null,null,null,null,null,null,null,0]
[null,null,null,null,null,null,null,null,null,null,null,0]
[null,null,null,null,null,null,null,null,null,null,null,0]
[null,null,null,null,null,null,null,null,null,null,null,0]
[null,null,null,null,null,null,null,null,null,null,null,0]
[null,null,null,null,null,null,null,null,null,null,null,0]
[null,null,null,null,null,null,null,null,null,null,null,0]
[null,null,null,null,null,null,null,null,null,null,null,0]
[null,null,null,null,null,null,null,null,null,null,null,0]
[null,null,null,null,null,null,null,null,null,null,null,0]
[null,null,null,null,null,null,null,null,null,null,null,0]
[null,null,null,null,null,null,null,null,null,null,null,{"$f":"SUM(F18608:H18608)","v":0}]
[null,null,null,null,null,null,null,null,null,null,null,0]
[null,null,null,null,null,null,null,null,null,null,null,0]
[null,null,null,null,null,null,null,null,null,null,null,0]
[null,null,null,null,null,null,null,null,null,null,null,0]
[null,null,null,null,null,null,null,null,null,null,null,0]
[null,null,null,null,null,null,null,null,null,null,null,0]
[null,null,null,null,null,null,null,null,null,null,null,0]
[null,null,null,null,null,null,null,null,null,null,null,{"$f":"SUM(F18675:H18675)","v":0}]
[null,null,null,null,null,null,null,null,null,null,null,0]
[null,null,null,null,null,null,null,null,null,null,null,0]
[null,null,null,null,null,null,null,null,null,null,null,0]
[null,null,null,null,null,null,null,null,null,null,null,0]
[null,null,null,null,null,null,null,null,null,null,null,0]
[null,null,null,null,null,null,null,null,null,null,null,0]
[null,null,null,null,null,null,null,null,null,null,null,0]
[null,null,null,null,null,null,null,null,null,null,null,0]
[null,null,null,null,null,null,null,null,null,null,null,0]
[null,null,null,null,null,null,null,null,null,null,null,0]
[null,null,null,null,null,null,null,null,null,null,null,0]
[null,null,null,null,null,null,null,null,null,null,null,0]
[null,null,null,null,null,null,null,null,null,null,null,0]
[null,null,null,null,null,null,null,null,null,null,null,0]
[null,null,null,null,null,null,null,null,null,null,null,0]
[null,null,null,null,null,null,null,null,null,null,null,0]
[null,null,null,null,null,null,null,null,null,null,null,0]
[null,null,null,null,null,null,null,null,null,null,null,{"$f":"SUM(F18851:H18851)","v":0}]
[null,null,null,null,null,null,null,null,null,null,null,0]
[null,null,null,null,null,null,null,null,null,null,null,0]
[null,null,null,null,null,null,null,null,null,null,null,0]
[null,null,null,null,null,null,null,null,null,null,null,0]
[null,null,null,null,null,null,null,null,null,null,null,0]
[null,null,null,null,null,null,null,null,null,null,null,0]
[null,null,null,null,null,null,null,null,null,null,null,0]
[null,null,null,null,null,null,null,null,null,null,null,0]
[null,null,null,null,null,null,null,null,null,null,null,0]
[null,null,null,null,null,null,null,null,null,null,null,0]
[null,null,null,null,null,null,null,null,null,null,null,0]
[null,null,null,null,null,null,null,null,null,null,null,0]
[null,null,null,null,null,null,null,null,null,null,null,0]
[null,null,null,null,null,null,null,null,null,null,null,0]
[null,null,null,null,null,null,null,null,null,null,null,0]
[null,null,null,null,null,null,null,null,null,null,null,0]
[null,null,null,null,null,null,null,null,null,null,null,0]
[null,null,null,null,null,null,null,null,null,null,null,0]
[null,null,null,null,null,null,null,null,null,null,null,0]
[null,null,null,null,null,null,null,null,null,null,null,0]
[null,null,null,null,null,null,null,null,null,null,null,0]
[null,null,null,null,null,null,null,null,null,null,null,0]
[null,null,null,null,null,null,null,null,null,null,null,0]
[null,null,null,null,null,null,null,null,null,null,null,0]
[null,null,null,null,null,null,null,null,null,null,null,0]
[null,null,null,null,null,null,null,null,null,null,null,0]
[null,null,null,null,null,null,null,null,null,null,null,0]
[null,null,null,null,null,null,null,null,null,null,null,0]
[null,null,null,null,null,null,null,null,null,null,null,0]
[null,null,null,null,null,null,null,null,null,null,null,0]
[null,null,null,null,null,null,null,null,null,null,null,0]
[null,null,null,null,null,null,null,null,null,null,null,0]
[null,null,null,null,null,null,null,null,null,null,null,0]
[null,null,null,null,null,null,null,null,null,null,null,0]
[null,null,null,null,null,null,null,null,null,null,null,0]
[null,null,null,null,null,null,null,null,null,null,null,0]
[null,null,null,null,null,null,null,null,null,null,null,0]
[null,null,null,null,null,null,null,null,null,null,null,0]
[null,null,null,null,null,null,null,null,null,null,null,0]
[null,null,null,null,null,null,null,null,null,null,null,0]
[null,null,null,null,null,null,null,null,null,null,null,0]
[null,null,null,null,null,null,null,null,null,null,null,0]
[null,null,null,null,null,null,null,null,null,null,null,{"$f":"SUM(F19250:H19250)","v":0}]
[null,null,null,null,null,null,null,null,null,null,null,{"$f":"SUM(F19253:H19253)","v":0}]
[null,null,null,null,null,null,null,null,null,null,null,0]
[null,null,null,null,null,null,null,null,null,null,null,0]
[null,null,null,null,null,null,null,null,null,null,null,0]
[null,null,null,null,null,null,null,null,null,null,null,0]
[null,null,null,null,null,null,null,null,null,null,null,0]
[null,null,null,null,null,null,null,null,null,null,null,0]
[null,null,null,null,null,null,null,null,null,null,null,0]
[null,null,null,null,null,null,null,null,null,null,null,0]
[null,null,null,null,null,null,null,null,null,null,null,0]
[null,null,null,null,null,null,null,null,null,null,null,0]
[null,null,null,null,null,null,null,null,null,null,null,0]
[null,null,null,null,null,null,null,null,null,null,null,0]
[null,null,null,null,null,null,null,null,null,null,null,0]
[null,null,null,null,null,null,null,null,null,null,null,0]
[null,null,null,null,null,null,null,null,null,null,null,0]
[null,null,null,null,null,null,null,null,null,null,null,0]
[null,null,null,null,null,null,null,null,null,null,null,0]
[null,null,null,null,null,null,null,null,null,null,null,0]
[null,null,null,null,null,null,null,null,null,null,null,0]
[null,null,null,null,null,null,null,null,null,null,null,0]
[null,null,null,null,null,null,null,null,null,null,null,0]
[null,null,null,null,null,null,null,null,null,null,null,0]
[null,null,null,null,null,null,null,null,null,null,null,0]
[null,null,null,null,null,null,null,null,null,null,null,0]
[null,null,null,null,null,null,null,null,null,null,null,0]
[null,null,null,null,null,null,null,null,null,null,null,0]
[null,null,null,null,null,null,null,null,null,null,null,0]
[null,null,null,null,null,null,null,null,null,null,null,0]
[null,null,null,null,null,null,null,null,null,null,null,0]
[null,null,null,null,null,null,null,null,null,null,null,0]
[null,null,null,null,null,null,null,null,null,null,null,0]
[null,null,null,null,null,null,null,null,null,null,null,0]
[null,null,null,null,null,null,null,null,null,null,null,0]
[null,null,null,null,null,null,null,null,null,null,null,0]
[null,null,null,null,null,null,null,null,null,null,null,0]
[null,null,null,null,null,null,null,null,null,null,null,0]
[null,null,null,null,null,null,null,null,null,null,null,0]
[null,null,null,null,null,null,null,null,null,null,null,0]
[null,null,null,null,null,null,null,null,null,null,null,0]
[null,null,null,null,null,null,null,null,null,null,null,0]
[null,null,null,null,null,null,null,null,null,null,null,0]
[null,null,null,null,null,null,null,null,null,null,null,0]
[null,null,null,null,null,null,null,null,null,null,null,0]
[null,null,null,null,null,null,null,null,null,null,null,0]
[null,null,null,null,null,null,null,null,null,null,null,0]
[null,null,null,null,null,null,null,null,null,null,null,0]
[null,null,null,null,null,null,null,null,null,null,null,0]
[null,null,null,null,null,null,null,null,null,null,null,0]
[null,null,null,null,null,null,null,null,null,null,null,0]
[null,null,null,null,null,null,null,null,null,null,null,0]
[null,null,null,null,null,null,null,null,null,null,null,0]
[null,null,null,null,null,null,null,null,null,null,null,0]
[null,null,null,null,null,null,null,null,null,null,null,0]
[null,null,null,null,null,null,null,null,null,null,null,0]
[null,null,null,null,null,null,null,null,null,null,null,0]
[null,null,null,null,null,null,null,null,null,null,null,0]
[null,null,null,null,null,null,null,null,null,null,null,0]
[null,null,null,null,null,null,null,null,null,null,null,0]
[null,null,null,null,null,null,null,null,null,null,null,0]
[null,null,null,null,null,null,null,null,null,null,null,0]
[null,null,null,null,null,null,null,null,null,null,null,0]
[null,null,null,null,null,null,null,null,null,null,null,{"$f":"SUM(F19833:H19833)","v":0}]
[null,null,null,null,null,null,null,null,null,null,null,0]
[null,null,null,null,null,null,null,null,null,null,null,0]
[null,null,null,null,null,null,null,null,null,null,null,0]
[null,null,null,null,null,null,null,null,null,null,null,0]
[null,null,null,null,null,null,null,null,null,null,null,0]
[null,null,null,null,null,null,null,null,null,null,null,0]
[null,null,null,null,null,null,null,null,null,null,null,0]
[null,null,null,null,null,null,null,null,null,null,null,0]
[null,null,null,null,null,null,null,null,null,null,null,0]
[null,null,null,null,null,null,null,null,null,null,null,0]
[null,null,null,null,null,null,null,null,null,null,null,0]
[null,null,null,null,null,null,null,null,null,null,null,0]
[null,null,null,null,null,null,null,null,null,null,null,0]
[null,null,null,null,null,null,null,null,null,null,null,0]
[null,null,null,null,null,null,null,null,null,null,null,0]
[null,null,null,null,null,null,null,null,null,null,null,0]
[null,null,null,null,null,null,null,null,null,null,null,0]
[null,null,null,null,null,null,null,null,null,null,null,0]
[null,null,null,null,null,null,null,null,null,null,null,0]
[null,null,null,null,null,null,null,null,null,null,null,0]
[null,null,null,null,null,null,null,null,null,null,null,0]
[null,null,null,null,null,null,null,null,null,null,null,0]
[null,null,null,null,null,null,null,null,null,null,null,0]
[null,null,null,null,null,null,null,null,null,null,null,0]
[null,null,null,null,null,null,null,null,null,null,null,0]
[null,null,null,null,null,null,null,null,null,null,null,0]
[null,null,null,null,null,null,null,null,null,null,null,0]
[null,null,null,null,null,null,null,null,null,null,null,0]
[null,null,null,null,null,null,null,null,null,null,null,0]
[null,null,null,null,null,null,null,null,null,null,null,0]
[null,null,null,null,null,null,null,null,null,null,null,0]
[null,null,null,null,null,null,null,null,null,null,null,0]
[null,null,null,null,null,null,null,null,null,null,null,0]
[null,null,null,null,null,null,null,null,null,null,null,0]
[null,null,null,null,null,null,null,null,null,null,null,0]
[null,null,null,null,null,null,null,null,null,null,null,0]
[null,null,null,null,null,null,null,null,null,null,null,0]
[null,null,null,null,null,null,null,null,null,null,null,0]
[null,null,null,null,null,null,null,null,null,null,null,0]
[null,null,null,null,null,null,null,null,null,null,null,0]
[null,null,null,null,null,null,null,null,null,null,null,0]
[null,null,null,null,null,null,null,null,null,null,null,0]
[null,null,null,null,null,null,null,null,null,null,null,0]
[null,null,null,null,null,null,null,null,null,null,null,0]
[null,null,null,null,null,null,null,null,null,null,null,0]
[null,null,null,null,null,null,null,null,null,null,null,0]
[null,null,null,null,null,null,null,null,null,null,null,0]
[null,null,null,null,null,null,null,null,null,null,null,0]
[null,null,null,null,null,null,null,null,null,null,null,0]
[null,null,null,null,null,null,null,null,null,null,null,0]
[null,null,null,null,null,null,null,null,null,null,null,0]
[null,null,null,null,null,null,null,null,null,null,null,0]
[null,null,null,null,null,null,null,null,null,null,null,0]
[null,null,null,null,null,null,null,null,null,null,null,0]
[null,null,null,null,null,null,null,null,null,null,null,0]
[null,null,null,null,null,null,null,null,null,null,null,0]
[null,null,null,null,null,null,null,null,null,null,null,0]
[null,null,null,null,null,null,null,null,null,null,null,0]
[null,null,null,null,null,null,null,null,null,null,null,0]
[null,null,null,null,null,null,null,null,null,null,null,0]
[null,null,null,null,null,null,null,null,null,null,null,0]
[null,null,null,null,null,null,null,null,null,null,null,{"$f":"SUM(F20411:H20411)","v":0}]
[null,null,null,null,null,null,null,null,null,null,null,0]
[null,null,null,null,null,null,null,null,null,null,null,0]
[null,null,null,null,null,null,null,null,null,null,null,0]
[null,null,null,null,null,null,null,null,null,null,null,0]
[null,null,null,null,null,null,null,null,null,null,null,0]
[null,null,null,null,null,null,null,null,null,null,null,0]
[null,null,null,null,null,null,null,null,null,null,null,0]
[null,null,null,null,null,null,null,null,null,null,null,0]
[null,null,null,null,null,null,null,null,null,null,null,0]
[null,null,null,null,null,null,null,null,null,null,null,0]
[null,null,null,null,null,null,null,null,null,null,null,0]
[null,null,null,null,null,null,null,null,null,null,null,0]
[null,null,null,null,null,null,null,null,null,null,null,0]
[null,null,null,null,null,null,null,null,null,null,null,0]
[null,null,null,null,null,null,null,null,null,null,null,0]
[null,null,null,null,null,null,null,null,null,null,null,0]
[null,null,null,null,null,null,null,null,null,null,null,0]
[null,null,null,null,null,null,null,null,null,null,null,0]
[null,null,null,null,null,null,null,null,null,null,null,0]
[null,null,null,null,null,null,null,null,null,null,null,0]
[null,null,null,null,null,null,null,null,null,null,null,0]
[null,null,null,null,null,null,null,null,null,null,null,0]
[null,null,null,null,null,null,null,null,null,null,null,0]
[null,null,null,null,null,null,null,null,null,null,null,0]
[null,null,null,null,null,null,null,null,null,null,null,0]
[null,null,null,null,null,null,null,null,null,null,null,0]
[null,null,null,null,null,null,null,null,null,null,null,0]
[null,null,null,null,null,null,null,null,null,null,null,0]
[null,null,null,null,null,null,null,null,null,null,null,0]
[null,null,null,null,null,null,null,null,null,null,null,0]
[null,null,null,null,null,null,null,null,null,null,null,0]
[null,null,null,null,null,null,null,null,null,null,null,0]
[null,null,null,null,null,null,null,null,null,null,null,0]
[null,null,null,null,null,null,null,null,null,null,null,0]
[null,null,null,null,null,null,null,null,null,null,null,0]
[null,null,null,null,null,null,null,null,null,null,null,{"$f":"SUM(F20616:H20616)","v":0}]
[null,null,null,null,null,null,null,null,null,null,null,0]
[null,null,null,null,null,null,null,null,null,null,null,0]
[null,null,null,null,null,null,null,null,null,null,null,0]
[null,null,null,null,null,null,null,null,null,null,null,0]
[null,null,null,null,null,null,null,null,null,null,null,0]
[null,null,null,null,null,null,null,null,null,null,null,0]
[null,null,null,null,null,null,null,null,null,null,null,0]
[null,null,null,null,null,null,null,null,null,null,null,0]
[null,null,null,null,null,null,null,null,null,null,null,0]
[null,null,null,null,null,null,null,null,null,null,null,0]
[null,null,null,null,null,null,null,null,null,null,null,0]
[null,null,null,null,null,null,null,null,null,null,null,0]
[null,null,null,null,null,null,null,null,null,null,null,0]
[null,null,null,null,null,null,null,null,null,null,null,0]
[null,null,null,null,null,null,null,null,null,null,null,0]
[null,null,null,null,null,null,null,null,null,null,null,0]
[null,null,null,null,null,null,null,null,null,null,null,0]
[null,null,null,null,null,null,null,null,null,null,null,0]
[null,null,null,null,null,null,null,null,null,null,null,0]
[null,null,null,null,null,null,null,null,null,null,null,0]
[null,null,null,null,null,null,null,null,null,null,null,0]
[null,null,null,null,null,null,null,null,null,null,null,0]
[null,null,null,null,null,null,null,null,null,null,null,0]
[null,null,null,null,null,null,null,null,null,null,null,0]
[null,null,null,null,null,null,null,null,null,null,null,0]
[null,null,null,null,null,null,null,null,null,null,null,0]
[null,null,null,null,null,null,null,null,null,null,null,0]
[null,null,null,null,null,null,null,null,null,null,null,0]
[null,null,null,null,null,null,null,null,null,null,null,0]
[null,null,null,null,null,null,null,null,null,null,null,0]
[null,null,null,null,null,null,null,null,null,null,null,0]
[null,null,null,null,null,null,null,null,null,null,null,0]
[null,null,null,null,null,null,null,null,null,null,null,0]
[null,null,null,null,null,null,null,null,null,null,null,0]
[null,null,null,null,null,null,null,null,null,null,null,0]
[null,null,null,null,null,null,null,null,null,null,null,0]
[null,null,null,null,null,null,null,null,null,null,null,0]
[null,null,null,null,null,null,null,null,null,null,null,0]
[null,null,null,null,null,null,null,null,null,null,null,0]
[null,null,null,null,null,null,null,null,null,null,null,0]
[null,null,null,null,null,null,null,null,null,null,null,0]
[null,null,null,null,null,null,null,null,null,null,null,0]
[null,null,null,null,null,null,null,null,null,null,null,0]
[null,null,null,null,null,null,null,null,null,null,null,0]
[null,null,null,null,null,null,null,null,null,null,null,0]
[null,null,null,null,null,null,null,null,null,null,null,{"$f":"SUM(F20662:H20662)","v":0}]
[null,null,null,null,null,null,null,null,null,null,null,0]
[null,null,null,null,null,null,null,null,null,null,null,0]
[null,null,null,null,null,null,null,null,null,null,null,0]
[null,null,null,null,null,null,null,null,null,null,null,0]
[null,null,null,null,null,null,null,null,null,null,null,0]
[null,null,null,null,null,null,null,null,null,null,null,0]
[null,null,null,null,null,null,null,null,null,null,null,0]
[null,null,null,null,null,null,null,null,null,null,null,0]
[null,null,null,null,null,null,null,null,null,null,null,0]
[null,null,null,null,null,null,null,null,null,null,null,{"$f":"SUM(F20672:H20672)","v":0}]
[null,null,null,null,null,null,null,null,null,null,null,0]
[null,null,null,null,null,null,null,null,null,null,null,0]
[null,null,null,null,null,null,null,null,null,null,null,0]
[null,null,null,null,null,null,null,null,null,null,null,0]
[null,null,null,null,null,null,null,null,null,null,null,0]
[null,null,null,null,null,null,null,null,null,null,null,0]
[null,null,null,null,null,null,null,null,null,null,null,0]
[null,null,null,null,null,null,null,null,null,null,null,0]
[null,null,null,null,null,null,null,null,null,null,null,0]
[null,null,null,null,null,null,null,null,null,null,null,0]
[null,null,null,null,null,null,null,null,null,null,null,0]
[null,null,null,null,null,null,null,null,null,null,null,0]
[null,null,null,null,null,null,null,null,null,null,null,0]
[null,null,null,null,null,null,null,null,null,null,null,0]
[null,null,null,null,null,null,null,null,null,null,null,0]
[null,null,null,null,null,null,null,null,null,null,null,0]
[null,null,null,null,null,null,null,null,null,null,null,0]
[null,null,null,null,null,null,null,null,null,null,null,0]
[null,null,null,null,null,null,null,null,null,null,null,0]
[null,null,null,null,null,null,null,null,null,null,null,0]
[null,null,null,null,null,null,null,null,null,null,null,0]
[null,null,null,null,null,null,null,null,null,null,null,0]
[null,null,null,null,null,null,null,null,null,null,null,0]
[null,null,null,null,null,null,null,null,null,null,null,0]
[null,null,null,null,null,null,null,null,null,null,null,0]
[null,null,null,null,null,null,null,null,null,null,null,0]
[null,null,null,null,null,null,null,null,null,null,null,0]
[null,null,null,null,null,null,null,null,null,null,null,0]
[null,null,null,null,null,null,null,null,null,null,null,0]
[null,null,null,null,null,null,null,null,null,null,null,0]
[null,null,null,null,null,null,null,null,null,null,null,0]
[null,null,null,null,null,null,null,null,null,null,null,0]
[null,null,null,null,null,null,null,null,null,null,null,0]
[null,null,null,null,null,null,null,null,null,null,null,0]
[null,null,null,null,null,null,null,null,null,null,null,0]
[null,null,null,null,null,null,null,null,null,null,null,0]
[null,null,null,null,null,null,null,null,null,null,null,0]
[null,null,null,null,null,null,null,null,null,null,null,0]
[null,null,null,null,null,null,null,null,null,null,null,0]
[null,null,null,null,null,null,null,null,null,null,null,0]
[null,null,null,null,null,null,null,null,null,null,null,0]
[null,null,null,null,null,null,null,null,null,null,null,0]
[null,null,null,null,null,null,null,null,null,null,null,0]
[null,null,null,null,null,null,null,null,null,null,null,0]
[null,null,null,null,null,null,null,null,null,null,null,0]
[null,null,null,null,null,null,null,null,null,null,null,0]
[null,null,null,null,null,null,null,null,null,null,null,0]
[null,null,null,null,null,null,null,null,null,null,null,0]
[null,null,null,null,null,null,null,null,null,null,null,0]
[null,null,null,null,null,null,null,null,null,null,null,0]
[null,null,null,null,null,null,null,null,null,null,null,0]
[null,null,null,null,null,null,null,null,null,null,null,0]
[null,null,null,null,null,null,null,null,null,null,null,0]
[null,null,null,null,null,null,null,null,null,null,null,0]
[null,null,null,null,null,null,null,null,null,null,null,0]
[null,null,null,null,null,null,null,null,null,null,null,0]
[null,null,null,null,null,null,null,null,null,null,null,0]
[null,null,null,null,null,null,null,null,null,null,null,0]
[null,null,null,null,null,null,null,null,null,null,null,0]
[null,null,null,null,null,null,null,null,null,null,null,0]
[null,null,null,null,null,null,null,null,null,null,null,0]
[null,null,null,null,null,null,null,null,null,null,null,0]
[null,null,null,null,null,null,null,null,null,null,null,0]
[null,null,null,null,null,null,null,null,null,null,null,0]
[null,null,null,null,null,null,null,null,null,null,null,0]
[null,null,null,null,null,null,null,null,null,null,null,0]
[null,null,null,null,null,null,null,null,null,null,null,0]
[null,null,null,null,null,null,null,null,null,null,null,0]
[null,null,null,null,null,null,null,null,null,null,null,0]
[null,null,null,null,null,null,null,null,null,null,null,0]
[null,null,null,null,null,null,null,null,null,null,null,0]
[null,null,null,null,null,null,null,null,null,null,null,0]
[null,null,null,null,null,null,null,null,null,null,null,0]
[null,null,null,null,null,null,null,null,null,null,null,0]
[null,null,null,null,null,null,null,null,null,null,null,0]
[null,null,null,null,null,null,null,null,null,null,null,0]
[null,null,null,null,null,null,null,null,null,null,null,0]
[null,null,null,null,null,null,null,null,null,null,null,0]
[null,null,null,null,null,null,null,null,null,null,null,0]
[null,null,null,null,null,null,null,null,null,null,null,0]
[null,null,null,null,null,null,null,null,null,null,null,0]
[null,null,null,null,null,null,null,null,null,null,null,{"$f":"SUM(F20754:H20754)","v":0}]
[null,null,null,null,null,null,null,null,null,null,null,0]
[null,null,null,null,null,null,null,null,null,null,null,0]
[null,null,null,null,null,null,null,null,null,null,null,0]
[null,null,null,null,null,null,null,null,null,null,null,0]
[null,null,null,null,null,null,null,null,null,null,null,0]
[null,null,null,null,null,null,null,null,null,null,null,0]
[null,null,null,null,null,null,null,null,null,null,null,0]
[null,null,null,null,null,null,null,null,null,null,null,0]
[null,null,null,null,null,null,null,null,null,null,null,0]
[null,null,null,null,null,null,null,null,null,null,null,0]
[null,null,null,null,null,null,null,null,null,null,null,0]
[null,null,null,null,null,null,null,null,null,null,null,0]
[null,null,null,null,null,null,null,null,null,null,null,0]
[null,null,null,null,null,null,null,null,null,null,null,0]
[null,null,null,null,null,null,null,null,null,null,null,0]
[null,null,null,null,null,null,null,null,null,null,null,0]
[null,null,null,null,null,null,null,null,null,null,null,0]
[null,null,null,null,null,null,null,null,null,null,null,0]
[null,null,null,null,null,null,null,null,null,null,null,0]
[null,null,null,null,null,null,null,null,null,null,null,0]
[null,null,null,null,null,null,null,null,null,null,null,0]
[null,null,null,null,null,null,null,null,null,null,null,0]
[null,null,null,null,null,null,null,null,null,null,null,0]
[null,null,null,null,null,null,null,null,null,null,null,0]
[null,null,null,null,null,null,null,null,null,null,null,0]
[null,null,null,null,null,null,null,null,null,null,null,0]
[null,null,null,null,null,null,null,null,null,null,null,0]
[null,null,null,null,null,null,null,null,null,null,null,0]
[null,null,null,null,null,null,null,null,null,null,null,0]
[null,null,null,null,null,null,null,null,null,null,null,0]
[null,null,null,null,null,null,null,null,null,null,null,0]
[null,null,null,null,null,null,null,null,null,null,null,0]
[null,null,null,null,null,null,null,null,null,null,null,0]
[null,null,null,null,null,null,null,null,null,null,null,0]
[null,null,null,null,null,null,null,null,null,null,null,0]
[null,null,null,null,null,null,null,null,null,null,null,0]
[null,null,null,null,null,null,null,null,null,null,null,0]
[null,null,null,null,null,null,null,null,null,null,null,0]
[null,null,null,null,null,null,null,null,null,null,null,0]
[null,null,null,null,null,null,null,null,null,null,null,{"$f":"SUM(F20794:H20794)","v":0}]
[null,null,null,null,null,null,null,null,null,null,null,0]
[null,null,null,null,null,null,null,null,null,null,null,0]
[null,null,null,null,null,null,null,null,null,null,null,0]
[null,null,null,null,null,null,null,null,null,null,null,0]
[null,null,null,null,null,null,null,null,null,null,null,0]
[null,null,null,null,null,null,null,null,null,null,null,0]
[null,null,null,null,null,null,null,null,null,null,null,0]
[null,null,null,null,null,null,null,null,null,null,null,0]
[null,null,null,null,null,null,null,null,null,null,null,0]
[null,null,null,null,null,null,null,null,null,null,null,0]
[null,null,null,null,null,null,null,null,null,null,null,0]
[null,null,null,null,null,null,null,null,null,null,null,0]
[null,null,null,null,null,null,null,null,null,null,null,0]
[null,null,null,null,null,null,null,null,null,null,null,0]
[null,null,null,null,null,null,null,null,null,null,null,0]
[null,null,null,null,null,null,null,null,null,null,null,0]
[null,null,null,null,null,null,null,null,null,null,null,0]
[null,null,null,null,null,null,null,null,null,null,null,0]
[null,null,null,null,null,null,null,null,null,null,null,0]
[null,null,null,null,null,null,null,null,null,null,null,0]
[null,null,null,null,null,null,null,null,null,null,null,0]
[null,null,null,null,null,null,null,null,null,null,null,0]
[null,null,null,null,null,null,null,null,null,null,null,0]
[null,null,null,null,null,null,null,null,null,null,null,0]
[null,null,null,null,null,null,null,null,null,null,null,0]
[null,null,null,null,null,null,null,null,null,null,null,0]
[null,null,null,null,null,null,null,null,null,null,null,0]
[null,null,null,null,null,null,null,null,null,null,null,0]
[null,null,null,null,null,null,null,null,null,null,null,0]
[null,null,null,null,null,null,null,null,null,null,null,0]
[null,null,null,null,null,null,null,null,null,null,null,0]
[null,null,null,null,null,null,null,null,null,null,null,0]
[null,null,null,null,null,null,null,null,null,null,null,0]
[null,null,null,null,null,null,null,null,null,null,null,0]
[null,null,null,null,null,null,null,null,null,null,null,0]
[null,null,null,null,null,null,null,null,null,null,null,0]
[null,null,null,null,null,null,null,null,null,null,null,0]
[null,null,null,null,null,null,null,null,null,null,null,0]
[null,null,null,null,null,null,null,null,null,null,null,0]
[null,null,null,null,null,null,null,null,null,null,null,0]
[null,null,null,null,null,null,null,null,null,null,null,0]
[null,null,null,null,null,null,null,null,null,null,null,0]
[null,null,null,null,null,null,null,null,null,null,null,0]
[null,null,null,null,null,null,null,null,null,null,null,0]
[null,null,null,null,null,null,null,null,null,null,null,0]
[null,null,null,null,null,null,null,null,null,null,null,0]
[null,null,null,null,null,null,null,null,null,null,null,0]
[null,null,null,null,null,null,null,null,null,null,null,{"$f":"SUM(F20842:H20842)","v":0}]
[null,null,null,null,null,null,null,null,null,null,null,0]
[null,null,null,null,null,null,null,null,null,null,null,0]
[null,null,null,null,null,null,null,null,null,null,null,0]
[null,null,null,null,null,null,null,null,null,null,null,0]
[null,null,null,null,null,null,null,null,null,null,null,0]
[null,null,null,null,null,null,null,null,null,null,null,0]
[null,null,null,null,null,null,null,null,null,null,null,0]
[null,null,null,null,null,null,null,null,null,null,null,0]
[null,null,null,null,null,null,null,null,null,null,null,0]
[null,null,null,null,null,null,null,null,null,null,null,{"$f":"SUM(F20852:H20852)","v":0}]
[null,null,null,null,null,null,null,null,null,null,null,0]
[null,null,null,null,null,null,null,null,null,null,null,0]
[null,null,null,null,null,null,null,null,null,null,null,0]
[null,null,null,null,null,null,null,null,null,null,null,0]
[null,null,null,null,null,null,null,null,null,null,null,0]
[null,null,null,null,null,null,null,null,null,null,null,0]
[null,null,null,null,null,null,null,null,null,null,null,0]
[null,null,null,null,null,null,null,null,null,null,null,0]
[null,null,null,null,null,null,null,null,null,null,null,0]
[null,null,null,null,null,null,null,null,null,null,null,0]
[null,null,null,null,null,null,null,null,null,null,null,0]
[null,null,null,null,null,null,null,null,null,null,null,0]
[null,null,null,null,null,null,null,null,null,null,null,0]
[null,null,null,null,null,null,null,null,null,null,null,0]
[null,null,null,null,null,null,null,null,null,null,null,0]
[null,null,null,null,null,null,null,null,null,null,null,0]
[null,null,null,null,null,null,null,null,null,null,null,0]
[null,null,null,null,null,null,null,null,null,null,null,0]
[null,null,null,null,null,null,null,null,null,null,null,0]
[null,null,null,null,null,null,null,null,null,null,null,0]
[null,null,null,null,null,null,null,null,null,null,null,0]
[null,null,null,null,null,null,null,null,null,null,null,0]
[null,null,null,null,null,null,null,null,null,null,null,0]
[null,null,null,null,null,null,null,null,null,null,null,0]
[null,null,null,null,null,null,null,null,null,null,null,0]
[null,null,null,null,null,null,null,null,null,null,null,0]
[null,null,null,null,null,null,null,null,null,null,null,0]
[null,null,null,null,null,null,null,null,null,null,null,0]
[null,null,null,null,null,null,null,null,null,null,null,0]
[null,null,null,null,null,null,null,null,null,null,null,0]
[null,null,null,null,null,null,null,null,null,null,null,0]
[null,null,null,null,null,null,null,null,null,null,null,0]
[null,null,null,null,null,null,null,null,null,null,null,0]
[null,null,null,null,null,null,null,null,null,null,null,0]
[null,null,null,null,null,null,null,null,null,null,null,0]
[null,null,null,null,null,null,null,null,null,null,null,0]
[null,null,null,null,null,null,null,null,null,null,null,0]
[null,null,null,null,null,null,null,null,null,null,null,0]
[null,null,null,null,null,null,null,null,null,null,null,0]
[null,null,null,null,null,null,null,null,null,null,null,0]
[null,null,null,null,null,null,null,null,null,null,null,0]
[null,null,null,null,null,null,null,null,null,null,null,0]
[null,null,null,null,null,null,null,null,null,null,null,0]
[null,null,null,null,null,null,null,null,null,null,null,0]
[null,null,null,null,null,null,null,null,null,null,null,0]
[null,null,null,null,null,null,null,null,null,null,null,0]
[null,null,null,null,null,null,null,null,null,null,null,{"$f":"SUM(F20899:H20899)","v":0}]
[null,null,null,null,null,null,null,null,null,null,null,0]
[null,null,null,null,null,null,null,null,null,null,null,0]
[null,null,null,null,null,null,null,null,null,null,null,0]
[null,null,null,null,null,null,null,null,null,null,null,0]
[null,null,null,null,null,null,null,null,null,null,null,0]
[null,null,null,null,null,null,null,null,null,null,null,0]
[null,null,null,null,null,null,null,null,null,null,null,0]
[null,null,null,null,null,null,null,null,null,null,null,0]
[null,null,null,null,null,null,null,null,null,null,null,0]
[null,null,null,null,null,null,null,null,null,null,null,{"$f":"SUM(F20909:H20909)","v":0}]
[null,null,null,null,null,null,null,null,null,null,null,0]
[null,null,null,null,null,null,null,null,null,null,null,0]
[null,null,null,null,null,null,null,null,null,null,null,0]
[null,null,null,null,null,null,null,null,null,null,null,0]
[null,null,null,null,null,null,null,null,null,null,null,0]
[null,null,null,null,null,null,null,null,null,null,null,0]
[null,null,null,null,null,null,null,null,null,null,null,0]
[null,null,null,null,null,null,null,null,null,null,null,0]
[null,null,null,null,null,null,null,null,null,null,null,0]
[null,null,null,null,null,null,null,null,null,null,null,0]
[null,null,null,null,null,null,null,null,null,null,null,0]
[null,null,null,null,null,null,null,null,null,null,null,0]
[null,null,null,null,null,null,null,null,null,null,null,0]
[null,null,null,null,null,null,null,null,null,null,null,0]
[null,null,null,null,null,null,null,null,null,null,null,0]
[null,null,null,null,null,null,null,null,null,null,null,0]
[null,null,null,null,null,null,null,null,null,null,null,0]
[null,null,null,null,null,null,null,null,null,null,null,0]
[null,null,null,null,null,null,null,null,null,null,null,0]
[null,null,null,null,null,null,null,null,null,null,null,0]
[null,null,null,null,null,null,null,null,null,null,null,0]
[null,null,null,null,null,null,null,null,null,null,null,0]
[null,null,null,null,null,null,null,null,null,null,null,0]
[null,null,null,null,null,null,null,null,null,null,null,0]
[null,null,null,null,null,null,null,null,null,null,null,0]
[null,null,null,null,null,null,null,null,null,null,null,0]
[null,null,null,null,null,null,null,null,null,null,null,0]
[null,null,null,null,null,null,null,null,null,null,null,0]
[null,null,null,null,null,null,null,null,null,null,null,0]
[null,null,null,null,null,null,null,null,null,null,null,0]
[null,null,null,null,null,null,null,null,null,null,null,0]
[null,null,null,null,null,null,null,null,null,null,null,0]
[null,null,null,null,null,null,null,null,null,null,null,0]
[null,null,null,null,null,null,null,null,null,null,null,0]
[null,null,null,null,null,null,null,null,null,null,null,0]
[null,null,null,null,null,null,null,null,null,null,null,0]
[null,null,null,null,null,null,null,null,null,null,null,0]
[null,null,null,null,null,null,null,null,null,null,null,0]
[null,null,null,null,null,null,null,null,null,null,null,0]
[null,null,null,null,null,null,null,null,null,null,null,0]
[null,null,null,null,null,null,null,null,null,null,null,0]
[null,null,null,null,null,null,null,null,null,null,null,0]
[null,null,null,null,null,null,null,null,null,null,null,0]
[null,null,null,null,null,null,null,null,null,null,null,0]
[null,null,null,null,null,null,null,null,null,null,null,0]
[null,null,null,null,null,null,null,null,null,null,null,0]
[null,null,null,null,null,null,null,null,null,null,null,0]
[null,null,null,null,null,null,null,null,null,null,null,0]
[null,null,null,null,null,null,null,null,null,null,null,0]
[null,null,null,null,null,null,null,null,null,null,null,0]
[null,null,null,null,null,null,null,null,null,null,null,0]
[null,null,null,null,null,null,null,null,null,null,null,0]
[null,null,null,null,null,null,null,null,null,null,null,0]
[null,null,null,null,null,null,null,null,null,null,null,0]
[null,null,null,null,null,null,null,null,null,null,null,0]
[null,null,null,null,null,null,null,null,null,null,null,0]
[null,null,null,null,null,null,null,null,null,null,null,0]
[null,null,null,null,null,null,null,null,null,null,null,0]
[null,null,null,null,null,null,null,null,null,null,null,0]
[null,null,null,null,null,null,null,null,null,null,null,0]
[null,null,null,null,null,null,null,null,null,null,null,0]
[null,null,null,null,null,null,null,null,null,null,null,0]
[null,null,null,null,null,null,null,null,null,null,null,0]
[null,null,null,null,null,null,null,null,null,null,null,0]
[null,null,null,null,null,null,null,null,null,null,null,0]
[null,null,null,null,null,null,null,null,null,null,null,0]
[null,null,null,null,null,null,null,null,null,null,null,0]
[null,null,null,null,null,null,null,null,null,null,null,0]
[null,null,null,null,null,null,null,null,null,null,null,0]
[null,null,null,null,null,null,null,null,null,null,null,0]
[null,null,null,null,null,null,null,null,null,null,null,0]
[null,null,null,null,null,null,null,null,null,null,null,0]
[null,null,null,null,null,null,null,null,null,null,null,0]
[null,null,null,null,null,null,null,null,null,null,null,0]
[null,null,null,null,null,null,null,null,null,null,null,0]
[null,null,null,null,null,null,null,null,null,null,null,0]
[null,null,null,null,null,null,null,null,null,null,null,0]
[null,null,null,null,null,null,null,null,null,null,null,0]
[null,null,null,null,null,null,null,null,null,null,null,0]
[null,null,null,null,null,null,null,null,null,null,null,0]
[null,null,null,null,null,null,null,null,null,null,null,0]
[null,null,null,null,null,null,null,null,null,null,null,{"$f":"SUM(F20991:H20991)","v":0}]
[null,null,null,null,null,null,null,null,null,null,null,0]
[null,null,null,null,null,null,null,null,null,null,null,0]
[null,null,null,null,null,null,null,null,null,null,null,0]
[null,null,null,null,null,null,null,null,null,null,null,0]
[null,null,null,null,null,null,null,null,null,null,null,0]
[null,null,null,null,null,null,null,null,null,null,null,0]
[null,null,null,null,null,null,null,null,null,null,null,0]
[null,null,null,null,null,null,null,null,null,null,null,0]
[null,null,null,null,null,null,null,null,null,null,null,0]
[null,null,null,null,null,null,null,null,null,null,null,0]
[null,null,null,null,null,null,null,null,null,null,null,0]
[null,null,null,null,null,null,null,null,null,null,null,0]
[null,null,null,null,null,null,null,null,null,null,null,0]
[null,null,null,null,null,null,null,null,null,null,null,0]
[null,null,null,null,null,null,null,null,null,null,null,0]
[null,null,null,null,null,null,null,null,null,null,null,0]
[null,null,null,null,null,null,null,null,null,null,null,0]
[null,null,null,null,null,null,null,null,null,null,null,0]
[null,null,null,null,null,null,null,null,null,null,null,0]
[null,null,null,null,null,null,null,null,null,null,null,0]
[null,null,null,null,null,null,null,null,null,null,null,0]
[null,null,null,null,null,null,null,null,null,null,null,0]
[null,null,null,null,null,null,null,null,null,null,null,0]
[null,null,null,null,null,null,null,null,null,null,null,0]
[null,null,null,null,null,null,null,null,null,null,null,0]
[null,null,null,null,null,null,null,null,null,null,null,0]
[null,null,null,null,null,null,null,null,null,null,null,0]
[null,null,null,null,null,null,null,null,null,null,null,0]
[null,null,null,null,null,null,null,null,null,null,null,0]
[null,null,null,null,null,null,null,null,null,null,null,0]
[null,null,null,null,null,null,null,null,null,null,null,0]
[null,null,null,null,null,null,null,null,null,null,null,0]
[null,null,null,null,null,null,null,null,null,null,null,0]
[null,null,null,null,null,null,null,null,null,null,null,0]
[null,null,null,null,null,null,null,null,null,null,null,0]
[null,null,null,null,null,null,null,null,null,null,null,0]
[null,null,null,null,null,null,null,null,null,null,null,0]
[null,null,null,null,null,null,null,null,null,null,null,0]
[null,null,null,null,null,null,null,null,null,null,null,0]
[null,null,null,null,null,null,null,null,null,null,null,{"$f":"SUM(F21031:H21031)","v":0}]
[null,null,null,null,null,null,null,null,null,null,null,0]
[null,null,null,null,null,null,null,null,null,null,null,0]
[null,null,null,null,null,null,null,null,null,null,null,0]
[null,null,null,null,null,null,null,null,null,null,null,0]
[null,null,null,null,null,null,null,null,null,null,null,0]
[null,null,null,null,null,null,null,null,null,null,null,0]
[null,null,null,null,null,null,null,null,null,null,null,0]
[null,null,null,null,null,null,null,null,null,null,null,0]
[null,null,null,null,null,null,null,null,null,null,null,0]
[null,null,null,null,null,null,null,null,null,null,null,0]
[null,null,null,null,null,null,null,null,null,null,null,0]
[null,null,null,null,null,null,null,null,null,null,null,0]
[null,null,null,null,null,null,null,null,null,null,null,0]
[null,null,null,null,null,null,null,null,null,null,null,0]
[null,null,null,null,null,null,null,null,null,null,null,0]
[null,null,null,null,null,null,null,null,null,null,null,0]
[null,null,null,null,null,null,null,null,null,null,null,0]
[null,null,null,null,null,null,null,null,null,null,null,0]
[null,null,null,null,null,null,null,null,null,null,null,0]
[null,null,null,null,null,null,null,null,null,null,null,0]
[null,null,null,null,null,null,null,null,null,null,null,0]
[null,null,null,null,null,null,null,null,null,null,null,0]
[null,null,null,null,null,null,null,null,null,null,null,0]
[null,null,null,null,null,null,null,null,null,null,null,0]
[null,null,null,null,null,null,null,null,null,null,null,0]
[null,null,null,null,null,null,null,null,null,null,null,0]
[null,null,null,null,null,null,null,null,null,null,null,0]
[null,null,null,null,null,null,null,null,null,null,null,0]
[null,null,null,null,null,null,null,null,null,null,null,0]
[null,null,null,null,null,null,null,null,null,null,null,0]
[null,null,null,null,null,null,null,null,null,null,null,0]
[null,null,null,null,null,null,null,null,null,null,null,0]
[null,null,null,null,null,null,null,null,null,null,null,0]
[null,null,null,null,null,null,null,null,null,null,null,0]
[null,null,null,null,null,null,null,null,null,null,null,0]
[null,null,null,null,null,null,null,null,null,null,null,0]
[null,null,null,null,null,null,null,null,null,null,null,0]
[null,null,null,null,null,null,null,null,null,null,null,0]
[null,null,null,null,null,null,null,null,null,null,null,0]
[null,null,null,null,null,null,null,null,null,null,null,0]
[null,null,null,null,null,null,null,null,null,null,null,0]
[null,null,null,null,null,null,null,null,null,null,null,0]
[null,null,null,null,null,null,null,null,null,null,null,0]
[null,null,null,null,null,null,null,null,null,null,null,0]
[null,null,null,null,null,null,null,null,null,null,null,0]
[null,null,null,null,null,null,null,null,null,null,null,0]
[null,null,null,null,null,null,null,null,null,null,null,0]
[null,null,null,null,null,null,null,null,null,null,null,{"$f":"SUM(F21079:H21079)","v":0}]
[null,null,null,null,null,null,null,null,null,null,null,0]
[null,null,null,null,null,null,null,null,null,null,null,0]
[null,null,null,null,null,null,null,null,null,null,null,0]
[null,null,null,null,null,null,null,null,null,null,null,0]
[null,null,null,null,null,null,null,null,null,null,null,0]
[null,null,null,null,null,null,null,null,null,null,null,0]
[null,null,null,null,null,null,null,null,null,null,null,0]
[null,null,null,null,null,null,null,null,null,null,null,0]
[null,null,null,null,null,null,null,null,null,null,null,0]
[null,null,null,null,null,null,null,null,null,null,null,{"$f":"SUM(F21089:H21089)","v":0}]
[null,null,null,null,null,null,null,null,null,null,null,0]
[null,null,null,null,null,null,null,null,null,null,null,0]
[null,null,null,null,null,null,null,null,null,null,null,0]
[null,null,null,null,null,null,null,null,null,null,null,0]
[null,null,null,null,null,null,null,null,null,null,null,0]
[null,null,null,null,null,null,null,null,null,null,null,0]
[null,null,null,null,null,null,null,null,null,null,null,0]
[null,null,null,null,null,null,null,null,null,null,null,0]
[null,null,null,null,null,null,null,null,null,null,null,0]
[null,null,null,null,null,null,null,null,null,null,null,0]
[null,null,null,null,null,null,null,null,null,null,null,0]

{"sheet":"A7","index":22,"n_rows":23,"n_cols":8,"rows_kept":23,"cut":false,"hidden":false,"merged":[[2,1,2,7],[11,5,11,7],[6,2,6,4],[7,2,7,4]]}
[]
[]
[null,"FORM A7: DERIVATIVE ASSETS"]
[]
[]
[]
[null,"NAME OF REINSURER",{"$f":"Specifications!C5","v":0}]
[null,"YEAR ENDED",{"$f":"Specifications!C13","v":"00:00:00"}]
[]
[]
[]
[null,null,null,null,null,"Remaining term of exposure"]
[null,null,"Issued Currency","Amount","Credit rating","Less than 1 year","1-5 years","Over 5 years"]
[null,null,null,{"$f":"Specifications!$C$14","v":0},null,{"$f":"Specifications!$C$14","v":0},{"$f":"Specifications!$C$14","v":0},{"$f":"Specifications!$C$14","v":0}]
[null,"Futures"]
[null,"Call options"]
[null,"Put options"]
[null,"Swaps"]
[null,"Forwards"]
[null,"Credit derivatives"]
[null,"Other derivatives"]
[]
[null,"TOTAL DERIVATIVE ASSETS",null,{"$f":"SUM(D15:D21)","v":0},null,{"$f":"SUM(F15:F21)","v":0},{"$f":"SUM(G15:G21)","v":0},0]

{"sheet":"A8","index":23,"n_rows":52,"n_cols":7,"rows_kept":52,"cut":false,"hidden":false,"merged":[[2,1,2,6],[32,1,33,1],[6,2,6,3],[7,2,7,3]]}
[]
[]
[null,"FORM A8: CURRENT AND DEFERRED TAX ASSETS AND LIABILITIES"]
[]
[]
[]
[null,"NAME OF REINSURER",{"$f":"Specifications!C5","v":0}]
[null,"YEAR ENDED",{"$f":"Specifications!C13","v":"00:00:00"}]
[]
[]
[null,"CURRENT TAX ASSETS AND LIABILITIES"]
[]
[null,"Current tax assets","Amount"]
[null,null,{"$f":"Specifications!$C$14","v":0}]
[null,"Tax recoverable within 12 months"]
[null,"Tax recoverable after 12 months"]
[]
[null,"Total current tax assets",{"$f":"SUM(C15:C16)","v":0}]
[]
[]
[null,"Current tax liabilities","Amount"]
[null,null,{"$f":"Specifications!$C$14","v":0}]
[null,"Tax due within 12 months"]
[null,"Tax due after 12 months"]
[]
[null,"Total current tax liabilities",{"$f":"SUM(C23:C24)","v":0}]
[]
[]
[]
[]
[null,"DEFERRED TAX ASSETS/(LIABILITIES)"]
[]
[null,"Deferred tax assets/(liabilities)","Net opening tax asset/(liability)","Tax credited/(charged) to the income statement","Tax credited/(charged) to the other comprehensive income or equity","Acquisitions/ Transfers/(Disposals)","Net closing tax asset/(liability)"]
[null,null,{"$f":"Specifications!$C$14","v":0},{"$f":"Specifications!$C$14","v":0},{"$f":"Specifications!$C$14","v":0},{"$f":"Specifications!$C$14","v":0},{"$f":"Specifications!$C$14","v":0}]
[null,"Assets for insurance acquisition cashflows",null,null,null,null,{"$f":"SUM(C35:F35)","v":0}]
[null,"Difference between the tax and accounting value of insurance contracts",{"$f":"SUM(C37:C38)","v":0},{"$f":"SUM(D37:D38)","v":0},0,0,{"$f":"SUM(C36:F36)","v":0}]
[null,"    MRU",null,null,null,null,{"$f":"SUM(C37:F37)","v":0}]
[null,"    Overseas",null,null,null,null,0]
[null,"Realised and unrealised gains on investments",null,null,null,null,0]
[null,"Excess of depreciation over capital allowances",null,null,null,null,0]
[null,"Excess expenses",null,null,null,null,0]
[null,"Accounting provisions and other",null,null,null,null,0]
[null,"Trading losses",null,null,null,null,0]
[null,"Pension fund deficit",null,null,null,null,0]
[null,"Acquired intangibles",null,null,null,null,0]
[null,"Others",null,null,null,null,0]
[]
[null,"Total deferred tax assets/(liabilities)",{"$f":"SUM(C37:C46)+C35","v":0},{"$f":"SUM(D37:D46)+D35","v":0},0,0,{"$f":"SUM(C48:F48)","v":0}]
[]
[null,"Net deferred tax liabilities transferred on disposal",null,null,null,null,{"$f":"SUM(C50:F50)","v":0}]
[]
[null,"Net deferred tax assets/(liabilities)",{"$f":"C48-C50","v":0},{"$f":"D48-D50","v":0},0,0,{"$f":"SUM(C52:F52)","v":0}]

{"sheet":"A9","index":24,"n_rows":247,"n_cols":31,"rows_kept":247,"cut":false,"hidden":false,"merged":[[14,1,14,2],[15,1,15,2],[17,1,17,2],[2,1,2,12],[10,1,11,2],[12,1,12,2],[13,1,13,2],[6,2,6,3],[7,2,7,3]]}
[]
[]
[null,"FORM A9: RECEIVABLES"]
[]
[]
[]
[null,"NAME OF REINSURER",{"$f":"Specifications!C5","v":0}]
[null,"YEAR ENDED",{"$f":"Specifications!C13","v":"00:00:00"}]
[]
[]
[null,"Description",null,"Receivables","Less than 12 months","More than 12 months",null,"Gross receivables",null,"Bad debts written off","Provision for doubtful debts",null,"Net receivables"]
[null,null,null,{"$f":"Specifications!$C$14","v":0},{"$f":"Specifications!$C$14","v":0},{"$f":"Specifications!$C$14","v":0},null,{"$f":"Specifications!$C$14","v":0},null,{"$f":"Specifications!$C$14","v":0},{"$f":"Specifications!$C$14","v":0},null,{"$f":"Specifications!$C$14","v":0}]
[null,"Related Companies",null,{"$f":"SUMIFS(D$24:D248, $C$24:$C248, $B13)","v":0},{"$f":"SUMIFS(E$24:E248, $C$24:$C248, $B13)","v":0},{"$f":"SUMIFS(F$24:F248, $C$24:$C248, $B13)","v":0},null,{"$f":"SUM(E13:F13)","v":0},null,{"$f":"SUMIFS(J$24:J248, $C$24:$C248, $B13)","v":0},{"$f":"SUMIFS(K$24:K248, $C$24:$C248, $B13)","v":0},null,{"$f":"SUMIFS(M$24:M248, $C$24:$C248, $B13)","v":0}]
[null,"Corporations",null,{"$f":"SUMIFS(D$24:D248, C$24:C248, $B14)","v":0},{"$f":"SUMIFS(E$24:E249, $C$24:$C249, $B14)","v":0},{"$f":"SUMIFS(F$24:F249, $C$24:$C249, $B14)","v":0},null,{"$f":"SUM(E14:F14)","v":0},null,{"$f":"SUMIFS(J$24:J249, $C$24:$C249, $B14)","v":0},{"$f":"SUMIFS(K$24:K249, $C$24:$C249, $B14)","v":0},null,{"$f":"SUMIFS(M$24:M249, $C$24:$C249, $B14)","v":0}]
[null,"Investment Income",null,{"$f":"SUMIFS(D$24:D248, C$24:C248, $B15)","v":0},{"$f":"SUMIFS(E$24:E251, $C$24:$C251, $B15)","v":0},{"$f":"SUMIFS(F$24:F251, $C$24:$C251, $B15)","v":0},null,{"$f":"SUM(E15:F15)","v":0},null,{"$f":"SUMIFS(J$24:J251, $C$24:$C251, $B15)","v":0},{"$f":"SUMIFS(K$24:K251, $C$24:$C251, $B15)","v":0},null,{"$f":"SUMIFS(M$24:M251, $C$24:$C251, $B15)","v":0}]
[null,"Other",null,{"$f":"SUMIFS(D$24:D248, C$24:C248, $B16)","v":0},{"$f":"SUMIFS(E$24:E252, $C$24:$C252, $B16)","v":0},{"$f":"SUMIFS(F$24:F252, $C$24:$C252, $B16)","v":0},null,{"$f":"SUM(E16:F16)","v":0},null,{"$f":"SUMIFS(J$24:J252, $C$24:$C252, $B16)","v":0},{"$f":"SUMIFS(K$24:K252, $C$24:$C252, $B16)","v":0},null,{"$f":"SUMIFS(M$24:M252, $C$24:$C252, $B16)","v":0}]
[]
[null,"TOTAL RECEIVABLES",null,{"$f":"SUM(D13:D16)","v":0},{"$f":"SUM(E13:E16)","v":0},{"$f":"SUM(F13:F16)","v":0},null,{"$f":"SUM(H13:H16)","v":0},null,{"$f":"SUM(J13:J16)","v":0},{"$f":"SUM(K13:K16)","v":0},null,{"$f":"SUM(M13:M16)","v":0}]
[]
[]
[]
[null,"Entity","Description","Receivables","Less than 12 months","More than 12 months",null,"Gross receivables",null,"Bad debts written off","Provision for doubtful debts",null,"Net receivables"]
[null,null,null,{"$f":"Specifications!$C$14","v":0},{"$f":"Specifications!$C$14","v":0},{"$f":"Specifications!$C$14","v":0},null,{"$f":"Specifications!$C$14","v":0},null,{"$f":"Specifications!$C$14","v":0},{"$f":"Specifications!$C$14","v":0},null,{"$f":"Specifications!$C$14","v":0}]
[null,null,null,null,null,null,null,{"$f":"SUM(E24:F24)","v":0},null,null,null,null,{"$f":"H24-SUM(J24:K24)","v":0},null,null,null,null,null,null,null,null,null,null,null,null,null,null,null,null,null,{"$f":"IF(M24<-0.05, -1, 1)","v":1}]
[null,null,null,null,null,null,null,0,null,null,null,null,{"$f":"H25-SUM(J25:K25)","v":0}]
[null,null,null,null,null,null,null,{"$f":"SUM(E26:F26)","v":0},null,null,null,null,{"$f":"H26-SUM(J26:K26)","v":0}]
[null,null,null,null,null,null,null,0,null,null,null,null,0]
[null,null,null,null,null,null,null,0,null,null,null,null,0]
[null,null,null,null,null,null,null,0,null,null,null,null,0]
[null,null,null,null,null,null,null,0,null,null,null,null,0]
[null,null,null,null,null,null,null,0,null,null,null,null,0]
[null,null,null,null,null,null,null,0,null,null,null,null,0]
[null,null,null,null,null,null,null,0,null,null,null,null,0]
[null,null,null,null,null,null,null,0,null,null,null,null,0]
[null,null,null,null,null,null,null,0,null,null,null,null,0]
[null,null,null,null,null,null,null,0,null,null,null,null,0]
[null,null,null,null,null,null,null,0,null,null,null,null,0]
[null,null,null,null,null,null,null,0,null,null,null,null,0]
[null,null,null,null,null,null,null,0,null,null,null,null,0]
[null,null,null,null,null,null,null,0,null,null,null,null,0]
[null,null,null,null,null,null,null,0,null,null,null,null,0]
[null,null,null,null,null,null,null,0,null,null,null,null,0]
[null,null,null,null,null,null,null,0,null,null,null,null,0]
[null,null,null,null,null,null,null,0,null,null,null,null,0]
[null,null,null,null,null,null,null,0,null,null,null,null,0]
[null,null,null,null,null,null,null,0,null,null,null,null,0]
[null,null,null,null,null,null,null,0,null,null,null,null,0]
[null,null,null,null,null,null,null,0,null,null,null,null,0]
[null,null,null,null,null,null,null,0,null,null,null,null,0]
[null,null,null,null,null,null,null,0,null,null,null,null,0]
[null,null,null,null,null,null,null,{"$f":"SUM(E51:F51)","v":0},null,null,null,null,0]
[null,null,null,null,null,null,null,0,null,null,null,null,0]
[null,null,null,null,null,null,null,0,null,null,null,null,0]
[null,null,null,null,null,null,null,0,null,null,null,null,0]
[null,null,null,null,null,null,null,0,null,null,null,null,0]
[null,null,null,null,null,null,null,0,null,null,null,null,0]
[null,null,null,null,null,null,null,0,null,null,null,null,0]
[null,null,null,null,null,null,null,0,null,null,null,null,0]
[null,null,null,null,null,null,null,0,null,null,null,null,0]
[null,null,null,null,null,null,null,0,null,null,null,null,0]
[null,null,null,null,null,null,null,0,null,null,null,null,0]
[null,null,null,null,null,null,null,0,null,null,null,null,0]
[null,null,null,null,null,null,null,0,null,null,null,null,0]
[null,null,null,null,null,null,null,0,null,null,null,null,0]
[null,null,null,null,null,null,null,0,null,null,null,null,0]
[null,null,null,null,null,null,null,0,null,null,null,null,0]
[null,null,null,null,null,null,null,0,null,null,null,null,0]
[null,null,null,null,null,null,null,0,null,null,null,null,0]
[null,null,null,null,null,null,null,0,null,null,null,null,0]
[null,null,null,null,null,null,null,0,null,null,null,null,0]
[null,null,null,null,null,null,null,0,null,null,null,null,0]
[null,null,null,null,null,null,null,0,null,null,null,null,0]
[null,null,null,null,null,null,null,0,null,null,null,null,0]
[null,null,null,null,null,null,null,0,null,null,null,null,0]
[null,null,null,null,null,null,null,0,null,null,null,null,0]
[null,null,null,null,null,null,null,0,null,null,null,null,0]
[null,null,null,null,null,null,null,0,null,null,null,null,0]
[null,null,null,null,null,null,null,0,null,null,null,null,0]
[null,null,null,null,null,null,null,0,null,null,null,null,0]
[null,null,null,null,null,null,null,0,null,null,null,null,0]
[null,null,null,null,null,null,null,0,null,null,null,null,0]
[null,null,null,null,null,null,null,0,null,null,null,null,0]
[null,null,null,null,null,null,null,0,null,null,null,null,0]
[null,null,null,null,null,null,null,0,null,null,null,null,0]
[null,null,null,null,null,null,null,0,null,null,null,null,0]
[null,null,null,null,null,null,null,0,null,null,null,null,0]
[null,null,null,null,null,null,null,0,null,null,null,null,0]
[null,null,null,null,null,null,null,0,null,null,null,null,0]
[null,null,null,null,null,null,null,0,null,null,null,null,0]
[null,null,null,null,null,null,null,0,null,null,null,null,0]
[null,null,null,null,null,null,null,{"$f":"SUM(E91:F91)","v":0},null,null,null,null,0]
[null,null,null,null,null,null,null,0,null,null,null,null,0]
[null,null,null,null,null,null,null,0,null,null,null,null,0]
[null,null,null,null,null,null,null,0,null,null,null,null,0]
[null,null,null,null,null,null,null,0,null,null,null,null,0]
[null,null,null,null,null,null,null,0,null,null,null,null,0]
[null,null,null,null,null,null,null,0,null,null,null,null,0]
[null,null,null,null,null,null,null,0,null,null,null,null,0]
[null,null,null,null,null,null,null,0,null,null,null,null,0]
[null,null,null,null,null,null,null,0,null,null,null,null,0]
[null,null,null,null,null,null,null,0,null,null,null,null,0]
[null,null,null,null,null,null,null,0,null,null,null,null,0]
[null,null,null,null,null,null,null,0,null,null,null,null,0]
[null,null,null,null,null,null,null,0,null,null,null,null,0,null,null,null,null,null,null,null,null,null,null,null,null,null,null,null,null,null,{"$f":"IF(M104<-0.05, -1, 1)","v":1}]
[null,null,null,null,null,null,null,0,null,null,null,null,{"$f":"H105-SUM(J105:K105)","v":0},null,null,null,null,null,null,null,null,null,null,null,null,null,null,null,null,null,1]
[null,null,null,null,null,null,null,0,null,null,null,null,0]
[null,null,null,null,null,null,null,{"$f":"SUM(E107:F107)","v":0},null,null,null,null,0]
[null,null,null,null,null,null,null,0,null,null,null,null,0]
[null,null,null,null,null,null,null,0,null,null,null,null,0]
[null,null,null,null,null,null,null,0,null,null,null,null,0]
[null,null,null,null,null,null,null,0,null,null,null,null,0]
[null,null,null,null,null,null,null,0,null,null,null,null,0]
[null,null,null,null,null,null,null,0,null,null,null,null,0]
[null,null,null,null,null,null,null,0,null,null,null,null,0]
[null,null,null,null,null,null,null,0,null,null,null,null,0]
[null,null,null,null,null,null,null,0,null,null,null,null,0]
[null,null,null,null,null,null,null,0,null,null,null,null,0]
[null,null,null,null,null,null,null,0,null,null,null,null,0]
[null,null,null,null,null,null,null,0,null,null,null,null,0]
[null,null,null,null,null,null,null,0,null,null,null,null,0]
[null,null,null,null,null,null,null,0,null,null,null,null,0]
[null,null,null,null,null,null,null,0,null,null,null,null,0]
[null,null,null,null,null,null,null,0,null,null,null,null,0]
[null,null,null,null,null,null,null,0,null,null,null,null,0]
[null,null,null,null,null,null,null,0,null,null,null,null,0]
[null,null,null,null,null,null,null,0,null,null,null,null,0]
[null,null,null,null,null,null,null,0,null,null,null,null,0]
[null,null,null,null,null,null,null,0,null,null,null,null,0]
[null,null,null,null,null,null,null,0,null,null,null,null,0]
[null,null,null,null,null,null,null,0,null,null,null,null,0]
[null,null,null,null,null,null,null,0,null,null,null,null,0]
[null,null,null,null,null,null,null,0,null,null,null,null,0]
[null,null,null,null,null,null,null,0,null,null,null,null,0]
[null,null,null,null,null,null,null,0,null,null,null,null,0]
[null,null,null,null,null,null,null,0,null,null,null,null,0]
[null,null,null,null,null,null,null,0,null,null,null,null,0]
[null,null,null,null,null,null,null,{"$f":"SUM(E137:F137)","v":0},null,null,null,null,0]
[null,null,null,null,null,null,null,0,null,null,null,null,0]
[null,null,null,null,null,null,null,0,null,null,null,null,0]
[null,null,null,null,null,null,null,0,null,null,null,null,0]
[null,null,null,null,null,null,null,0,null,null,null,null,0]
[null,null,null,null,null,null,null,0,null,null,null,null,0]
[null,null,null,null,null,null,null,0,null,null,null,null,0]
[null,null,null,null,null,null,null,0,null,null,null,null,0]
[null,null,null,null,null,null,null,0,null,null,null,null,0]
[null,null,null,null,null,null,null,0,null,null,null,null,0]
[null,null,null,null,null,null,null,0,null,null,null,null,0]
[null,null,null,null,null,null,null,0,null,null,null,null,0]
[null,null,null,null,null,null,null,0,null,null,null,null,0]
[null,null,null,null,null,null,null,0,null,null,null,null,0]
[null,null,null,null,null,null,null,0,null,null,null,null,0]
[null,null,null,null,null,null,null,0,null,null,null,null,0]
[null,null,null,null,null,null,null,0,null,null,null,null,0]
[null,null,null,null,null,null,null,0,null,null,null,null,0]
[null,null,null,null,null,null,null,0,null,null,null,null,0]
[null,null,null,null,null,null,null,0,null,null,null,null,0]
[null,null,null,null,null,null,null,{"$f":"SUM(E157:F157)","v":0},null,null,null,null,0]
[null,null,null,null,null,null,null,0,null,null,null,null,0]
[null,null,null,null,null,null,null,0,null,null,null,null,0]
[null,null,null,null,null,null,null,0,null,null,null,null,0]
[null,null,null,null,null,null,null,0,null,null,null,null,0]
[null,null,null,null,null,null,null,0,null,null,null,null,0]
[null,null,null,null,null,null,null,0,null,null,null,null,0]
[null,null,null,null,null,null,null,0,null,null,null,null,0]
[null,null,null,null,null,null,null,0,null,null,null,null,0]
[null,null,null,null,null,null,null,0,null,null,null,null,0]
[null,null,null,null,null,null,null,0,null,null,null,null,0]
[null,null,null,null,null,null,null,0,null,null,null,null,0]
[null,null,null,null,null,null,null,0,null,null,null,null,0]
[null,null,null,null,null,null,null,0,null,null,null,null,0]
[null,null,null,null,null,null,null,0,null,null,null,null,0]
[null,null,null,null,null,null,null,0,null,null,null,null,0]
[null,null,null,null,null,null,null,0,null,null,null,null,0]
[null,null,null,null,null,null,null,0,null,null,null,null,0]
[null,null,null,null,null,null,null,0,null,null,null,null,0]
[null,null,null,null,null,null,null,0,null,null,null,null,0]
[null,null,null,null,null,null,null,0,null,null,null,null,0]
[null,null,null,null,null,null,null,0,null,null,null,null,0]
[null,null,null,null,null,null,null,0,null,null,null,null,0]
[null,null,null,null,null,null,null,0,null,null,null,null,0]
[null,null,null,null,null,null,null,0,null,null,null,null,0]
[null,null,null,null,null,null,null,0,null,null,null,null,0]
[null,null,null,null,null,null,null,0,null,null,null,null,0]
[null,null,null,null,null,null,null,0,null,null,null,null,0]
[null,null,null,null,null,null,null,0,null,null,null,null,0]
[null,null,null,null,null,null,null,0,null,null,null,null,0]
[null,null,null,null,null,null,null,{"$f":"SUM(E187:F187)","v":0},null,null,null,null,0]
[null,null,null,null,null,null,null,0,null,null,null,null,0]
[null,null,null,null,null,null,null,0,null,null,null,null,0]
[null,null,null,null,null,null,null,0,null,null,null,null,0]
[null,null,null,null,null,null,null,0,null,null,null,null,0]
[null,null,null,null,null,null,null,0,null,null,null,null,0]
[null,null,null,null,null,null,null,0,null,null,null,null,0]
[null,null,null,null,null,null,null,0,null,null,null,null,0]
[null,null,null,null,null,null,null,0,null,null,null,null,0]
[null,null,null,null,null,null,null,0,null,null,null,null,0]
[null,null,null,null,null,null,null,0,null,null,null,null,0]
[null,null,null,null,null,null,null,0,null,null,null,null,0]
[null,null,null,null,null,null,null,0,null,null,null,null,0]
[null,null,null,null,null,null,null,0,null,null,null,null,0,null,null,null,null,null,null,null,null,null,null,null,null,null,null,null,null,null,{"$f":"IF(M200<-0.05, -1, 1)","v":1}]
[null,null,null,null,null,null,null,0,null,null,null,null,{"$f":"H201-SUM(J201:K201)","v":0},null,null,null,null,null,null,null,null,null,null,null,null,null,null,null,null,null,1]
[null,null,null,null,null,null,null,0,null,null,null,null,0]
[null,null,null,null,null,null,null,{"$f":"SUM(E203:F203)","v":0},null,null,null,null,0]
[null,null,null,null,null,null,null,0,null,null,null,null,0]
[null,null,null,null,null,null,null,0,null,null,null,null,0]
[null,null,null,null,null,null,null,0,null,null,null,null,0]
[null,null,null,null,null,null,null,0,null,null,null,null,0]
[null,null,null,null,null,null,null,0,null,null,null,null,0]
[null,null,null,null,null,null,null,0,null,null,null,null,0]
[null,null,null,null,null,null,null,0,null,null,null,null,0]
[null,null,null,null,null,null,null,0,null,null,null,null,0]
[null,null,null,null,null,null,null,0,null,null,null,null,0]
[null,null,null,null,null,null,null,0,null,null,null,null,0]
[null,null,null,null,null,null,null,0,null,null,null,null,0]
[null,null,null,null,null,null,null,0,null,null,null,null,0]
[null,null,null,null,null,null,null,0,null,null,null,null,0]
[null,null,null,null,null,null,null,0,null,null,null,null,0]
[null,null,null,null,null,null,null,0,null,null,null,null,0]
[null,null,null,null,null,null,null,0,null,null,null,null,0]
[null,null,null,null,null,null,null,0,null,null,null,null,0]
[null,null,null,null,null,null,null,0,null,null,null,null,0]
[null,null,null,null,null,null,null,0,null,null,null,null,0]
[null,null,null,null,null,null,null,0,null,null,null,null,0]
[null,null,null,null,null,null,null,0,null,null,null,null,0]
[null,null,null,null,null,null,null,0,null,null,null,null,0]
[null,null,null,null,null,null,null,0,null,null,null,null,0]
[null,null,null,null,null,null,null,0,null,null,null,null,0]
[null,null,null,null,null,null,null,0,null,null,null,null,0]
[null,null,null,null,null,null,null,0,null,null,null,null,0]
[null,null,null,null,null,null,null,0,null,null,null,null,0]
[null,null,null,null,null,null,null,0,null,null,null,null,0]
[null,null,null,null,null,null,null,0,null,null,null,null,0]
[null,null,null,null,null,null,null,{"$f":"SUM(E233:F233)","v":0},null,null,null,null,0]
[null,null,null,null,null,null,null,0,null,null,null,null,{"$f":"H234-SUM(J234:K234)","v":0}]
[null,null,null,null,null,null,null,0,null,null,null,null,0]
[null,null,null,null,null,null,null,0,null,null,null,null,0]
[null,null,null,null,null,null,null,{"$f":"SUM(E237:F237)","v":0},null,null,null,null,0]
[null,null,null,null,null,null,null,0,null,null,null,null,0]
[null,null,null,null,null,null,null,0,null,null,null,null,0]
[null,null,null,null,null,null,null,0,null,null,null,null,0]
[null,null,null,null,null,null,null,0,null,null,null,null,0]
[null,null,null,null,null,null,null,0,null,null,null,null,0]
[null,null,null,null,null,null,null,0,null,null,null,null,{"$f":"H243-SUM(J243:K243)","v":0},null,null,null,null,null,null,null,null,null,null,null,null,null,null,null,null,null,{"$f":"IF(M243<-0.05, -1, 1)","v":1}]
[null,null,null,null,null,null,null,0,null,null,null,null,0,null,null,null,null,null,null,null,null,null,null,null,null,null,null,null,null,null,1]
[null,null,null,null,null,null,null,0,null,null,null,null,0,null,null,null,null,null,null,null,null,null,null,null,null,null,null,null,null,null,1]
[null,null,null,null,null,null,null,0,null,null,null,null,0,null,null,null,null,null,null,null,null,null,null,null,null,null,null,null,null,null,1]
[null,null,null,null,null,null,null,0,null,null,null,null,{"$f":"H247-SUM(J247:K247)","v":0},null,null,null,null,null,null,null,null,null,null,null,null,null,null,null,null,null,{"$f":"IF(M247<-0.05, -1, 1)","v":1}]

{"sheet":"A10","index":25,"n_rows":49,"n_cols":14,"rows_kept":49,"cut":false,"hidden":false,"merged":[[2,1,2,13],[10,1,11,1],[6,2,6,4],[7,2,7,4]]}
[]
[]
[null,"FORM A10: RECOVERY FROM INSURANCE COMPANIES"]
[]
[]
[]
[null,"NAME OF REINSURER",{"$f":"Specifications!C5","v":0}]
[null,"YEAR ENDED",{"$f":"Specifications!C13","v":"00:00:00"}]
[]
[]
[null,null,"Receivables","Less than 6 months","More than 6 months but less than 1 year","More than 1 year but less than 2 years","Above 2 years",null,"Gross receivables",null,"Bad debts written off","Provision for doubtful debts",null,"Net receivables"]
[null,null,{"$f":"Specifications!$C$14","v":0},{"$f":"Specifications!$C$14","v":0},{"$f":"Specifications!$C$14","v":0},{"$f":"Specifications!$C$14","v":0},{"$f":"Specifications!$C$14","v":0},null,{"$f":"Specifications!$C$14","v":0},null,{"$f":"Specifications!$C$14","v":0},{"$f":"Specifications!$C$14","v":0},null,{"$f":"Specifications!$C$14","v":0}]
[]
[null,"TOTAL RECOVERIES FROM INSURANCE COMPANIES",{"$f":"SUM(C19:C49)","v":0},{"$f":"SUM(D19:D49)","v":0},{"$f":"SUM(E19:E49)","v":0},{"$f":"SUM(F19:F49)","v":0},{"$f":"SUM(G19:G49)","v":0},null,{"$f":"SUM(I19:I49)","v":0},null,{"$f":"SUM(K19:K49)","v":0},{"$f":"SUM(L19:L49)","v":0},null,{"$f":"SUM(N19:N49)","v":0}]
[]
[]
[null,"Insurance company","Receivables","Less than 6 months","More than 6 months but less than 1 year","More than 1 year but less than 2 years","Above 2 years",null,"Gross receivables",null,"Bad debts written off","Provision for doubtful debts",null,"Net receivables"]
[null,null,{"$f":"Specifications!$C$14","v":0},{"$f":"Specifications!$C$14","v":0},{"$f":"Specifications!$C$14","v":0},{"$f":"Specifications!$C$14","v":0},{"$f":"Specifications!$C$14","v":0},null,{"$f":"Specifications!$C$14","v":0},null,{"$f":"Specifications!$C$14","v":0},{"$f":"Specifications!$C$14","v":0},null,{"$f":"Specifications!$C$14","v":0}]
[null,null,null,null,null,null,null,null,{"$f":"SUM(D19:G19)","v":0},null,null,null,null,{"$f":"I19-SUM(K19:L19)","v":0}]
[null,null,null,null,null,null,null,null,{"$f":"SUM(D20:G20)","v":0},null,null,null,null,{"$f":"I20-SUM(K20:L20)","v":0}]
[null,null,null,null,null,null,null,null,0,null,null,null,null,0]
[null,null,null,null,null,null,null,null,{"$f":"SUM(D22:G22)","v":0},null,null,null,null,{"$f":"I22-SUM(K22:L22)","v":0}]
[null,null,null,null,null,null,null,null,0,null,null,null,null,0]
[null,null,null,null,null,null,null,null,{"$f":"SUM(D24:G24)","v":0},null,null,null,null,{"$f":"I24-SUM(K24:L24)","v":0}]
[null,null,null,null,null,null,null,null,{"$f":"SUM(D25:G25)","v":0},null,null,null,null,0]
[null,null,null,null,null,null,null,null,0,null,null,null,null,0]
[null,null,null,null,null,null,null,null,0,null,null,null,null,{"$f":"I27-SUM(K27:L27)","v":0}]
[null,null,null,null,null,null,null,null,0,null,null,null,null,{"$f":"I28-SUM(K28:L28)","v":0}]
[null,null,null,null,null,null,null,null,0,null,null,null,null,0]
[null,null,null,null,null,null,null,null,0,null,null,null,null,0]
[null,null,null,null,null,null,null,null,0,null,null,null,null,0]
[null,null,null,null,null,null,null,null,0,null,null,null,null,{"$f":"I32-SUM(K32:L32)","v":0}]
[null,null,null,null,null,null,null,null,{"$f":"SUM(D33:G33)","v":0},null,null,null,null,0]
[null,null,null,null,null,null,null,null,0,null,null,null,null,0]
[null,null,null,null,null,null,null,null,0,null,null,null,null,0]
[null,null,null,null,null,null,null,null,0,null,null,null,null,0]
[null,null,null,null,null,null,null,null,{"$f":"SUM(D37:G37)","v":0},null,null,null,null,{"$f":"I37-SUM(K37:L37)","v":0}]
[null,null,null,null,null,null,null,null,0,null,null,null,null,0]
[null,null,null,null,null,null,null,null,0,null,null,null,null,0]
[null,null,null,null,null,null,null,null,{"$f":"SUM(D40:G40)","v":0},null,null,null,null,0]
[null,null,null,null,null,null,null,null,0,null,null,null,null,0]
[null,null,null,null,null,null,null,null,0,null,null,null,null,0]
[null,null,null,null,null,null,null,null,0,null,null,null,null,0]
[null,null,null,null,null,null,null,null,0,null,null,null,null,{"$f":"I44-SUM(K44:L44)","v":0}]
[null,null,null,null,null,null,null,null,0,null,null,null,null,0]
[null,null,null,null,null,null,null,null,0,null,null,null,null,0]
[null,null,null,null,null,null,null,null,0,null,null,null,null,0]
[null,null,null,null,null,null,null,null,0,null,null,null,null,0]
[null,null,null,null,null,null,null,null,{"$f":"SUM(D49:G49)","v":0},null,null,null,null,{"$f":"I49-SUM(K49:L49)","v":0}]

{"sheet":"A11","index":26,"n_rows":43,"n_cols":3,"rows_kept":43,"cut":false,"hidden":false,"merged":[[2,1,2,2]]}
[]
[]
[null,"FORM A11: ASSETS HELD FOR SALE"]
[]
[]
[]
[null,"NAME OF REINSURER",{"$f":"Specifications!C5","v":0}]
[null,"YEAR ENDED",{"$f":"Specifications!C13","v":"00:00:00"}]
[]
[null,"Description","Amount"]
[null,null,{"$f":"Specifications!$C$14","v":0}]
[null,"Property, plant and equipment",{"$f":"'A1'!H26","v":0}]
[null,"Goodwill",{"$f":"'A2'!H14","v":0}]
[null,"Other Intangible Assets",{"$f":"'A2'!H16","v":0}]
[null,"Investment property",{"$f":"'A5'!I13","v":0}]
[null,"Others (Please specify)"]
[null,"Others (Please specify)"]
[null,"Others (Please specify)"]
[null,"Others (Please specify)"]
[null,"Others (Please specify)"]
[null,"Others (Please specify)"]
[null,"Others (Please specify)"]
[null,"Others (Please specify)"]
[null,"Others (Please specify)"]
[null,"Others (Please specify)"]
[null,"Others (Please specify)"]
[null,"Others (Please specify)"]
[null,"Others (Please specify)"]
[null,"Others (Please specify)"]
[null,"Others (Please specify)"]
[null,"Others (Please specify)"]
[null,"Others (Please specify)"]
[null,"Others (Please specify)"]
[null,"Others (Please specify)"]
[null,"Others (Please specify)"]
[null,"Others (Please specify)"]
[null,"Others (Please specify)"]
[null,"Others (Please specify)"]
[null,"Others (Please specify)"]
[null,"Others (Please specify)"]
[null,"Others (Please specify)"]
[]
[null,"TOTAL ASSETS HELD FOR SALE",{"$f":"SUM(C12:C42)","v":0}]

{"sheet":"A12","index":27,"n_rows":23,"n_cols":3,"rows_kept":23,"cut":false,"hidden":false,"merged":[[2,1,2,2]]}
[]
[]
[null,"FORM A12: ASSETS COVERING GENERAL BUSINESS TECHNICAL PROVISIONS"]
[]
[]
[]
[null,"NAME OF REINSURER",{"$f":"Specifications!C5","v":0}]
[null,"YEAR ENDED",{"$f":"Specifications!C13","v":"00:00:00"}]
[]
[]
[null,"Section 16(2) of the Act",{"$f":"Specifications!$C$14","v":0}]
[null,"Total Assets",{"$f":"A0!D41","v":0}]
[null,"Less: encumbered assets",{"$f":"'A13'!C16","v":0}]
[]
[null,"Total free assets",{"$f":"C12-C13","v":0}]
[]
[null,"Less: liabilities other than insurance and reinsurance contract liabilities",{"$f":"L0!D43-SUM(L0!D26:D27)","v":0}]
[]
[null,"Assets available to cover Insurance and reinsurance contract liabilities",{"$f":"C15-C17","v":0}]
[]
[null,"Insurance and reinsurance contract liabilities",{"$f":"SUM(L0!D26:D27)","v":0}]
[]
[null,"Surplus / (Shortage)",{"$f":"C19-C21","v":0}]

{"sheet":"A13","index":28,"n_rows":17,"n_cols":3,"rows_kept":17,"cut":false,"hidden":false,"merged":[[2,1,2,2]]}
[]
[]
[null,"FORM A13: CASH AND OTHER ASSETS"]
[]
[]
[]
[null,"NAME OF REINSURER",{"$f":"Specifications!C5","v":0}]
[null,"YEAR ENDED",{"$f":"Specifications!C13","v":"00:00:00"}]
[]
[null,null,"Amount"]
[null,null,{"$f":"Specifications!$C$14","v":0}]
[null,"Asset for Insurance Acquisition Cash Flows"]
[null,"Prepayments and Accrued Income"]
[null,"Retirement Benefit Asset"]
[null,"Cash "]
[null,"Assets encumberred "]
[null,"Other assets (Please specify)",{"$f":"SUM(C18:C53)","v":0}]

{"sheet":"Liabilities>>>","index":29,"n_rows":0,"n_cols":0,"rows_kept":0,"cut":false,"hidden":false,"merged":[]}

{"sheet":"L0","index":30,"n_rows":45,"n_cols":5,"rows_kept":45,"cut":false,"hidden":false,"merged":[[12,3,12,4],[2,1,2,4],[6,3,6,4],[12,1,15,1]]}
[]
[]
[null,"FORM L0 : BALANCE SHEET LIABILTIES AND EQUITY"]
[]
[]
[]
[null,"NAME OF REINSURER",null,{"$f":"Specifications!C5","v":0}]
[null,"YEAR ENDED",null,{"$f":"Specifications!C13","v":"00:00:00"},{"$f":"Specifications!C13 - IF(MOD(YEAR(Specifications!C13),4)=0, 366, 365)","v":-366}]
[]
[]
[null,"LIABITLIES AND EQUITY"]
[]
[null,"EQUITY",null,"AMOUNT"]
[null,null,null,"Curent","Previous"]
[null,null,null,"Year","Year"]
[null,null,null,{"$f":"Specifications!$C$14","v":0},{"$f":"Specifications!$C$14","v":0}]
[null,"Share Capital",{"$f":"HYPERLINK(\"#'L8'!A1\",\"L8\")","v":"L8"},{"$f":"'L8'!C30","v":0}]
[null,"Share Premium",{"$f":"HYPERLINK(\"#'L8'!A1\",\"L8\")","v":"L8"},{"$f":"'L8'!D30","v":0}]
[null,"Retained earnings","L8",{"$f":"'L8'!E30","v":0}]
[null,"Reserves","L8",{"$f":"'L8'!F30","v":0}]
[]
[null,"TOTAL EQUITIES",null,{"$f":"SUM(D17:D20)","v":0},{"$f":"SUM(E17:E20)","v":0}]
[]
[]
[null,"LIABILITIES"]
[null,"Insurance Contract Liabilities",{"$f":"HYPERLINK(\"#'IR1'!A1\",\"IR1\")","v":"IR1"},{"$f":"IF('IR1'!F24+'IR1'!I40>0, 'IR1'!F24+'IR1'!I40, 0)","v":0}]
[null,"Reinsurance Contract Liabilities",{"$f":"HYPERLINK(\"#'IR3'!A1\",\"IR3\")","v":"IR3"},{"$f":"IF('IR4'!F24 + 'IR4'!I40 <0, -('IR4'!F24+'IR4'!I40), 0)+'IR3'!F24+'IR3'!I40","v":0}]
[null,"Current tax liabilities",{"$f":"HYPERLINK(\"#'A8'!A1\", \"A8\")","v":"A8"},{"$f":"'A8'!C26","v":0}]
[null,"Deferrred tax liabilities",{"$f":"HYPERLINK(\"#'A8'!A1\", \"A8\")","v":"A8"},{"$f":"IF('A8'!G52<0, -'A8'!G52, 0)","v":0}]
[null,"Liabilities held for sale",{"$f":"HYPERLINK(\"#'L1'!A1\", \"L1\")","v":"L1"},{"$f":"'L1'!C64","v":0}]
[null,"Financial liabilities"]
[null,"    Derivatives",{"$f":"HYPERLINK(\"#'L2'!A1\", \"L2\")","v":"L2"},{"$f":"'L2'!D23","v":0}]
[null,"    Investment contracts",{"$f":"HYPERLINK(\"#'L3'!A1\", \"L3\")","v":"L3"},{"$f":"'L3'!C64","v":0}]
[null,"Lease liabilities",{"$f":"HYPERLINK(\"#'L4'!A1\", \"L4\")","v":"L4"},{"$f":"'L4'!J13","v":0}]
[null,"Trade and other payables",{"$f":"HYPERLINK(\"#'L5'!A1\", \"L5\")","v":"L5"},{"$f":"'L5'!C18","v":0}]
[null,"Borrowings",{"$f":"HYPERLINK(\"#'L6'!A1\", \"L6\")","v":"L6"}]
[null,"    Subordinated",null,{"$f":"'L6'!C13","v":0}]
[null,"    Senior",null,{"$f":"'L6'!C14","v":0}]
[null,"    Short term operational",null,{"$f":"'L6'!C15","v":0}]
[null,"Retirement benefit liabilities",{"$f":"HYPERLINK(\"#'L7'!A1\", \"L7\")","v":"L7"},{"$f":"'L7'!C24","v":0}]
[null,"Other Liabilities",{"$f":"HYPERLINK(\"#'L7'!A1\", \"L7\")","v":"L7"},{"$f":"'L7'!C42","v":0}]
[]
[null,"TOTAL LIABILITIES",null,{"$f":"SUM(D26:D41)","v":0},{"$f":"SUM(E26:E41)","v":0}]
[]
[null,"TOTAL LIABILITIES AND EQUITY",null,{"$f":"SUM(D22,D43)","v":0},{"$f":"SUM(E22,E43)","v":0}]

{"sheet":"L1","index":31,"n_rows":64,"n_cols":3,"rows_kept":64,"cut":false,"hidden":false,"merged":[[2,1,2,2]]}
[]
[]
[null,"FORM L1: LIABILITIES HELD FOR SALE"]
[]
[]
[]
[null,"NAME OF REINSURER",{"$f":"Specifications!C5","v":0}]
[null,"YEAR ENDED",{"$f":"Specifications!C13","v":"00:00:00"}]
[]
[null,"Description of liabilities","Amount"]
[null,null,{"$f":"Specifications!$C$14","v":0}]
[]
[]
[]
[]
[]
[]
[]
[]
[]
[]
[]
[]
[]
[]
[]
[]
[]
[]
[]
[]
[]
[]
[]
[]
[]
[]
[]
[]
[]
[]
[]
[]
[]
[]
[]
[]
[]
[]
[]
[]
[]
[]
[]
[]
[]
[]
[]
[]
[]
[]
[]
[]
[null,"TOTAL LIABILITIES HELD FOR SALE",{"$f":"SUM(C12:C63)","v":0}]

{"sheet":"L2","index":32,"n_rows":23,"n_cols":8,"rows_kept":23,"cut":false,"hidden":false,"merged":[[11,5,11,7],[2,1,2,7],[6,2,6,4],[7,2,7,4]]}
[]
[]
[null,"FORM L2: DERIVATIVE LIABILTIES"]
[]
[]
[]
[null,"NAME OF REINSURER",{"$f":"Specifications!C5","v":0}]
[null,"YEAR ENDED",{"$f":"Specifications!C13","v":"00:00:00"}]
[]
[]
[]
[null,null,null,null,null,"Remaining term of exposure"]
[null,null,"Issued Currency","Amount","Credit rating","Less than 1 year","1-5 years","Over 5 years"]
[null,null,null,{"$f":"Specifications!$C$14","v":0},null,{"$f":"Specifications!$C$14","v":0},{"$f":"Specifications!$C$14","v":0},{"$f":"Specifications!$C$14","v":0}]
[null,"Futures"]
[null,"Call options"]
[null,"Put options"]
[null,"Swaps"]
[null,"Forwards"]
[null,"Credit derivatives"]
[null,"Other derivatives"]
[]
[null,"TOTAL DERIVATIVE LIABILITIES",null,{"$f":"SUM(D15:D21)","v":0},null,{"$f":"SUM(F15:F21)","v":0},{"$f":"SUM(G15:G21)","v":0},{"$f":"SUM(H15:H21)","v":0}]

{"sheet":"L3","index":33,"n_rows":64,"n_cols":3,"rows_kept":64,"cut":false,"hidden":false,"merged":[[2,1,2,2],[9,1,10,1]]}
[]
[]
[null,"FORM L3: INVESTMENT CONTRACT LIABILTIES"]
[]
[]
[]
[null,"NAME OF REINSURER",{"$f":"Specifications!C5","v":0}]
[null,"YEAR ENDED",{"$f":"Specifications!C13","v":"00:00:00"}]
[]
[null,"Description of Investment contract liabilities","Amount"]
[null,null,{"$f":"Specifications!$C$14","v":0}]
[]
[]
[]
[]
[]
[]
[]
[]
[]
[]
[]
[]
[]
[]
[]
[]
[]
[]
[]
[]
[]
[]
[]
[]
[]
[]
[]
[]
[]
[]
[]
[]
[]
[]
[]
[]
[]
[]
[]
[]
[]
[]
[]
[]
[]
[]
[]
[]
[]
[]
[]
[]
[null,"TOTAL INVESTMENT CONTRACT LIABILITIES",{"$f":"SUM(C12:C63)","v":0}]

{"sheet":"L4","index":34,"n_rows":67,"n_cols":10,"rows_kept":67,"cut":false,"hidden":false,"merged":[[2,1,2,9],[7,2,7,4],[6,2,6,4]]}
[]
[]
[null,"FORM L4: LEASE LIABILITIES"]
[]
[]
[]
[null,"NAME OF REINSURER",{"$f":"Specifications!C5","v":0}]
[null,"YEAR ENDED",{"$f":"Specifications!C13","v":"00:00:00"}]
[]
[null,null,null,null,null,"Opening balance","Additions","Accretion of interest","Payments","Closing balance"]
[null,null,null,null,null,{"$f":"Specifications!$C$14","v":0},{"$f":"Specifications!$C$14","v":0},{"$f":"Specifications!$C$14","v":0},{"$f":"Specifications!$C$14","v":0},{"$f":"Specifications!$C$14","v":0}]
[]
[null,"TOTAL LEASE LIABILITIES",null,null,null,{"$f":"SUM(F17:F67)","v":0},{"$f":"SUM(G17:G67)","v":0},{"$f":"SUM(H17:H67)","v":0},{"$f":"SUM(I17:I67)","v":0},{"$f":"SUM(J17:J67)","v":0}]
[]
[null,"Description","Inception date","Commencement date","Issued Currency","Opening balance","Additions","Accretion of interest","Payments","Closing balance"]
[null,null,null,null,null,{"$f":"Specifications!$C$14","v":0},{"$f":"Specifications!$C$14","v":0},{"$f":"Specifications!$C$14","v":0},{"$f":"Specifications!$C$14","v":0},{"$f":"Specifications!$C$14","v":0}]
[null,null,null,null,null,null,null,null,null,{"$f":"SUM(F17:H17)-I17","v":0}]
[null,null,null,null,null,null,null,null,null,{"$f":"SUM(F18:H18)-I18","v":0}]
[null,null,null,null,null,null,null,null,null,0]
[null,null,null,null,null,null,null,null,null,0]
[null,null,null,null,null,null,null,null,null,0]
[null,null,null,null,null,null,null,null,null,0]
[null,null,null,null,null,null,null,null,null,0]
[null,null,null,null,null,null,null,null,null,0]
[null,null,null,null,null,null,null,null,null,0]
[null,null,null,null,null,null,null,null,null,0]
[null,null,null,null,null,null,null,null,null,0]
[null,null,null,null,null,null,null,null,null,0]
[null,null,null,null,null,null,null,null,null,0]
[null,null,null,null,null,null,null,null,null,0]
[null,null,null,null,null,null,null,null,null,0]
[null,null,null,null,null,null,null,null,null,0]
[null,null,null,null,null,null,null,null,null,0]
[null,null,null,null,null,null,null,null,null,0]
[null,null,null,null,null,null,null,null,null,0]
[null,null,null,null,null,null,null,null,null,0]
[null,null,null,null,null,null,null,null,null,0]
[null,null,null,null,null,null,null,null,null,0]
[null,null,null,null,null,null,null,null,null,0]
[null,null,null,null,null,null,null,null,null,0]
[null,null,null,null,null,null,null,null,null,0]
[null,null,null,null,null,null,null,null,null,0]
[null,null,null,null,null,null,null,null,null,0]
[null,null,null,null,null,null,null,null,null,0]
[null,null,null,null,null,null,null,null,null,0]
[null,null,null,null,null,null,null,null,null,0]
[null,null,null,null,null,null,null,null,null,0]
[null,null,null,null,null,null,null,null,null,0]
[null,null,null,null,null,null,null,null,null,0]
[null,null,null,null,null,null,null,null,null,0]
[null,null,null,null,null,null,null,null,null,0]
[null,null,null,null,null,null,null,null,null,0]
[null,null,null,null,null,null,null,null,null,0]
[null,null,null,null,null,null,null,null,null,0]
[null,null,null,null,null,null,null,null,null,0]
[null,null,null,null,null,null,null,null,null,0]
[null,null,null,null,null,null,null,null,null,0]
[null,null,null,null,null,null,null,null,null,0]
[null,null,null,null,null,null,null,null,null,0]
[null,null,null,null,null,null,null,null,null,0]
[null,null,null,null,null,null,null,null,null,0]
[null,null,null,null,null,null,null,null,null,0]
[null,null,null,null,null,null,null,null,null,{"$f":"SUM(F63:H63)-I63","v":0}]
[null,null,null,null,null,null,null,null,null,0]
[null,null,null,null,null,null,null,null,null,0]
[null,null,null,null,null,null,null,null,null,0]
[null,null,null,null,null,null,null,null,null,0]

{"sheet":"L5","index":35,"n_rows":18,"n_cols":3,"rows_kept":18,"cut":false,"hidden":false,"merged":[[2,1,2,2]]}
[]
[]
[null,"FORM L5: TRADE AND OTHER PAYABLES, INCLUDING INSURANCE LIABILITIES"]
[]
[]
[]
[null,"NAME OF REINSURER",{"$f":"Specifications!C5","v":0}]
[null,"YEAR ENDED",{"$f":"Specifications!C13","v":"00:00:00"}]
[]
[null,null,"Amount "]
[null,"Item",{"$f":"Specifications!$C$14","v":0}]
[null,"Accruals"]
[null,"Trade creditors"]
[null,"Other creditors"]
[null,"Due to agents, brokers and intermediaries"]
[null,"Deffered income"]
[]
[null,"TOTAL TRADE AND OTHER PAYABLES",{"$f":"SUM(C12:C17)","v":0}]

{"sheet":"L6","index":36,"n_rows":21,"n_cols":7,"rows_kept":21,"cut":false,"hidden":false,"merged":[[2,1,2,6],[6,2,6,3],[7,2,7,3]]}
[]
[]
[null,"FORM L6 : BORROWINGS"]
[]
[]
[]
[null,"NAME OF REINSURER",{"$f":"Specifications!C5","v":0}]
[null,"YEAR ENDED",{"$f":"Specifications!C13","v":"00:00:00"}]
[]
[]
[null,"Type","Amount"]
[null,null,{"$f":"Specifications!$C$14","v":0}]
[null,"Subordinated borrowings",{"$f":"SUMIFS($C$22:$C$143, $D$22:$D$143, B13)","v":0}]
[null,"Senior borrowings",{"$f":"SUMIFS($C$22:$C$143, $D$22:$D$143, B14)","v":0}]
[null,"Short term operational borrowings",{"$f":"SUMIFS($C$22:$C$143, $D$22:$D$143, B15)","v":0}]
[]
[null,"Total Borrowings",{"$f":"SUM(C13:C15)","v":0}]
[]
[]
[null,"Description","Amount","Type","Secured/Unsecured","Date of issue","Term to maurity"]
[null,null,{"$f":"Specifications!$C$14","v":0}]

{"sheet":"L7","index":37,"n_rows":42,"n_cols":3,"rows_kept":42,"cut":false,"hidden":false,"merged":[[2,1,2,2]]}
[]
[]
[null,"FORM L7: OTHER LIABILITIES"]
[]
[]
[]
[null,"NAME OF REINSURER",{"$f":"Specifications!C5","v":0}]
[null,"YEAR ENDED",{"$f":"Specifications!C13","v":"00:00:00"}]
[]
[null,"RETIREMENT BENEFIT LIABILITIES"]
[]
[null,null,"Amount"]
[null,null,{"$f":"Specifications!$C$14","v":0}]
[null,"Opening Balance"]
[]
[null,"Interest Cost"]
[null,"Current Service Cost"]
[null,"Past Service Cost"]
[null,"Settlement (gain)/loss"]
[null,"Actuarial (gains)/losses due to change in assumptions"]
[null,"Actuarial (gains)/losses due to experience"]
[null,"Benefit payments "]
[]
[null,"Closing Balance",{"$f":"SUM(C14,C16:C22)","v":0}]
[]
[null,"OTHER LIABILITIES"]
[]
[null,null,"Amount"]
[null,null,{"$f":"Specifications!$C$14","v":0}]
[null,"Opening Balance",{"$f":"SUM(C31:C40)","v":0}]
[null,"Please Specify"]
[null,"Please Specify"]
[null,"Please Specify"]
[null,"Please Specify"]
[null,"Please Specify"]
[null,"Please Specify"]
[null,"Please Specify"]
[null,"Please Specify"]
[null,"Please Specify"]
[null,"Please Specify"]
[null,"Movement in Other liabilities"]
[null,"Closing Balance",{"$f":"SUM(C30,C41)","v":0}]

{"sheet":"L8","index":38,"n_rows":30,"n_cols":7,"rows_kept":30,"cut":false,"hidden":false,"merged":[[2,1,2,2],[10,1,11,1]]}
[]
[]
[null,"FORM L8: STATEMENT OF CHANGES IN EQUITY"]
[]
[]
[]
[null,"NAME OF REINSURER",{"$f":"Specifications!C5","v":0}]
[null,"YEAR ENDED",{"$f":"Specifications!C13","v":"00:00:00"}]
[]
[]
[null,null,"Share Capital","Share Premium","Retained Earnings","Reserves","Total"]
[null,null,{"$f":"Specifications!$C$14","v":0},{"$f":"Specifications!$C$14","v":0},{"$f":"Specifications!$C$14","v":0},{"$f":"Specifications!$C$14","v":0},{"$f":"Specifications!$C$14","v":0}]
[null,"Opening Balance",{"$f":"L0!E17","v":0},{"$f":"L0!E18","v":0},{"$f":"L0!E19","v":0},{"$f":"L0!E20","v":0},{"$f":"SUM(C13:F13)","v":0}]
[]
[null,"Total Comprehensive Income / (Loss) for the year",{"$f":"C16+C17","v":0},{"$f":"D16+D17","v":0},{"$f":"E16+E17","v":0},{"$f":"F16+F17","v":0},{"$f":"SUM(C15:F15)","v":0}]
[null,"  Profit for the year",null,null,null,null,{"$f":"SUM(C16:F16)","v":0}]
[null,"  Other Comprehensive Income / (Loss)",null,null,null,null,{"$f":"SUM(C17:F17)","v":0}]
[]
[null,"Dividends and appropriations",null,null,null,null,{"$f":"SUM(C19:F19)","v":0}]
[null,"Shares Purchased in buyback",null,null,null,null,0]
[null,"Capital reductions",null,null,null,null,0]
[null,"Non-controlling interests share of divideds declared in the year",null,null,null,null,{"$f":"SUM(C22:F22)","v":0}]
[null,"Reserves credit for equity compensation plans",null,null,null,null,0]
[null,"Shares purchased under equity compensation plans",null,null,null,null,0]
[null,"Movements attributable to disposals of subsidiaries, joint ventures and associates",null,null,null,null,0]
[null,"Owner-occupied properties fair value gains transferred to retained earnings on disposals",null,null,null,null,0]
[null,"Non-controlling interests in acquired subsidiaries",null,null,null,null,0]
[null,"Changes in non-controlling interests in subsidiaries",null,null,null,null,0]
[]
[null,"Closing Balance",{"$f":"SUM(C13,C15,C19:C28)","v":0},{"$f":"SUM(D13,D15,D19:D28)","v":0},{"$f":"SUM(E13,E15,E19:E28)","v":0},{"$f":"SUM(F13,F15,F19:F28)","v":0},{"$f":"SUM(C30:F30)","v":0}]

{"sheet":"Insurance&Reinsurance>>>","index":39,"n_rows":0,"n_cols":0,"rows_kept":0,"cut":false,"hidden":false,"merged":[]}

{"sheet":"IR0","index":40,"n_rows":44,"n_cols":4,"rows_kept":44,"cut":false,"hidden":false,"merged":[[2,1,2,3],[6,2,6,3]]}
[]
[]
[null,"FORM IR0: BALANCE SHEET AND RESERVES SUMMARY"]
[]
[]
[]
[null,"NAME OF REINSURER",{"$f":"Specifications!C5","v":0}]
[null,"YEAR ENDED",{"$f":"Specifications!C13","v":"00:00:00"},{"$f":"Specifications!C13 - IF(MOD(YEAR(Specifications!C13),4)=0, 366, 365)","v":-366}]
[]
[]
[null,"IFRS Balance Sheet Summary"]
[]
[null,"Summary","Current Year","Previous Year"]
[null,null,{"$f":"Specifications!$C$14","v":0},{"$f":"Specifications!$C$14","v":0}]
[null,"Assets",{"$f":"A0!D41","v":0},{"$f":"A0!E41","v":0}]
[null,"Liabilities",{"$f":"-L0!D43","v":0},{"$f":"-L0!E43","v":0}]
[null,"Equity",{"$f":"L0!D22","v":0},{"$f":"L0!E22","v":0}]
[]
[]
[null,"Reserves summary"]
[]
[null,"Summary","Current Year","Previous Year"]
[null,null,{"$f":"Specifications!$C$14","v":0},{"$f":"Specifications!$C$14","v":0}]
[null,"Insurance liabilities"]
[null,"Liability for incurred claims",{"$f":"'IR1'!F24","v":0}]
[null,"Liability for remaining coverage",{"$f":"'IR1'!I40","v":0}]
[null,"Insurance Assets"]
[null,"Liability for incurred claims",{"$f":"'IR2'!F24","v":0}]
[null,"Liability for remaining coverage",{"$f":"'IR2'!I40","v":0}]
[]
[null,"Liability arising from insurance contracts",{"$f":"SUM(C25:C26)-SUM(C28:C29)","v":0},{"$f":"SUM(D25:D26)-SUM(D28:D29)","v":0}]
[]
[null,"Reinsurance Assets"]
[null,"Asset recoverable from incurred claims",{"$f":"'IR4'!F24","v":0}]
[null,"Asset for remaining coverage",{"$f":"'IR4'!I40","v":0}]
[null,"Reinsurance Liabilities"]
[null,"Asset recoverable from incurred claims",{"$f":"'IR3'!F24","v":0}]
[null,"Asset for remaining coverage",{"$f":"'IR3'!I40","v":0}]
[]
[null,"Asset from reinsurance contracts",{"$f":"SUM(C34:C35)-SUM(C37:C38)","v":0},{"$f":"SUM(D34:D35)-SUM(D37:D38)","v":0}]
[]
[null,"Net liability arising from insurance contracts",{"$f":"C31-C40","v":0},{"$f":"D31-D40","v":0}]
[]
[null,"MCR ratio",{"$f":"C0!D67","v":0},{"$f":"C0!E67","v":0}]

{"sheet":"IR1","index":41,"n_rows":54,"n_cols":12,"rows_kept":54,"cut":false,"hidden":false,"merged":[[44,1,45,1],[2,1,2,11],[12,1,13,1],[28,1,29,1],[6,2,6,4],[7,2,7,4],[12,11,13,11],[28,11,29,11],[44,11,45,11]]}
[]
[]
[null,"FORM IR1: INSURANCE LIABILITIES"]
[]
[]
[]
[null,"NAME OF REINSURER",{"$f":"Specifications!C5","v":0}]
[null,"YEAR ENDED",{"$f":"Specifications!C13","v":"00:00:00"}]
[]
[]
[null,"Liability for incurred claims (LIC)"]
[]
[null,"LIABILITY FOR INCURRED CLAIMS","Best Estimate liability (Undiscounted)","Impact of Discounting","Risk adjustment","Total LIC",null,null,null,null,null,"Checks"]
[null,null,{"$f":"Specifications!$C$14","v":0},{"$f":"Specifications!$C$14","v":0},{"$f":"Specifications!$C$14","v":0},{"$f":"Specifications!$C$14","v":0}]
[null,"Motor ",null,null,null,{"$f":"SUM(B15:E15)","v":0},null,null,null,null,null,{"$f":"IF(D15>0,\"Impact of discounting should be negative\",\"Pass\")","v":"Pass"}]
[null,"Accident and Health ",null,null,null,0,null,null,null,null,null,{"$f":"IF(D16>0,\"Impact of discounting should be negative\",\"Pass\")","v":"Pass"}]
[null,"Engineering ",null,null,null,0,null,null,null,null,null,"Pass"]
[null,"Liability ",null,null,null,0,null,null,null,null,null,"Pass"]
[null,"Property ",null,null,null,0,null,null,null,null,null,"Pass"]
[null,"Transportation ",null,null,null,0,null,null,null,null,null,"Pass"]
[null,"Guarantee ",null,null,null,0,null,null,null,null,null,"Pass"]
[null,"Miscellaneous ",null,null,null,0,null,null,null,null,null,"Pass"]
[]
[null,"TOTAL LIABILITY FOR INCURRED CLAIMS",{"$f":"SUM(C15:C22)","v":0},{"$f":"SUM(D15:D22)","v":0},{"$f":"SUM(E15:E22)","v":0},{"$f":"SUM(F15:F22)","v":0}]
[]
[]
[null,"Liability for remaining coverage (LRC)"]
[]
[null,"LIABILTY FOR REMAINING COVERAGE","Best Estimate liability (Undiscounted and excluding Loss Component)","Loss component","Impact of Discounting","Risk adjustment","Contractual Service Margin","Total LRC (Excluding Contractual Service Margin)","Total LRC (Including Contractual Service Margin)",null,null,"Checks"]
[null,null,{"$f":"Specifications!$C$14","v":0},{"$f":"Specifications!$C$14","v":0},{"$f":"Specifications!$C$14","v":0},{"$f":"Specifications!$C$14","v":0},{"$f":"Specifications!$C$14","v":0},{"$f":"Specifications!$C$14","v":0},{"$f":"Specifications!$C$14","v":0}]
[null,"Motor ",null,null,null,null,null,{"$f":"I31-G31","v":0},{"$f":"SUM(C31:G31)","v":0},null,null,{"$f":"IF(E31>0,\"Impact of discounting should be negative\",\"Pass\")","v":"Pass"}]
[null,"Accident and Health ",null,null,null,null,null,0,0,null,null,{"$f":"IF(E32>0,\"Impact of discounting should be negative\",\"Pass\")","v":"Pass"}]
[null,"Engineering ",null,null,null,null,null,0,0,null,null,"Pass"]
[null,"Liability ",null,null,null,null,null,0,0,null,null,"Pass"]
[null,"Property ",null,null,null,null,null,0,0,null,null,"Pass"]
[null,"Transportation ",null,null,null,null,null,0,0,null,null,"Pass"]
[null,"Guarantee ",null,null,null,null,null,0,0,null,null,"Pass"]
[null,"Miscellaneous ",null,null,null,null,null,0,0,null,null,"Pass"]
[]
[null,"TOTAL LIABILITY FOR REMAINING COVERAGE",{"$f":"SUM(C31:C38)","v":0},{"$f":"SUM(D31:D38)","v":0},0,0,0,{"$f":"SUM(H31:H38)","v":0},{"$f":"SUM(I31:I38)","v":0}]
[]
[]
[null,"LIC +LRC (Overall liability)"]
[]
[null,null,"Total Liability Positions ",null,null,null,null,null,null,null,null,"Checks"]
[null,null,{"$f":"Specifications!$C$14","v":0}]
[null,"Motor ",{"$f":"F15+I31","v":0},null,null,null,null,null,null,null,null,{"$f":"IF(C47<0,\"Please consider reporting portfolio in insurance contract assets\",\"Pass\")","v":"Pass"}]
[null,"Accident and Health ",{"$f":"F16+I32","v":0},null,null,null,null,null,null,null,null,"Pass"]
[null,"Engineering ",0,null,null,null,null,null,null,null,null,"Pass"]
[null,"Liability ",0,null,null,null,null,null,null,null,null,"Pass"]
[null,"Property ",0,null,null,null,null,null,null,null,null,"Pass"]
[null,"Transportation ",0,null,null,null,null,null,null,null,null,"Pass"]
[null,"Guarantee ",0,null,null,null,null,null,null,null,null,"Pass"]
[null,"Miscellaneous ",0,null,null,null,null,null,null,null,null,"Pass"]

{"sheet":"IR2","index":42,"n_rows":54,"n_cols":11,"rows_kept":54,"cut":false,"hidden":false,"merged":[[44,1,45,1],[2,1,2,10],[6,2,6,3],[7,2,7,3],[12,1,13,1],[28,1,29,1],[12,10,13,10],[28,10,29,10],[44,10,45,10]]}
[]
[]
[null,"FORM IR2: INSURANCE ASSETS"]
[]
[]
[]
[null,"NAME OF REINSURER",{"$f":"Specifications!C5","v":0}]
[null,"YEAR ENDED",{"$f":"Specifications!C13","v":"00:00:00"}]
[]
[]
[null,"Liability for incurred claims (LIC)"]
[]
[null,"LIABILITY FOR INCURRED CLAIMS (ASSET POSITION)","Best Estimate liability (Undiscounted)","Impact of Discounting","Risk adjustment","Total LIC",null,null,null,null,"Checks"]
[null,null,{"$f":"Specifications!$C$14","v":0},{"$f":"Specifications!$C$14","v":0},{"$f":"Specifications!$C$14","v":0},{"$f":"Specifications!$C$14","v":0}]
[null,"Motor ",null,null,null,{"$f":"SUM(C15:E15)","v":0},null,null,null,null,{"$f":"IF(D15>0,\"Impact of discounting should be negative\",\"Pass\")","v":"Pass"}]
[null,"Accident and Health ",null,null,null,0,null,null,null,null,{"$f":"IF(D16>0,\"Impact of discounting should be negative\",\"Pass\")","v":"Pass"}]
[null,"Engineering ",null,null,null,0,null,null,null,null,"Pass"]
[null,"Liability ",null,null,null,0,null,null,null,null,"Pass"]
[null,"Property ",null,null,null,0,null,null,null,null,"Pass"]
[null,"Transportation ",null,null,null,0,null,null,null,null,"Pass"]
[null,"Guarantee ",null,null,null,0,null,null,null,null,"Pass"]
[null,"Miscellaneous ",null,null,null,0,null,null,null,null,"Pass"]
[]
[null,"TOTAL LIABILITY FOR INCURRED CLAIMS",{"$f":"SUM(C15:C22)","v":0},{"$f":"SUM(D15:D22)","v":0},{"$f":"SUM(E15:E22)","v":0},{"$f":"SUM(F15:F22)","v":0}]
[]
[]
[null,"Liability for remaining coverage (LRC)"]
[]
[null,"LIABILTY FOR REMAINING COVERAGE (ASSET POSITION)","Best Estimate liability (Undiscounted and excluding Loss Component)","Loss Component","Impact of Discounting","Risk adjustment","Contractual Service Margin","Total LRC (Excluding Contractual Service Margin)","Total LRC (Including Contractual Service Margin)",null,"Checks"]
[null,null,{"$f":"Specifications!$C$14","v":0},{"$f":"Specifications!$C$14","v":0},{"$f":"Specifications!$C$14","v":0},{"$f":"Specifications!$C$14","v":0},{"$f":"Specifications!$C$14","v":0},{"$f":"Specifications!$C$14","v":0},{"$f":"Specifications!$C$14","v":0}]
[null,"Motor ",null,null,null,null,null,{"$f":"I31-G31","v":0},{"$f":"SUM(C31:G31)","v":0},null,{"$f":"IF(E31>0,\"Impact of discounting should be negative\",\"Pass\")","v":"Pass"}]
[null,"Accident and Health ",null,null,null,null,null,0,{"$f":"SUM(C32:G32)","v":0},null,"Pass"]
[null,"Engineering ",null,null,null,null,null,0,0,null,"Pass"]
[null,"Liability ",null,null,null,null,null,0,0,null,"Pass"]
[null,"Property ",null,null,null,null,null,0,0,null,"Pass"]
[null,"Transportation ",null,null,null,null,null,0,0,null,"Pass"]
[null,"Guarantee ",null,null,null,null,null,0,0,null,"Pass"]
[null,"Miscellaneous ",null,null,null,null,null,0,0,null,"Pass"]
[]
[null,"TOTAL LIABILITY FOR REMAINING COVERAGE",{"$f":"SUM(C31:C38)","v":0},0,0,0,0,0,0]
[]
[]
[null,"LIC +LRC (Overall asset)"]
[]
[null,null,"Total Asset Positions ",null,null,null,null,null,null,null,"Checks"]
[null,null,{"$f":"Specifications!$C$14","v":0}]
[null,"Motor ",{"$f":"F15+I31","v":0},null,null,null,null,null,null,null,{"$f":"IF(C47<0,\"Please consider reporting portfolio in insurance contract liabilities\",\"Pass\")","v":"Pass"}]
[null,"Accident and Health ",{"$f":"F16+I32","v":0},null,null,null,null,null,null,null,{"$f":"IF(C48<0,\"Please consider reporting portfolio in insurance contract liabilities\",\"Pass\")","v":"Pass"}]
[null,"Engineering ",0,null,null,null,null,null,null,null,{"$f":"IF(C49<0,\"Please consider reporting portfolio in insurance contract liabilities\",\"Pass\")","v":"Pass"}]
[null,"Liability ",0,null,null,null,null,null,null,null,"Pass"]
[null,"Property ",0,null,null,null,null,null,null,null,"Pass"]
[null,"Transportation ",0,null,null,null,null,null,null,null,"Pass"]
[null,"Guarantee ",0,null,null,null,null,null,null,null,"Pass"]
[null,"Miscellaneous ",{"$f":"F22+I38","v":0},null,null,null,null,null,null,null,"Pass"]

{"sheet":"IR3","index":43,"n_rows":54,"n_cols":11,"rows_kept":54,"cut":false,"hidden":false,"merged":[[44,1,45,1],[2,1,2,10],[6,2,6,4],[7,2,7,4],[12,1,13,1],[28,1,29,1],[12,10,13,10],[28,10,29,10],[44,10,45,10]]}
[]
[]
[null,"FORM IR3: REINSURANCE LIABILITIES"]
[]
[]
[]
[null,"NAME OF REINSURER",{"$f":"Specifications!C5","v":0}]
[null,"YEAR ENDED",{"$f":"Specifications!C13","v":"00:00:00"}]
[]
[]
[null,"Amount Recoverable from Incurred Claims (ARIC)"]
[]
[null,"AMOUNT RECOVERABLE FROM INCURRED CLAIMS (LIABILITY POSITION)","Best estimate\n(Undiscounted)","Impact of Discounting","Risk adjustment","Total ARIC",null,"Less than 8 months","More than 8 months",null,"Checks"]
[null,null,{"$f":"Specifications!$C$14","v":0},{"$f":"Specifications!$C$14","v":0},{"$f":"Specifications!$C$14","v":0},{"$f":"Specifications!$C$14","v":0},null,{"$f":"Specifications!$C$14","v":0},{"$f":"Specifications!$C$14","v":0}]
[null,"Motor ",null,null,null,{"$f":"SUM(C15:E15)","v":0},null,null,null,null,{"$f":"IF(D15>0,\"Impact of discounting should be negative\",\"Pass\")","v":"Pass"}]
[null,"Accident and Health ",null,null,null,0,null,null,null,null,{"$f":"IF(D16>0,\"Impact of discounting should be negative\",\"Pass\")","v":"Pass"}]
[null,"Engineering ",null,null,null,0,null,null,null,null,"Pass"]
[null,"Liability ",null,null,null,0,null,null,null,null,"Pass"]
[null,"Property ",null,null,null,0,null,null,null,null,"Pass"]
[null,"Transportation ",null,null,null,0,null,null,null,null,"Pass"]
[null,"Guarantee ",null,null,null,0,null,null,null,null,"Pass"]
[null,"Miscellaneous ",null,null,null,0,null,null,null,null,"Pass"]
[]
[null,"TOTAL AMOUNT RECOVERABLE FROM INCURRED CLAIMS",{"$f":"SUM(C15:C22)","v":0},{"$f":"SUM(D15:D22)","v":0},{"$f":"SUM(E15:E22)","v":0},{"$f":"SUM(F15:F22)","v":0},null,{"$f":"SUM(H15:H22)","v":0},{"$f":"SUM(I15:I22)","v":0}]
[]
[]
[null,"Asset for Remaining Coverage (ARC)"]
[]
[null,"ASSET FOR REMAINING COVERAGE (LIABILITY POSITION)","Best Estimate (Undiscounted  and Excluding Loss Component)","Loss recovery component","Impact of Discounting","Risk adjustment","Contractual Service Margin","Total ARC (Excluding Contractual Service Margin)","Total ARC (Including Contractual Service Margin)",null,"Checks"]
[null,null,{"$f":"Specifications!$C$14","v":0},{"$f":"Specifications!$C$14","v":0},{"$f":"Specifications!$C$14","v":0},{"$f":"Specifications!$C$14","v":0},{"$f":"Specifications!$C$14","v":0},null,{"$f":"Specifications!$C$14","v":0}]
[null,"Motor ",null,null,null,null,null,{"$f":"I31-G31","v":0},{"$f":"SUM(C31:G31)","v":0},null,{"$f":"IF(E31>0,\"Impact of discounting should be negative\",\"Pass\")","v":"Pass"}]
[null,"Accident and Health ",null,null,null,null,null,0,0,null,"Pass"]
[null,"Engineering ",null,null,null,null,null,0,0,null,"Pass"]
[null,"Liability ",null,null,null,null,null,0,0,null,"Pass"]
[null,"Property ",null,null,null,null,null,0,0,null,"Pass"]
[null,"Transportation ",null,null,null,null,null,0,0,null,"Pass"]
[null,"Guarantee ",null,null,null,null,null,0,0,null,"Pass"]
[null,"Miscellaneous ",null,null,null,null,null,0,0,null,"Pass"]
[]
[null,"TOTAL ASSET FOR REMAINING COVERAGE",{"$f":"SUM(C31:C38)","v":0},0,0,0,0,0,0]
[]
[]
[null,"ARIC +ARC (Overall liability)"]
[]
[null,null,"Total Liability Positions ",null,null,null,null,null,null,null,"Checks"]
[null,null,{"$f":"Specifications!$C$14","v":0}]
[null,"Motor ",{"$f":"F15+I31","v":0},null,null,null,null,null,null,null,{"$f":"IF(C47<0,\"Please consider reporting portfolio in reinsurance contract assets\",\"Pass\")","v":"Pass"}]
[null,"Accident and Health ",0,null,null,null,null,null,null,null,{"$f":"IF(C48<0,\"Please consider reporting portfolio in reinsurance contract assets\",\"Pass\")","v":"Pass"}]
[null,"Engineering ",0,null,null,null,null,null,null,null,"Pass"]
[null,"Liability ",0,null,null,null,null,null,null,null,"Pass"]
[null,"Property ",0,null,null,null,null,null,null,null,"Pass"]
[null,"Transportation ",0,null,null,null,null,null,null,null,"Pass"]
[null,"Guarantee ",0,null,null,null,null,null,null,null,"Pass"]
[null,"Miscellaneous ",0,null,null,null,null,null,null,null,"Pass"]

{"sheet":"IR4","index":44,"n_rows":54,"n_cols":11,"rows_kept":54,"cut":false,"hidden":false,"merged":[[44,1,45,1],[2,1,2,10],[12,1,13,1],[28,1,29,1],[6,2,6,4],[7,2,7,4],[12,10,13,10],[28,10,29,10],[44,10,45,10]]}
[]
[]
[null,"FORM IR4: REINSURANCE ASSETS"]
[]
[]
[]
[null,"NAME OF REINSURER",{"$f":"Specifications!C5","v":0}]
[null,"YEAR ENDED",{"$f":"Specifications!C13","v":"00:00:00"}]
[]
[]
[null,"Amount Recoverable from Incurred Claims (ARIC)"]
[]
[null,"AMOUNT RECOVERABLE FROM INCURRED CLAIMS","Best estimate\n(Undiscounted)","Impact of Discounting","Risk adjustment","Total ARIC",null,"Less than 8 months","More than 8 months",null,"Checks"]
[null,null,{"$f":"Specifications!$C$14","v":0},{"$f":"Specifications!$C$14","v":0},{"$f":"Specifications!$C$14","v":0},{"$f":"Specifications!$C$14","v":0},null,{"$f":"Specifications!$C$14","v":0},{"$f":"Specifications!$C$14","v":0}]
[null,"Motor ",null,null,null,{"$f":"SUM(C15:E15)","v":0},null,null,null,null,{"$f":"IF(D15>0,\"Impact of discounting should be negative\",\"Pass\")","v":"Pass"}]
[null,"Accident and Health ",null,null,null,0,null,null,null,null,{"$f":"IF(D16>0,\"Impact of discounting should be negative\",\"Pass\")","v":"Pass"}]
[null,"Engineering ",null,null,null,0,null,null,null,null,"Pass"]
[null,"Liability ",null,null,null,0,null,null,null,null,"Pass"]
[null,"Property ",null,null,null,0,null,null,null,null,"Pass"]
[null,"Transportation ",null,null,null,0,null,null,null,null,"Pass"]
[null,"Guarantee ",null,null,null,0,null,null,null,null,"Pass"]
[null,"Miscellaneous ",null,null,null,0,null,null,null,null,"Pass"]
[]
[null,"TOTAL AMOUNT RECOVERABLE FROM INCURRED CLAIMS",{"$f":"SUM(C15:C22)","v":0},{"$f":"SUM(D15:D22)","v":0},{"$f":"SUM(E15:E22)","v":0},{"$f":"SUM(F15:F22)","v":0},null,{"$f":"SUM(H15:H22)","v":0},{"$f":"SUM(I15:I22)","v":0}]
[]
[]
[null,"Asset for Remaining Coverage (ARC)"]
[]
[null,"ASSET FOR REMAINING COVERAGE","Best Estimate (Undiscounted  and Excluding Loss Component)","Loss recovery component","Impact of Discounting","Risk adjustment","Contractual Service Margin","Total ARC (Excluding Contractual Service Margin)","Total ARC (Including Contractual Service Margin)",null,"Checks"]
[null,null,{"$f":"Specifications!$C$14","v":0},{"$f":"Specifications!$C$14","v":0},{"$f":"Specifications!$C$14","v":0},{"$f":"Specifications!$C$14","v":0},{"$f":"Specifications!$C$14","v":0},null,{"$f":"Specifications!$C$14","v":0}]
[null,"Motor ",null,null,null,null,null,{"$f":"I31-G31","v":0},{"$f":"SUM(C31:G31)","v":0},null,{"$f":"IF(E31>0,\"Impact of discounting should be negative\",\"Pass\")","v":"Pass"}]
[null,"Accident and Health ",null,null,null,null,null,0,0,null,"Pass"]
[null,"Engineering ",null,null,null,null,null,0,0,null,"Pass"]
[null,"Liability ",null,null,null,null,null,0,0,null,"Pass"]
[null,"Property ",null,null,null,null,null,0,0,null,"Pass"]
[null,"Transportation ",null,null,null,null,null,0,0,null,"Pass"]
[null,"Guarantee ",null,null,null,null,null,0,0,null,"Pass"]
[null,"Miscellaneous ",null,null,null,null,null,0,0,null,"Pass"]
[]
[null,"TOTAL ASSET FOR REMAINING COVERAGE",{"$f":"SUM(C31:C38)","v":0},0,0,0,0,0,0]
[]
[]
[null,"ARIC +ARC (Overall asset)"]
[]
[null,null,"Total Asset Positions ",null,null,null,null,null,null,null,"Checks"]
[null,null,{"$f":"Specifications!$C$14","v":0}]
[null,"Motor ",{"$f":"F15+I31","v":0},null,null,null,null,null,null,null,{"$f":"IF(C47<0,\"Please consider reporting portfolio in reinsurance contract liabilities\",\"Pass\")","v":"Pass"}]
[null,"Accident and Health ",0,null,null,null,null,null,null,null,{"$f":"IF(C48<0,\"Please consider reporting portfolio in reinsurance contract liabilities\",\"Pass\")","v":"Pass"}]
[null,"Engineering ",0,null,null,null,null,null,null,null,"Pass"]
[null,"Liability ",0,null,null,null,null,null,null,null,"Pass"]
[null,"Property ",0,null,null,null,null,null,null,null,"Pass"]
[null,"Transportation ",0,null,null,null,null,null,null,null,"Pass"]
[null,"Guarantee ",0,null,null,null,null,null,null,null,"Pass"]
[null,"Miscellaneous ",0,null,null,null,null,null,null,null,"Pass"]

{"sheet":"IR5","index":45,"n_rows":60,"n_cols":6,"rows_kept":60,"cut":false,"hidden":false,"merged":[[11,1,12,1],[6,2,6,4],[7,2,7,4],[2,1,2,5]]}
[]
[]
[null,"FORM IR5: LIABILITY ROLL FORWARD FOR INSURANCE CONTRACTS MEASURED UNDER GMM"]
[]
[]
[]
[null,"NAME OF REINSURER",{"$f":"Specifications!C5","v":0}]
[null,"YEAR ENDED",{"$f":"Specifications!C13","v":"00:00:00"}]
[]
[]
[]
[null,null,"Expected Present Value of Future Cash Flows ","Risk Adjustment ","Contractual Service Margin","Total liability"]
[null,null,{"$f":"Specifications!$C$14","v":0},{"$f":"Specifications!$C$14","v":0},{"$f":"Specifications!$C$14","v":0},{"$f":"Specifications!$C$14","v":0}]
[]
[null,"BEGINNING OF PERIOD"]
[null,"Net opening insurance contract liabilities/(assets)",null,null,null,{"$f":"SUM(C16:E16)","v":0}]
[]
[null,"CHANGES IN THE STATEMENT OF PROFIT OR LOSS AND OCI"]
[null,"Contractual service margin recognized for service provided",null,null,null,{"$f":"SUM(C19:E19)","v":0}]
[null,"Change in risk adjustment for non-financial risk expired ",null,null,null,0]
[null,"Experience adjustments ",null,null,null,0]
[null,"Restatement and Other Changes",null,null,null,0]
[]
[null,"Current service provided in the period",{"$f":"SUM(C19:C21)","v":0},{"$f":"SUM(D19:D21)","v":0},{"$f":"SUM(E19:E21)","v":0},{"$f":"SUM(C24:E24)","v":0}]
[]
[null,"Contracts initially recognized in the period",null,null,null,{"$f":"SUM(C26:E26)","v":0}]
[null,"Experience adjustment",null,null,null,{"$f":"SUM(C27:E27)","v":0}]
[null,"Changes in estimates that adjust the Contractual Service Margin",null,null,null,{"$f":"SUM(C28:E28)","v":0}]
[null,"Changes in estimates that result in losses and reversal of losses on onerous contracts",null,null,null,{"$f":"SUM(C29:E29)","v":0}]
[]
[null,"Future service yet to be provided",{"$f":"SUM(C26:C29)","v":0},{"$f":"SUM(D26:D29)","v":0},{"$f":"SUM(E26:E29)","v":0},{"$f":"SUM(C31:E31)","v":0}]
[]
[null,"Changes in estimates in LIC fulfilment cash flows",null,null,null,{"$f":"SUM(C33:E33)","v":0}]
[null,"Experience adjustments in claims and other insurance service expenses in LIC",null,null,null,{"$f":"SUM(C34:E34)","v":0}]
[]
[null,"Past service provided in the Prior Periods",{"$f":"SUM(C33:C34)","v":0},{"$f":"SUM(D33:D34)","v":0},0,{"$f":"SUM(C36:E36)","v":0}]
[]
[null,"Insurance service result",{"$f":"C24+C31+C36","v":0},{"$f":"D24+D31+D36","v":0},0,0]
[]
[null,"Interest accreted",null,null,null,0]
[null,"Effect of changes in interest rates and other financial assumptions",null,null,null,0]
[null,"Net foreign exchange income/(expenses)",null,null,null,0]
[]
[null,"Net finance (income)/expenses from insurance contracts",{"$f":"SUM(C40:C42)","v":0},{"$f":"SUM(D40:D42)","v":0},{"$f":"SUM(E40:E42)","v":0},0]
[]
[null,"TOTAL CHANGES IN THE STATEMENT OF PROFIT OR LOSS AND OCI",{"$f":"SUM(C38,C44)","v":0},{"$f":"SUM(D38,D44)","v":0},0,0]
[]
[null,"CASH FLOWS"]
[null,"Premiums received for insurance contracts",{"$f":"'IR11'!C17","v":0},null,null,0]
[null,"Claims and other insurance service expenses paid, including investment components",{"$f":"'IR11'!C18","v":0},null,null,0]
[null,"Insurance acquisition cash flows",{"$f":"'IR11'!C19","v":0},null,null,0]
[]
[null,"TOTAL CASH FLOWS",{"$f":"SUM(C49:C51)","v":0},{"$f":"SUM(D49:D51)","v":0},{"$f":"SUM(E49:E51)","v":0},0]
[]
[null,"Effect of portfolio transfers, acquisitions and disposals",null,null,null,0]
[]
[null,"Net ending insurance contract liabilities/(assets)",{"$f":"C53+C46+C16+C55","v":0},{"$f":"D53+D46+D16+D55","v":0},{"$f":"E53+E46+E16+E55","v":0},0]
[]
[null,"END OF PERIOD"]
[null,"Net ending insurance contract liabilities/(assets)",{"$f":"C57","v":0},{"$f":"D57","v":0},{"$f":"E57","v":0},0]

{"sheet":"IR6","index":46,"n_rows":61,"n_cols":6,"rows_kept":61,"cut":false,"hidden":false,"merged":[[11,1,12,1],[6,2,6,4],[7,2,7,4],[2,1,2,5]]}
[]
[]
[null,"FORM IR6: LIABILITY ROLL FORWARD FOR REINSURANCE CONTRACTS MEASURED UNDER GMM"]
[]
[]
[]
[null,"NAME OF REINSURER",{"$f":"Specifications!C5","v":0}]
[null,"YEAR ENDED",{"$f":"Specifications!C13","v":"00:00:00"}]
[]
[]
[]
[null,null,"Expected Present Value of Future Cash Flows ","Risk Adjustment ","Contractual Service Margin","Total Asset"]
[null,null,{"$f":"Specifications!$C$14","v":0},{"$f":"Specifications!$C$14","v":0},{"$f":"Specifications!$C$14","v":0},{"$f":"Specifications!$C$14","v":0}]
[]
[null,"BEGINNING OF PERIOD"]
[null,"Net opening reinsurance contract assets/(liabilities)",null,null,null,{"$f":"SUM(C16:E16)","v":0}]
[]
[null,"CHANGES IN THE STATEMENT OF PROFIT OR LOSS AND OCI"]
[null,"Contractual service margin recognized for service received",null,null,null,{"$f":"SUM(C19:E19)","v":0}]
[null,"Change in risk adjustment for non-financial risk expired ",null,null,null,0]
[null,"Experience adjustments ",null,null,null,0]
[null,"Restatement and Other Changes",null,null,null,0]
[]
[null,"Current service received in the period",{"$f":"SUM(C19:C21)","v":0},{"$f":"SUM(D19:D21)","v":0},{"$f":"SUM(E19:E21)","v":0},0]
[]
[null,"Contracts initially recognized in the period",null,null,null,{"$f":"SUM(C26:E26)","v":0}]
[null,"Experience adjustment",null,null,null,{"$f":"SUM(C27:E27)","v":0}]
[null,"Changes in estimates that adjust the Contractual Service Margin",null,null,null,{"$f":"SUM(C28:E28)","v":0}]
[null,"Changes in estimates that relate to losses and reversal of losses on onerous underlying contracts",null,null,null,0]
[null,"Changes in recoveries of losses on onerous underlying contracts that adjust the Contractual Service Margin",null,null,null,0]
[]
[null,"Future service yet to be received",{"$f":"SUM(C26:C30)","v":0},{"$f":"SUM(D26:D30)","v":0},{"$f":"SUM(E26:E30)","v":0},0]
[]
[null,"Changes in estimates in LIC fulfilment cash flows",null,null,null,0]
[null,"Experience adjustments in claims and other insurance service expenses in LIC",null,null,null,{"$f":"SUM(C35:E35)","v":0}]
[]
[null,"Past service received in the Prior Periods",{"$f":"SUM(C34:C35)","v":0},{"$f":"SUM(D34:D35)","v":0},0,0]
[]
[null,"Net income/(expenses) from reinsurance contracts held",{"$f":"C37+C32+C24","v":0},{"$f":"D37+D32+D24","v":0},{"$f":"E37+E32+E24","v":0},0]
[]
[null,"Interest accreted",null,null,null,0]
[null,"Effect of changes in interest rates and other financial assumptions",null,null,null,0]
[null,"Effect of changes in the risk of non-performance by reinsurers",null,null,null,0]
[null,"Net foreign exchange income / (expenses)",null,null,null,0]
[]
[null,"Reinsurance finance income / (expense) from reinsurance contracts held",{"$f":"SUM(C41:C44)","v":0},{"$f":"SUM(D41:D44)","v":0},{"$f":"SUM(E41:E44)","v":0},0]
[]
[null,"TOTAL CHANGES IN THE STATEMENT OF PROFIT OR LOSS AND OCI",{"$f":"C46+C39","v":0},{"$f":"D46+D39","v":0},{"$f":"E46+E39","v":0},0]
[]
[null,"CASH FLOWS"]
[null,"Premiums paid",{"$f":"'IR11'!C28","v":0},null,null,0]
[null,"Amounts received for incurred claims, including investment components",{"$f":"'IR11'!C29","v":0},null,null,0]
[]
[null,"TOTAL CASH FLOWS",{"$f":"SUM(C51:C52)","v":0},{"$f":"SUM(D51:D52)","v":0},{"$f":"SUM(E51:E52)","v":0},0]
[]
[null,"Effect of portfolio transfers, acquisitions and disposals",null,null,null,0]
[]
[null,"Net ending reinsurance contract assets/(liabilities)",{"$f":"C54+C48+C16+C56","v":0},{"$f":"D54+D48+D16+D56","v":0},{"$f":"E54+E48+E16+E56","v":0},0]
[]
[null,"END OF PERIOD"]
[null,"Net ending reinsurance contract assets/(liabilities)",{"$f":"C58","v":0},{"$f":"D58","v":0},{"$f":"E58","v":0},0]

{"sheet":"IR7","index":47,"n_rows":53,"n_cols":6,"rows_kept":53,"cut":false,"hidden":false,"merged":[[2,1,2,5],[10,2,10,3],[10,4,11,4],[10,5,11,5],[6,2,6,4],[7,2,7,4]]}
[]
[]
[null,"FORM IR7: LIABILITY ROLL FORWARD FOR INSURANCE CONTRACTS MEASURED UNDER GMM - 2"]
[]
[]
[]
[null,"NAME OF REINSURER",{"$f":"Specifications!C5","v":0}]
[null,"YEAR ENDED",{"$f":"Specifications!C13","v":"00:00:00"}]
[]
[]
[null,null,"Liability for remaining coverage",null,"Liability for incurred claims","Total Liability"]
[null,null,"Excluding loss component","Loss component"]
[null,null,{"$f":"Specifications!$C$14","v":0},{"$f":"Specifications!$C$14","v":0},{"$f":"Specifications!$C$14","v":0},{"$f":"Specifications!$C$14","v":0}]
[]
[null,"BEGINNING OF PERIOD"]
[null,"Net opening insurance contract liabilities/(assets)",null,null,null,{"$f":"SUM(C16:E16)","v":0}]
[]
[null,"CHANGES IN THE STATEMENT OF PROFIT OR LOSS AND OCI"]
[null,"Insurance Revenue",null,null,null,{"$f":"SUM(C19:E19)","v":0}]
[]
[null,"Incurred claims and other insurance service expenses ",null,null,null,0]
[null,"Amortization of insurance acquisition cash flows",null,null,null,0]
[null,"Insurance acquisition cash flows expensed when incurred",null,null,null,0]
[null,"Losses and reversal of losses on onerous contracts",null,null,null,0]
[null,"Adjustments to liabilities for incurred claims",null,null,null,0]
[]
[null,"Insurance Service Expenses",{"$f":"SUM(C21:C25)","v":0},{"$f":"SUM(D21:D25)","v":0},0,0]
[]
[null,"Transfer of Investment components",null,null,null,0]
[]
[null,"Insurance service result",{"$f":"C19+C27+C29","v":0},{"$f":"D19+D27+D29","v":0},0,0]
[]
[null,"Interest accreted",null,null,null,0]
[null,"Effect of changes in interest rates and other financial assumptions",null,null,null,0]
[null,"Effect of movements in exchange rates",null,null,null,0]
[]
[null,"Net finance (income) expenses from insurance contracts",{"$f":"SUM(C33:C35)","v":0},{"$f":"SUM(D33:D35)","v":0},{"$f":"SUM(E33:E35)","v":0},0]
[]
[null,"TOTAL CHANGES IN THE STATEMENT OF PROFIT OR LOSS AND OCI",{"$f":"C31+C37","v":0},{"$f":"D31+D37","v":0},{"$f":"E31+E37","v":0},0]
[]
[null,"CASH FLOWS"]
[null,"Premiums received for insurance contracts",{"$f":"'IR11'!C17","v":0},null,null,0]
[null,"Claims and other insurance service expenses paid, including investment components",null,null,{"$f":"'IR11'!C18","v":0},0]
[null,"Insurance acquisition cash flows",{"$f":"'IR11'!C19","v":0},null,null,0]
[]
[null,"TOTAL CASH FLOWS",{"$f":"SUM(C42:C44)","v":0},{"$f":"SUM(D42:D44)","v":0},{"$f":"SUM(E42:E44)","v":0},0]
[]
[null,"Effect of portfolio transfers, acquisitions and disposals",null,null,null,0]
[]
[null,"Net ending insurance contract liabilities/(assets)",{"$f":"C46+C39+C16+C48","v":0},{"$f":"D46+D39+D16+D48","v":0},{"$f":"E46+E39+E16+E48","v":0},0]
[]
[null,"END OF PERIOD"]
[null,"Net ending insurance contract liabilities/(assets)",{"$f":"C50","v":0},{"$f":"D50","v":0},{"$f":"E50","v":0},0]

{"sheet":"IR8","index":48,"n_rows":51,"n_cols":6,"rows_kept":51,"cut":false,"hidden":false,"merged":[[2,1,2,5],[10,2,10,3],[10,4,11,4],[10,5,11,5],[6,2,6,4],[7,2,7,4]]}
[]
[]
[null,"FORM IR8: LIABILITY ROLL FORWARD FOR REINSURANCE CONTRACTS MEASURED UNDER GMM - 2"]
[]
[]
[]
[null,"NAME OF REINSURER",{"$f":"Specifications!C5","v":0}]
[null,"YEAR ENDED",{"$f":"Specifications!C13","v":"00:00:00"}]
[]
[]
[null,null,"Asset for remaining coverage",null,"Amounts recoverable on incurred claims","Total Asset"]
[null,null,"Non-loss-recovery component","Loss-recovery component"]
[null,null,{"$f":"Specifications!$C$14","v":0},{"$f":"Specifications!$C$14","v":0},{"$f":"Specifications!$C$14","v":0},{"$f":"Specifications!$C$14","v":0}]
[]
[null,"BEGINNING OF PERIOD"]
[null,"Net opening reinsurance contract assets/(liabilities)",null,null,null,{"$f":"SUM(C16:E16)","v":0}]
[]
[null,"CHANGES IN THE STATEMENT OF PROFIT OR LOSS AND OCI"]
[null,"Allocation of reinsurance premiums paid",null,null,null,{"$f":"SUM(C19:E19)","v":0}]
[]
[null,"Amouts recoverable for claims and other reinsurance service expenses ",null,null,null,0]
[null,"Adjustments for onerous underlying contracts",null,null,null,0]
[null,"Changes in amounts recoverable arising from changes in liabiliy for incurred claims",null,null,null,0]
[]
[null,"Amounts recoverable from reinsurers",{"$f":"SUM(C21:C23)","v":0},{"$f":"SUM(D21:D23)","v":0},{"$f":"SUM(E21:E23)","v":0},0]
[]
[null,"Transfer of reinsurance Investment components ",null,null,null,0]
[]
[null,"Net income/(expenses) from reinsurance contracts held",{"$f":"C27+C25+C19","v":0},{"$f":"D27+D25+D19","v":0},0,0]
[]
[null,"Interest accreted",null,null,null,0]
[null,"Effect of changes in interest rates and other financial assumptions",null,null,null,0]
[null,"Effect of changes in risk of non-performance by reinsurers",null,null,null,0]
[null,"Net foreign exchange income/(expenses)",null,null,0,0]
[]
[null,"Reinsurance finance income/(expenses) from reinsurance contracts held",{"$f":"SUM(C31:C34)","v":0},{"$f":"SUM(D31:D34)","v":0},{"$f":"SUM(E31:E34)","v":0},0]
[]
[null,"TOTAL CHANGES IN THE STATEMENT OF PROFIT OR LOSS AND OCI",{"$f":"C29+C36","v":0},{"$f":"D29+D36","v":0},{"$f":"E29+E36","v":0},0]
[]
[null,"CASH FLOWS"]
[null,"Premiums paid",{"$f":"'IR11'!C28","v":0},null,null,0]
[null,"Amouts received for incurred claims, including investment components",null,null,{"$f":"'IR11'!C29","v":0},0]
[]
[null,"TOTAL CASH FLOWS",{"$f":"SUM(C41:C42)","v":0},{"$f":"SUM(D41:D42)","v":0},{"$f":"SUM(E41:E42)","v":0},0]
[]
[null,"Effect of portfolio transfers, acquisitions and disposals",null,null,null,{"$f":"SUM(C46:E46)","v":0}]
[]
[null,"Net ending reinsurance contract assets/(liabilities)",{"$f":"C44+C38+C16+C46","v":0},{"$f":"D44+D38+D16+D46","v":0},{"$f":"E44+E38+E16+E46","v":0},0]
[]
[null,"END OF PERIOD"]
[null,"Net ending reinsurance contract assets/(liabilities)",{"$f":"C48","v":0},{"$f":"D48","v":0},{"$f":"E48","v":0},0]

{"sheet":"IR9","index":49,"n_rows":51,"n_cols":7,"rows_kept":51,"cut":false,"hidden":false,"merged":[[2,1,2,6],[10,2,10,3],[10,4,10,5],[10,6,11,6],[6,2,6,4],[7,2,7,4]]}
[]
[]
[null,"FORM IR9: LIABILITY ROLL FORWARD FOR INSURANCE CONTRACTS MEASURED UNDER PAA"]
[]
[]
[]
[null,"NAME OF REINSURER",{"$f":"Specifications!C5","v":0}]
[null,"YEAR ENDED",{"$f":"Specifications!C13","v":"00:00:00"}]
[]
[]
[null,null,"Liability for remaining coverage",null,"Liability for incurred claims",null,"Total Liability"]
[null,null,"Excluding loss component","Loss component","Estimates of the present value of future cash flows","Risk adjustment"]
[null,null,{"$f":"Specifications!$C$14","v":0},{"$f":"Specifications!$C$14","v":0},{"$f":"Specifications!$C$14","v":0},{"$f":"Specifications!$C$14","v":0},{"$f":"Specifications!$C$14","v":0}]
[]
[null,"BEGINNING OF PERIOD"]
[null,"Net opening insurance contract liabilities/(assets)",null,null,null,null,{"$f":"SUM(C16:F16)","v":0}]
[]
[null,"CHANGES IN THE STATEMENT OF PROFIT OR LOSS AND OCI"]
[null,"Insurance Revenue",null,null,null,null,{"$f":"SUM(C19:F19)","v":0}]
[]
[null,"Incurred claims and other insurance service expenses ",null,null,null,null,0]
[null,"Amortization of insurance acquisition cash flows",null,null,null,null,0]
[null,"Insurance acquisition cash flows expensed when incurred",null,null,null,null,0]
[null,"Losses and reversal of losses on onerous contracts",null,null,null,null,0]
[null,"Adjustments to liabilities for incurred claims",null,null,null,null,0]
[]
[null,"Insurance Service Expenses",{"$f":"SUM(C21:C25)","v":0},{"$f":"SUM(D21:D25)","v":0},0,0,0]
[]
[null,"Transfer of Investment components",null,null,null,null,0]
[]
[null,"Insurance service result",{"$f":"C19-C27-C29","v":0},{"$f":"D19-D27-D29","v":0},0,0,0]
[]
[null,"Interest accreted",null,null,null,null,0]
[null,"Effect of changes in interest rates and other financial assumptions",null,null,null,null,0]
[null,"Effect of movements in exchange rates",null,null,null,null,0]
[]
[null,"Net finance (income) expenses from insurance contracts",{"$f":"SUM(C33:C35)","v":0},{"$f":"SUM(D33:D35)","v":0},{"$f":"SUM(E33:E35)","v":0},{"$f":"SUM(F33:F35)","v":0},0]
[]
[null,"TOTAL CHANGES IN THE STATEMENT OF PROFIT OR LOSS AND OCI",{"$f":"C31+C37","v":0},{"$f":"D31+D37","v":0},{"$f":"E31+E37","v":0},{"$f":"F31+F37","v":0},0]
[]
[null,"CASH FLOWS"]
[null,"Premiums received for insurance contracts",{"$f":"'IR11'!D17","v":0},null,null,null,0]
[null,"Claims and other insurance service expenses paid, including investment components",null,null,{"$f":"'IR11'!D18","v":0},null,0]
[null,"Insurance acquisition cash flows",{"$f":"'IR11'!D19","v":0},null,null,null,0]
[]
[null,"TOTAL CASH FLOWS",{"$f":"SUM(C42:C44)","v":0},{"$f":"SUM(D42:D44)","v":0},{"$f":"SUM(E42:E44)","v":0},{"$f":"SUM(F42:F44)","v":0},0]
[]
[null,"Net closing insurance contract liabilities/(assets)",{"$f":"C46+C39+C16","v":0},{"$f":"D46+D39+D16","v":0},0,0,0]
[]
[null,"END OF PERIOD"]
[null,"Net closing insurance contract liabilities/(assets)",{"$f":"C48","v":0},{"$f":"D48","v":0},{"$f":"E48","v":0},{"$f":"F48","v":0},0]

{"sheet":"IR10","index":50,"n_rows":49,"n_cols":7,"rows_kept":49,"cut":false,"hidden":false,"merged":[[2,1,2,6],[10,2,10,3],[10,4,10,5],[10,6,11,6],[6,2,6,4],[7,2,7,4]]}
[]
[]
[null,"FORM IR10: LIABILITY ROLL FORWARD FOR REINSURANCE CONTRACTS MEASURED UNDER PAA"]
[]
[]
[]
[null,"NAME OF REINSURER",{"$f":"Specifications!C5","v":0}]
[null,"YEAR ENDED",{"$f":"Specifications!C13","v":"00:00:00"}]
[]
[]
[null,null,"Asset for remaining coverage",null,"Amounts recoverable on incurred claims",null,"Total Asset"]
[null,null,"Non-loss-recovery component","Loss-recovery component","Estimates of the present value of future cash flows","Risk adjustment"]
[null,null,{"$f":"Specifications!$C$14","v":0},{"$f":"Specifications!$C$14","v":0},{"$f":"Specifications!$C$14","v":0},{"$f":"Specifications!$C$14","v":0},{"$f":"Specifications!$C$14","v":0}]
[]
[null,"BEGINNING OF PERIOD"]
[null,"Net opening reinsurance contract assets/(liabilities)",null,null,null,null,{"$f":"SUM(C16:F16)","v":0}]
[]
[null,"CHANGES IN THE STATEMENT OF PROFIT OR LOSS AND OCI"]
[null,"Allocation of reinsurance premiums paid",null,null,null,null,{"$f":"SUM(C19:F19)","v":0}]
[]
[null,"Amouts recoverable for claims and other reinsurance service expenses ",null,null,null,null,0]
[null,"Adjustments for onerous underlying contracts",null,null,null,null,0]
[null,"Changes in amounts recoverable arising from changes in liabiliy for incurred claims",null,null,null,null,0]
[]
[null,"Amouts recoverable from reinsurers",{"$f":"SUM(C21:C23)","v":0},{"$f":"SUM(D21:D23)","v":0},{"$f":"SUM(E21:E23)","v":0},{"$f":"SUM(F21:F23)","v":0},0]
[]
[null,"Transfer of reinsurance Investment components ",null,null,null,null,0]
[]
[null,"Net income/(expenses) from reinsurance contracts held",{"$f":"SUM(C27,C25,C19)","v":0},{"$f":"SUM(D27,D25,D19)","v":0},0,0,0]
[]
[null,"Interest accreted",null,null,null,null,0]
[null,"Effect of changes in interest rates and other financial assumptions",null,null,null,null,0]
[null,"Effect of changes in risk of non-performance by reinsurers",null,null,null,null,0]
[null,"Net foreign exchange income/(expenses)",null,null,null,null,0]
[]
[null,"Reinsurance finance income/(expenses) from reinsurance contracts held",{"$f":"SUM(C31:C34)","v":0},{"$f":"SUM(D31:D34)","v":0},{"$f":"SUM(E31:E34)","v":0},{"$f":"SUM(F31:F34)","v":0},0]
[]
[null,"TOTAL CHANGES IN THE STATEMENT OF PROFIT OR LOSS AND OCI",{"$f":"C29+C36","v":0},{"$f":"D29+D36","v":0},{"$f":"E29+E36","v":0},{"$f":"F29+F36","v":0},0]
[]
[null,"CASH FLOWS"]
[null,"Premiums paid",{"$f":"'IR11'!D28","v":0},null,null,null,0]
[null,"Amouts received for incurred claims, including investment components",null,null,{"$f":"'IR11'!D29","v":0},null,0]
[]
[null,"TOTAL CASH FLOWS",{"$f":"SUM(C41:C42)","v":0},{"$f":"SUM(D41:D42)","v":0},{"$f":"SUM(E41:E42)","v":0},{"$f":"SUM(F41:F42)","v":0},0]
[]
[null,"Net ending reinsurance contract assets/(liabilities)",{"$f":"C44+C38+C16","v":0},{"$f":"D44+D38+D16","v":0},0,0,0]
[]
[null,"END OF PERIOD"]
[null,"Net ending reinsurance contract assets/(liabilities)",{"$f":"C46","v":0},{"$f":"D46","v":0},{"$f":"E46","v":0},{"$f":"F46","v":0},0]

{"sheet":"IR11","index":51,"n_rows":33,"n_cols":4,"rows_kept":33,"cut":false,"hidden":false,"merged":[[2,1,2,3],[14,1,15,1],[25,1,26,1],[6,2,6,3],[7,2,7,3]]}
[]
[]
[null,"FORM IR11: CASHFLOWS"]
[]
[]
[]
[null,"NAME OF REINSURER",{"$f":"Specifications!C5","v":0}]
[null,"YEAR ENDED",{"$f":"Specifications!C13","v":"00:00:00"}]
[]
[]
[]
[]
[null,"INSURANCE"]
[]
[null,"CASH FLOWS","General Measurement Model","Premium Allocation Approach"]
[null,null,{"$f":"Specifications!$C$14","v":"00:00:00"},{"$f":"Specifications!$C$14","v":"00:00:00"}]
[null,"Premiums received for insurance contracts"]
[null,"Claims and other insurance service paid, including investment components"]
[null,"Insurance acquisition cash flows"]
[]
[null,"TOTAL INSURANCE CASH FLOWS",{"$f":"SUM(C17:C19)","v":0},{"$f":"SUM(D17:D19)","v":0}]
[]
[]
[null,"REINSURANCE"]
[]
[null,"CASH FLOWS","General Measurement Model","Premium Allocation Approach"]
[null,null,{"$f":"Specifications!$C$14","v":"00:00:00"},{"$f":"Specifications!$C$14","v":"00:00:00"}]
[null,"Premiums paid for reinsurance contracts held"]
[null,"Amouts received for incurred claims, including investment components"]
[]
[null,"TOTAL REINSURANCE CASH FLOWS",{"$f":"SUM(C28:C29)","v":0},{"$f":"SUM(D28:D29)","v":0}]
[]
[null,"TOTAL CASH FLOWS",{"$f":"C31+C21","v":0},{"$f":"D31+D21","v":0}]

{"sheet":"IR12","index":52,"n_rows":36,"n_cols":4,"rows_kept":36,"cut":false,"hidden":false,"merged":[[2,1,2,3]]}
[]
[]
[null,"FORM IR12: RISK ADJUSTMENT CONFIDENCE INTERVALS"]
[]
[]
[]
[null,"NAME OF REINSURER",{"$f":"Specifications!C5","v":0}]
[null,"YEAR ENDED",{"$f":"Specifications!C13","v":"00:00:00"}]
[]
[]
[]
[]
[null,"INSURANCE"]
[]
[null,"CLASS OF BUSINESS","Method used","Confidence Interval"]
[null,"Motor "]
[null,"Accident and Health "]
[null,"Engineering "]
[null,"Liability "]
[null,"Property "]
[null,"Transportation "]
[null,"Guarantee "]
[null,"Miscellaneous "]
[]
[]
[null,"REINSURANCE"]
[]
[null,"CLASS OF BUSINESS","Method used","Confidence Interval"]
[null,"Motor "]
[null,"Accident and Health "]
[null,"Engineering "]
[null,"Liability "]
[null,"Property "]
[null,"Transportation "]
[null,"Guarantee "]
[null,"Miscellaneous "]

{"sheet":"Profit&Loss>>>","index":53,"n_rows":0,"n_cols":0,"rows_kept":0,"cut":false,"hidden":false,"merged":[]}

{"sheet":"I0","index":54,"n_rows":36,"n_cols":12,"rows_kept":36,"cut":false,"hidden":false,"merged":[[2,1,2,11],[6,2,6,5],[7,2,7,5]]}
[]
[]
[null,"FORM I0: STATEMENT OF FINANCIAL PERFORMANCE"]
[]
[]
[]
[null,"NAME OF REINSURER",{"$f":"Specifications!C5","v":0}]
[null,"YEAR ENDED",{"$f":"Specifications!C13","v":"00:00:00"}]
[]
[]
[]
[]
[null,null,"Links","TOTAL","Motor","Accident &\nHealth","Engineering","Liability","Property","Transport","Guarantee","Miscellaneous"]
[null,null,null,{"$f":"Specifications!$C$14","v":0},{"$f":"Specifications!$C$14","v":0},{"$f":"Specifications!$C$14","v":0},{"$f":"Specifications!$C$14","v":0},{"$f":"Specifications!$C$14","v":0},{"$f":"Specifications!$C$14","v":0},{"$f":"Specifications!$C$14","v":0},{"$f":"Specifications!$C$14","v":0},{"$f":"Specifications!$C$14","v":0}]
[null,"Insurance Revenue",null,{"$f":"SUM(D16:D17)","v":0},0,0,0,0,0,0,0,0]
[null,"    Revenue from GMM contracts",{"$f":"HYPERLINK(\"#'I1'!A1\", \"I1\")","v":"I1"},{"$f":"'I1'!C23","v":0},{"$f":"'I1'!D23","v":0},{"$f":"'I1'!E23","v":0},{"$f":"'I1'!F23","v":0},{"$f":"'I1'!G23","v":0},{"$f":"'I1'!H23","v":0},{"$f":"'I1'!I23","v":0},{"$f":"'I1'!J23","v":0},{"$f":"'I1'!K23","v":0}]
[null,"    Renenue from PAA contracts",{"$f":"HYPERLINK(\"#'I2'!A1\", \"I2\")","v":"I2"},{"$f":"'I2'!C15","v":0},{"$f":"'I2'!D15","v":0},{"$f":"'I2'!E15","v":0},{"$f":"'I2'!F15","v":0},{"$f":"'I2'!G15","v":0},{"$f":"'I2'!H15","v":0},{"$f":"'I2'!I15","v":0},{"$f":"'I2'!J15","v":0},{"$f":"'I2'!K15","v":0}]
[]
[null,"Insurance Service Expense",null,{"$f":"SUM(D20:D21)","v":0},0,0,0,0,0,0,0,0]
[null,"    Service expense for GMM contracts",{"$f":"HYPERLINK(\"#'I3'!A1\", \"I3\")","v":"I3"},{"$f":"'I3'!C32","v":0},{"$f":"'I3'!D32","v":0},{"$f":"'I3'!E32","v":0},{"$f":"'I3'!F32","v":0},{"$f":"'I3'!G32","v":0},{"$f":"'I3'!H32","v":0},{"$f":"'I3'!I32","v":0},{"$f":"'I3'!J32","v":0},{"$f":"'I3'!K32","v":0}]
[null,"    Service expense for PAA contracts",{"$f":"HYPERLINK(\"#'I4'!A1\", \"I4\")","v":"I4"},{"$f":"'I4'!C32","v":0},{"$f":"'I4'!D32","v":0},{"$f":"'I4'!E32","v":0},{"$f":"'I4'!F32","v":0},{"$f":"'I4'!G32","v":0},{"$f":"'I4'!H32","v":0},{"$f":"'I4'!I32","v":0},{"$f":"'I4'!J32","v":0},{"$f":"'I4'!K32","v":0}]
[]
[null,"Insurance Service Result Before Reinsurance Contracts Held ",null,{"$f":"D15-D19","v":0},0,0,0,0,0,0,0,0]
[]
[null,"Allocation of Reinsurance Premiums",{"$f":"HYPERLINK(\"#'I5'!A1\", \"I5\")","v":"I5"},{"$f":"'I5'!C14","v":0},{"$f":"'I5'!D14","v":0},{"$f":"'I5'!E14","v":0},{"$f":"'I5'!F14","v":0},{"$f":"'I5'!G14","v":0},{"$f":"'I5'!H14","v":0},{"$f":"'I5'!I14","v":0},{"$f":"'I5'!J14","v":0},{"$f":"'I5'!K14","v":0}]
[null,"Amounts recoverable from reinsurers for incurred claims",{"$f":"HYPERLINK(\"#'I5'!A1\", \"I5\")","v":"I5"},{"$f":"'I5'!C16","v":0},{"$f":"'I5'!D16","v":0},{"$f":"'I5'!E16","v":0},{"$f":"'I5'!F16","v":0},{"$f":"'I5'!G16","v":0},{"$f":"'I5'!H16","v":0},{"$f":"'I5'!I16","v":0},{"$f":"'I5'!J16","v":0},{"$f":"'I5'!K16","v":0}]
[null,"Risk of non-performance","I5",{"$f":"'I5'!C28","v":0},{"$f":"'I5'!D28","v":0},{"$f":"'I5'!E28","v":0},{"$f":"'I5'!F28","v":0},{"$f":"'I5'!G28","v":0},{"$f":"'I5'!H28","v":0},{"$f":"'I5'!I28","v":0},{"$f":"'I5'!J28","v":0},{"$f":"'I5'!K28","v":0}]
[]
[null,"Net income/(expenses) from reinsurance contracts held ",null,{"$f":"D25+D26+D27","v":0},{"$f":"E25+E26+E27","v":0},0,0,0,0,0,0,0]
[]
[null,"Insurance service result ",null,{"$f":"SUM(D23,D29)","v":0},0,0,0,0,0,0,0,0]
[]
[null,"Finance income/(expenses) for insurance contracts issued ",{"$f":"HYPERLINK(\"#'I6'!A1\", \"I6\")","v":"I6"},{"$f":"'I6'!C31","v":0},{"$f":"'I6'!D31","v":0},{"$f":"'I6'!E31","v":0},{"$f":"'I6'!F31","v":0},{"$f":"'I6'!G31","v":0},{"$f":"'I6'!H31","v":0},{"$f":"'I6'!I31","v":0},{"$f":"'I6'!J31","v":0},{"$f":"'I6'!K31","v":0}]
[null,"Finance income/(expenses) for reinsurance contracts held ",{"$f":"HYPERLINK(\"#'I7'!A1\", \"I7\")","v":"I7"},{"$f":"'I7'!C31","v":0},{"$f":"'I7'!D31","v":0},{"$f":"'I7'!E31","v":0},{"$f":"'I7'!F31","v":0},{"$f":"'I7'!G31","v":0},{"$f":"'I7'!H31","v":0},{"$f":"'I7'!I31","v":0},{"$f":"'I7'!J31","v":0},{"$f":"'I7'!K31","v":0}]
[]
[null,"Net Insurance Financial Result",null,{"$f":"D33+D34","v":0},{"$f":"E33+E34","v":0},0,0,0,0,0,0,0]

{"sheet":"I1","index":55,"n_rows":23,"n_cols":11,"rows_kept":23,"cut":false,"hidden":false,"merged":[[10,4,11,4],[10,2,11,2],[10,3,11,3],[10,1,12,1],[2,1,2,10],[10,10,11,10],[10,5,11,5],[10,6,11,6],[10,7,11,7],[10,8,11,8],[10,9,11,9],[6,2,6,4],[7,2,7,4]]}
[]
[]
[null,"FORM I1: INSURANCE REVENUE - GMM"]
[]
[]
[]
[null,"NAME OF REINSURER",{"$f":"Specifications!C5","v":0}]
[null,"YEAR ENDED",{"$f":"Specifications!C13","v":"00:00:00"}]
[]
[]
[null,"Description ","Total","Motor","Accident &\nHealth","Engineering","Liability","Property","Transport","Guarantee","Miscellaneous"]
[]
[null,null,{"$f":"Specifications!$C$14","v":0},{"$f":"Specifications!$C$14","v":0},{"$f":"Specifications!$C$14","v":0},{"$f":"Specifications!$C$14","v":0},{"$f":"Specifications!$C$14","v":0},{"$f":"Specifications!$C$14","v":0},{"$f":"Specifications!$C$14","v":0},{"$f":"Specifications!$C$14","v":0},{"$f":"Specifications!$C$14","v":0}]
[null,"Expected claims ",{"$f":"SUM(D14:K14)","v":0}]
[null,"Expected expenses",0]
[null,"Other expenses",0]
[null,"Contractual service margin recognised for service provided",0]
[null,"Recovery of insurance acquisition cash flows",0]
[null,"Experience adjustments not related to future service",0]
[null,"Change in risk adjustment for non-financial risk for risk expired",0]
[null,"Restatement and Other Changes",0]
[]
[null,"TOTAL INSURANCE REVENUE UNDER GMM",{"$f":"SUM(C14:C21)","v":0},{"$f":"SUM(D14:D21)","v":0},0,0,0,0,0,0,0]

{"sheet":"I2","index":56,"n_rows":17,"n_cols":11,"rows_kept":17,"cut":false,"hidden":false,"merged":[[2,1,2,10],[11,1,13,1],[11,8,12,8],[11,9,12,9],[11,10,12,10],[11,2,12,2],[11,3,12,3],[11,4,12,4],[11,5,12,5],[11,6,12,6],[11,7,12,7],[6,2,6,4],[7,2,7,4]]}
[]
[]
[null,"FORM I2: INSURANCE REVENUE - PAA"]
[]
[]
[]
[null,"NAME OF REINSURER",{"$f":"Specifications!C5","v":0}]
[null,"YEAR ENDED",{"$f":"Specifications!C13","v":"00:00:00"}]
[]
[]
[]
[null,"Description ","Total","Motor","Accident &\nHealth","Engineering","Liability","Property","Transport","Guarantee","Miscellaneous"]
[]
[null,null,{"$f":"Specifications!$C$14","v":0},{"$f":"Specifications!$C$14","v":0},{"$f":"Specifications!$C$14","v":0},{"$f":"Specifications!$C$14","v":0},{"$f":"Specifications!$C$14","v":0},{"$f":"Specifications!$C$14","v":0},{"$f":"Specifications!$C$14","v":0},{"$f":"Specifications!$C$14","v":0},{"$f":"Specifications!$C$14","v":0}]
[null,"Premium receipts allocated to the period during which services are provided ",{"$f":"SUM(D15:K15)","v":0}]
[]
[null,"TOTAL INSURANCE REVENUE UNDER PAA",{"$f":"SUM(C15)","v":0},{"$f":"SUM(D15)","v":0},0,0,0,0,0,0,0]

{"sheet":"I3","index":57,"n_rows":32,"n_cols":11,"rows_kept":32,"cut":false,"hidden":false,"merged":[[10,1,12,1],[2,1,2,10],[10,8,11,8],[10,9,11,9],[10,10,11,10],[10,2,11,2],[10,3,11,3],[10,4,11,4],[10,5,11,5],[10,6,11,6],[10,7,11,7],[6,2,6,4],[7,2,7,4]]}
[]
[]
[null,"FORM I3: INSURANCE SERVICE EXPENSE - GMM"]
[]
[]
[]
[null,"NAME OF REINSURER",{"$f":"Specifications!C5","v":0}]
[null,"YEAR ENDED",{"$f":"Specifications!C13","v":"00:00:00"}]
[]
[]
[null,"Description ","Total","Motor","Accident & \nHealth","Engineering","Liability","Property","Transport","Guarantee","Miscellaneous"]
[]
[null,null,{"$f":"Specifications!$C$14","v":0},{"$f":"Specifications!$C$14","v":0},{"$f":"Specifications!$C$14","v":0},{"$f":"Specifications!$C$14","v":0},{"$f":"Specifications!$C$14","v":0},{"$f":"Specifications!$C$14","v":0},{"$f":"Specifications!$C$14","v":0},{"$f":"Specifications!$C$14","v":0},{"$f":"Specifications!$C$14","v":0}]
[null,"Incurred insurance service expenses",{"$f":"SUM(C15:C22)","v":0},{"$f":"SUM(D15:D22)","v":0},0,0,0,0,0,0,0]
[null,"   Incurred claims ",{"$f":"SUM(D15:K15)","v":0}]
[null,"   Expenses",{"$f":"SUM(D16:K16)","v":0}]
[null,"   Other expenses ",0]
[null,"   Other movements related to current service",0]
[null,"Insurance acquisition cash flows expensed when incurred",0]
[null,"Amortisation of insurance acquisition cash flows",0]
[null,"Impairment Loss on Assets for Insurance Acquisition Cash Flow ",0]
[null,"Reversal of Impairment Loss on Assets for Insurance Acquisition Cash Flow",0]
[]
[null,"Changes that relate to past service",{"$f":"SUM(C25:C26)","v":0},{"$f":"SUM(D25:D26)","v":0},0,0,0,0,0,0,0]
[null,"   Changes in estimates in LIC fulfilment cash flows",{"$f":"SUM(D25:K25)","v":0}]
[null,"   Experience adjustments in claims and other insurance service expenses in LIC",0]
[]
[null,"Changes that relate to future service",{"$f":"SUM(C29:C30)","v":0},{"$f":"SUM(D29:D30)","v":0},0,0,0,0,0,0,0]
[null,"   Losses for the net outflow recognized on initial recognition",{"$f":"SUM(D29:K29)","v":0}]
[null,"   Losses and reversal of losses on onerous contracts - subsequent measurement",0]
[]
[null,"TOTAL INSURANCE SERVICE EXPENSE UNDER GMM",{"$f":"SUM(C15:C22,C24,C28)","v":0},{"$f":"SUM(D15:D22,D24,D28)","v":0},0,0,0,0,0,0,0]

{"sheet":"I4","index":58,"n_rows":32,"n_cols":11,"rows_kept":32,"cut":false,"hidden":false,"merged":[[10,1,12,1],[2,1,2,10],[10,8,11,8],[10,9,11,9],[10,10,11,10],[10,2,11,2],[10,3,11,3],[10,4,11,4],[10,5,11,5],[10,6,11,6],[10,7,11,7],[6,2,6,4],[7,2,7,4]]}
[]
[]
[null,"FORM I4: INSURANCE SERVICE EXPENSE - PAA"]
[]
[]
[]
[null,"NAME OF REINSURER",{"$f":"Specifications!C5","v":0}]
[null,"YEAR ENDED",{"$f":"Specifications!C13","v":"00:00:00"}]
[]
[]
[null,"Description ","Total","Motor","Accident & \nHealth","Engineering","Liability","Property","Transport","Guarantee","Miscellaneous"]
[]
[null,null,{"$f":"Specifications!$C$14","v":0},{"$f":"Specifications!$C$14","v":0},{"$f":"Specifications!$C$14","v":0},{"$f":"Specifications!$C$14","v":0},{"$f":"Specifications!$C$14","v":0},{"$f":"Specifications!$C$14","v":0},{"$f":"Specifications!$C$14","v":0},{"$f":"Specifications!$C$14","v":0},{"$f":"Specifications!$C$14","v":0}]
[null,"Incurred insurance service expenses",{"$f":"SUM(C15:C22)","v":0},{"$f":"SUM(D15:D22)","v":0},0,0,0,0,0,0,0]
[null,"   Incurred claims ",{"$f":"SUM(D15:K15)","v":0}]
[null,"   Expenses",0]
[null,"   Other expenses ",0]
[null,"   Other movements related to current service",0]
[null,"Insurance acquisition cash flows expensed when incurred",0]
[null,"Amortisation of insurance acquisition cash flows",0]
[null,"Impairment Loss on Assets for Insurance Acquisition Cash Flow ",0]
[null,"Reversal of Impairment Loss on Assets for Insurance Acquisition Cash Flow",0]
[]
[null,"Changes that relate to past service",{"$f":"SUM(C25:C26)","v":0},{"$f":"SUM(D25:D26)","v":0},0,0,0,0,0,0,0]
[null,"   Changes in estimates in LIC fulfilment cash flows",0]
[null,"   Experience adjustments in claims and other insurance service expenses in LIC",0]
[]
[null,"Changes that relate to future service",{"$f":"SUM(C29:C30)","v":0},{"$f":"SUM(D29:D30)","v":0},0,0,0,0,0,0,0]
[null,"   Losses for the net outflow recognized on initial recognition",0]
[null,"   Losses and reversal of losses on onerous contracts - subsequent measurement",0]
[]
[null,"TOTAL INSURANCE SERVICE EXPENSE UNDER PAA",{"$f":"SUM(C15:C22,C24,C28)","v":0},{"$f":"SUM(D15:D22,D24,D28)","v":0},0,0,0,0,0,0,0]

{"sheet":"I5","index":59,"n_rows":30,"n_cols":11,"rows_kept":30,"cut":false,"hidden":false,"merged":[[6,2,6,3],[7,2,7,3],[11,1,12,1],[2,1,2,10]]}
[]
[]
[null,"FORM I5: NET EXPENSES FROM REINSURANCE CONTRACTS"]
[]
[]
[]
[null,"NAME OF REINSURER",{"$f":"Specifications!C5","v":0}]
[null,"YEAR ENDED",{"$f":"Specifications!C13","v":"00:00:00"}]
[]
[]
[null,"NET EXPENSES FROM REINSURANCE CONTRACTS"]
[null,null,"TOTAL","Motor","Accident &\nHealth","Engineering","Liability","Property","Transport","Guarantee","Miscellaneous"]
[null,null,{"$f":"Specifications!$C$14","v":0},{"$f":"Specifications!$C$14","v":0},{"$f":"Specifications!$C$14","v":0},{"$f":"Specifications!$C$14","v":0},{"$f":"Specifications!$C$14","v":0},{"$f":"Specifications!$C$14","v":0},{"$f":"Specifications!$C$14","v":0},{"$f":"Specifications!$C$14","v":0},{"$f":"Specifications!$C$14","v":0}]
[null,"Allocation of the premiums paid",{"$f":"SUM(D14:K14)","v":0}]
[]
[null,"Amounts recovered from reinsurance",{"$f":"SUM(D16:K16)","v":0},{"$f":"D17+D21+D24","v":0},{"$f":"E17+E21+E24","v":0},{"$f":"F17+F21+F24","v":0},0,0,0,0,0]
[null,"     Incurred insurance service expenses",{"$f":"SUM(D17:K17)","v":0},{"$f":"SUM(D18:D20)","v":0},{"$f":"SUM(E18:E20)","v":0},0,0,0,0,0,0]
[null,"        Claims",0]
[null,"        Expenses",0]
[null,"        Other movements related to current service",0]
[null,"     Changes that relate to past service (changes in fulfilment cash flows re LIC)",0,{"$f":"SUM(D22:D23)","v":0},{"$f":"SUM(E22:E23)","v":0},{"$f":"SUM(F22:F23)","v":0},0,0,0,0,0]
[null,"        Changes in estimates in LIC fulfilment cash flows",0]
[null,"        Experience adjustments in claims and other insurance service expenses in LIC ",0]
[null,"     Changes that relate to future service",0,{"$f":"D25+D26","v":0},{"$f":"E25+E26","v":0},{"$f":"F25+F26","v":0},0,0,0,0,0]
[null,"        Loss recovery related to losses on underlying insurance contracts at initial recognition",0]
[null,"        Loss recovery and reversals of recoveries related to underlying insurance contracts losses - subsequent measurement",0]
[]
[null,"Changes in Risk of Non-Performance",0]
[]
[null,"TOTAL NET EXPENSES FROM REINSURANCE CONTRACTS",{"$f":"C16+C14+C28","v":0},{"$f":"D16+D14+D28","v":0},{"$f":"E16+E14+E28","v":0},0,0,0,0,0,0]

{"sheet":"I6","index":60,"n_rows":31,"n_cols":11,"rows_kept":31,"cut":false,"hidden":false,"merged":[[2,1,2,10],[11,1,13,1],[11,8,12,8],[11,9,12,9],[11,10,12,10],[11,2,12,2],[11,3,12,3],[11,4,12,4],[11,5,12,5],[11,6,12,6],[11,7,12,7],[6,2,6,4],[7,2,7,4]]}
[]
[]
[null,"FORM I6: FINANCE INCOME/(EXPENSES) FOR INSURANCE CONTRACTS"]
[]
[]
[]
[null,"NAME OF REINSURER",{"$f":"Specifications!C5","v":0}]
[null,"YEAR ENDED",{"$f":"Specifications!C13","v":"00:00:00"}]
[]
[null,"AMOUNT RECOGNISED IN PROFIT AND LOSS"]
[]
[null,"Description ","Total","Motor","Accident & \nHealth","Engineering","Liability","Property","Transport","Guarantee","Miscellaneous"]
[]
[null,null,{"$f":"Specifications!$C$14","v":0},{"$f":"Specifications!$C$14","v":0},{"$f":"Specifications!$C$14","v":0},{"$f":"Specifications!$C$14","v":0},{"$f":"Specifications!$C$14","v":0},{"$f":"Specifications!$C$14","v":0},{"$f":"Specifications!$C$14","v":0},{"$f":"Specifications!$C$14","v":0},{"$f":"Specifications!$C$14","v":0}]
[null,"Interest accreted on the carrying amount of the Contractual Service Margin",{"$f":"SUM(D15:K15)","v":0}]
[null,"Interest accreted on present value cash flows",0]
[null,"Interest accreted on risk adjustment",0]
[null,"Interest accreted on LRC for contracts measured under the PAA.",0]
[null,"The effect of financial risk and changes in financial risk",0]
[null,"Foreign exchange differences on changes in the carrying amount of groups of insurance contracts",0]
[]
[null,"Total amount recognised in profit and loss",{"$f":"SUM(C15:C20)","v":0},{"$f":"SUM(D15:D20)","v":0},{"$f":"SUM(E15:E20)","v":0},0,0,0,0,0,0]
[]
[null,"AMOUNT RECOGNISED IN OTHER COMPREHENSIVE INCOME"]
[]
[null,"The effect of financial risk and changes in financial risk",{"$f":"SUM(D26:K26)","v":0}]
[null,"Foreign exchange differences on changes in the carrying amount of groups of insurance contracts",{"$f":"SUM(D27:K27)","v":0}]
[]
[null,"Total amount recognised in other comprehensive income",{"$f":"SUM(C26:C27)","v":0},0,0,0,0,0,0,0,0]
[]
[null,"TOTAL FINANCE INCOME/(EXPENSES) FOR INSURANCE CONTACTS ISSUED ",{"$f":"C22+C29","v":0},0,0,0,0,0,0,0,0]

{"sheet":"I7","index":61,"n_rows":31,"n_cols":11,"rows_kept":31,"cut":false,"hidden":false,"merged":[[2,1,2,10],[11,1,13,1],[11,8,12,8],[11,9,12,9],[11,10,12,10],[11,2,12,2],[11,3,12,3],[11,4,12,4],[11,5,12,5],[11,6,12,6],[11,7,12,7],[6,2,6,4],[7,2,7,4]]}
[]
[]
[null,"FORM I7: FINANCE INCOME/(EXPENSES) FOR REINSURANCE CONTRACTS HELD"]
[]
[]
[]
[null,"NAME OF REINSURER",{"$f":"Specifications!C5","v":0}]
[null,"YEAR ENDED",{"$f":"Specifications!C13","v":"00:00:00"}]
[]
[null,"AMOUNT RECOGNISED IN PROFIT AND LOSS"]
[]
[null,"Description ","Total","Motor","Accident & \nHealth","Engineering","Liability","Property","Transport","Guarantee","Miscellaneous"]
[]
[null,null,{"$f":"Specifications!$C$14","v":0},{"$f":"Specifications!$C$14","v":0},{"$f":"Specifications!$C$14","v":0},{"$f":"Specifications!$C$14","v":0},{"$f":"Specifications!$C$14","v":0},{"$f":"Specifications!$C$14","v":0},{"$f":"Specifications!$C$14","v":0},{"$f":"Specifications!$C$14","v":0},{"$f":"Specifications!$C$14","v":0}]
[null,"Interest accreted on the carrying amount of the Contractual Service Margin",{"$f":"SUM(D15:K15)","v":0}]
[null,"Interest accreted on present value cash flows",0]
[null,"Interest accreted on risk adjustment",0]
[null,"Interest accreted on LRC for contracts measured under the PAA.",0]
[null,"The effect of financial risk and changes in financial risk",0]
[null,"Foreign exchange differences on changes in the carrying amount of groups of reinsurance contracts",0]
[]
[null,"Total amount recognised in profit and loss",{"$f":"SUM(C15:C20)","v":0},{"$f":"SUM(D15:D20)","v":0},{"$f":"SUM(E15:E20)","v":0},0,0,0,0,0,0]
[]
[null,"AMOUNT RECOGNISED IN OTHER COMPREHENSIVE INCOME"]
[]
[null,"The effect of financial risk and changes in financial risk",{"$f":"SUM(D26:K26)","v":0}]
[null,"Foreign exchange differences on changes in the carrying amount of groups of reinsurance contracts",{"$f":"SUM(D27:K27)","v":0}]
[]
[null,"Total amount recognised in other comprehensive income",{"$f":"SUM(C26:C27)","v":0},0,0,0,0,0,0,0,0]
[]
[null,"TOTAL FINANCE INCOME/(EXPENSES) FOR REINSURANCE CONTRACTS HELD",{"$f":"SUM(C22,C29)","v":0},{"$f":"SUM(D22,D29)","v":0},0,0,0,0,0,0,0]

{"sheet":"I8","index":62,"n_rows":24,"n_cols":21,"rows_kept":24,"cut":false,"hidden":false,"merged":[[2,1,2,20],[11,2,12,2],[11,3,12,3],[11,4,11,6],[11,7,11,16],[11,17,11,19],[11,20,12,20],[6,2,6,4],[7,2,7,4]]}
[]
[]
[null,"FORM I8: INSURANCE SERVICE RESULT"]
[]
[]
[]
[null,"NAME OF REINSURER",{"$f":"Specifications!C5","v":0}]
[null,"YEAR ENDED",{"$f":"Specifications!C13","v":"00:00:00"}]
[]
[]
[]
[null,null,"Number of Policies Written","Number of Claims Paid","Insurance Revenue",null,null,"Insurance Service Expenses",null,null,null,null,null,null,null,null,null,"Net Expenses from Reinsurance Contracts Held",null,null,"Insurance Service Result"]
[null,"Class of Insurance",null,null,"Contracts Measured under GMM","Contracts Measured under PAA","Total","Incurred claims and other expenses","Insurance acquisition cash flows expensed when incurred","Amortisation of insurance acquisition cashflows","Impairement of insurance acquisition cashflows","Reversal of impairement of assets for insurance acquisition cashflows","   Losses for the net outflow recognized on initial recognition","Losses and reversal of losses on onerous contracts ","   Experience adjustments in claims and other insurance service expenses in LIC","Changes to liabilities for incurred claims","Total","Allocation of reinsurance premiums","Amounts recoverable from reinsurers for incurred claims","Total"]
[null,null,null,null,{"$f":"Specifications!$C$14","v":0},{"$f":"Specifications!$C$14","v":0},{"$f":"Specifications!$C$14","v":0},{"$f":"Specifications!$C$14","v":0},{"$f":"Specifications!$C$14","v":0},{"$f":"Specifications!$C$14","v":0},{"$f":"Specifications!$C$14","v":0},{"$f":"Specifications!$C$14","v":0},{"$f":"Specifications!$C$14","v":0},{"$f":"Specifications!$C$14","v":0},{"$f":"Specifications!$C$14","v":0},{"$f":"Specifications!$C$14","v":0},{"$f":"Specifications!$C$14","v":0},{"$f":"Specifications!$C$14","v":0},{"$f":"Specifications!$C$14","v":0},{"$f":"Specifications!$C$14","v":0},{"$f":"Specifications!$C$14","v":0}]
[null,"Motor",{"$f":"SUM('R1'!G43:J43)","v":0},{"$f":"SUM('R1'!G87:J87)","v":0},{"$f":"'I1'!D23","v":0},{"$f":"'I2'!D17","v":0},{"$f":"SUM(E15:F15)","v":0},{"$f":"'I3'!D15+'I3'!D16+'I3'!D17+'I3'!D18+'I4'!D15+'I4'!D16+'I4'!D17+'I4'!D18","v":0},{"$f":"'I3'!D19+'I4'!D19","v":0},{"$f":"'I3'!D20+'I4'!D20","v":0},{"$f":"'I3'!D21+'I4'!D21","v":0},{"$f":"'I3'!D22+'I4'!D22","v":0},{"$f":"'I3'!D29+'I4'!D29","v":0},{"$f":"'I3'!D30+'I4'!D30","v":0},{"$f":"'I3'!D26+'I4'!D26","v":0},{"$f":"'I3'!D25+'I4'!D25","v":0},{"$f":"SUM(H15:P15)","v":0},{"$f":"I0!E25","v":0},{"$f":"I0!E26","v":0},{"$f":"SUM(R15:S15)","v":0},{"$f":"G15-Q15+T15","v":0}]
[null,"Accident & \nHealth",{"$f":"SUM('R1'!G44:J44)","v":0},{"$f":"SUM('R1'!G88:J88)","v":0},{"$f":"'I1'!E23","v":0},{"$f":"'I2'!E17","v":0},{"$f":"SUM(E16:F16)","v":0},{"$f":"'I3'!E15+'I3'!E16+'I3'!E17+'I3'!E18+'I4'!E15+'I4'!E16+'I4'!E17+'I4'!E18","v":0},{"$f":"'I3'!E19+'I4'!E19","v":0},{"$f":"'I3'!E20+'I4'!E20","v":0},{"$f":"'I3'!E21+'I4'!E21","v":0},{"$f":"'I3'!E22+'I4'!E22","v":0},{"$f":"'I3'!E29+'I4'!E29","v":0},{"$f":"'I3'!E30+'I4'!E30","v":0},{"$f":"'I3'!E26+'I4'!E26","v":0},{"$f":"'I3'!E25+'I4'!E25","v":0},{"$f":"SUM(H16:P16)","v":0},{"$f":"I0!F25","v":0},{"$f":"I0!F26","v":0},0,{"$f":"G16-Q16+T16","v":0}]
[null,"Engineering",{"$f":"SUM('R1'!G45:J45)","v":0},{"$f":"SUM('R1'!G89:J89)","v":0},{"$f":"'I1'!F23","v":0},{"$f":"'I2'!F17","v":0},0,{"$f":"'I3'!F15+'I3'!F16+'I3'!F17+'I3'!F18+'I4'!F15+'I4'!F16+'I4'!F17+'I4'!F18","v":0},{"$f":"'I3'!F19+'I4'!F19","v":0},{"$f":"'I3'!F20+'I4'!F20","v":0},{"$f":"'I3'!F21+'I4'!F21","v":0},{"$f":"'I3'!F22+'I4'!F22","v":0},{"$f":"'I3'!F29+'I4'!F29","v":0},{"$f":"'I3'!F30+'I4'!F30","v":0},{"$f":"'I3'!F26+'I4'!F26","v":0},{"$f":"'I3'!F25+'I4'!F25","v":0},0,{"$f":"I0!G25","v":0},{"$f":"I0!G26","v":0},0,0]
[null,"Liability",{"$f":"SUM('R1'!G46:J46)","v":0},{"$f":"SUM('R1'!G90:J90)","v":0},{"$f":"'I1'!G23","v":0},{"$f":"'I2'!G17","v":0},0,{"$f":"'I3'!G15+'I3'!G16+'I3'!G17+'I3'!G18+'I4'!G15+'I4'!G16+'I4'!G17+'I4'!G18","v":0},{"$f":"'I3'!G19+'I4'!G19","v":0},{"$f":"'I3'!G20+'I4'!G20","v":0},{"$f":"'I3'!G21+'I4'!G21","v":0},{"$f":"'I3'!G22+'I4'!G22","v":0},{"$f":"'I3'!G29+'I4'!G29","v":0},{"$f":"'I3'!G30+'I4'!G30","v":0},{"$f":"'I3'!G26+'I4'!G26","v":0},{"$f":"'I3'!G25+'I4'!G25","v":0},0,{"$f":"I0!H25","v":0},{"$f":"I0!H26","v":0},0,0]
[null,"Property",{"$f":"SUM('R1'!G47:J47)","v":0},{"$f":"SUM('R1'!G91:J91)","v":0},{"$f":"'I1'!H23","v":0},{"$f":"'I2'!H17","v":0},0,{"$f":"'I3'!H15+'I3'!H16+'I3'!H17+'I3'!H18+'I4'!H15+'I4'!H16+'I4'!H17+'I4'!H18","v":0},{"$f":"'I3'!H19+'I4'!H19","v":0},{"$f":"'I3'!H20+'I4'!H20","v":0},{"$f":"'I3'!H21+'I4'!H21","v":0},{"$f":"'I3'!H22+'I4'!H22","v":0},{"$f":"'I3'!H29+'I4'!H29","v":0},{"$f":"'I3'!H30+'I4'!H30","v":0},{"$f":"'I3'!H26+'I4'!H26","v":0},{"$f":"'I3'!H25+'I4'!H25","v":0},0,{"$f":"I0!I25","v":0},{"$f":"I0!I26","v":0},0,0]
[null,"Transport",{"$f":"SUM('R1'!G48:J48)","v":0},{"$f":"SUM('R1'!G92:J92)","v":0},{"$f":"'I1'!I23","v":0},{"$f":"'I2'!I17","v":0},0,{"$f":"'I3'!I15+'I3'!I16+'I3'!I17+'I3'!I18+'I4'!I15+'I4'!I16+'I4'!I17+'I4'!I18","v":0},{"$f":"'I3'!I19+'I4'!I19","v":0},{"$f":"'I3'!I20+'I4'!I20","v":0},{"$f":"'I3'!I21+'I4'!I21","v":0},{"$f":"'I3'!I22+'I4'!I22","v":0},{"$f":"'I3'!I29+'I4'!I29","v":0},{"$f":"'I3'!I30+'I4'!I30","v":0},{"$f":"'I3'!I26+'I4'!I26","v":0},{"$f":"'I3'!I25+'I4'!I25","v":0},0,{"$f":"I0!J25","v":0},{"$f":"I0!J26","v":0},0,0]
[null,"Guarantee",{"$f":"SUM('R1'!G49:J49)","v":0},{"$f":"SUM('R1'!G93:J93)","v":0},{"$f":"'I1'!J23","v":0},{"$f":"'I2'!J17","v":0},0,{"$f":"'I3'!J15+'I3'!J16+'I3'!J17+'I3'!J18+'I4'!J15+'I4'!J16+'I4'!J17+'I4'!J18","v":0},{"$f":"'I3'!J19+'I4'!J19","v":0},{"$f":"'I3'!J20+'I4'!J20","v":0},{"$f":"'I3'!J21+'I4'!J21","v":0},{"$f":"'I3'!J22+'I4'!J22","v":0},{"$f":"'I3'!J29+'I4'!J29","v":0},{"$f":"'I3'!J30+'I4'!J30","v":0},{"$f":"'I3'!J26+'I4'!J26","v":0},{"$f":"'I3'!J25+'I4'!J25","v":0},0,{"$f":"I0!K25","v":0},{"$f":"I0!K26","v":0},0,0]
[null,"Miscellaneous",{"$f":"SUM('R1'!G50:J50)","v":0},{"$f":"SUM('R1'!G94:J94)","v":0},{"$f":"'I1'!K23","v":0},{"$f":"'I2'!K17","v":0},0,{"$f":"'I3'!K15+'I3'!K16+'I3'!K17+'I3'!K18+'I4'!K15+'I4'!K16+'I4'!K17+'I4'!K18","v":0},{"$f":"'I3'!K19+'I4'!K19","v":0},{"$f":"'I3'!K20+'I4'!K20","v":0},{"$f":"'I3'!K21+'I4'!K21","v":0},{"$f":"'I3'!K22+'I4'!K22","v":0},{"$f":"'I3'!K29+'I4'!K29","v":0},{"$f":"'I3'!K30+'I4'!K30","v":0},{"$f":"'I3'!K26+'I4'!K26","v":0},{"$f":"'I3'!K25+'I4'!K25","v":0},0,{"$f":"I0!L25","v":0},{"$f":"I0!L26","v":0},0,0]
[]
[null," TOTAL",{"$f":"SUM(C15:C22)","v":0},{"$f":"SUM(D15:D22)","v":0},0,0,0,0,{"$f":"SUM(I15:I22)","v":0},0,0,0,{"$f":"SUM(M15:M22)","v":0},0,{"$f":"SUM(O15:O22)","v":0},0,0,0,0,0,0]

{"sheet":"I9","index":63,"n_rows":22,"n_cols":15,"rows_kept":22,"cut":false,"hidden":false,"merged":[[9,2,9,7],[9,8,9,13],[9,14,10,14],[2,1,2,14],[6,2,6,4],[7,2,7,4]]}
[]
[]
[null,"FORM I9: NET EXPENSES FROM REINSURANCE"]
[]
[]
[]
[null,"NAME OF REINSURER",{"$f":"Specifications!C5","v":0}]
[null,"YEAR ENDED",{"$f":"Specifications!C13","v":"00:00:00"}]
[]
[null,null,"Allocation of reinsurance premiums",null,null,null,null,null,"Amounts recoverable from reinsurers for incurred claims",null,null,null,null,null,"Effect of changes in non-performance risk of reinsurers"]
[null,"Classes of Insurance","Quota Share","Surplus","Excess of Loss","Stop Loss","Facultative","Total","Quota Share","Surplus","Excess of Loss","Stop Loss","Facultative","Total"]
[null,null,{"$f":"Specifications!$C$14","v":0},{"$f":"Specifications!$C$14","v":0},{"$f":"Specifications!$C$14","v":0},{"$f":"Specifications!$C$14","v":0},{"$f":"Specifications!$C$14","v":0},{"$f":"Specifications!$C$14","v":0},{"$f":"Specifications!$C$14","v":0},{"$f":"Specifications!$C$14","v":0},{"$f":"Specifications!$C$14","v":0},{"$f":"Specifications!$C$14","v":0},{"$f":"Specifications!$C$14","v":0},{"$f":"Specifications!$C$14","v":0},{"$f":"Specifications!$C$14","v":0}]
[null,"Motor",null,null,null,null,null,{"$f":"SUM(C13:G13)","v":0},null,null,null,null,null,{"$f":"SUM(I13:M13)","v":0}]
[null,"Accident & \nHealth",null,null,null,null,null,{"$f":"SUM(C14:G14)","v":0},null,null,null,null,null,{"$f":"SUM(I14:M14)","v":0}]
[null,"Engineering",null,null,null,null,null,0,null,null,null,null,null,0]
[null,"Liability",null,null,null,null,null,0,null,null,null,null,null,0]
[null,"Property",null,null,null,null,null,0,null,null,null,null,null,0]
[null,"Transport",null,null,null,null,null,0,null,null,null,null,null,0]
[null,"Guarantee",null,null,null,null,null,0,null,null,null,null,null,0]
[null,"Miscellaneous",null,null,null,null,null,0,null,null,null,null,null,0]
[]
[null,"Total",{"$f":"SUM(C13:C20)","v":0},{"$f":"SUM(D13:D20)","v":0},0,0,0,0,0,0,0,0,0,0,0]

{"sheet":"PL0","index":64,"n_rows":52,"n_cols":5,"rows_kept":52,"cut":false,"hidden":false,"merged":[[2,1,2,4],[6,3,6,4],[9,2,10,2]]}
[]
[]
[null,"FORM PL0: STATEMENT OF PROFIT AND LOSS"]
[]
[]
[]
[null,"NAME OF REINSURER",null,{"$f":"Specifications!C5","v":0}]
[null,"YEAR ENDED",null,{"$f":"Specifications!C13","v":"00:00:00"},{"$f":"Specifications!C13 - IF(MOD(YEAR(Specifications!C13),4)=0, 366, 365)","v":-366}]
[]
[null,null,"Links","Current Year","Previous Year"]
[null,null,null,{"$f":"Specifications!$C$14","v":0},{"$f":"Specifications!$C$14","v":0}]
[null,"Total insurance revenue",null,{"$f":"SUM(D13:D14)","v":0},{"$f":"SUM(E13:E14)","v":0}]
[null,"    Revenue from GMM contracts",{"$f":"HYPERLINK(\"#'I1'!A1\", \"I1\")","v":"I1"},{"$f":"'I1'!C23","v":0}]
[null,"    Revenue from PAA contracts",{"$f":"HYPERLINK(\"#'I2'!A1\", \"I2\")","v":"I2"},{"$f":"'I2'!C15","v":0}]
[]
[null,"Insurance service expenses",null,{"$f":"SUM(D17:D18)","v":0},{"$f":"SUM(E17:E18)","v":0}]
[null,"    Service expense from GMM contracts",{"$f":"HYPERLINK(\"#'I3'!A1\", \"I3\")","v":"I3"},{"$f":"'I3'!C32","v":0}]
[null,"    Service expense from PAA contracts",{"$f":"HYPERLINK(\"#'I4'!A1\", \"I4\")","v":"I4"},{"$f":"'I4'!C32","v":0}]
[]
[null,"Insurance Service Result Before Reinsurance Contracts Held ",{"$f":"HYPERLINK(\"#'I0'!A1\", \"I0\")","v":"I0"},{"$f":"I0!D23","v":0},{"$f":"E12-E16","v":0}]
[]
[null,"Net income/(expenses) from reinsurance contracts held ",{"$f":"HYPERLINK(\"#'I0'!A1\", \"I0\")","v":"I0"},{"$f":"I0!D29","v":0}]
[]
[null,"Insurance service result ",{"$f":"HYPERLINK(\"#'I0'!A1\", \"I0\")","v":"I0"},{"$f":"I0!D31","v":0},{"$f":"SUM(E20:E22)","v":0}]
[]
[]
[null,"Net Insurance Financial Result",null,{"$f":"D29+D30","v":0}]
[]
[null,"Net finance income/(expenses) from insurance contracts held",{"$f":"HYPERLINK(\"#'I6'!A1\", \"I6\")","v":"I6"},{"$f":"'I6'!C22","v":0}]
[null,"Net finance income from reinsurance contracts held",{"$f":"HYPERLINK(\"#'I7'!A1\", \"I7\")","v":"I7"},{"$f":"'I7'!C22","v":0}]
[]
[null,"Net revenue from insurance and reinsurance contracts",null,{"$f":"D24+D27","v":0}]
[]
[null,"Other income"]
[null,"Non-attributable expenses",{"$f":"HYPERLINK(\"#'PL1'!A1\", \"PL1\")","v":"PL1"},{"$f":"'PL1'!C62","v":0}]
[]
[null,"Investment Income/expense",{"$f":"HYPERLINK(\"#'PL2'!A1\", \"PL2\")","v":"PL2"},{"$f":"'PL2'!C52","v":0},{"$f":"'PL2'!D52","v":0}]
[]
[null,"Net Insurance Profit/(loss) before taxation ",null,{"$f":"D34-D35+D37+D32","v":0},{"$f":"E34-E35+E37+E32","v":0}]
[]
[null,"Taxation"]
[]
[null,"Net profit after tax",null,{"$f":"D39-D41","v":0},{"$f":"E39-E41","v":0}]
[]
[null,"Total Other Comprehensive Income",{"$f":"HYPERLINK(\"#'PL3'!A1\", \"PL3\")","v":"PL3"},{"$f":"'PL3'!C41","v":0}]
[]
[null,"Total Comprehensive Income",null,{"$f":"SUM(D43:D45)","v":0},{"$f":"SUM(E43:E45)","v":0}]
[]
[null,"Transfer to Reserves"]
[null,"Dividends"]
[]
[null,"Retained profit",null,{"$f":"D47-D49-D50","v":0},{"$f":"E47-E49-E50","v":0}]

{"sheet":"PL1","index":65,"n_rows":62,"n_cols":11,"rows_kept":62,"cut":false,"hidden":false,"merged":[[2,1,2,10],[6,2,6,3],[7,2,7,3]]}
[]
[]
[null,"FORM PL1: NON ATTRIBUTABLE EXPENSES"]
[]
[]
[]
[null,"NAME OF REINSURER",{"$f":"Specifications!C5","v":0}]
[null,"YEAR ENDED",{"$f":"Specifications!C13","v":"00:00:00"}]
[]
[]
[null,"NON ATTRIBUTABLE EXPENSES","TOTAL","Motor","Accident &\nHealth","Engineering","Liability","Property","Transport","Guarantee","Miscellaneous"]
[null,null,{"$f":"Specifications!$C$14","v":0},{"$f":"Specifications!$C$14","v":0},{"$f":"Specifications!$C$14","v":0},{"$f":"Specifications!$C$14","v":0},{"$f":"Specifications!$C$14","v":0},{"$f":"Specifications!$C$14","v":0},{"$f":"Specifications!$C$14","v":0},{"$f":"Specifications!$C$14","v":0},{"$f":"Specifications!$C$14","v":0}]
[null,"Salaries and employee benefits",{"$f":"SUM(D13:K13)","v":0}]
[null,"Directors salaries, fees and benefits",{"$f":"SUM(D14:K14)","v":0}]
[null,"Audit fees",0]
[null,"Legal fees",0]
[null,"Actuarial fees",0]
[null,"Survey fees",0]
[null,"Marketing expenses",0]
[null,"Repairs & Maintenance",0]
[null,"Printing & stationery",0]
[null,"Travelling expenses",0]
[null,"Entertainment",0]
[null,"Provision for bad/doubtful debts",0]
[null,"Bad debts written off",0]
[null,"Other (please specify)",0]
[null,"Other (please specify)",0]
[null,"Other (please specify)",0]
[null,"Other (please specify)",0]
[null,"Other (please specify)",0]
[null,"Other (please specify)",0]
[null,"Other (please specify)",0]
[null,"Other (please specify)",0]
[null,"Other (please specify)",0]
[null,"Other (please specify)",0]
[null,"Other (please specify)",0]
[null,"Other (please specify)",0]
[null,"Other (please specify)",0]
[null,"Other (please specify)",0]
[null,"Other (please specify)",0]
[null,"Other (please specify)",0]
[null,"Other (please specify)",0]
[null,"Other (please specify)",0]
[null,"Other (please specify)",0]
[null,"Other (please specify)",0]
[null,"Other (please specify)",0]
[null,"Other (please specify)",0]
[null,"Other (please specify)",0]
[null,"Other (please specify)",0]
[null,"Other (please specify)",0]
[null,"Other (please specify)",0]
[null,"Other (please specify)",0]
[null,"Other (please specify)",0]
[null,"Other (please specify)",0]
[null,"Other (please specify)",0]
[null,"Other (please specify)",0]
[null,"Other (please specify)",0]
[null,"Other (please specify)",0]
[null,"Other (please specify)",{"$f":"SUM(D59:K59)","v":0}]
[null,"Other (please specify)",{"$f":"SUM(D60:K60)","v":0}]
[]
[null,"Total Non Attributable Expenses",{"$f":"SUM(C13:C61)","v":0},{"$f":"SUM(D13:D61)","v":0},0,0,0,0,0,0,0]

{"sheet":"PL2","index":66,"n_rows":52,"n_cols":4,"rows_kept":52,"cut":false,"hidden":false,"merged":[[2,1,2,3],[6,2,6,3],[10,1,11,1]]}
[]
[]
[null,"FORM PL2: INVESTMENT INCOME"]
[]
[]
[]
[null,"NAME OF REINSURER",{"$f":"Specifications!C5","v":0}]
[null,"YEAR ENDED",{"$f":"Specifications!C13","v":"00:00:00"},{"$f":"Specifications!C13 - IF(MOD(YEAR(Specifications!C13),4)=0, 366, 365)","v":-366}]
[]
[]
[null,null,"Current \nYear","Previous \nyear"]
[null,null,{"$f":"Specifications!$C$14","v":0},{"$f":"Specifications!$C$14","v":0}]
[null,"Net Investment Income: "]
[null,"Realized Gains (Losses) on Sale"]
[null,"Bonds"]
[null,"Mortgage Loans"]
[null,"Preferred & Common Shares"]
[null,"Investment Properties"]
[null,"Income from Derivative Activities"]
[null,"Others"]
[]
[null,"Total Realized Gains (Losses) on Sale",{"$f":"SUM(C15:C20)","v":0},{"$f":"SUM(D15:D20)","v":0}]
[]
[null,"Fair Value Gains (Losses)"]
[null,"Bonds"]
[null,"Mortgage Loans"]
[null,"Preferred & Common Shares"]
[null,"Investment Properties"]
[null,"Income from Derivative Activities"]
[null,"Others"]
[]
[null,"Total Fair Value Gains (Losses)",{"$f":"SUM(C25:C30)","v":0},{"$f":"SUM(D25:D30)","v":0}]
[]
[null,"Dividends"]
[null,"Coupons"]
[null,"Interest income"]
[null,"Rental Income including insurer's own use rental income"]
[null,"Other Investment Income from Derivative Assets"]
[null,"Income from Other Invested Assets"]
[]
[null,"Gross Investment Income",{"$f":"SUM(C34:C39)+C32+C22","v":0},{"$f":"SUM(D34:D39)+D32+D22","v":0}]
[]
[null,"Less"]
[null,"Investment Expenses (other than Investment Taxes)"]
[null,"Transfer to insurance and investment contract liabilities"]
[null,"Investment Taxes"]
[]
[null,"Net Investment Income",{"$f":"C41-SUM(C44:C46)","v":0},{"$f":"D41-SUM(D44:D46)","v":0}]
[]
[null,"Allowances for expected credit losses"]
[]
[null,"INVESTMENT INCOME",{"$f":"C48-C50","v":0},{"$f":"D48-D50","v":0}]

{"sheet":"PL3","index":67,"n_rows":41,"n_cols":3,"rows_kept":41,"cut":false,"hidden":false,"merged":[[2,1,2,2]]}
[]
[]
[null,"FORM PL3: OTHER COMPREHENSIVE INCOME"]
[]
[]
[]
[null,"NAME OF REINSURER",{"$f":"Specifications!C5","v":0}]
[null,"YEAR ENDED",{"$f":"Specifications!C13","v":"00:00:00"}]
[]
[]
[null,null,"Amount"]
[null,null,{"$f":"Specifications!$C$14","v":0}]
[null,"Profit for the year",{"$f":"PL0!D43","v":0}]
[]
[null,"Other comprehensive income"]
[]
[null,"Items to be classified to profit or loss in subsequent periods:"]
[null,"Exchange rate differences on translation of foreign orperations"]
[null,"Cash flow hedges"]
[null,"Increase/(decrease) arising on revaluation of financial \nassets at fair value through other comprehensive income"]
[]
[null,"Net other comprehensive income to be reclassified to profit and loss in subsequent periods: ",{"$f":"SUM(C18:C20)","v":0}]
[]
[null,"Items that will not be reclassified to profit or loss in \nsubsequent periods:"]
[null,"Increase/(Decrease) arising on revaluation of financial assets at fair value through other comprehensive income"]
[null,"Income tax effect"]
[]
[null,"Re-measurement gains/(losses) on defined benefit plans"]
[null,"Income tax effect"]
[]
[null,"Revaluation of land and buildings"]
[]
[null,"Net other comprehensive not be be reclassified to profit or loss in subsequent periods",{"$f":"SUM(C25:C31)","v":0}]
[]
[null,"Other comprehensive income relating to insurance contracts:"]
[null,"Finance income/(expense) from insurance contracts",{"$f":"'I6'!C29","v":0}]
[null,"Finance income/(expense) from reinsurance contracts",{"$f":"'I7'!C29","v":0}]
[]
[null,"Net other comprehensive income relating to insurance contracts",{"$f":"SUM(C36:C37)","v":0}]
[]
[null,"OTHER COMPREHENSIVE INCOME FOR THE PERIOD, NET OF TAX",{"$f":"C39+C33+C22","v":0}]

{"sheet":"Capital Requirements >>>","index":68,"n_rows":0,"n_cols":0,"rows_kept":0,"cut":false,"hidden":false,"merged":[]}

{"sheet":"C0","index":69,"n_rows":67,"n_cols":5,"rows_kept":67,"cut":false,"hidden":false,"merged":[[2,1,2,4],[6,3,6,4],[11,1,12,1]]}
[]
[]
[null,"FORM C0: CAPITAL REQUIREMENTS"]
[]
[]
[]
[null,"NAME OF REINSURER",null,{"$f":"Specifications!C5","v":0}]
[null,"YEAR ENDED",null,{"$f":"Specifications!C13","v":"00:00:00"},{"$f":"Specifications!C13 - IF(MOD(YEAR(Specifications!C13),4)=0, 366, 365)","v":-366}]
[]
[]
[]
[null,"Capital Available",null,"Current Year","Previous Year"]
[null,null,"Annex",{"$f":"Specifications!$C$14","v":0},{"$f":"Specifications!$C$14","v":0}]
[null,"Equity ",{"$f":"HYPERLINK(\"#'L0'!A1\",\"L0\")","v":"L0"},{"$f":"L0!D22","v":0},{"$f":"L0!E22","v":0}]
[null,"Contractual Service Margin"]
[null,"Other (Please Specify):",null,{"$f":"SUM(D17:D32)","v":0},{"$f":"SUM(E17:E32)","v":0}]
[]
[]
[]
[]
[]
[]
[]
[]
[]
[]
[]
[]
[]
[]
[]
[]
[null,"Less: Assets with a Capital Requirement of 100%"]
[null,"from 100% requirements ",{"$f":"HYPERLINK(\"#'C2'!A1\",\"C2\")","v":"C2"},{"$f":"SUMIFS('C2'!$D$14:$D$78, 'C2'!$C$14:$C$78, 1)","v":0},{"$f":"SUMIFS('C2'!$F$14:$F$78, 'C2'!$C$14:$C$78, 1)","v":0}]
[null,"from Assets over investment concentration limits ",null,{"$f":"'C9'!C27+'C3'!N3520+'C4'!N3520+'C5'!H102+'C6'!E19+'C7'!G102+'C8'!G102-SUM('C12'!P35:P37)","v":0}]
[null,"from Assets encumberred ",{"$f":"HYPERLINK(\"#'A13'!A1\",\"A13\")","v":"A13"},{"$f":"'A13'!C16","v":0}]
[null,"Other (Please Specify):",null,{"$f":"SUM(D38:D53)","v":0},{"$f":"SUM(E38:E53)","v":0}]
[]
[]
[]
[]
[]
[]
[]
[]
[]
[]
[]
[]
[]
[]
[]
[]
[]
[null,"Total Capital Available ",null,{"$f":"D14+D15+D16-D34-D35-D36-D37","v":0},{"$f":"E14+E15+E16-E34-E35-E36-E37","v":0}]
[]
[null,"Minimum Capital Requirement",null,{"$f":"Specifications!$C$14","v":0},{"$f":"Specifications!$C$14","v":0}]
[null,"Liability Arising from Insurance and Reisurance Contracts",{"$f":"HYPERLINK(\"#'C1'!A1\",\"C1\")","v":"C1"},{"$f":"'C1'!G41","v":0}]
[null,"Investment Risk",{"$f":"HYPERLINK(\"#'C2'!A1\",\"C2\")","v":"C2"},{"$f":"'C2'!E79","v":0}]
[null,"Catastrophe Risk ",{"$f":"HYPERLINK(\"#'C10'!A1\",\"C10\")","v":"C10"},{"$f":"'C10'!C18","v":0}]
[null,"Reinsurance Ceded ",{"$f":"HYPERLINK(\"#'C11'!A1\",\"C11\")","v":"C11"},{"$f":"'C11'!N33","v":0}]
[]
[null,"Minimum Capital Requirement",null,{"$f":"SUM(D58:D61)","v":0},{"$f":"SUM(E58:E61)","v":0}]
[]
[null,"Excess Capital Available over Minimum Capital Requirement",null,{"$f":"D55-D63","v":0},{"$f":"E55-E63","v":0}]
[]
[null,"Capital Available as a % of Minimum Capital Requirement",null,{"$f":"IFERROR(D55/D63, 0)","v":0},{"$f":"IFERROR(E55/E63, 0)","v":0}]

{"sheet":"C1","index":70,"n_rows":41,"n_cols":7,"rows_kept":41,"cut":false,"hidden":false,"merged":[[2,1,2,6],[11,1,12,1],[27,1,28,1],[6,2,6,3],[7,2,7,3]]}
[]
[]
[null,"FORM C1: CAPITAL REQUIREMENT FOR INSURANCE LIABILITIES"]
[]
[]
[]
[null,"NAME OF REINSURER",{"$f":"Specifications!C5","v":0}]
[null,"YEAR ENDED",{"$f":"Specifications!C13","v":"00:00:00"}]
[]
[null,"Liability for incurred claims"]
[]
[null,"Class of business","LIC","ARIC","LIC - ARIC","Capital factors","Capital Required"]
[null,null,{"$f":"Specifications!$C$14","v":0},{"$f":"Specifications!$C$14","v":0},{"$f":"Specifications!$C$14","v":0},"%",{"$f":"Specifications!$C$14","v":0}]
[null,"Motor ",{"$f":"'IR1'!F15-'IR2'!F15","v":0},{"$f":"'IR4'!F15-'IR3'!F15","v":0},{"$f":"C14-D14","v":0},0.1,{"$f":"MAX(0, E14*F14)","v":0}]
[null,"Accident and Health ",{"$f":"'IR1'!F16-'IR2'!F16","v":0},{"$f":"'IR4'!F16-'IR3'!F16","v":0},0,0.15,{"$f":"MAX(0, E15*F15)","v":0}]
[null,"Engineering ",{"$f":"'IR1'!F17-'IR2'!F17","v":0},{"$f":"'IR4'!F17-'IR3'!F17","v":0},0,0.11,0]
[null,"Liability ",{"$f":"'IR1'!F18-'IR2'!F18","v":0},{"$f":"'IR4'!F18-'IR3'!F18","v":0},0,0.15,0]
[null,"Property ",{"$f":"'IR1'!F19-'IR2'!F19","v":0},{"$f":"'IR4'!F19-'IR3'!F19","v":0},0,0.1,0]
[null,"Transportation ",{"$f":"'IR1'!F20-'IR2'!F20","v":0},{"$f":"'IR4'!F20-'IR3'!F20","v":0},0,0.11,0]
[null,"Guarantee ",{"$f":"'IR1'!F21-'IR2'!F21","v":0},{"$f":"'IR4'!F21-'IR3'!F21","v":0},0,0.11,0]
[null,"Miscellaneous ",{"$f":"'IR1'!F22-'IR2'!F22","v":0},{"$f":"'IR4'!F22-'IR3'!F22","v":0},0,0.15,0]
[]
[null,"TOTAL CAPITAL REQUIRED (LIC)",{"$f":"SUM(C14:C21)","v":0},{"$f":"SUM(D14:D21)","v":0},{"$f":"SUM(E14:E21)","v":0},null,{"$f":"SUM(G14:G21)","v":0}]
[]
[]
[null,"Liability for remaining coverage "]
[]
[null,"Class of business","LRC \n(Excluding Contractual Service Margin)","ARC \n(Excluding Contractual Service Margin)","LRC - ARC","Capital factors","Capital Required"]
[null,null,{"$f":"Specifications!$C$14","v":0},{"$f":"Specifications!$C$14","v":0},{"$f":"Specifications!$C$14","v":0},"%",{"$f":"Specifications!$C$14","v":0}]
[null,"Motor ",{"$f":"'IR1'!H31-'IR2'!H31","v":0},{"$f":"'IR4'!H31-'IR3'!H31","v":0},{"$f":"C30-D30","v":0},0.14000000000000001,{"$f":"MAX(0,E30* F30)","v":0}]
[null,"Accident and Health ",{"$f":"'IR1'!H32-'IR2'!H32","v":0},{"$f":"'IR4'!H32-'IR3'!H32","v":0},0,0.19,0]
[null,"Engineering ",{"$f":"'IR1'!H33-'IR2'!H33","v":0},{"$f":"'IR4'!H33-'IR3'!H33","v":0},0,0.15,0]
[null,"Liability ",{"$f":"'IR1'!H34-'IR2'!H34","v":0},{"$f":"'IR4'!H34-'IR3'!H34","v":0},0,0.19,0]
[null,"Property ",{"$f":"'IR1'!H35-'IR2'!H35","v":0},{"$f":"'IR4'!H35-'IR3'!H35","v":0},0,0.14000000000000001,0]
[null,"Transportation ",{"$f":"'IR1'!H36-'IR2'!H36","v":0},{"$f":"'IR4'!H36-'IR3'!H36","v":0},0,0.15,0]
[null,"Guarantee ",{"$f":"'IR1'!H37-'IR2'!H37","v":0},{"$f":"'IR4'!H37-'IR3'!H37","v":0},0,0.15,0]
[null,"Miscellaneous ",{"$f":"'IR1'!H38-'IR2'!H38","v":0},{"$f":"'IR4'!H38-'IR3'!H38","v":0},0,0.19,0]
[]
[null,"TOTAL CAPITAL REQUIRED (LRC)",{"$f":"SUM(C30:C37)","v":0},{"$f":"SUM(D30:D37)","v":0},{"$f":"SUM(E30:E37)","v":0},null,{"$f":"SUM(G30:G37)","v":0}]
[]
[null,"TOTAL CAPITAL REQUIRED",{"$f":"C23+C39","v":0},{"$f":"D23+D39","v":0},{"$f":"E23+E39","v":0},null,{"$f":"G23+G39","v":0}]

{"sheet":"C2","index":71,"n_rows":79,"n_cols":7,"rows_kept":79,"cut":false,"hidden":false,"merged":[[78,1,78,2],[2,1,2,6],[10,1,12,1],[10,2,12,2],[10,3,10,4],[10,5,10,6],[6,3,6,4],[7,3,7,4]]}
[]
[]
[null,"FORM C2: INVESTMENT RISKS"]
[]
[]
[]
[null,"spe",null,{"$f":"Specifications!C5","v":0}]
[null,"YEAR ENDED",null,{"$f":"Specifications!C13","v":"00:00:00"}]
[]
[]
[null,null,"Capital factors","Current Year",null,"Previous Year"]
[null,null,null,"Value","Capital Required","Value","Capital Required"]
[null,null,null,{"$f":"Specifications!$C$14","v":0},{"$f":"Specifications!$C$14","v":0},{"$f":"Specifications!$C$14","v":0},{"$f":"Specifications!$C$14","v":0}]
[null,"Freehold Land and Building ",0.08,{"$f":"'A1'!K24","v":0},{"$f":"D14*C14","v":0}]
[null,"Goodwill",1,{"$f":"A0!D17","v":0}]
[null,"Other Intangible Assets",1,{"$f":"A0!D18","v":0}]
[null,"Investment Property",0.15,{"$f":"A0!D21","v":0},{"$f":"D17*C17","v":0}]
[]
[null,"Financial Investments"]
[]
[null,"Investment in Related Companies",0.17,{"$f":"A0!D20","v":0},{"$f":"D21*C21","v":0}]
[]
[null,"Listed Investments "]
[null,"Preference shares",0.1,{"$f":"SUMIFS('A6'!$L$10582:L14083, 'A6'!$C$10582:C14083, B24, 'A6'!$D$10582:D14083, \"Listed\")","v":0},{"$f":"D24*C24","v":0}]
[null,"Common shares",0.15,{"$f":"SUMIFS('A6'!$L$10582:L14083, 'A6'!$C$10582:C14083, B25, 'A6'!$D$10582:D14083, \"Listed\")","v":0},0]
[null,"Collective Investment Vehicles",0.15,{"$f":"SUMIFS('A6'!$L$17601:L21101,'A6'!$C$17601:C21101,B26,'A6'!$D$17601:D21101, \"Listed\")","v":0},0]
[null,"Structured notes and collateralised securities",0.08,{"$f":"SUMIFS('A6'!$O$7069:O10569,'A6'!$D$7069:D10569, \"Listed\")","v":0},0]
[null,"Commodities",0.15,{"$f":"SUMIFS('A6'!$L$17601:L21101,'A6'!$C$17601:C21101,B28,'A6'!$D$17601:D21101, \"Listed\")","v":0},0]
[null,"Derivative assets",0.15,null,0]
[]
[null,"Unlisted Investments"]
[null,"Preference shares",0.15,{"$f":"SUMIFS('A6'!$L$10582:L14083, 'A6'!$C$10582:C14083, B32, 'A6'!$D$10582:D14083, \"Unlisted\")","v":0},{"$f":"D32*C32","v":0}]
[null,"Common shares",0.17,{"$f":"SUMIFS('A6'!$L$10582:L14083, 'A6'!$C$10582:C14083, B33, 'A6'!$D$10582:D14083, \"Unlisted\")","v":0},0]
[null,"Collective Investment Vehicles",0.17,{"$f":"SUMIFS('A6'!$L$17601:L21101,'A6'!$C$17601:C21101,B34,'A6'!$D$17601:D21101, \"Unlisted\")","v":0},0]
[null,"Structured notes and collateralised securities",0.12,{"$f":"SUMIFS('A6'!$O$7069:O10569,'A6'!$D$7069:D10569, \"Unlisted\")","v":0},0]
[null,"Commodities",0.17,{"$f":"SUMIFS('A6'!$L$17601:L21101,'A6'!$C$17601:C21101,B36,'A6'!$D$17601:D21101, \"Unlisted\")","v":0},0]
[null,"Derivative assets",0.17,null,0]
[]
[null,"Term Deposits, Debentures and Bonds"]
[null,"Expiring or redeemable in one year or less"]
[null,"   Government ",0,null,{"$f":"D41*C41","v":0}]
[null,"   Corporations ",0.04,null,{"$f":"D42*C42","v":0}]
[null,"Expiring or redeemable in more than one year"]
[null,"   Government ",0,null,{"$f":"D44*C44","v":0}]
[null,"   Corporations ",0.08,null,{"$f":"D45*C45","v":0}]
[]
[]
[null,"Loans"]
[null,"Government",0,null,{"$f":"D49*C49","v":0}]
[null,"Residential Mortgage ",0.04,{"$f":"SUMIFS('A6'!$J$14092:J17592,'A6'!$B$14092:B17592,B50)","v":0},{"$f":"D50*C50","v":0}]
[null,"Commercial Mortgage ",0.08,{"$f":"SUMIFS('A6'!$J$14092:J17592,'A6'!$B$14092:B17592,B51)","v":0},0]
[null,"Other Secured Loans",0.08,{"$f":"SUMIFS('A6'!$J$14092:J17592,'A6'!$B$14092:B17592,B52)","v":0},0]
[null,"Unsecured Loans ",1,{"$f":"SUMIFS('A6'!$J$14092:J17592,'A6'!$B$14092:B17592,B53)","v":0}]
[null,"Loans to Corporations",0.08,{"$f":"SUMIFS('A6'!$J$14092:J17592,'A6'!$B$14092:B17592,B54)","v":0},0]
[null,"Loans to Related Companies",1,{"$f":"SUMIFS('A6'!$J$14092:J17592,'A6'!$B$14092:B17592,B55)","v":0}]
[null,"Loans to Directors, agents and their associates (including those from Related Companies)",1,{"$f":"SUMIFS('A6'!$J$14092:J17592,'A6'!$B$14092:B17592,B56)","v":0}]
[]
[null,"Investment Income Due and Accrued ",0.02,null,{"$f":"D58*C58","v":0}]
[]
[null,"Receivables"]
[null,"Related Companies"]
[null,"   Outstanding Less than 12 months",0.04,{"$f":"'A9'!E13","v":0},{"$f":"D62*C62","v":0}]
[null,"   Outstanding more than 12 months",0.1,{"$f":"'A9'!F13","v":0},{"$f":"D63*C63","v":0}]
[null,"Corporations",0.1,{"$f":"'A9'!F14+'A9'!E14","v":0},{"$f":"D64*C64","v":0}]
[null,"Government",0,null,0]
[]
[null,"Reinsurance Recoveries"]
[null,"Amounts Recoverable from Incurred Claims"]
[null,"   Outstanding less than 8 months ",0.02,{"$f":"'IR4'!H24-'IR3'!H24","v":0},{"$f":"D69*C69","v":0}]
[null,"   Outstanding 8 months or more ",1,{"$f":"'IR4'!I24-'IR3'!I24","v":0}]
[null,"Asset for Remaining Coverage",0.02,{"$f":"'IR4'!I40-'IR3'!I40","v":0},{"$f":"D71*C71","v":0}]
[]
[null,"Cash at Bank",0,null,{"$f":"D73*C73","v":0}]
[null,"Deposits with an institution licensed by Bank of Mauritius","0%",null,{"$f":"D74*C74","v":0}]
[]
[null,"Fixed Assets, in excess of their written down values ",1]
[null,"Other Assets ",{"$f":"HYPERLINK(\"#'C9'!A1\",\"C9\")","v":"C9"},{"$f":"'C9'!C20","v":0},{"$f":"'C9'!C23","v":0}]
[]
[null,"TOTAL ASSETS UNDER INVESTMENT RISKS",null,{"$f":"SUM(D14:D78)","v":0},{"$f":"SUM(E14:E77)","v":0},{"$f":"SUM(F14:F78)","v":0},{"$f":"SUM(G14:G78)","v":0}]

{"sheet":"C3","index":72,"n_rows":3520,"n_cols":27,"rows_kept":3520,"cut":false,"hidden":false,"merged":[[3519,1,3519,2],[2,1,2,13],[15,1,17,1],[15,3,15,4],[15,2,17,2],[6,2,6,3],[7,2,7,3]]}
[]
[]
[null,"FORM C3: INVESTMENT IN LISTED CORPORATES"]
[]
[]
[]
[null,"NAME OF REINSURER",{"$f":"Specifications!C5","v":0}]
[null,"YEAR ENDED",{"$f":"Specifications!C13","v":"00:00:00"}]
[]
[]
[]
[null,null,{"$f":"Specifications!$C$14","v":0}]
[null,"Total Assets",{"$f":"A0!D41","v":0}]
[null,"Concentration Limit",{"$f":"Checks!E37","v":0.1}]
[]
[null,"Corporate","Subsidiary?","Term Deposits, Bonds and Debentures",null,"Loans","Strucutured notes and collateralised securities","Preference Shares","Common Shares","Receivables","Holding by related companies","Total","Concentration Limit","Over Concentration Limit"]
[null,null,null,"Expiring <=1 year","Expiring >1 year"]
[null,null,null,{"$f":"Specifications!$C$14","v":0},{"$f":"Specifications!$C$14","v":0},{"$f":"Specifications!$C$14","v":0},{"$f":"Specifications!$C$14","v":0},{"$f":"Specifications!$C$14","v":0},{"$f":"Specifications!$C$14","v":0},{"$f":"Specifications!$C$14","v":0},{"$f":"Specifications!$C$14","v":0},{"$f":"Specifications!$C$14","v":0},{"$f":"Specifications!$C$14","v":0},{"$f":"Specifications!$C$14","v":0}]
[null,null,null,null,null,null,null,null,null,null,null,{"$f":"SUM(D19:K19)","v":0},{"$f":"$C$14*$C$13","v":0},{"$f":"MAX(L19-M19,0)","v":0},null,null,null,null,null,null,null,null,null,null,null,null,{"$f":"L19-SUM(F19,J19)","v":0}]
[null,null,null,null,null,null,null,null,null,null,null,{"$f":"SUM(D20:K20)","v":0},0,{"$f":"MAX(L20-M20,0)","v":0},null,null,null,null,null,null,null,null,null,null,null,null,{"$f":"L20-SUM(F20,J20)","v":0}]
[null,null,null,null,null,null,null,null,null,null,null,0,0,0,null,null,null,null,null,null,null,null,null,null,null,null,0]
[null,null,null,null,null,null,null,null,null,null,null,0,0,0,null,null,null,null,null,null,null,null,null,null,null,null,0]
[null,null,null,null,null,null,null,null,null,null,null,0,0,0]
[null,null,null,null,null,null,null,null,null,null,null,0,0,0]
[null,null,null,null,null,null,null,null,null,null,null,0,0,0]
[null,null,null,null,null,null,null,null,null,null,null,0,0,0]
[null,null,null,null,null,null,null,null,null,null,null,0,0,0]
[null,null,null,null,null,null,null,null,null,null,null,0,0,0]
[null,null,null,null,null,null,null,null,null,null,null,0,0,0]
[null,null,null,null,null,null,null,null,null,null,null,0,0,0]
[null,null,null,null,null,null,null,null,null,null,null,0,0,0]
[null,null,null,null,null,null,null,null,null,null,null,0,0,0]
[null,null,null,null,null,null,null,null,null,null,null,0,0,0]
[null,null,null,null,null,null,null,null,null,null,null,0,0,0]
[null,null,null,null,null,null,null,null,null,null,null,0,0,0]
[null,null,null,null,null,null,null,null,null,null,null,0,0,0]
[null,null,null,null,null,null,null,null,null,null,null,0,0,0]
[null,null,null,null,null,null,null,null,null,null,null,0,0,0]
[null,null,null,null,null,null,null,null,null,null,null,0,0,0]
[null,null,null,null,null,null,null,null,null,null,null,0,0,0]
[null,null,null,null,null,null,null,null,null,null,null,0,0,0]
[null,null,null,null,null,null,null,null,null,null,null,0,0,0]
[null,null,null,null,null,null,null,null,null,null,null,0,0,0]
[null,null,null,null,null,null,null,null,null,null,null,0,0,0]
[null,null,null,null,null,null,null,null,null,null,null,0,0,0]
[null,null,null,null,null,null,null,null,null,null,null,0,0,0]
[null,null,null,null,null,null,null,null,null,null,null,0,0,0]
[null,null,null,null,null,null,null,null,null,null,null,0,0,0]
[null,null,null,null,null,null,null,null,null,null,null,0,0,0]
[null,null,null,null,null,null,null,null,null,null,null,0,0,0]
[null,null,null,null,null,null,null,null,null,null,null,0,0,0]
[null,null,null,null,null,null,null,null,null,null,null,0,0,0]
[null,null,null,null,null,null,null,null,null,null,null,{"$f":"SUM(D53:K53)","v":0},0,0,null,null,null,null,null,null,null,null,null,null,null,null,0]
[null,null,null,null,null,null,null,null,null,null,null,0,0,0,null,null,null,null,null,null,null,null,null,null,null,null,0]
[null,null,null,null,null,null,null,null,null,null,null,0,0,0,null,null,null,null,null,null,null,null,null,null,null,null,0]
[null,null,null,null,null,null,null,null,null,null,null,0,0,0,null,null,null,null,null,null,null,null,null,null,null,null,0]
[null,null,null,null,null,null,null,null,null,null,null,0,0,0,null,null,null,null,null,null,null,null,null,null,null,null,0]
[null,null,null,null,null,null,null,null,null,null,null,{"$f":"SUM(D58:K58)","v":0},0,{"$f":"MAX(L58-M58,0)","v":0}]
[null,null,null,null,null,null,null,null,null,null,null,0,0,0,null,null,null,null,null,null,null,null,null,null,null,null,0]
[null,null,null,null,null,null,null,null,null,null,null,0,0,0,null,null,null,null,null,null,null,null,null,null,null,null,0]
[null,null,null,null,null,null,null,null,null,null,null,0,0,0,null,null,null,null,null,null,null,null,null,null,null,null,0]
[null,null,null,null,null,null,null,null,null,null,null,0,0,0,null,null,null,null,null,null,null,null,null,null,null,null,0]
[null,null,null,null,null,null,null,null,null,null,null,0,0,0,null,null,null,null,null,null,null,null,null,null,null,null,0]
[null,null,null,null,null,null,null,null,null,null,null,0,0,0,null,null,null,null,null,null,null,null,null,null,null,null,0]
[null,null,null,null,null,null,null,null,null,null,null,0,0,0,null,null,null,null,null,null,null,null,null,null,null,null,0]
[null,null,null,null,null,null,null,null,null,null,null,0,0,0,null,null,null,null,null,null,null,null,null,null,null,null,0]
[null,null,null,null,null,null,null,null,null,null,null,0,0,0,null,null,null,null,null,null,null,null,null,null,null,null,0]
[null,null,null,null,null,null,null,null,null,null,null,{"$f":"SUM(D68:K68)","v":0},0,{"$f":"MAX(L68-M68,0)","v":0},null,null,null,null,null,null,null,null,null,null,null,null,0]
[null,null,null,null,null,null,null,null,null,null,null,0,0,0]
[null,null,null,null,null,null,null,null,null,null,null,0,0,0]
[null,null,null,null,null,null,null,null,null,null,null,0,0,0]
[null,null,null,null,null,null,null,null,null,null,null,0,0,0]
[null,null,null,null,null,null,null,null,null,null,null,0,0,0]
[null,null,null,null,null,null,null,null,null,null,null,0,0,0]
[null,null,null,null,null,null,null,null,null,null,null,0,0,0]
[null,null,null,null,null,null,null,null,null,null,null,0,0,0]
[null,null,null,null,null,null,null,null,null,null,null,0,0,0]
[null,null,null,null,null,null,null,null,null,null,null,0,0,0]
[null,null,null,null,null,null,null,null,null,null,null,0,0,0]
[null,null,null,null,null,null,null,null,null,null,null,0,0,0]
[null,null,null,null,null,null,null,null,null,null,null,0,0,0]
[null,null,null,null,null,null,null,null,null,null,null,0,0,0]
[null,null,null,null,null,null,null,null,null,null,null,0,0,0]
[null,null,null,null,null,null,null,null,null,null,null,0,0,0]
[null,null,null,null,null,null,null,null,null,null,null,0,0,0]
[null,null,null,null,null,null,null,null,null,null,null,0,0,0]
[null,null,null,null,null,null,null,null,null,null,null,0,0,0]
[null,null,null,null,null,null,null,null,null,null,null,0,0,0]
[null,null,null,null,null,null,null,null,null,null,null,0,0,0]
[null,null,null,null,null,null,null,null,null,null,null,0,0,0]
[null,null,null,null,null,null,null,null,null,null,null,0,0,0]
[null,null,null,null,null,null,null,null,null,null,null,0,0,0]
[null,null,null,null,null,null,null,null,null,null,null,0,0,0]
[null,null,null,null,null,null,null,null,null,null,null,0,0,0]
[null,null,null,null,null,null,null,null,null,null,null,0,0,0]
[null,null,null,null,null,null,null,null,null,null,null,0,0,0]
[null,null,null,null,null,null,null,null,null,null,null,0,0,0]
[null,null,null,null,null,null,null,null,null,null,null,0,0,0]
[null,null,null,null,null,null,null,null,null,null,null,0,0,0]
[null,null,null,null,null,null,null,null,null,null,null,{"$f":"SUM(D100:K100)","v":0},0,0,null,null,null,null,null,null,null,null,null,null,null,null,{"$f":"L100-SUM(F100,J100)","v":0}]
[null,null,null,null,null,null,null,null,null,null,null,{"$f":"SUM(D101:K101)","v":0},0,0,null,null,null,null,null,null,null,null,null,null,null,null,{"$f":"L101-SUM(F101,J101)","v":0}]
[null,null,null,null,null,null,null,null,null,null,null,0,0,0,null,null,null,null,null,null,null,null,null,null,null,null,0]
[null,null,null,null,null,null,null,null,null,null,null,0,0,0,null,null,null,null,null,null,null,null,null,null,null,null,0]
[null,null,null,null,null,null,null,null,null,null,null,0,0,0]
[null,null,null,null,null,null,null,null,null,null,null,0,0,0]
[null,null,null,null,null,null,null,null,null,null,null,0,0,0]
[null,null,null,null,null,null,null,null,null,null,null,0,0,0]
[null,null,null,null,null,null,null,null,null,null,null,0,0,0]
[null,null,null,null,null,null,null,null,null,null,null,0,0,0]
[null,null,null,null,null,null,null,null,null,null,null,0,0,0]
[null,null,null,null,null,null,null,null,null,null,null,0,0,0]
[null,null,null,null,null,null,null,null,null,null,null,0,0,0]
[null,null,null,null,null,null,null,null,null,null,null,0,0,0]
[null,null,null,null,null,null,null,null,null,null,null,0,0,0]
[null,null,null,null,null,null,null,null,null,null,null,0,0,0]
[null,null,null,null,null,null,null,null,null,null,null,0,0,0]
[null,null,null,null,null,null,null,null,null,null,null,0,0,0]
[null,null,null,null,null,null,null,null,null,null,null,0,0,0]
[null,null,null,null,null,null,null,null,null,null,null,0,0,0]
[null,null,null,null,null,null,null,null,null,null,null,0,0,0]
[null,null,null,null,null,null,null,null,null,null,null,0,0,0]
[null,null,null,null,null,null,null,null,null,null,null,0,0,0]
[null,null,null,null,null,null,null,null,null,null,null,0,0,0]
[null,null,null,null,null,null,null,null,null,null,null,0,0,0]
[null,null,null,null,null,null,null,null,null,null,null,0,0,0]
[null,null,null,null,null,null,null,null,null,null,null,0,0,0]
[null,null,null,null,null,null,null,null,null,null,null,0,0,0]
[null,null,null,null,null,null,null,null,null,null,null,0,0,0]
[null,null,null,null,null,null,null,null,null,null,null,0,0,0]
[null,null,null,null,null,null,null,null,null,null,null,0,0,0]
[null,null,null,null,null,null,null,null,null,null,null,0,0,0]
[null,null,null,null,null,null,null,null,null,null,null,0,0,{"$f":"MAX(L132-M132,0)","v":0}]
[null,null,null,null,null,null,null,null,null,null,null,0,0,0]
[null,null,null,null,null,null,null,null,null,null,null,0,0,0,null,null,null,null,null,null,null,null,null,null,null,null,{"$f":"L134-SUM(F134,J134)","v":0}]
[null,null,null,null,null,null,null,null,null,null,null,0,0,0,null,null,null,null,null,null,null,null,null,null,null,null,0]
[null,null,null,null,null,null,null,null,null,null,null,0,0,0,null,null,null,null,null,null,null,null,null,null,null,null,0]
[null,null,null,null,null,null,null,null,null,null,null,0,0,0,null,null,null,null,null,null,null,null,null,null,null,null,0]
[null,null,null,null,null,null,null,null,null,null,null,0,0,0,null,null,null,null,null,null,null,null,null,null,null,null,0]
[null,null,null,null,null,null,null,null,null,null,null,0,0,0]
[null,null,null,null,null,null,null,null,null,null,null,0,0,0,null,null,null,null,null,null,null,null,null,null,null,null,{"$f":"L140-SUM(F140,J140)","v":0}]
[null,null,null,null,null,null,null,null,null,null,null,0,0,0,null,null,null,null,null,null,null,null,null,null,null,null,0]
[null,null,null,null,null,null,null,null,null,null,null,0,0,0,null,null,null,null,null,null,null,null,null,null,null,null,0]
[null,null,null,null,null,null,null,null,null,null,null,0,0,0,null,null,null,null,null,null,null,null,null,null,null,null,0]
[null,null,null,null,null,null,null,null,null,null,null,0,0,0,null,null,null,null,null,null,null,null,null,null,null,null,0]
[null,null,null,null,null,null,null,null,null,null,null,0,0,0,null,null,null,null,null,null,null,null,null,null,null,null,0]
[null,null,null,null,null,null,null,null,null,null,null,0,0,0,null,null,null,null,null,null,null,null,null,null,null,null,0]
[null,null,null,null,null,null,null,null,null,null,null,0,0,0,null,null,null,null,null,null,null,null,null,null,null,null,0]
[null,null,null,null,null,null,null,null,null,null,null,0,0,0,null,null,null,null,null,null,null,null,null,null,null,null,0]
[null,null,null,null,null,null,null,null,null,null,null,0,0,0,null,null,null,null,null,null,null,null,null,null,null,null,0]
[null,null,null,null,null,null,null,null,null,null,null,0,0,0]
[null,null,null,null,null,null,null,null,null,null,null,0,0,0]
[null,null,null,null,null,null,null,null,null,null,null,0,0,0]
[null,null,null,null,null,null,null,null,null,null,null,0,0,0]
[null,null,null,null,null,null,null,null,null,null,null,0,0,0]
[null,null,null,null,null,null,null,null,null,null,null,0,0,0]
[null,null,null,null,null,null,null,null,null,null,null,0,0,0]
[null,null,null,null,null,null,null,null,null,null,null,0,0,0]
[null,null,null,null,null,null,null,null,null,null,null,0,0,0]
[null,null,null,null,null,null,null,null,null,null,null,0,0,0]
[null,null,null,null,null,null,null,null,null,null,null,0,0,0]
[null,null,null,null,null,null,null,null,null,null,null,0,0,0]
[null,null,null,null,null,null,null,null,null,null,null,0,0,0]
[null,null,null,null,null,null,null,null,null,null,null,0,0,0]
[null,null,null,null,null,null,null,null,null,null,null,0,0,0]
[null,null,null,null,null,null,null,null,null,null,null,{"$f":"SUM(D165:K165)","v":0},0,0]
[null,null,null,null,null,null,null,null,null,null,null,0,0,0]
[null,null,null,null,null,null,null,null,null,null,null,0,0,0]
[null,null,null,null,null,null,null,null,null,null,null,0,0,0]
[null,null,null,null,null,null,null,null,null,null,null,0,0,0]
[null,null,null,null,null,null,null,null,null,null,null,0,0,0]
[null,null,null,null,null,null,null,null,null,null,null,0,0,0]
[null,null,null,null,null,null,null,null,null,null,null,0,0,0]
[null,null,null,null,null,null,null,null,null,null,null,0,0,0]
[null,null,null,null,null,null,null,null,null,null,null,0,0,0]
[null,null,null,null,null,null,null,null,null,null,null,0,0,0]
[null,null,null,null,null,null,null,null,null,null,null,0,0,0]
[null,null,null,null,null,null,null,null,null,null,null,0,0,0]
[null,null,null,null,null,null,null,null,null,null,null,0,0,0]
[null,null,null,null,null,null,null,null,null,null,null,0,0,0]
[null,null,null,null,null,null,null,null,null,null,null,0,0,0]
[null,null,null,null,null,null,null,null,null,null,null,{"$f":"SUM(D181:K181)","v":0},0,0,null,null,null,null,null,null,null,null,null,null,null,null,{"$f":"L181-SUM(F181,J181)","v":0}]
[null,null,null,null,null,null,null,null,null,null,null,{"$f":"SUM(D182:K182)","v":0},0,0,null,null,null,null,null,null,null,null,null,null,null,null,{"$f":"L182-SUM(F182,J182)","v":0}]
[null,null,null,null,null,null,null,null,null,null,null,0,0,0,null,null,null,null,null,null,null,null,null,null,null,null,0]
[null,null,null,null,null,null,null,null,null,null,null,0,0,0,null,null,null,null,null,null,null,null,null,null,null,null,0]
[null,null,null,null,null,null,null,null,null,null,null,0,0,0]
[null,null,null,null,null,null,null,null,null,null,null,0,0,0]
[null,null,null,null,null,null,null,null,null,null,null,0,0,0]
[null,null,null,null,null,null,null,null,null,null,null,0,0,0]
[null,null,null,null,null,null,null,null,null,null,null,0,0,0]
[null,null,null,null,null,null,null,null,null,null,null,0,0,0]
[null,null,null,null,null,null,null,null,null,null,null,0,0,0]
[null,null,null,null,null,null,null,null,null,null,null,0,0,0]
[null,null,null,null,null,null,null,null,null,null,null,0,0,0]
[null,null,null,null,null,null,null,null,null,null,null,0,0,0]
[null,null,null,null,null,null,null,null,null,null,null,0,0,0]
[null,null,null,null,null,null,null,null,null,null,null,0,0,{"$f":"MAX(L196-M196,0)","v":0}]
[null,null,null,null,null,null,null,null,null,null,null,0,0,0]
[null,null,null,null,null,null,null,null,null,null,null,0,0,0]
[null,null,null,null,null,null,null,null,null,null,null,0,0,0]
[null,null,null,null,null,null,null,null,null,null,null,0,0,0]
[null,null,null,null,null,null,null,null,null,null,null,0,0,0]
[null,null,null,null,null,null,null,null,null,null,null,0,0,0]
[null,null,null,null,null,null,null,null,null,null,null,0,0,0]
[null,null,null,null,null,null,null,null,null,null,null,0,0,0]
[null,null,null,null,null,null,null,null,null,null,null,0,0,0]
[null,null,null,null,null,null,null,null,null,null,null,0,0,0]
[null,null,null,null,null,null,null,null,null,null,null,0,0,0]
[null,null,null,null,null,null,null,null,null,null,null,0,0,0]
[null,null,null,null,null,null,null,null,null,null,null,0,0,0]
[null,null,null,null,null,null,null,null,null,null,null,0,0,0]
[null,null,null,null,null,null,null,null,null,null,null,0,0,0]
[null,null,null,null,null,null,null,null,null,null,null,0,0,0]
[null,null,null,null,null,null,null,null,null,null,null,0,0,0]
[null,null,null,null,null,null,null,null,null,null,null,0,0,0]
[null,null,null,null,null,null,null,null,null,null,null,0,0,0,null,null,null,null,null,null,null,null,null,null,null,null,{"$f":"L215-SUM(F215,J215)","v":0}]
[null,null,null,null,null,null,null,null,null,null,null,0,0,0,null,null,null,null,null,null,null,null,null,null,null,null,0]
[null,null,null,null,null,null,null,null,null,null,null,0,0,0,null,null,null,null,null,null,null,null,null,null,null,null,0]
[null,null,null,null,null,null,null,null,null,null,null,0,0,0,null,null,null,null,null,null,null,null,null,null,null,null,0]
[null,null,null,null,null,null,null,null,null,null,null,0,0,0,null,null,null,null,null,null,null,null,null,null,null,null,0]
[null,null,null,null,null,null,null,null,null,null,null,0,0,0]
[null,null,null,null,null,null,null,null,null,null,null,0,0,0,null,null,null,null,null,null,null,null,null,null,null,null,{"$f":"L221-SUM(F221,J221)","v":0}]
[null,null,null,null,null,null,null,null,null,null,null,0,0,0,null,null,null,null,null,null,null,null,null,null,null,null,0]
[null,null,null,null,null,null,null,null,null,null,null,0,0,0,null,null,null,null,null,null,null,null,null,null,null,null,0]
[null,null,null,null,null,null,null,null,null,null,null,0,0,0,null,null,null,null,null,null,null,null,null,null,null,null,0]
[null,null,null,null,null,null,null,null,null,null,null,0,0,0,null,null,null,null,null,null,null,null,null,null,null,null,0]
[null,null,null,null,null,null,null,null,null,null,null,0,0,0,null,null,null,null,null,null,null,null,null,null,null,null,0]
[null,null,null,null,null,null,null,null,null,null,null,0,0,0,null,null,null,null,null,null,null,null,null,null,null,null,0]
[null,null,null,null,null,null,null,null,null,null,null,0,0,0,null,null,null,null,null,null,null,null,null,null,null,null,0]
[null,null,null,null,null,null,null,null,null,null,null,0,0,0,null,null,null,null,null,null,null,null,null,null,null,null,0]
[null,null,null,null,null,null,null,null,null,null,null,0,0,0,null,null,null,null,null,null,null,null,null,null,null,null,0]
[null,null,null,null,null,null,null,null,null,null,null,0,0,0]
[null,null,null,null,null,null,null,null,null,null,null,0,0,0]
[null,null,null,null,null,null,null,null,null,null,null,0,0,0]
[null,null,null,null,null,null,null,null,null,null,null,0,0,0]
[null,null,null,null,null,null,null,null,null,null,null,0,0,0]
[null,null,null,null,null,null,null,null,null,null,null,0,0,0]
[null,null,null,null,null,null,null,null,null,null,null,0,0,0]
[null,null,null,null,null,null,null,null,null,null,null,0,0,0]
[null,null,null,null,null,null,null,null,null,null,null,0,0,0]
[null,null,null,null,null,null,null,null,null,null,null,0,0,0]
[null,null,null,null,null,null,null,null,null,null,null,0,0,0]
[null,null,null,null,null,null,null,null,null,null,null,0,0,0]
[null,null,null,null,null,null,null,null,null,null,null,0,0,0]
[null,null,null,null,null,null,null,null,null,null,null,0,0,0]
[null,null,null,null,null,null,null,null,null,null,null,0,0,0]
[null,null,null,null,null,null,null,null,null,null,null,{"$f":"SUM(D246:K246)","v":0},0,0]
[null,null,null,null,null,null,null,null,null,null,null,0,0,0]
[null,null,null,null,null,null,null,null,null,null,null,0,0,0]
[null,null,null,null,null,null,null,null,null,null,null,0,0,0]
[null,null,null,null,null,null,null,null,null,null,null,0,0,0]
[null,null,null,null,null,null,null,null,null,null,null,0,0,0]
[null,null,null,null,null,null,null,null,null,null,null,0,0,0]
[null,null,null,null,null,null,null,null,null,null,null,0,0,0]
[null,null,null,null,null,null,null,null,null,null,null,0,0,0]
[null,null,null,null,null,null,null,null,null,null,null,0,0,0]
[null,null,null,null,null,null,null,null,null,null,null,0,0,0]
[null,null,null,null,null,null,null,null,null,null,null,0,0,0]
[null,null,null,null,null,null,null,null,null,null,null,0,0,0]
[null,null,null,null,null,null,null,null,null,null,null,0,0,0]
[null,null,null,null,null,null,null,null,null,null,null,0,0,{"$f":"MAX(L260-M260,0)","v":0}]
[null,null,null,null,null,null,null,null,null,null,null,0,0,0]
[null,null,null,null,null,null,null,null,null,null,null,{"$f":"SUM(D262:K262)","v":0},0,0,null,null,null,null,null,null,null,null,null,null,null,null,{"$f":"L262-SUM(F262,J262)","v":0}]
[null,null,null,null,null,null,null,null,null,null,null,{"$f":"SUM(D263:K263)","v":0},0,0,null,null,null,null,null,null,null,null,null,null,null,null,{"$f":"L263-SUM(F263,J263)","v":0}]
[null,null,null,null,null,null,null,null,null,null,null,0,0,0,null,null,null,null,null,null,null,null,null,null,null,null,0]
[null,null,null,null,null,null,null,null,null,null,null,0,0,0,null,null,null,null,null,null,null,null,null,null,null,null,0]
[null,null,null,null,null,null,null,null,null,null,null,0,0,0]
[null,null,null,null,null,null,null,null,null,null,null,0,0,0]
[null,null,null,null,null,null,null,null,null,null,null,0,0,0]
[null,null,null,null,null,null,null,null,null,null,null,0,0,0]
[null,null,null,null,null,null,null,null,null,null,null,0,0,0]
[null,null,null,null,null,null,null,null,null,null,null,0,0,0]
[null,null,null,null,null,null,null,null,null,null,null,0,0,0]
[null,null,null,null,null,null,null,null,null,null,null,0,{"$f":"$C$14*$C$13","v":0},0]
[null,null,null,null,null,null,null,null,null,null,null,0,0,0]
[null,null,null,null,null,null,null,null,null,null,null,0,0,0]
[null,null,null,null,null,null,null,null,null,null,null,0,0,0]
[null,null,null,null,null,null,null,null,null,null,null,0,0,0]
[null,null,null,null,null,null,null,null,null,null,null,0,0,0]
[null,null,null,null,null,null,null,null,null,null,null,0,0,0]
[null,null,null,null,null,null,null,null,null,null,null,0,0,0]
[null,null,null,null,null,null,null,null,null,null,null,0,0,0]
[null,null,null,null,null,null,null,null,null,null,null,0,0,0]
[null,null,null,null,null,null,null,null,null,null,null,0,0,0]
[null,null,null,null,null,null,null,null,null,null,null,0,0,0]
[null,null,null,null,null,null,null,null,null,null,null,0,0,0]
[null,null,null,null,null,null,null,null,null,null,null,0,0,0]
[null,null,null,null,null,null,null,null,null,null,null,0,0,0]
[null,null,null,null,null,null,null,null,null,null,null,0,0,0]
[null,null,null,null,null,null,null,null,null,null,null,0,0,0]
[null,null,null,null,null,null,null,null,null,null,null,0,0,0]
[null,null,null,null,null,null,null,null,null,null,null,0,0,0]
[null,null,null,null,null,null,null,null,null,null,null,0,0,0]
[null,null,null,null,null,null,null,null,null,null,null,0,0,0]
[null,null,null,null,null,null,null,null,null,null,null,0,0,0]
[null,null,null,null,null,null,null,null,null,null,null,0,0,0]
[null,null,null,null,null,null,null,null,null,null,null,0,0,0,null,null,null,null,null,null,null,null,null,null,null,null,{"$f":"L296-SUM(F296,J296)","v":0}]
[null,null,null,null,null,null,null,null,null,null,null,0,0,0,null,null,null,null,null,null,null,null,null,null,null,null,0]
[null,null,null,null,null,null,null,null,null,null,null,0,0,0,null,null,null,null,null,null,null,null,null,null,null,null,0]
[null,null,null,null,null,null,null,null,null,null,null,0,0,0,null,null,null,null,null,null,null,null,null,null,null,null,0]
[null,null,null,null,null,null,null,null,null,null,null,0,0,0,null,null,null,null,null,null,null,null,null,null,null,null,0]
[null,null,null,null,null,null,null,null,null,null,null,0,0,0]
[null,null,null,null,null,null,null,null,null,null,null,0,0,0,null,null,null,null,null,null,null,null,null,null,null,null,{"$f":"L302-SUM(F302,J302)","v":0}]
[null,null,null,null,null,null,null,null,null,null,null,0,0,0,null,null,null,null,null,null,null,null,null,null,null,null,0]
[null,null,null,null,null,null,null,null,null,null,null,0,0,0,null,null,null,null,null,null,null,null,null,null,null,null,0]
[null,null,null,null,null,null,null,null,null,null,null,0,0,0,null,null,null,null,null,null,null,null,null,null,null,null,0]
[null,null,null,null,null,null,null,null,null,null,null,0,0,0,null,null,null,null,null,null,null,null,null,null,null,null,0]
[null,null,null,null,null,null,null,null,null,null,null,0,0,0,null,null,null,null,null,null,null,null,null,null,null,null,0]
[null,null,null,null,null,null,null,null,null,null,null,0,0,0,null,null,null,null,null,null,null,null,null,null,null,null,0]
[null,null,null,null,null,null,null,null,null,null,null,0,0,0,null,null,null,null,null,null,null,null,null,null,null,null,0]
[null,null,null,null,null,null,null,null,null,null,null,0,0,0,null,null,null,null,null,null,null,null,null,null,null,null,0]
[null,null,null,null,null,null,null,null,null,null,null,0,0,0,null,null,null,null,null,null,null,null,null,null,null,null,0]
[null,null,null,null,null,null,null,null,null,null,null,0,0,0]
[null,null,null,null,null,null,null,null,null,null,null,0,0,0]
[null,null,null,null,null,null,null,null,null,null,null,0,0,0]
[null,null,null,null,null,null,null,null,null,null,null,0,0,0]
[null,null,null,null,null,null,null,null,null,null,null,0,0,0]
[null,null,null,null,null,null,null,null,null,null,null,0,0,0]
[null,null,null,null,null,null,null,null,null,null,null,0,0,0]
[null,null,null,null,null,null,null,null,null,null,null,0,0,0]
[null,null,null,null,null,null,null,null,null,null,null,0,0,0]
[null,null,null,null,null,null,null,null,null,null,null,0,0,0]
[null,null,null,null,null,null,null,null,null,null,null,0,0,0]
[null,null,null,null,null,null,null,null,null,null,null,0,0,0]
[null,null,null,null,null,null,null,null,null,null,null,0,0,{"$f":"MAX(L324-M324,0)","v":0}]
[null,null,null,null,null,null,null,null,null,null,null,0,0,0]
[null,null,null,null,null,null,null,null,null,null,null,0,0,0]
[null,null,null,null,null,null,null,null,null,null,null,{"$f":"SUM(D327:K327)","v":0},0,0]
[null,null,null,null,null,null,null,null,null,null,null,0,0,0]
[null,null,null,null,null,null,null,null,null,null,null,0,0,0]
[null,null,null,null,null,null,null,null,null,null,null,0,0,0]
[null,null,null,null,null,null,null,null,null,null,null,0,0,0]
[null,null,null,null,null,null,null,null,null,null,null,0,0,0]
[null,null,null,null,null,null,null,null,null,null,null,0,0,0]
[null,null,null,null,null,null,null,null,null,null,null,0,0,0]
[null,null,null,null,null,null,null,null,null,null,null,0,0,0]
[null,null,null,null,null,null,null,null,null,null,null,0,0,0]
[null,null,null,null,null,null,null,null,null,null,null,0,0,0]
[null,null,null,null,null,null,null,null,null,null,null,0,0,0]
[null,null,null,null,null,null,null,null,null,null,null,0,0,0]
[null,null,null,null,null,null,null,null,null,null,null,0,0,0]
[null,null,null,null,null,null,null,null,null,null,null,0,0,0]
[null,null,null,null,null,null,null,null,null,null,null,0,0,0]
[null,null,null,null,null,null,null,null,null,null,null,{"$f":"SUM(D343:K343)","v":0},{"$f":"$C$14*$C$13","v":0},0,null,null,null,null,null,null,null,null,null,null,null,null,{"$f":"L343-SUM(F343,J343)","v":0}]
[null,null,null,null,null,null,null,null,null,null,null,{"$f":"SUM(D344:K344)","v":0},0,0,null,null,null,null,null,null,null,null,null,null,null,null,{"$f":"L344-SUM(F344,J344)","v":0}]
[null,null,null,null,null,null,null,null,null,null,null,0,0,0,null,null,null,null,null,null,null,null,null,null,null,null,0]
[null,null,null,null,null,null,null,null,null,null,null,0,0,0,null,null,null,null,null,null,null,null,null,null,null,null,0]
[null,null,null,null,null,null,null,null,null,null,null,0,0,0]
[null,null,null,null,null,null,null,null,null,null,null,0,0,0]
[null,null,null,null,null,null,null,null,null,null,null,0,0,0]
[null,null,null,null,null,null,null,null,null,null,null,0,0,0]
[null,null,null,null,null,null,null,null,null,null,null,0,0,0]
[null,null,null,null,null,null,null,null,null,null,null,0,0,0]
[null,null,null,null,null,null,null,null,null,null,null,0,0,0]
[null,null,null,null,null,null,null,null,null,null,null,0,0,0]
[null,null,null,null,null,null,null,null,null,null,null,0,0,0]
[null,null,null,null,null,null,null,null,null,null,null,0,0,0]
[null,null,null,null,null,null,null,null,null,null,null,0,0,0]
[null,null,null,null,null,null,null,null,null,null,null,0,0,0]
[null,null,null,null,null,null,null,null,null,null,null,0,0,0]
[null,null,null,null,null,null,null,null,null,null,null,0,0,0]
[null,null,null,null,null,null,null,null,null,null,null,0,0,0]
[null,null,null,null,null,null,null,null,null,null,null,0,0,0]
[null,null,null,null,null,null,null,null,null,null,null,0,0,0]
[null,null,null,null,null,null,null,null,null,null,null,0,0,0]
[null,null,null,null,null,null,null,null,null,null,null,0,0,0]
[null,null,null,null,null,null,null,null,null,null,null,0,0,0]
[null,null,null,null,null,null,null,null,null,null,null,0,0,0]
[null,null,null,null,null,null,null,null,null,null,null,0,0,0]
[null,null,null,null,null,null,null,null,null,null,null,0,0,0]
[null,null,null,null,null,null,null,null,null,null,null,0,0,0]
[null,null,null,null,null,null,null,null,null,null,null,0,0,0]
[null,null,null,null,null,null,null,null,null,null,null,0,0,0]
[null,null,null,null,null,null,null,null,null,null,null,0,0,0]
[null,null,null,null,null,null,null,null,null,null,null,0,0,0]
[null,null,null,null,null,null,null,null,null,null,null,0,0,0]
[null,null,null,null,null,null,null,null,null,null,null,0,0,0]
[null,null,null,null,null,null,null,null,null,null,null,0,0,0,null,null,null,null,null,null,null,null,null,null,null,null,{"$f":"L377-SUM(F377,J377)","v":0}]
[null,null,null,null,null,null,null,null,null,null,null,0,0,0,null,null,null,null,null,null,null,null,null,null,null,null,0]
[null,null,null,null,null,null,null,null,null,null,null,0,0,0,null,null,null,null,null,null,null,null,null,null,null,null,0]
[null,null,null,null,null,null,null,null,null,null,null,0,0,0,null,null,null,null,null,null,null,null,null,null,null,null,0]
[null,null,null,null,null,null,null,null,null,null,null,0,0,0,null,null,null,null,null,null,null,null,null,null,null,null,0]
[null,null,null,null,null,null,null,null,null,null,null,0,0,0]
[null,null,null,null,null,null,null,null,null,null,null,0,0,0,null,null,null,null,null,null,null,null,null,null,null,null,{"$f":"L383-SUM(F383,J383)","v":0}]
[null,null,null,null,null,null,null,null,null,null,null,0,0,0,null,null,null,null,null,null,null,null,null,null,null,null,0]
[null,null,null,null,null,null,null,null,null,null,null,0,0,0,null,null,null,null,null,null,null,null,null,null,null,null,0]
[null,null,null,null,null,null,null,null,null,null,null,0,0,0,null,null,null,null,null,null,null,null,null,null,null,null,0]
[null,null,null,null,null,null,null,null,null,null,null,0,0,0,null,null,null,null,null,null,null,null,null,null,null,null,0]
[null,null,null,null,null,null,null,null,null,null,null,0,0,{"$f":"MAX(L388-M388,0)","v":0},null,null,null,null,null,null,null,null,null,null,null,null,0]
[null,null,null,null,null,null,null,null,null,null,null,0,0,0,null,null,null,null,null,null,null,null,null,null,null,null,0]
[null,null,null,null,null,null,null,null,null,null,null,0,0,0,null,null,null,null,null,null,null,null,null,null,null,null,0]
[null,null,null,null,null,null,null,null,null,null,null,0,0,0,null,null,null,null,null,null,null,null,null,null,null,null,0]
[null,null,null,null,null,null,null,null,null,null,null,0,0,0,null,null,null,null,null,null,null,null,null,null,null,null,0]
[null,null,null,null,null,null,null,null,null,null,null,0,0,0]
[null,null,null,null,null,null,null,null,null,null,null,0,0,0]
[null,null,null,null,null,null,null,null,null,null,null,0,0,0]
[null,null,null,null,null,null,null,null,null,null,null,0,0,0]
[null,null,null,null,null,null,null,null,null,null,null,0,0,0]
[null,null,null,null,null,null,null,null,null,null,null,0,0,0]
[null,null,null,null,null,null,null,null,null,null,null,0,0,0]
[null,null,null,null,null,null,null,null,null,null,null,0,0,0]
[null,null,null,null,null,null,null,null,null,null,null,0,0,0]
[null,null,null,null,null,null,null,null,null,null,null,0,0,0]
[null,null,null,null,null,null,null,null,null,null,null,0,0,0]
[null,null,null,null,null,null,null,null,null,null,null,0,0,0]
[null,null,null,null,null,null,null,null,null,null,null,0,0,0]
[null,null,null,null,null,null,null,null,null,null,null,0,0,0]
[null,null,null,null,null,null,null,null,null,null,null,0,0,0]
[null,null,null,null,null,null,null,null,null,null,null,{"$f":"SUM(D408:K408)","v":0},0,0]
[null,null,null,null,null,null,null,null,null,null,null,0,0,0]
[null,null,null,null,null,null,null,null,null,null,null,0,0,0]
[null,null,null,null,null,null,null,null,null,null,null,0,0,0]
[null,null,null,null,null,null,null,null,null,null,null,0,0,0]
[null,null,null,null,null,null,null,null,null,null,null,0,0,0]
[null,null,null,null,null,null,null,null,null,null,null,0,0,0]
[null,null,null,null,null,null,null,null,null,null,null,0,0,0]
[null,null,null,null,null,null,null,null,null,null,null,0,0,0]
[null,null,null,null,null,null,null,null,null,null,null,0,0,0]
[null,null,null,null,null,null,null,null,null,null,null,0,0,0]
[null,null,null,null,null,null,null,null,null,null,null,0,0,0]
[null,null,null,null,null,null,null,null,null,null,null,0,0,0]
[null,null,null,null,null,null,null,null,null,null,null,0,0,0]
[null,null,null,null,null,null,null,null,null,null,null,0,0,0]
[null,null,null,null,null,null,null,null,null,null,null,0,0,0]
[null,null,null,null,null,null,null,null,null,null,null,{"$f":"SUM(D424:K424)","v":0},0,0,null,null,null,null,null,null,null,null,null,null,null,null,{"$f":"L424-SUM(F424,J424)","v":0}]
[null,null,null,null,null,null,null,null,null,null,null,{"$f":"SUM(D425:K425)","v":0},0,0,null,null,null,null,null,null,null,null,null,null,null,null,{"$f":"L425-SUM(F425,J425)","v":0}]
[null,null,null,null,null,null,null,null,null,null,null,0,0,0,null,null,null,null,null,null,null,null,null,null,null,null,0]
[null,null,null,null,null,null,null,null,null,null,null,0,0,0,null,null,null,null,null,null,null,null,null,null,null,null,0]
[null,null,null,null,null,null,null,null,null,null,null,0,0,0]
[null,null,null,null,null,null,null,null,null,null,null,0,0,0]
[null,null,null,null,null,null,null,null,null,null,null,0,0,0]
[null,null,null,null,null,null,null,null,null,null,null,0,0,0]
[null,null,null,null,null,null,null,null,null,null,null,0,0,0]
[null,null,null,null,null,null,null,null,null,null,null,0,0,0]
[null,null,null,null,null,null,null,null,null,null,null,0,0,0]
[null,null,null,null,null,null,null,null,null,null,null,0,0,0]
[null,null,null,null,null,null,null,null,null,null,null,0,0,0]
[null,null,null,null,null,null,null,null,null,null,null,0,0,0]
[null,null,null,null,null,null,null,null,null,null,null,0,0,0]
[null,null,null,null,null,null,null,null,null,null,null,0,0,0]
[null,null,null,null,null,null,null,null,null,null,null,0,0,0]
[null,null,null,null,null,null,null,null,null,null,null,0,0,0]
[null,null,null,null,null,null,null,null,null,null,null,0,0,0]
[null,null,null,null,null,null,null,null,null,null,null,0,0,0]
[null,null,null,null,null,null,null,null,null,null,null,0,0,0]
[null,null,null,null,null,null,null,null,null,null,null,0,0,0]
[null,null,null,null,null,null,null,null,null,null,null,0,0,0]
[null,null,null,null,null,null,null,null,null,null,null,0,0,0]
[null,null,null,null,null,null,null,null,null,null,null,0,0,0]
[null,null,null,null,null,null,null,null,null,null,null,0,0,0]
[null,null,null,null,null,null,null,null,null,null,null,0,0,0]
[null,null,null,null,null,null,null,null,null,null,null,0,0,0]
[null,null,null,null,null,null,null,null,null,null,null,0,0,{"$f":"MAX(L452-M452,0)","v":0}]
[null,null,null,null,null,null,null,null,null,null,null,0,0,0]
[null,null,null,null,null,null,null,null,null,null,null,0,0,0]
[null,null,null,null,null,null,null,null,null,null,null,0,0,0]
[null,null,null,null,null,null,null,null,null,null,null,0,0,0]
[null,null,null,null,null,null,null,null,null,null,null,0,0,0]
[null,null,null,null,null,null,null,null,null,null,null,0,0,0,null,null,null,null,null,null,null,null,null,null,null,null,{"$f":"L458-SUM(F458,J458)","v":0}]
[null,null,null,null,null,null,null,null,null,null,null,0,0,0,null,null,null,null,null,null,null,null,null,null,null,null,0]
[null,null,null,null,null,null,null,null,null,null,null,0,0,0,null,null,null,null,null,null,null,null,null,null,null,null,0]
[null,null,null,null,null,null,null,null,null,null,null,0,0,0,null,null,null,null,null,null,null,null,null,null,null,null,0]
[null,null,null,null,null,null,null,null,null,null,null,0,0,0,null,null,null,null,null,null,null,null,null,null,null,null,0]
[null,null,null,null,null,null,null,null,null,null,null,0,0,0]
[null,null,null,null,null,null,null,null,null,null,null,0,0,0,null,null,null,null,null,null,null,null,null,null,null,null,{"$f":"L464-SUM(F464,J464)","v":0}]
[null,null,null,null,null,null,null,null,null,null,null,0,0,0,null,null,null,null,null,null,null,null,null,null,null,null,0]
[null,null,null,null,null,null,null,null,null,null,null,0,0,0,null,null,null,null,null,null,null,null,null,null,null,null,0]
[null,null,null,null,null,null,null,null,null,null,null,0,0,0,null,null,null,null,null,null,null,null,null,null,null,null,0]
[null,null,null,null,null,null,null,null,null,null,null,0,0,0,null,null,null,null,null,null,null,null,null,null,null,null,0]
[null,null,null,null,null,null,null,null,null,null,null,0,0,0,null,null,null,null,null,null,null,null,null,null,null,null,0]
[null,null,null,null,null,null,null,null,null,null,null,0,0,0,null,null,null,null,null,null,null,null,null,null,null,null,0]
[null,null,null,null,null,null,null,null,null,null,null,0,0,0,null,null,null,null,null,null,null,null,null,null,null,null,0]
[null,null,null,null,null,null,null,null,null,null,null,0,0,0,null,null,null,null,null,null,null,null,null,null,null,null,0]
[null,null,null,null,null,null,null,null,null,null,null,0,0,0,null,null,null,null,null,null,null,null,null,null,null,null,0]
[null,null,null,null,null,null,null,null,null,null,null,0,0,0]
[null,null,null,null,null,null,null,null,null,null,null,0,0,0]
[null,null,null,null,null,null,null,null,null,null,null,0,0,0]
[null,null,null,null,null,null,null,null,null,null,null,0,0,0]
[null,null,null,null,null,null,null,null,null,null,null,0,0,0]
[null,null,null,null,null,null,null,null,null,null,null,0,0,0]
[null,null,null,null,null,null,null,null,null,null,null,0,0,0]
[null,null,null,null,null,null,null,null,null,null,null,0,0,0]
[null,null,null,null,null,null,null,null,null,null,null,0,0,0]
[null,null,null,null,null,null,null,null,null,null,null,0,0,0]
[null,null,null,null,null,null,null,null,null,null,null,0,0,0]
[null,null,null,null,null,null,null,null,null,null,null,0,0,0]
[null,null,null,null,null,null,null,null,null,null,null,0,0,0]
[null,null,null,null,null,null,null,null,null,null,null,0,0,0]
[null,null,null,null,null,null,null,null,null,null,null,0,0,0]
[null,null,null,null,null,null,null,null,null,null,null,{"$f":"SUM(D489:K489)","v":0},0,0]
[null,null,null,null,null,null,null,null,null,null,null,0,0,0]
[null,null,null,null,null,null,null,null,null,null,null,0,0,0]
[null,null,null,null,null,null,null,null,null,null,null,0,0,0]
[null,null,null,null,null,null,null,null,null,null,null,0,0,0]
[null,null,null,null,null,null,null,null,null,null,null,0,0,0]
[null,null,null,null,null,null,null,null,null,null,null,0,0,0]
[null,null,null,null,null,null,null,null,null,null,null,0,0,0]
[null,null,null,null,null,null,null,null,null,null,null,0,0,0]
[null,null,null,null,null,null,null,null,null,null,null,0,0,0]
[null,null,null,null,null,null,null,null,null,null,null,0,0,0]
[null,null,null,null,null,null,null,null,null,null,null,0,0,0]
[null,null,null,null,null,null,null,null,null,null,null,0,0,0]
[null,null,null,null,null,null,null,null,null,null,null,0,0,0]
[null,null,null,null,null,null,null,null,null,null,null,0,0,0]
[null,null,null,null,null,null,null,null,null,null,null,0,0,0]
[null,null,null,null,null,null,null,null,null,null,null,{"$f":"SUM(D505:K505)","v":0},0,0,null,null,null,null,null,null,null,null,null,null,null,null,{"$f":"L505-SUM(F505,J505)","v":0}]
[null,null,null,null,null,null,null,null,null,null,null,{"$f":"SUM(D506:K506)","v":0},0,0,null,null,null,null,null,null,null,null,null,null,null,null,{"$f":"L506-SUM(F506,J506)","v":0}]
[null,null,null,null,null,null,null,null,null,null,null,0,0,0,null,null,null,null,null,null,null,null,null,null,null,null,0]
[null,null,null,null,null,null,null,null,null,null,null,0,0,0,null,null,null,null,null,null,null,null,null,null,null,null,0]
[null,null,null,null,null,null,null,null,null,null,null,0,0,0]
[null,null,null,null,null,null,null,null,null,null,null,0,0,0]
[null,null,null,null,null,null,null,null,null,null,null,0,0,0]
[null,null,null,null,null,null,null,null,null,null,null,0,0,0]
[null,null,null,null,null,null,null,null,null,null,null,0,0,0]
[null,null,null,null,null,null,null,null,null,null,null,0,0,0]
[null,null,null,null,null,null,null,null,null,null,null,0,0,0]
[null,null,null,null,null,null,null,null,null,null,null,0,0,{"$f":"MAX(L516-M516,0)","v":0}]
[null,null,null,null,null,null,null,null,null,null,null,0,0,0]
[null,null,null,null,null,null,null,null,null,null,null,0,0,0]
[null,null,null,null,null,null,null,null,null,null,null,0,0,0]
[null,null,null,null,null,null,null,null,null,null,null,0,0,0]
[null,null,null,null,null,null,null,null,null,null,null,0,0,0]
[null,null,null,null,null,null,null,null,null,null,null,0,0,0]
[null,null,null,null,null,null,null,null,null,null,null,0,0,0]
[null,null,null,null,null,null,null,null,null,null,null,0,0,0]
[null,null,null,null,null,null,null,null,null,null,null,0,0,0]
[null,null,null,null,null,null,null,null,null,null,null,0,0,0]
[null,null,null,null,null,null,null,null,null,null,null,0,0,0]
[null,null,null,null,null,null,null,null,null,null,null,0,0,0]
[null,null,null,null,null,null,null,null,null,null,null,0,0,0]
[null,null,null,null,null,null,null,null,null,null,null,0,0,0]
[null,null,null,null,null,null,null,null,null,null,null,0,0,0]
[null,null,null,null,null,null,null,null,null,null,null,0,0,0]
[null,null,null,null,null,null,null,null,null,null,null,0,0,0]
[null,null,null,null,null,null,null,null,null,null,null,0,0,0]
[null,null,null,null,null,null,null,null,null,null,null,0,0,0]
[null,null,null,null,null,null,null,null,null,null,null,0,0,0]
[null,null,null,null,null,null,null,null,null,null,null,0,0,0]
[null,null,null,null,null,null,null,null,null,null,null,0,0,0]
[null,null,null,null,null,null,null,null,null,null,null,0,0,0,null,null,null,null,null,null,null,null,null,null,null,null,{"$f":"L539-SUM(F539,J539)","v":0}]
[null,null,null,null,null,null,null,null,null,null,null,0,0,0,null,null,null,null,null,null,null,null,null,null,null,null,0]
[null,null,null,null,null,null,null,null,null,null,null,0,0,0,null,null,null,null,null,null,null,null,null,null,null,null,0]
[null,null,null,null,null,null,null,null,null,null,null,0,0,0,null,null,null,null,null,null,null,null,null,null,null,null,0]
[null,null,null,null,null,null,null,null,null,null,null,0,0,0,null,null,null,null,null,null,null,null,null,null,null,null,0]
[null,null,null,null,null,null,null,null,null,null,null,0,0,0]
[null,null,null,null,null,null,null,null,null,null,null,0,0,0,null,null,null,null,null,null,null,null,null,null,null,null,{"$f":"L545-SUM(F545,J545)","v":0}]
[null,null,null,null,null,null,null,null,null,null,null,0,0,0,null,null,null,null,null,null,null,null,null,null,null,null,0]
[null,null,null,null,null,null,null,null,null,null,null,0,0,0,null,null,null,null,null,null,null,null,null,null,null,null,0]
[null,null,null,null,null,null,null,null,null,null,null,0,0,0,null,null,null,null,null,null,null,null,null,null,null,null,0]
[null,null,null,null,null,null,null,null,null,null,null,0,0,0,null,null,null,null,null,null,null,null,null,null,null,null,0]
[null,null,null,null,null,null,null,null,null,null,null,0,0,0,null,null,null,null,null,null,null,null,null,null,null,null,0]
[null,null,null,null,null,null,null,null,null,null,null,0,0,0,null,null,null,null,null,null,null,null,null,null,null,null,0]
[null,null,null,null,null,null,null,null,null,null,null,0,0,0,null,null,null,null,null,null,null,null,null,null,null,null,0]
[null,null,null,null,null,null,null,null,null,null,null,0,0,0,null,null,null,null,null,null,null,null,null,null,null,null,0]
[null,null,null,null,null,null,null,null,null,null,null,0,0,0,null,null,null,null,null,null,null,null,null,null,null,null,0]
[null,null,null,null,null,null,null,null,null,null,null,0,0,0]
[null,null,null,null,null,null,null,null,null,null,null,0,0,0]
[null,null,null,null,null,null,null,null,null,null,null,0,0,0]
[null,null,null,null,null,null,null,null,null,null,null,0,0,0]
[null,null,null,null,null,null,null,null,null,null,null,0,0,0]
[null,null,null,null,null,null,null,null,null,null,null,0,0,0]
[null,null,null,null,null,null,null,null,null,null,null,0,0,0]
[null,null,null,null,null,null,null,null,null,null,null,0,0,0]
[null,null,null,null,null,null,null,null,null,null,null,0,0,0]
[null,null,null,null,null,null,null,null,null,null,null,0,0,0]
[null,null,null,null,null,null,null,null,null,null,null,0,0,0]
[null,null,null,null,null,null,null,null,null,null,null,0,0,0]
[null,null,null,null,null,null,null,null,null,null,null,0,0,0]
[null,null,null,null,null,null,null,null,null,null,null,0,0,0]
[null,null,null,null,null,null,null,null,null,null,null,0,0,0]
[null,null,null,null,null,null,null,null,null,null,null,{"$f":"SUM(D570:K570)","v":0},0,0]
[null,null,null,null,null,null,null,null,null,null,null,0,0,0]
[null,null,null,null,null,null,null,null,null,null,null,0,0,0]
[null,null,null,null,null,null,null,null,null,null,null,0,0,0]
[null,null,null,null,null,null,null,null,null,null,null,0,0,0]
[null,null,null,null,null,null,null,null,null,null,null,0,0,0]
[null,null,null,null,null,null,null,null,null,null,null,0,0,0]
[null,null,null,null,null,null,null,null,null,null,null,0,0,0]
[null,null,null,null,null,null,null,null,null,null,null,0,0,0]
[null,null,null,null,null,null,null,null,null,null,null,0,0,0]
[null,null,null,null,null,null,null,null,null,null,null,0,0,{"$f":"MAX(L580-M580,0)","v":0}]
[null,null,null,null,null,null,null,null,null,null,null,0,0,0]
[null,null,null,null,null,null,null,null,null,null,null,0,0,0]
[null,null,null,null,null,null,null,null,null,null,null,0,0,0]
[null,null,null,null,null,null,null,null,null,null,null,0,0,0]
[null,null,null,null,null,null,null,null,null,null,null,0,0,0]
[null,null,null,null,null,null,null,null,null,null,null,{"$f":"SUM(D586:K586)","v":0},0,0,null,null,null,null,null,null,null,null,null,null,null,null,{"$f":"L586-SUM(F586,J586)","v":0}]
[null,null,null,null,null,null,null,null,null,null,null,{"$f":"SUM(D587:K587)","v":0},0,0,null,null,null,null,null,null,null,null,null,null,null,null,{"$f":"L587-SUM(F587,J587)","v":0}]
[null,null,null,null,null,null,null,null,null,null,null,0,0,0,null,null,null,null,null,null,null,null,null,null,null,null,0]
[null,null,null,null,null,null,null,null,null,null,null,0,0,0,null,null,null,null,null,null,null,null,null,null,null,null,0]
[null,null,null,null,null,null,null,null,null,null,null,0,0,0]
[null,null,null,null,null,null,null,null,null,null,null,0,0,0]
[null,null,null,null,null,null,null,null,null,null,null,0,0,0]
[null,null,null,null,null,null,null,null,null,null,null,0,0,0]
[null,null,null,null,null,null,null,null,null,null,null,0,0,0]
[null,null,null,null,null,null,null,null,null,null,null,0,0,0]
[null,null,null,null,null,null,null,null,null,null,null,0,0,0]
[null,null,null,null,null,null,null,null,null,null,null,0,0,0]
[null,null,null,null,null,null,null,null,null,null,null,0,{"$f":"$C$14*$C$13","v":0},0]
[null,null,null,null,null,null,null,null,null,null,null,0,0,0]
[null,null,null,null,null,null,null,null,null,null,null,0,0,0]
[null,null,null,null,null,null,null,null,null,null,null,0,0,0]
[null,null,null,null,null,null,null,null,null,null,null,0,0,0]
[null,null,null,null,null,null,null,null,null,null,null,0,0,0]
[null,null,null,null,null,null,null,null,null,null,null,0,0,0]
[null,null,null,null,null,null,null,null,null,null,null,0,0,0]
[null,null,null,null,null,null,null,null,null,null,null,0,0,0]
[null,null,null,null,null,null,null,null,null,null,null,0,0,0]
[null,null,null,null,null,null,null,null,null,null,null,0,0,0]
[null,null,null,null,null,null,null,null,null,null,null,0,0,0]
[null,null,null,null,null,null,null,null,null,null,null,0,0,0]
[null,null,null,null,null,null,null,null,null,null,null,0,0,0]
[null,null,null,null,null,null,null,null,null,null,null,0,0,0]
[null,null,null,null,null,null,null,null,null,null,null,0,0,0]
[null,null,null,null,null,null,null,null,null,null,null,0,0,0]
[null,null,null,null,null,null,null,null,null,null,null,0,0,0]
[null,null,null,null,null,null,null,null,null,null,null,0,0,0]
[null,null,null,null,null,null,null,null,null,null,null,0,0,0]
[null,null,null,null,null,null,null,null,null,null,null,0,0,0]
[null,null,null,null,null,null,null,null,null,null,null,0,0,0]
[null,null,null,null,null,null,null,null,null,null,null,0,0,0,null,null,null,null,null,null,null,null,null,null,null,null,{"$f":"L620-SUM(F620,J620)","v":0}]
[null,null,null,null,null,null,null,null,null,null,null,0,0,0,null,null,null,null,null,null,null,null,null,null,null,null,0]
[null,null,null,null,null,null,null,null,null,null,null,0,0,0,null,null,null,null,null,null,null,null,null,null,null,null,0]
[null,null,null,null,null,null,null,null,null,null,null,0,0,0,null,null,null,null,null,null,null,null,null,null,null,null,0]
[null,null,null,null,null,null,null,null,null,null,null,0,0,0,null,null,null,null,null,null,null,null,null,null,null,null,0]
[null,null,null,null,null,null,null,null,null,null,null,0,0,0]
[null,null,null,null,null,null,null,null,null,null,null,0,0,0,null,null,null,null,null,null,null,null,null,null,null,null,{"$f":"L626-SUM(F626,J626)","v":0}]
[null,null,null,null,null,null,null,null,null,null,null,0,0,0,null,null,null,null,null,null,null,null,null,null,null,null,0]
[null,null,null,null,null,null,null,null,null,null,null,0,0,0,null,null,null,null,null,null,null,null,null,null,null,null,0]
[null,null,null,null,null,null,null,null,null,null,null,0,0,0,null,null,null,null,null,null,null,null,null,null,null,null,0]
[null,null,null,null,null,null,null,null,null,null,null,0,0,0,null,null,null,null,null,null,null,null,null,null,null,null,0]
[null,null,null,null,null,null,null,null,null,null,null,0,0,0,null,null,null,null,null,null,null,null,null,null,null,null,0]
[null,null,null,null,null,null,null,null,null,null,null,0,0,0,null,null,null,null,null,null,null,null,null,null,null,null,0]
[null,null,null,null,null,null,null,null,null,null,null,0,0,0,null,null,null,null,null,null,null,null,null,null,null,null,0]
[null,null,null,null,null,null,null,null,null,null,null,0,0,0,null,null,null,null,null,null,null,null,null,null,null,null,0]
[null,null,null,null,null,null,null,null,null,null,null,0,0,0,null,null,null,null,null,null,null,null,null,null,null,null,0]
[null,null,null,null,null,null,null,null,null,null,null,0,0,0]
[null,null,null,null,null,null,null,null,null,null,null,0,0,0]
[null,null,null,null,null,null,null,null,null,null,null,0,0,0]
[null,null,null,null,null,null,null,null,null,null,null,0,0,0]
[null,null,null,null,null,null,null,null,null,null,null,0,0,0]
[null,null,null,null,null,null,null,null,null,null,null,0,0,0]
[null,null,null,null,null,null,null,null,null,null,null,0,0,0]
[null,null,null,null,null,null,null,null,null,null,null,0,0,0]
[null,null,null,null,null,null,null,null,null,null,null,0,0,{"$f":"MAX(L644-M644,0)","v":0}]
[null,null,null,null,null,null,null,null,null,null,null,0,0,0]
[null,null,null,null,null,null,null,null,null,null,null,0,0,0]
[null,null,null,null,null,null,null,null,null,null,null,0,0,0]
[null,null,null,null,null,null,null,null,null,null,null,0,0,0]
[null,null,null,null,null,null,null,null,null,null,null,0,0,0]
[null,null,null,null,null,null,null,null,null,null,null,0,0,0]
[null,null,null,null,null,null,null,null,null,null,null,{"$f":"SUM(D651:K651)","v":0},0,0]
[null,null,null,null,null,null,null,null,null,null,null,0,0,0]
[null,null,null,null,null,null,null,null,null,null,null,0,0,0]
[null,null,null,null,null,null,null,null,null,null,null,0,0,0]
[null,null,null,null,null,null,null,null,null,null,null,0,0,0]
[null,null,null,null,null,null,null,null,null,null,null,0,0,0]
[null,null,null,null,null,null,null,null,null,null,null,0,0,0]
[null,null,null,null,null,null,null,null,null,null,null,0,0,0]
[null,null,null,null,null,null,null,null,null,null,null,0,0,0]
[null,null,null,null,null,null,null,null,null,null,null,0,0,0]
[null,null,null,null,null,null,null,null,null,null,null,0,0,0]
[null,null,null,null,null,null,null,null,null,null,null,0,0,0]
[null,null,null,null,null,null,null,null,null,null,null,0,0,0]
[null,null,null,null,null,null,null,null,null,null,null,0,0,0]
[null,null,null,null,null,null,null,null,null,null,null,{"$f":"SUM(D665:K665)","v":0},0,0,null,null,null,null,null,null,null,null,null,null,null,null,{"$f":"L665-SUM(F665,J665)","v":0}]
[null,null,null,null,null,null,null,null,null,null,null,{"$f":"SUM(D666:K666)","v":0},0,0,null,null,null,null,null,null,null,null,null,null,null,null,{"$f":"L666-SUM(F666,J666)","v":0}]
[null,null,null,null,null,null,null,null,null,null,null,0,0,0,null,null,null,null,null,null,null,null,null,null,null,null,0]
[null,null,null,null,null,null,null,null,null,null,null,0,0,0,null,null,null,null,null,null,null,null,null,null,null,null,0]
[null,null,null,null,null,null,null,null,null,null,null,0,0,0]
[null,null,null,null,null,null,null,null,null,null,null,0,0,0]
[null,null,null,null,null,null,null,null,null,null,null,0,0,0]
[null,null,null,null,null,null,null,null,null,null,null,0,0,0]
[null,null,null,null,null,null,null,null,null,null,null,0,0,0]
[null,null,null,null,null,null,null,null,null,null,null,0,0,0]
[null,null,null,null,null,null,null,null,null,null,null,0,0,0]
[null,null,null,null,null,null,null,null,null,null,null,0,0,0]
[null,null,null,null,null,null,null,null,null,null,null,0,0,0]
[null,null,null,null,null,null,null,null,null,null,null,0,0,0]
[null,null,null,null,null,null,null,null,null,null,null,0,0,0]
[null,null,null,null,null,null,null,null,null,null,null,0,0,0]
[null,null,null,null,null,null,null,null,null,null,null,0,0,0]
[null,null,null,null,null,null,null,null,null,null,null,0,0,0]
[null,null,null,null,null,null,null,null,null,null,null,0,0,0]
[null,null,null,null,null,null,null,null,null,null,null,0,0,0]
[null,null,null,null,null,null,null,null,null,null,null,0,0,0]
[null,null,null,null,null,null,null,null,null,null,null,0,0,0]
[null,null,null,null,null,null,null,null,null,null,null,0,0,0]
[null,null,null,null,null,null,null,null,null,null,null,0,0,0]
[null,null,null,null,null,null,null,null,null,null,null,0,0,0]
[null,null,null,null,null,null,null,null,null,null,null,0,0,0]
[null,null,null,null,null,null,null,null,null,null,null,0,0,0]
[null,null,null,null,null,null,null,null,null,null,null,0,0,0]
[null,null,null,null,null,null,null,null,null,null,null,0,0,0]
[null,null,null,null,null,null,null,null,null,null,null,0,0,0]
[null,null,null,null,null,null,null,null,null,null,null,0,0,0]
[null,null,null,null,null,null,null,null,null,null,null,0,0,0]
[null,null,null,null,null,null,null,null,null,null,null,0,0,0]
[null,null,null,null,null,null,null,null,null,null,null,0,0,0]
[null,null,null,null,null,null,null,null,null,null,null,0,0,0,null,null,null,null,null,null,null,null,null,null,null,null,{"$f":"L699-SUM(F699,J699)","v":0}]
[null,null,null,null,null,null,null,null,null,null,null,0,0,0,null,null,null,null,null,null,null,null,null,null,null,null,0]
[null,null,null,null,null,null,null,null,null,null,null,0,0,0,null,null,null,null,null,null,null,null,null,null,null,null,0]
[null,null,null,null,null,null,null,null,null,null,null,0,0,0,null,null,null,null,null,null,null,null,null,null,null,null,0]
[null,null,null,null,null,null,null,null,null,null,null,0,0,0,null,null,null,null,null,null,null,null,null,null,null,null,0]
[null,null,null,null,null,null,null,null,null,null,null,0,0,0]
[null,null,null,null,null,null,null,null,null,null,null,0,0,0,null,null,null,null,null,null,null,null,null,null,null,null,{"$f":"L705-SUM(F705,J705)","v":0}]
[null,null,null,null,null,null,null,null,null,null,null,0,0,0,null,null,null,null,null,null,null,null,null,null,null,null,0]
[null,null,null,null,null,null,null,null,null,null,null,0,0,0,null,null,null,null,null,null,null,null,null,null,null,null,0]
[null,null,null,null,null,null,null,null,null,null,null,0,0,0,null,null,null,null,null,null,null,null,null,null,null,null,0]
[null,null,null,null,null,null,null,null,null,null,null,0,0,0,null,null,null,null,null,null,null,null,null,null,null,null,0]
[null,null,null,null,null,null,null,null,null,null,null,0,0,0,null,null,null,null,null,null,null,null,null,null,null,null,0]
[null,null,null,null,null,null,null,null,null,null,null,0,0,0,null,null,null,null,null,null,null,null,null,null,null,null,0]
[null,null,null,null,null,null,null,null,null,null,null,0,0,0,null,null,null,null,null,null,null,null,null,null,null,null,0]
[null,null,null,null,null,null,null,null,null,null,null,0,0,0,null,null,null,null,null,null,null,null,null,null,null,null,0]
[null,null,null,null,null,null,null,null,null,null,null,0,0,0,null,null,null,null,null,null,null,null,null,null,null,null,0]
[null,null,null,null,null,null,null,null,null,null,null,0,0,0]
[null,null,null,null,null,null,null,null,null,null,null,0,0,0]
[null,null,null,null,null,null,null,null,null,null,null,0,0,0]
[null,null,null,null,null,null,null,null,null,null,null,0,0,0]
[null,null,null,null,null,null,null,null,null,null,null,0,0,0]
[null,null,null,null,null,null,null,null,null,null,null,0,0,0]
[null,null,null,null,null,null,null,null,null,null,null,0,0,0]
[null,null,null,null,null,null,null,null,null,null,null,0,0,0]
[null,null,null,null,null,null,null,null,null,null,null,0,0,0]
[null,null,null,null,null,null,null,null,null,null,null,0,0,0]
[null,null,null,null,null,null,null,null,null,null,null,0,0,0]
[null,null,null,null,null,null,null,null,null,null,null,0,0,0]
[null,null,null,null,null,null,null,null,null,null,null,0,0,0]
[null,null,null,null,null,null,null,null,null,null,null,0,0,0]
[null,null,null,null,null,null,null,null,null,null,null,0,0,0]
[null,null,null,null,null,null,null,null,null,null,null,{"$f":"SUM(D730:K730)","v":0},0,0]
[null,null,null,null,null,null,null,null,null,null,null,0,0,0]
[null,null,null,null,null,null,null,null,null,null,null,0,0,0]
[null,null,null,null,null,null,null,null,null,null,null,0,0,0]
[null,null,null,null,null,null,null,null,null,null,null,0,0,0]
[null,null,null,null,null,null,null,null,null,null,null,0,0,0]
[null,null,null,null,null,null,null,null,null,null,null,0,0,0]
[null,null,null,null,null,null,null,null,null,null,null,0,0,0]
[null,null,null,null,null,null,null,null,null,null,null,0,0,0]
[null,null,null,null,null,null,null,null,null,null,null,0,0,0]
[null,null,null,null,null,null,null,null,null,null,null,0,0,0]
[null,null,null,null,null,null,null,null,null,null,null,0,0,0]
[null,null,null,null,null,null,null,null,null,null,null,0,0,0]
[null,null,null,null,null,null,null,null,null,null,null,0,0,0]
[null,null,null,null,null,null,null,null,null,null,null,0,0,0]
[null,null,null,null,null,null,null,null,null,null,null,0,0,0]
[null,null,null,null,null,null,null,null,null,null,null,{"$f":"SUM(D746:K746)","v":0},0,0,null,null,null,null,null,null,null,null,null,null,null,null,{"$f":"L746-SUM(F746,J746)","v":0}]
[null,null,null,null,null,null,null,null,null,null,null,{"$f":"SUM(D747:K747)","v":0},0,0,null,null,null,null,null,null,null,null,null,null,null,null,{"$f":"L747-SUM(F747,J747)","v":0}]
[null,null,null,null,null,null,null,null,null,null,null,0,0,0,null,null,null,null,null,null,null,null,null,null,null,null,0]
[null,null,null,null,null,null,null,null,null,null,null,0,0,0,null,null,null,null,null,null,null,null,null,null,null,null,0]
[null,null,null,null,null,null,null,null,null,null,null,0,0,0]
[null,null,null,null,null,null,null,null,null,null,null,0,0,0]
[null,null,null,null,null,null,null,null,null,null,null,0,0,0]
[null,null,null,null,null,null,null,null,null,null,null,0,0,0]
[null,null,null,null,null,null,null,null,null,null,null,0,0,0]
[null,null,null,null,null,null,null,null,null,null,null,0,0,0]
[null,null,null,null,null,null,null,null,null,null,null,0,0,0]
[null,null,null,null,null,null,null,null,null,null,null,0,0,0]
[null,null,null,null,null,null,null,null,null,null,null,0,0,0]
[null,null,null,null,null,null,null,null,null,null,null,0,0,0]
[null,null,null,null,null,null,null,null,null,null,null,0,0,0]
[null,null,null,null,null,null,null,null,null,null,null,0,0,0]
[null,null,null,null,null,null,null,null,null,null,null,0,0,0]
[null,null,null,null,null,null,null,null,null,null,null,0,0,0]
[null,null,null,null,null,null,null,null,null,null,null,0,0,0]
[null,null,null,null,null,null,null,null,null,null,null,0,0,0]
[null,null,null,null,null,null,null,null,null,null,null,0,0,0]
[null,null,null,null,null,null,null,null,null,null,null,0,0,0]
[null,null,null,null,null,null,null,null,null,null,null,0,0,0]
[null,null,null,null,null,null,null,null,null,null,null,0,0,0]
[null,null,null,null,null,null,null,null,null,null,null,0,0,0]
[null,null,null,null,null,null,null,null,null,null,null,0,0,0]
[null,null,null,null,null,null,null,null,null,null,null,0,0,0]
[null,null,null,null,null,null,null,null,null,null,null,0,0,0]
[null,null,null,null,null,null,null,null,null,null,null,0,0,0]
[null,null,null,null,null,null,null,null,null,null,null,0,0,0]
[null,null,null,null,null,null,null,null,null,null,null,0,0,0]
[null,null,null,null,null,null,null,null,null,null,null,0,0,0]
[null,null,null,null,null,null,null,null,null,null,null,0,0,0]
[null,null,null,null,null,null,null,null,null,null,null,0,0,0]
[null,null,null,null,null,null,null,null,null,null,null,0,0,0,null,null,null,null,null,null,null,null,null,null,null,null,{"$f":"L780-SUM(F780,J780)","v":0}]
[null,null,null,null,null,null,null,null,null,null,null,0,0,0,null,null,null,null,null,null,null,null,null,null,null,null,0]
[null,null,null,null,null,null,null,null,null,null,null,0,0,0,null,null,null,null,null,null,null,null,null,null,null,null,0]
[null,null,null,null,null,null,null,null,null,null,null,0,0,0,null,null,null,null,null,null,null,null,null,null,null,null,0]
[null,null,null,null,null,null,null,null,null,null,null,0,0,0,null,null,null,null,null,null,null,null,null,null,null,null,0]
[null,null,null,null,null,null,null,null,null,null,null,0,0,0]
[null,null,null,null,null,null,null,null,null,null,null,0,0,0,null,null,null,null,null,null,null,null,null,null,null,null,{"$f":"L786-SUM(F786,J786)","v":0}]
[null,null,null,null,null,null,null,null,null,null,null,0,0,0,null,null,null,null,null,null,null,null,null,null,null,null,0]
[null,null,null,null,null,null,null,null,null,null,null,0,0,0,null,null,null,null,null,null,null,null,null,null,null,null,0]
[null,null,null,null,null,null,null,null,null,null,null,0,0,0,null,null,null,null,null,null,null,null,null,null,null,null,0]
[null,null,null,null,null,null,null,null,null,null,null,0,0,0,null,null,null,null,null,null,null,null,null,null,null,null,0]
[null,null,null,null,null,null,null,null,null,null,null,0,0,0,null,null,null,null,null,null,null,null,null,null,null,null,0]
[null,null,null,null,null,null,null,null,null,null,null,0,0,0,null,null,null,null,null,null,null,null,null,null,null,null,0]
[null,null,null,null,null,null,null,null,null,null,null,0,0,0,null,null,null,null,null,null,null,null,null,null,null,null,0]
[null,null,null,null,null,null,null,null,null,null,null,0,0,0,null,null,null,null,null,null,null,null,null,null,null,null,0]
[null,null,null,null,null,null,null,null,null,null,null,0,0,0,null,null,null,null,null,null,null,null,null,null,null,null,0]
[null,null,null,null,null,null,null,null,null,null,null,0,0,0]
[null,null,null,null,null,null,null,null,null,null,null,0,0,0]
[null,null,null,null,null,null,null,null,null,null,null,0,0,0]
[null,null,null,null,null,null,null,null,null,null,null,0,0,0]
[null,null,null,null,null,null,null,null,null,null,null,0,0,0]
[null,null,null,null,null,null,null,null,null,null,null,0,0,0]
[null,null,null,null,null,null,null,null,null,null,null,0,0,0]
[null,null,null,null,null,null,null,null,null,null,null,0,0,0]
[null,null,null,null,null,null,null,null,null,null,null,0,0,0]
[null,null,null,null,null,null,null,null,null,null,null,0,0,0]
[null,null,null,null,null,null,null,null,null,null,null,0,0,0]
[null,null,null,null,null,null,null,null,null,null,null,0,0,0]
[null,null,null,null,null,null,null,null,null,null,null,0,0,0]
[null,null,null,null,null,null,null,null,null,null,null,0,0,0]
[null,null,null,null,null,null,null,null,null,null,null,0,0,0]
[null,null,null,null,null,null,null,null,null,null,null,{"$f":"SUM(D811:K811)","v":0},0,0]
[null,null,null,null,null,null,null,null,null,null,null,0,0,0]
[null,null,null,null,null,null,null,null,null,null,null,0,0,0]
[null,null,null,null,null,null,null,null,null,null,null,0,0,0]
[null,null,null,null,null,null,null,null,null,null,null,0,0,0]
[null,null,null,null,null,null,null,null,null,null,null,0,0,0]
[null,null,null,null,null,null,null,null,null,null,null,0,0,0]
[null,null,null,null,null,null,null,null,null,null,null,0,0,0]
[null,null,null,null,null,null,null,null,null,null,null,0,0,0]
[null,null,null,null,null,null,null,null,null,null,null,0,0,0]
[null,null,null,null,null,null,null,null,null,null,null,0,0,0]
[null,null,null,null,null,null,null,null,null,null,null,0,0,0]
[null,null,null,null,null,null,null,null,null,null,null,0,0,0]
[null,null,null,null,null,null,null,null,null,null,null,0,0,0]
[null,null,null,null,null,null,null,null,null,null,null,0,0,0]
[null,null,null,null,null,null,null,null,null,null,null,0,0,0]
[null,null,null,null,null,null,null,null,null,null,null,{"$f":"SUM(D827:K827)","v":0},0,0,null,null,null,null,null,null,null,null,null,null,null,null,{"$f":"L827-SUM(F827,J827)","v":0}]
[null,null,null,null,null,null,null,null,null,null,null,{"$f":"SUM(D828:K828)","v":0},0,0,null,null,null,null,null,null,null,null,null,null,null,null,{"$f":"L828-SUM(F828,J828)","v":0}]
[null,null,null,null,null,null,null,null,null,null,null,0,0,0,null,null,null,null,null,null,null,null,null,null,null,null,0]
[null,null,null,null,null,null,null,null,null,null,null,0,0,0,null,null,null,null,null,null,null,null,null,null,null,null,0]
[null,null,null,null,null,null,null,null,null,null,null,0,0,0]
[null,null,null,null,null,null,null,null,null,null,null,0,0,0]
[null,null,null,null,null,null,null,null,null,null,null,0,0,0]
[null,null,null,null,null,null,null,null,null,null,null,0,0,0]
[null,null,null,null,null,null,null,null,null,null,null,0,0,0]
[null,null,null,null,null,null,null,null,null,null,null,0,0,0]
[null,null,null,null,null,null,null,null,null,null,null,0,0,0]
[null,null,null,null,null,null,null,null,null,null,null,0,0,0]
[null,null,null,null,null,null,null,null,null,null,null,0,0,0]
[null,null,null,null,null,null,null,null,null,null,null,0,0,0]
[null,null,null,null,null,null,null,null,null,null,null,0,0,0]
[null,null,null,null,null,null,null,null,null,null,null,0,0,0]
[null,null,null,null,null,null,null,null,null,null,null,0,0,0]
[null,null,null,null,null,null,null,null,null,null,null,0,0,0]
[null,null,null,null,null,null,null,null,null,null,null,0,0,0]
[null,null,null,null,null,null,null,null,null,null,null,0,0,0]
[null,null,null,null,null,null,null,null,null,null,null,0,0,0]
[null,null,null,null,null,null,null,null,null,null,null,0,0,0]
[null,null,null,null,null,null,null,null,null,null,null,0,0,0]
[null,null,null,null,null,null,null,null,null,null,null,0,0,0]
[null,null,null,null,null,null,null,null,null,null,null,0,{"$f":"$C$14*$C$13","v":0},0]
[null,null,null,null,null,null,null,null,null,null,null,0,0,0]
[null,null,null,null,null,null,null,null,null,null,null,0,0,0]
[null,null,null,null,null,null,null,null,null,null,null,0,0,0]
[null,null,null,null,null,null,null,null,null,null,null,0,0,0]
[null,null,null,null,null,null,null,null,null,null,null,0,0,0]
[null,null,null,null,null,null,null,null,null,null,null,0,0,0]
[null,null,null,null,null,null,null,null,null,null,null,0,0,0]
[null,null,null,null,null,null,null,null,null,null,null,0,0,0]
[null,null,null,null,null,null,null,null,null,null,null,0,0,0]
[null,null,null,null,null,null,null,null,null,null,null,0,0,0,null,null,null,null,null,null,null,null,null,null,null,null,{"$f":"L861-SUM(F861,J861)","v":0}]
[null,null,null,null,null,null,null,null,null,null,null,0,0,0,null,null,null,null,null,null,null,null,null,null,null,null,0]
[null,null,null,null,null,null,null,null,null,null,null,0,0,0,null,null,null,null,null,null,null,null,null,null,null,null,0]
[null,null,null,null,null,null,null,null,null,null,null,0,0,0,null,null,null,null,null,null,null,null,null,null,null,null,0]
[null,null,null,null,null,null,null,null,null,null,null,0,0,0,null,null,null,null,null,null,null,null,null,null,null,null,0]
[null,null,null,null,null,null,null,null,null,null,null,0,0,0]
[null,null,null,null,null,null,null,null,null,null,null,0,0,0,null,null,null,null,null,null,null,null,null,null,null,null,{"$f":"L867-SUM(F867,J867)","v":0}]
[null,null,null,null,null,null,null,null,null,null,null,0,0,0,null,null,null,null,null,null,null,null,null,null,null,null,0]
[null,null,null,null,null,null,null,null,null,null,null,0,0,0,null,null,null,null,null,null,null,null,null,null,null,null,0]
[null,null,null,null,null,null,null,null,null,null,null,0,0,0,null,null,null,null,null,null,null,null,null,null,null,null,0]
[null,null,null,null,null,null,null,null,null,null,null,0,0,0,null,null,null,null,null,null,null,null,null,null,null,null,0]
[null,null,null,null,null,null,null,null,null,null,null,0,0,0,null,null,null,null,null,null,null,null,null,null,null,null,0]
[null,null,null,null,null,null,null,null,null,null,null,0,0,0,null,null,null,null,null,null,null,null,null,null,null,null,0]
[null,null,null,null,null,null,null,null,null,null,null,0,0,0,null,null,null,null,null,null,null,null,null,null,null,null,0]
[null,null,null,null,null,null,null,null,null,null,null,0,0,0,null,null,null,null,null,null,null,null,null,null,null,null,0]
[null,null,null,null,null,null,null,null,null,null,null,0,0,0,null,null,null,null,null,null,null,null,null,null,null,null,0]
[null,null,null,null,null,null,null,null,null,null,null,0,0,0]
[null,null,null,null,null,null,null,null,null,null,null,0,0,0]
[null,null,null,null,null,null,null,null,null,null,null,0,0,0]
[null,null,null,null,null,null,null,null,null,null,null,0,0,0]
[null,null,null,null,null,null,null,null,null,null,null,0,0,0]
[null,null,null,null,null,null,null,null,null,null,null,0,0,0]
[null,null,null,null,null,null,null,null,null,null,null,0,0,0]
[null,null,null,null,null,null,null,null,null,null,null,0,0,0]
[null,null,null,null,null,null,null,null,null,null,null,0,0,0]
[null,null,null,null,null,null,null,null,null,null,null,0,0,0]
[null,null,null,null,null,null,null,null,null,null,null,0,0,0]
[null,null,null,null,null,null,null,null,null,null,null,0,0,0]
[null,null,null,null,null,null,null,null,null,null,null,0,0,0]
[null,null,null,null,null,null,null,null,null,null,null,0,0,0]
[null,null,null,null,null,null,null,null,null,null,null,0,0,0]
[null,null,null,null,null,null,null,null,null,null,null,{"$f":"SUM(D892:K892)","v":0},0,0]
[null,null,null,null,null,null,null,null,null,null,null,0,0,0]
[null,null,null,null,null,null,null,null,null,null,null,0,0,0]
[null,null,null,null,null,null,null,null,null,null,null,0,0,0]
[null,null,null,null,null,null,null,null,null,null,null,0,0,0]
[null,null,null,null,null,null,null,null,null,null,null,0,0,{"$f":"MAX(L897-M897,0)","v":0}]
[null,null,null,null,null,null,null,null,null,null,null,0,0,0]
[null,null,null,null,null,null,null,null,null,null,null,0,0,0]
[null,null,null,null,null,null,null,null,null,null,null,0,0,0]
[null,null,null,null,null,null,null,null,null,null,null,0,0,0]
[null,null,null,null,null,null,null,null,null,null,null,0,0,0]
[null,null,null,null,null,null,null,null,null,null,null,0,0,0]
[null,null,null,null,null,null,null,null,null,null,null,0,0,0]
[null,null,null,null,null,null,null,null,null,null,null,0,0,0]
[null,null,null,null,null,null,null,null,null,null,null,0,0,0]
[null,null,null,null,null,null,null,null,null,null,null,0,0,0]
[null,null,null,null,null,null,null,null,null,null,null,{"$f":"SUM(D908:K908)","v":0},0,0,null,null,null,null,null,null,null,null,null,null,null,null,{"$f":"L908-SUM(F908,J908)","v":0}]
[null,null,null,null,null,null,null,null,null,null,null,{"$f":"SUM(D909:K909)","v":0},0,0,null,null,null,null,null,null,null,null,null,null,null,null,{"$f":"L909-SUM(F909,J909)","v":0}]
[null,null,null,null,null,null,null,null,null,null,null,0,0,0,null,null,null,null,null,null,null,null,null,null,null,null,0]
[null,null,null,null,null,null,null,null,null,null,null,0,0,0,null,null,null,null,null,null,null,null,null,null,null,null,0]
[null,null,null,null,null,null,null,null,null,null,null,0,0,0]
[null,null,null,null,null,null,null,null,null,null,null,0,0,0]
[null,null,null,null,null,null,null,null,null,null,null,0,0,0]
[null,null,null,null,null,null,null,null,null,null,null,0,0,0]
[null,null,null,null,null,null,null,null,null,null,null,0,0,0]
[null,null,null,null,null,null,null,null,null,null,null,0,0,0]
[null,null,null,null,null,null,null,null,null,null,null,0,0,0]
[null,null,null,null,null,null,null,null,null,null,null,0,0,0]
[null,null,null,null,null,null,null,null,null,null,null,0,0,0]
[null,null,null,null,null,null,null,null,null,null,null,0,0,0]
[null,null,null,null,null,null,null,null,null,null,null,0,0,0]
[null,null,null,null,null,null,null,null,null,null,null,0,0,0]
[null,null,null,null,null,null,null,null,null,null,null,0,0,0]
[null,null,null,null,null,null,null,null,null,null,null,0,0,0]
[null,null,null,null,null,null,null,null,null,null,null,0,0,0]
[null,null,null,null,null,null,null,null,null,null,null,0,0,0]
[null,null,null,null,null,null,null,null,null,null,null,0,0,0]
[null,null,null,null,null,null,null,null,null,null,null,0,0,0]
[null,null,null,null,null,null,null,null,null,null,null,0,0,0]
[null,null,null,null,null,null,null,null,null,null,null,0,0,0]
[null,null,null,null,null,null,null,null,null,null,null,0,0,0]
[null,null,null,null,null,null,null,null,null,null,null,0,0,0]
[null,null,null,null,null,null,null,null,null,null,null,0,0,0]
[null,null,null,null,null,null,null,null,null,null,null,0,0,0]
[null,null,null,null,null,null,null,null,null,null,null,0,0,0]
[null,null,null,null,null,null,null,null,null,null,null,0,0,0]
[null,null,null,null,null,null,null,null,null,null,null,0,0,0]
[null,null,null,null,null,null,null,null,null,null,null,0,0,0]
[null,null,null,null,null,null,null,null,null,null,null,0,0,0]
[null,null,null,null,null,null,null,null,null,null,null,0,0,0]
[null,null,null,null,null,null,null,null,null,null,null,0,0,0,null,null,null,null,null,null,null,null,null,null,null,null,{"$f":"L942-SUM(F942,J942)","v":0}]
[null,null,null,null,null,null,null,null,null,null,null,0,0,0,null,null,null,null,null,null,null,null,null,null,null,null,0]
[null,null,null,null,null,null,null,null,null,null,null,0,0,0,null,null,null,null,null,null,null,null,null,null,null,null,0]
[null,null,null,null,null,null,null,null,null,null,null,0,0,0,null,null,null,null,null,null,null,null,null,null,null,null,0]
[null,null,null,null,null,null,null,null,null,null,null,0,0,0,null,null,null,null,null,null,null,null,null,null,null,null,0]
[null,null,null,null,null,null,null,null,null,null,null,0,0,0]
[null,null,null,null,null,null,null,null,null,null,null,0,0,0,null,null,null,null,null,null,null,null,null,null,null,null,{"$f":"L948-SUM(F948,J948)","v":0}]
[null,null,null,null,null,null,null,null,null,null,null,0,0,0,null,null,null,null,null,null,null,null,null,null,null,null,0]
[null,null,null,null,null,null,null,null,null,null,null,0,0,0,null,null,null,null,null,null,null,null,null,null,null,null,0]
[null,null,null,null,null,null,null,null,null,null,null,0,0,0,null,null,null,null,null,null,null,null,null,null,null,null,0]
[null,null,null,null,null,null,null,null,null,null,null,0,0,0,null,null,null,null,null,null,null,null,null,null,null,null,0]
[null,null,null,null,null,null,null,null,null,null,null,0,0,0,null,null,null,null,null,null,null,null,null,null,null,null,0]
[null,null,null,null,null,null,null,null,null,null,null,0,0,0,null,null,null,null,null,null,null,null,null,null,null,null,0]
[null,null,null,null,null,null,null,null,null,null,null,0,0,0,null,null,null,null,null,null,null,null,null,null,null,null,0]
[null,null,null,null,null,null,null,null,null,null,null,0,0,0,null,null,null,null,null,null,null,null,null,null,null,null,0]
[null,null,null,null,null,null,null,null,null,null,null,0,0,0,null,null,null,null,null,null,null,null,null,null,null,null,0]
[null,null,null,null,null,null,null,null,null,null,null,0,0,0]
[null,null,null,null,null,null,null,null,null,null,null,0,0,0]
[null,null,null,null,null,null,null,null,null,null,null,0,0,0]
[null,null,null,null,null,null,null,null,null,null,null,0,0,{"$f":"MAX(L961-M961,0)","v":0}]
[null,null,null,null,null,null,null,null,null,null,null,0,0,0]
[null,null,null,null,null,null,null,null,null,null,null,0,0,0]
[null,null,null,null,null,null,null,null,null,null,null,0,0,0]
[null,null,null,null,null,null,null,null,null,null,null,0,0,0]
[null,null,null,null,null,null,null,null,null,null,null,0,0,0]
[null,null,null,null,null,null,null,null,null,null,null,0,0,0]
[null,null,null,null,null,null,null,null,null,null,null,0,0,0]
[null,null,null,null,null,null,null,null,null,null,null,0,0,0]
[null,null,null,null,null,null,null,null,null,null,null,0,0,0]
[null,null,null,null,null,null,null,null,null,null,null,0,0,0]
[null,null,null,null,null,null,null,null,null,null,null,0,0,0]
[null,null,null,null,null,null,null,null,null,null,null,{"$f":"SUM(D973:K973)","v":0},0,0]
[null,null,null,null,null,null,null,null,null,null,null,0,0,0]
[null,null,null,null,null,null,null,null,null,null,null,0,0,0]
[null,null,null,null,null,null,null,null,null,null,null,0,0,0]
[null,null,null,null,null,null,null,null,null,null,null,0,0,0]
[null,null,null,null,null,null,null,null,null,null,null,0,0,0]
[null,null,null,null,null,null,null,null,null,null,null,0,0,0]
[null,null,null,null,null,null,null,null,null,null,null,0,0,0]
[null,null,null,null,null,null,null,null,null,null,null,0,0,0]
[null,null,null,null,null,null,null,null,null,null,null,0,0,0]
[null,null,null,null,null,null,null,null,null,null,null,0,0,0]
[null,null,null,null,null,null,null,null,null,null,null,0,0,0]
[null,null,null,null,null,null,null,null,null,null,null,0,0,0]
[null,null,null,null,null,null,null,null,null,null,null,0,0,0]
[null,null,null,null,null,null,null,null,null,null,null,0,0,0]
[null,null,null,null,null,null,null,null,null,null,null,0,0,0]
[null,null,null,null,null,null,null,null,null,null,null,{"$f":"SUM(D989:K989)","v":0},0,0,null,null,null,null,null,null,null,null,null,null,null,null,{"$f":"L989-SUM(F989,J989)","v":0}]
[null,null,null,null,null,null,null,null,null,null,null,{"$f":"SUM(D990:K990)","v":0},0,0,null,null,null,null,null,null,null,null,null,null,null,null,{"$f":"L990-SUM(F990,J990)","v":0}]
[null,null,null,null,null,null,null,null,null,null,null,0,0,0,null,null,null,null,null,null,null,null,null,null,null,null,0]
[null,null,null,null,null,null,null,null,null,null,null,0,0,0,null,null,null,null,null,null,null,null,null,null,null,null,0]
[null,null,null,null,null,null,null,null,null,null,null,0,0,0]
[null,null,null,null,null,null,null,null,null,null,null,0,0,0]
[null,null,null,null,null,null,null,null,null,null,null,0,0,0]
[null,null,null,null,null,null,null,null,null,null,null,0,0,0]
[null,null,null,null,null,null,null,null,null,null,null,0,0,0]
[null,null,null,null,null,null,null,null,null,null,null,0,0,0]
[null,null,null,null,null,null,null,null,null,null,null,0,0,0]
[null,null,null,null,null,null,null,null,null,null,null,0,0,0]
[null,null,null,null,null,null,null,null,null,null,null,0,0,0]
[null,null,null,null,null,null,null,null,null,null,null,0,0,0]
[null,null,null,null,null,null,null,null,null,null,null,0,0,0]
[null,null,null,null,null,null,null,null,null,null,null,0,0,0]
[null,null,null,null,null,null,null,null,null,null,null,0,0,0]
[null,null,null,null,null,null,null,null,null,null,null,0,0,0]
[null,null,null,null,null,null,null,null,null,null,null,0,0,0]
[null,null,null,null,null,null,null,null,null,null,null,0,0,0]
[null,null,null,null,null,null,null,null,null,null,null,0,0,0]
[null,null,null,null,null,null,null,null,null,null,null,0,0,0]
[null,null,null,null,null,null,null,null,null,null,null,0,0,0]
[null,null,null,null,null,null,null,null,null,null,null,0,0,0]
[null,null,null,null,null,null,null,null,null,null,null,0,0,0]
[null,null,null,null,null,null,null,null,null,null,null,0,0,0]
[null,null,null,null,null,null,null,null,null,null,null,0,0,0]
[null,null,null,null,null,null,null,null,null,null,null,0,0,0]
[null,null,null,null,null,null,null,null,null,null,null,0,0,0]
[null,null,null,null,null,null,null,null,null,null,null,0,0,0]
[null,null,null,null,null,null,null,null,null,null,null,0,0,0]
[null,null,null,null,null,null,null,null,null,null,null,0,0,0]
[null,null,null,null,null,null,null,null,null,null,null,0,0,0]
[null,null,null,null,null,null,null,null,null,null,null,0,0,0]
[null,null,null,null,null,null,null,null,null,null,null,0,0,0,null,null,null,null,null,null,null,null,null,null,null,null,{"$f":"L1023-SUM(F1023,J1023)","v":0}]
[null,null,null,null,null,null,null,null,null,null,null,0,0,0,null,null,null,null,null,null,null,null,null,null,null,null,0]
[null,null,null,null,null,null,null,null,null,null,null,0,0,{"$f":"MAX(L1025-M1025,0)","v":0},null,null,null,null,null,null,null,null,null,null,null,null,0]
[null,null,null,null,null,null,null,null,null,null,null,0,0,0,null,null,null,null,null,null,null,null,null,null,null,null,0]
[null,null,null,null,null,null,null,null,null,null,null,0,0,0,null,null,null,null,null,null,null,null,null,null,null,null,0]
[null,null,null,null,null,null,null,null,null,null,null,0,0,0]
[null,null,null,null,null,null,null,null,null,null,null,0,0,0,null,null,null,null,null,null,null,null,null,null,null,null,{"$f":"L1029-SUM(F1029,J1029)","v":0}]
[null,null,null,null,null,null,null,null,null,null,null,0,0,0,null,null,null,null,null,null,null,null,null,null,null,null,0]
[null,null,null,null,null,null,null,null,null,null,null,0,0,0,null,null,null,null,null,null,null,null,null,null,null,null,0]
[null,null,null,null,null,null,null,null,null,null,null,0,0,0,null,null,null,null,null,null,null,null,null,null,null,null,0]
[null,null,null,null,null,null,null,null,null,null,null,0,0,0,null,null,null,null,null,null,null,null,null,null,null,null,0]
[null,null,null,null,null,null,null,null,null,null,null,0,0,0,null,null,null,null,null,null,null,null,null,null,null,null,0]
[null,null,null,null,null,null,null,null,null,null,null,0,0,0,null,null,null,null,null,null,null,null,null,null,null,null,0]
[null,null,null,null,null,null,null,null,null,null,null,0,0,0,null,null,null,null,null,null,null,null,null,null,null,null,0]
[null,null,null,null,null,null,null,null,null,null,null,0,0,0,null,null,null,null,null,null,null,null,null,null,null,null,0]
[null,null,null,null,null,null,null,null,null,null,null,0,0,0,null,null,null,null,null,null,null,null,null,null,null,null,0]
[null,null,null,null,null,null,null,null,null,null,null,0,0,0]
[null,null,null,null,null,null,null,null,null,null,null,0,0,0]
[null,null,null,null,null,null,null,null,null,null,null,0,0,0]
[null,null,null,null,null,null,null,null,null,null,null,0,0,0]
[null,null,null,null,null,null,null,null,null,null,null,0,0,0]
[null,null,null,null,null,null,null,null,null,null,null,0,0,0]
[null,null,null,null,null,null,null,null,null,null,null,0,0,0]
[null,null,null,null,null,null,null,null,null,null,null,0,0,0]
[null,null,null,null,null,null,null,null,null,null,null,0,0,0]
[null,null,null,null,null,null,null,null,null,null,null,0,0,0]
[null,null,null,null,null,null,null,null,null,null,null,0,0,0]
[null,null,null,null,null,null,null,null,null,null,null,0,0,0]
[null,null,null,null,null,null,null,null,null,null,null,0,0,0]
[null,null,null,null,null,null,null,null,null,null,null,0,0,0]
[null,null,null,null,null,null,null,null,null,null,null,0,0,0]
[null,null,null,null,null,null,null,null,null,null,null,{"$f":"SUM(D1054:K1054)","v":0},0,0]
[null,null,null,null,null,null,null,null,null,null,null,0,0,0]
[null,null,null,null,null,null,null,null,null,null,null,0,0,0]
[null,null,null,null,null,null,null,null,null,null,null,0,0,0]
[null,null,null,null,null,null,null,null,null,null,null,0,0,0]
[null,null,null,null,null,null,null,null,null,null,null,0,0,0]
[null,null,null,null,null,null,null,null,null,null,null,0,0,0]
[null,null,null,null,null,null,null,null,null,null,null,0,0,0]
[null,null,null,null,null,null,null,null,null,null,null,0,0,0]
[null,null,null,null,null,null,null,null,null,null,null,0,0,0]
[null,null,null,null,null,null,null,null,null,null,null,0,0,0]
[null,null,null,null,null,null,null,null,null,null,null,0,0,0]
[null,null,null,null,null,null,null,null,null,null,null,0,0,0]
[null,null,null,null,null,null,null,null,null,null,null,0,0,0]
[null,null,null,null,null,null,null,null,null,null,null,0,0,0]
[null,null,null,null,null,null,null,null,null,null,null,0,0,0]
[null,null,null,null,null,null,null,null,null,null,null,{"$f":"SUM(D1070:K1070)","v":0},0,0,null,null,null,null,null,null,null,null,null,null,null,null,{"$f":"L1070-SUM(F1070,J1070)","v":0}]
[null,null,null,null,null,null,null,null,null,null,null,{"$f":"SUM(D1071:K1071)","v":0},0,0,null,null,null,null,null,null,null,null,null,null,null,null,{"$f":"L1071-SUM(F1071,J1071)","v":0}]
[null,null,null,null,null,null,null,null,null,null,null,0,0,0,null,null,null,null,null,null,null,null,null,null,null,null,0]
[null,null,null,null,null,null,null,null,null,null,null,0,0,0,null,null,null,null,null,null,null,null,null,null,null,null,0]
[null,null,null,null,null,null,null,null,null,null,null,0,0,0]
[null,null,null,null,null,null,null,null,null,null,null,0,0,0]
[null,null,null,null,null,null,null,null,null,null,null,0,0,0]
[null,null,null,null,null,null,null,null,null,null,null,0,0,0]
[null,null,null,null,null,null,null,null,null,null,null,0,0,0]
[null,null,null,null,null,null,null,null,null,null,null,0,0,0]
[null,null,null,null,null,null,null,null,null,null,null,0,0,0]
[null,null,null,null,null,null,null,null,null,null,null,0,0,0]
[null,null,null,null,null,null,null,null,null,null,null,0,0,0]
[null,null,null,null,null,null,null,null,null,null,null,0,0,0]
[null,null,null,null,null,null,null,null,null,null,null,0,0,0]
[null,null,null,null,null,null,null,null,null,null,null,0,0,0]
[null,null,null,null,null,null,null,null,null,null,null,0,0,0]
[null,null,null,null,null,null,null,null,null,null,null,0,0,0]
[null,null,null,null,null,null,null,null,null,null,null,0,0,0]
[null,null,null,null,null,null,null,null,null,null,null,0,0,{"$f":"MAX(L1089-M1089,0)","v":0}]
[null,null,null,null,null,null,null,null,null,null,null,0,0,0]
[null,null,null,null,null,null,null,null,null,null,null,0,0,0]
[null,null,null,null,null,null,null,null,null,null,null,0,0,0]
[null,null,null,null,null,null,null,null,null,null,null,0,0,0]
[null,null,null,null,null,null,null,null,null,null,null,0,0,0]
[null,null,null,null,null,null,null,null,null,null,null,0,0,0]
[null,null,null,null,null,null,null,null,null,null,null,0,0,0]
[null,null,null,null,null,null,null,null,null,null,null,0,0,0]
[null,null,null,null,null,null,null,null,null,null,null,0,0,0]
[null,null,null,null,null,null,null,null,null,null,null,0,0,0]
[null,null,null,null,null,null,null,null,null,null,null,0,0,0]
[null,null,null,null,null,null,null,null,null,null,null,0,0,0]
[null,null,null,null,null,null,null,null,null,null,null,0,0,0]
[null,null,null,null,null,null,null,null,null,null,null,0,0,0]
[null,null,null,null,null,null,null,null,null,null,null,0,0,0,null,null,null,null,null,null,null,null,null,null,null,null,{"$f":"L1104-SUM(F1104,J1104)","v":0}]
[null,null,null,null,null,null,null,null,null,null,null,0,0,0,null,null,null,null,null,null,null,null,null,null,null,null,0]
[null,null,null,null,null,null,null,null,null,null,null,0,{"$f":"$C$14*$C$13","v":0},0,null,null,null,null,null,null,null,null,null,null,null,null,0]
[null,null,null,null,null,null,null,null,null,null,null,0,0,0,null,null,null,null,null,null,null,null,null,null,null,null,0]
[null,null,null,null,null,null,null,null,null,null,null,0,0,0,null,null,null,null,null,null,null,null,null,null,null,null,0]
[null,null,null,null,null,null,null,null,null,null,null,0,0,0]
[null,null,null,null,null,null,null,null,null,null,null,0,0,0,null,null,null,null,null,null,null,null,null,null,null,null,{"$f":"L1110-SUM(F1110,J1110)","v":0}]
[null,null,null,null,null,null,null,null,null,null,null,0,0,0,null,null,null,null,null,null,null,null,null,null,null,null,0]
[null,null,null,null,null,null,null,null,null,null,null,0,0,0,null,null,null,null,null,null,null,null,null,null,null,null,0]
[null,null,null,null,null,null,null,null,null,null,null,0,0,0,null,null,null,null,null,null,null,null,null,null,null,null,0]
[null,null,null,null,null,null,null,null,null,null,null,0,0,0,null,null,null,null,null,null,null,null,null,null,null,null,0]
[null,null,null,null,null,null,null,null,null,null,null,0,0,0,null,null,null,null,null,null,null,null,null,null,null,null,0]
[null,null,null,null,null,null,null,null,null,null,null,0,0,0,null,null,null,null,null,null,null,null,null,null,null,null,0]
[null,null,null,null,null,null,null,null,null,null,null,0,0,0,null,null,null,null,null,null,null,null,null,null,null,null,0]
[null,null,null,null,null,null,null,null,null,null,null,0,0,0,null,null,null,null,null,null,null,null,null,null,null,null,0]
[null,null,null,null,null,null,null,null,null,null,null,0,0,0,null,null,null,null,null,null,null,null,null,null,null,null,0]
[null,null,null,null,null,null,null,null,null,null,null,0,0,0]
[null,null,null,null,null,null,null,null,null,null,null,0,0,0]
[null,null,null,null,null,null,null,null,null,null,null,0,0,0]
[null,null,null,null,null,null,null,null,null,null,null,0,0,0]
[null,null,null,null,null,null,null,null,null,null,null,0,0,0]
[null,null,null,null,null,null,null,null,null,null,null,0,0,0]
[null,null,null,null,null,null,null,null,null,null,null,0,0,0]
[null,null,null,null,null,null,null,null,null,null,null,0,0,0]
[null,null,null,null,null,null,null,null,null,null,null,0,0,0]
[null,null,null,null,null,null,null,null,null,null,null,0,0,0]
[null,null,null,null,null,null,null,null,null,null,null,0,0,0]
[null,null,null,null,null,null,null,null,null,null,null,0,0,0]
[null,null,null,null,null,null,null,null,null,null,null,0,0,0]
[null,null,null,null,null,null,null,null,null,null,null,0,0,0]
[null,null,null,null,null,null,null,null,null,null,null,0,0,0]
[null,null,null,null,null,null,null,null,null,null,null,{"$f":"SUM(D1135:K1135)","v":0},0,0]
[null,null,null,null,null,null,null,null,null,null,null,0,0,0]
[null,null,null,null,null,null,null,null,null,null,null,0,0,0]
[null,null,null,null,null,null,null,null,null,null,null,0,0,0]
[null,null,null,null,null,null,null,null,null,null,null,0,0,0]
[null,null,null,null,null,null,null,null,null,null,null,0,0,0]
[null,null,null,null,null,null,null,null,null,null,null,0,0,0]
[null,null,null,null,null,null,null,null,null,null,null,0,0,0]
[null,null,null,null,null,null,null,null,null,null,null,0,0,0]
[null,null,null,null,null,null,null,null,null,null,null,0,0,0]
[null,null,null,null,null,null,null,null,null,null,null,0,0,0]
[null,null,null,null,null,null,null,null,null,null,null,0,0,0]
[null,null,null,null,null,null,null,null,null,null,null,0,0,0]
[null,null,null,null,null,null,null,null,null,null,null,0,0,0]
[null,null,null,null,null,null,null,null,null,null,null,0,0,0]
[null,null,null,null,null,null,null,null,null,null,null,0,0,0]
[null,null,null,null,null,null,null,null,null,null,null,{"$f":"SUM(D1151:K1151)","v":0},0,0,null,null,null,null,null,null,null,null,null,null,null,null,{"$f":"L1151-SUM(F1151,J1151)","v":0}]
[null,null,null,null,null,null,null,null,null,null,null,{"$f":"SUM(D1152:K1152)","v":0},0,0,null,null,null,null,null,null,null,null,null,null,null,null,{"$f":"L1152-SUM(F1152,J1152)","v":0}]
[null,null,null,null,null,null,null,null,null,null,null,0,0,{"$f":"MAX(L1153-M1153,0)","v":0},null,null,null,null,null,null,null,null,null,null,null,null,0]
[null,null,null,null,null,null,null,null,null,null,null,0,0,0,null,null,null,null,null,null,null,null,null,null,null,null,0]
[null,null,null,null,null,null,null,null,null,null,null,0,0,0]
[null,null,null,null,null,null,null,null,null,null,null,0,0,0]
[null,null,null,null,null,null,null,null,null,null,null,0,0,0]
[null,null,null,null,null,null,null,null,null,null,null,0,0,0]
[null,null,null,null,null,null,null,null,null,null,null,0,0,0]
[null,null,null,null,null,null,null,null,null,null,null,0,0,0]
[null,null,null,null,null,null,null,null,null,null,null,0,0,0]
[null,null,null,null,null,null,null,null,null,null,null,0,0,0]
[null,null,null,null,null,null,null,null,null,null,null,0,0,0]
[null,null,null,null,null,null,null,null,null,null,null,0,0,0]
[null,null,null,null,null,null,null,null,null,null,null,0,0,0]
[null,null,null,null,null,null,null,null,null,null,null,0,0,0]
[null,null,null,null,null,null,null,null,null,null,null,0,0,0]
[null,null,null,null,null,null,null,null,null,null,null,0,0,0]
[null,null,null,null,null,null,null,null,null,null,null,0,0,0]
[null,null,null,null,null,null,null,null,null,null,null,0,0,0]
[null,null,null,null,null,null,null,null,null,null,null,0,0,0]
[null,null,null,null,null,null,null,null,null,null,null,0,0,0]
[null,null,null,null,null,null,null,null,null,null,null,0,0,0]
[null,null,null,null,null,null,null,null,null,null,null,0,0,0]
[null,null,null,null,null,null,null,null,null,null,null,0,0,0]
[null,null,null,null,null,null,null,null,null,null,null,0,0,0]
[null,null,null,null,null,null,null,null,null,null,null,0,0,0]
[null,null,null,null,null,null,null,null,null,null,null,0,0,0]
[null,null,null,null,null,null,null,null,null,null,null,0,0,0]
[null,null,null,null,null,null,null,null,null,null,null,0,0,0]
[null,null,null,null,null,null,null,null,null,null,null,0,0,0]
[null,null,null,null,null,null,null,null,null,null,null,0,0,0]
[null,null,null,null,null,null,null,null,null,null,null,0,0,0]
[null,null,null,null,null,null,null,null,null,null,null,0,0,0]
[null,null,null,null,null,null,null,null,null,null,null,0,0,0,null,null,null,null,null,null,null,null,null,null,null,null,{"$f":"L1185-SUM(F1185,J1185)","v":0}]
[null,null,null,null,null,null,null,null,null,null,null,0,0,0,null,null,null,null,null,null,null,null,null,null,null,null,0]
[null,null,null,null,null,null,null,null,null,null,null,0,0,0,null,null,null,null,null,null,null,null,null,null,null,null,0]
[null,null,null,null,null,null,null,null,null,null,null,0,0,0,null,null,null,null,null,null,null,null,null,null,null,null,0]
[null,null,null,null,null,null,null,null,null,null,null,0,0,0,null,null,null,null,null,null,null,null,null,null,null,null,0]
[null,null,null,null,null,null,null,null,null,null,null,0,0,0]
[null,null,null,null,null,null,null,null,null,null,null,0,0,0,null,null,null,null,null,null,null,null,null,null,null,null,{"$f":"L1191-SUM(F1191,J1191)","v":0}]
[null,null,null,null,null,null,null,null,null,null,null,0,0,0,null,null,null,null,null,null,null,null,null,null,null,null,0]
[null,null,null,null,null,null,null,null,null,null,null,0,0,0,null,null,null,null,null,null,null,null,null,null,null,null,0]
[null,null,null,null,null,null,null,null,null,null,null,0,0,0,null,null,null,null,null,null,null,null,null,null,null,null,0]
[null,null,null,null,null,null,null,null,null,null,null,0,0,0,null,null,null,null,null,null,null,null,null,null,null,null,0]
[null,null,null,null,null,null,null,null,null,null,null,0,0,0,null,null,null,null,null,null,null,null,null,null,null,null,0]
[null,null,null,null,null,null,null,null,null,null,null,0,0,0,null,null,null,null,null,null,null,null,null,null,null,null,0]
[null,null,null,null,null,null,null,null,null,null,null,0,0,0,null,null,null,null,null,null,null,null,null,null,null,null,0]
[null,null,null,null,null,null,null,null,null,null,null,0,0,0,null,null,null,null,null,null,null,null,null,null,null,null,0]
[null,null,null,null,null,null,null,null,null,null,null,0,0,0,null,null,null,null,null,null,null,null,null,null,null,null,0]
[null,null,null,null,null,null,null,null,null,null,null,0,0,0]
[null,null,null,null,null,null,null,null,null,null,null,0,0,0]
[null,null,null,null,null,null,null,null,null,null,null,0,0,0]
[null,null,null,null,null,null,null,null,null,null,null,0,0,0]
[null,null,null,null,null,null,null,null,null,null,null,0,0,0]
[null,null,null,null,null,null,null,null,null,null,null,0,0,0]
[null,null,null,null,null,null,null,null,null,null,null,0,0,0]
[null,null,null,null,null,null,null,null,null,null,null,0,0,0]
[null,null,null,null,null,null,null,null,null,null,null,0,0,0]
[null,null,null,null,null,null,null,null,null,null,null,0,0,0]
[null,null,null,null,null,null,null,null,null,null,null,0,0,0]
[null,null,null,null,null,null,null,null,null,null,null,0,0,0]
[null,null,null,null,null,null,null,null,null,null,null,0,0,0]
[null,null,null,null,null,null,null,null,null,null,null,0,0,0]
[null,null,null,null,null,null,null,null,null,null,null,0,0,0]
[null,null,null,null,null,null,null,null,null,null,null,{"$f":"SUM(D1216:K1216)","v":0},0,0]
[null,null,null,null,null,null,null,null,null,null,null,0,0,{"$f":"MAX(L1217-M1217,0)","v":0}]
[null,null,null,null,null,null,null,null,null,null,null,0,0,0]
[null,null,null,null,null,null,null,null,null,null,null,0,0,0]
[null,null,null,null,null,null,null,null,null,null,null,0,0,0]
[null,null,null,null,null,null,null,null,null,null,null,0,0,0]
[null,null,null,null,null,null,null,null,null,null,null,0,0,0]
[null,null,null,null,null,null,null,null,null,null,null,0,0,0]
[null,null,null,null,null,null,null,null,null,null,null,0,0,0]
[null,null,null,null,null,null,null,null,null,null,null,0,0,0]
[null,null,null,null,null,null,null,null,null,null,null,0,0,0]
[null,null,null,null,null,null,null,null,null,null,null,0,0,0]
[null,null,null,null,null,null,null,null,null,null,null,0,0,0]
[null,null,null,null,null,null,null,null,null,null,null,0,0,0]
[null,null,null,null,null,null,null,null,null,null,null,0,0,0]
[null,null,null,null,null,null,null,null,null,null,null,0,0,0]
[null,null,null,null,null,null,null,null,null,null,null,{"$f":"SUM(D1232:K1232)","v":0},0,0,null,null,null,null,null,null,null,null,null,null,null,null,{"$f":"L1232-SUM(F1232,J1232)","v":0}]
[null,null,null,null,null,null,null,null,null,null,null,{"$f":"SUM(D1233:K1233)","v":0},0,0,null,null,null,null,null,null,null,null,null,null,null,null,{"$f":"L1233-SUM(F1233,J1233)","v":0}]
[null,null,null,null,null,null,null,null,null,null,null,0,0,0,null,null,null,null,null,null,null,null,null,null,null,null,0]
[null,null,null,null,null,null,null,null,null,null,null,0,0,0,null,null,null,null,null,null,null,null,null,null,null,null,0]
[null,null,null,null,null,null,null,null,null,null,null,0,0,0]
[null,null,null,null,null,null,null,null,null,null,null,0,0,0]
[null,null,null,null,null,null,null,null,null,null,null,0,0,0]
[null,null,null,null,null,null,null,null,null,null,null,0,0,0]
[null,null,null,null,null,null,null,null,null,null,null,0,0,0]
[null,null,null,null,null,null,null,null,null,null,null,0,0,0]
[null,null,null,null,null,null,null,null,null,null,null,0,0,0]
[null,null,null,null,null,null,null,null,null,null,null,0,0,0]
[null,null,null,null,null,null,null,null,null,null,null,0,0,0]
[null,null,null,null,null,null,null,null,null,null,null,0,0,0]
[null,null,null,null,null,null,null,null,null,null,null,0,0,0]
[null,null,null,null,null,null,null,null,null,null,null,0,0,0]
[null,null,null,null,null,null,null,null,null,null,null,0,0,0]
[null,null,null,null,null,null,null,null,null,null,null,0,0,0]
[null,null,null,null,null,null,null,null,null,null,null,0,0,0]
[null,null,null,null,null,null,null,null,null,null,null,0,0,0]
[null,null,null,null,null,null,null,null,null,null,null,0,0,0]
[null,null,null,null,null,null,null,null,null,null,null,0,0,0]
[null,null,null,null,null,null,null,null,null,null,null,0,0,0]
[null,null,null,null,null,null,null,null,null,null,null,0,0,0]
[null,null,null,null,null,null,null,null,null,null,null,0,0,0]
[null,null,null,null,null,null,null,null,null,null,null,0,0,0]
[null,null,null,null,null,null,null,null,null,null,null,0,0,0]
[null,null,null,null,null,null,null,null,null,null,null,0,0,0]
[null,null,null,null,null,null,null,null,null,null,null,0,0,0]
[null,null,null,null,null,null,null,null,null,null,null,0,0,0]
[null,null,null,null,null,null,null,null,null,null,null,0,0,0]
[null,null,null,null,null,null,null,null,null,null,null,0,0,0]
[null,null,null,null,null,null,null,null,null,null,null,0,0,0]
[null,null,null,null,null,null,null,null,null,null,null,0,0,0]
[null,null,null,null,null,null,null,null,null,null,null,0,0,0,null,null,null,null,null,null,null,null,null,null,null,null,{"$f":"L1266-SUM(F1266,J1266)","v":0}]
[null,null,null,null,null,null,null,null,null,null,null,0,0,0,null,null,null,null,null,null,null,null,null,null,null,null,0]
[null,null,null,null,null,null,null,null,null,null,null,0,0,0,null,null,null,null,null,null,null,null,null,null,null,null,0]
[null,null,null,null,null,null,null,null,null,null,null,0,0,0,null,null,null,null,null,null,null,null,null,null,null,null,0]
[null,null,null,null,null,null,null,null,null,null,null,0,0,0,null,null,null,null,null,null,null,null,null,null,null,null,0]
[null,null,null,null,null,null,null,null,null,null,null,0,0,0]
[null,null,null,null,null,null,null,null,null,null,null,0,0,0,null,null,null,null,null,null,null,null,null,null,null,null,{"$f":"L1272-SUM(F1272,J1272)","v":0}]
[null,null,null,null,null,null,null,null,null,null,null,0,0,0,null,null,null,null,null,null,null,null,null,null,null,null,0]
[null,null,null,null,null,null,null,null,null,null,null,0,0,0,null,null,null,null,null,null,null,null,null,null,null,null,0]
[null,null,null,null,null,null,null,null,null,null,null,0,0,0,null,null,null,null,null,null,null,null,null,null,null,null,0]
[null,null,null,null,null,null,null,null,null,null,null,0,0,0,null,null,null,null,null,null,null,null,null,null,null,null,0]
[null,null,null,null,null,null,null,null,null,null,null,0,0,0,null,null,null,null,null,null,null,null,null,null,null,null,0]
[null,null,null,null,null,null,null,null,null,null,null,0,0,0,null,null,null,null,null,null,null,null,null,null,null,null,0]
[null,null,null,null,null,null,null,null,null,null,null,0,0,0,null,null,null,null,null,null,null,null,null,null,null,null,0]
[null,null,null,null,null,null,null,null,null,null,null,0,0,0,null,null,null,null,null,null,null,null,null,null,null,null,0]
[null,null,null,null,null,null,null,null,null,null,null,0,0,{"$f":"MAX(L1281-M1281,0)","v":0},null,null,null,null,null,null,null,null,null,null,null,null,0]
[null,null,null,null,null,null,null,null,null,null,null,0,0,0]
[null,null,null,null,null,null,null,null,null,null,null,0,0,0]
[null,null,null,null,null,null,null,null,null,null,null,0,0,0]
[null,null,null,null,null,null,null,null,null,null,null,0,0,0]
[null,null,null,null,null,null,null,null,null,null,null,0,0,0]
[null,null,null,null,null,null,null,null,null,null,null,0,0,0]
[null,null,null,null,null,null,null,null,null,null,null,0,0,0]
[null,null,null,null,null,null,null,null,null,null,null,0,0,0]
[null,null,null,null,null,null,null,null,null,null,null,0,0,0]
[null,null,null,null,null,null,null,null,null,null,null,0,0,0]
[null,null,null,null,null,null,null,null,null,null,null,0,0,0]
[null,null,null,null,null,null,null,null,null,null,null,0,0,0]
[null,null,null,null,null,null,null,null,null,null,null,0,0,0]
[null,null,null,null,null,null,null,null,null,null,null,0,0,0]
[null,null,null,null,null,null,null,null,null,null,null,0,0,0]
[null,null,null,null,null,null,null,null,null,null,null,{"$f":"SUM(D1297:K1297)","v":0},0,0]
[null,null,null,null,null,null,null,null,null,null,null,0,0,0]
[null,null,null,null,null,null,null,null,null,null,null,0,0,0]
[null,null,null,null,null,null,null,null,null,null,null,0,0,0]
[null,null,null,null,null,null,null,null,null,null,null,0,0,0]
[null,null,null,null,null,null,null,null,null,null,null,0,0,0]
[null,null,null,null,null,null,null,null,null,null,null,0,0,0]
[null,null,null,null,null,null,null,null,null,null,null,0,0,0]
[null,null,null,null,null,null,null,null,null,null,null,0,0,0]
[null,null,null,null,null,null,null,null,null,null,null,0,0,0]
[null,null,null,null,null,null,null,null,null,null,null,0,0,0]
[null,null,null,null,null,null,null,null,null,null,null,0,0,0]
[null,null,null,null,null,null,null,null,null,null,null,0,0,0]
[null,null,null,null,null,null,null,null,null,null,null,0,0,0]
[null,null,null,null,null,null,null,null,null,null,null,{"$f":"SUM(D1311:K1311)","v":0},{"$f":"$C$14*$C$13","v":0},{"$f":"MAX(L1311-M1311,0)","v":0},null,null,null,null,null,null,null,null,null,null,null,null,{"$f":"L1311-SUM(F1311,J1311)","v":0}]
[null,null,null,null,null,null,null,null,null,null,null,{"$f":"SUM(D1312:K1312)","v":0},0,0,null,null,null,null,null,null,null,null,null,null,null,null,{"$f":"L1312-SUM(F1312,J1312)","v":0}]
[null,null,null,null,null,null,null,null,null,null,null,0,0,0,null,null,null,null,null,null,null,null,null,null,null,null,0]
[null,null,null,null,null,null,null,null,null,null,null,0,0,0,null,null,null,null,null,null,null,null,null,null,null,null,0]
[null,null,null,null,null,null,null,null,null,null,null,0,0,0]
[null,null,null,null,null,null,null,null,null,null,null,0,0,0]
[null,null,null,null,null,null,null,null,null,null,null,0,0,0]
[null,null,null,null,null,null,null,null,null,null,null,0,0,0]
[null,null,null,null,null,null,null,null,null,null,null,0,0,0]
[null,null,null,null,null,null,null,null,null,null,null,0,0,0]
[null,null,null,null,null,null,null,null,null,null,null,0,0,0]
[null,null,null,null,null,null,null,null,null,null,null,0,0,0]
[null,null,null,null,null,null,null,null,null,null,null,0,0,0]
[null,null,null,null,null,null,null,null,null,null,null,0,0,0]
[null,null,null,null,null,null,null,null,null,null,null,0,0,0]
[null,null,null,null,null,null,null,null,null,null,null,0,0,0]
[null,null,null,null,null,null,null,null,null,null,null,0,0,0]
[null,null,null,null,null,null,null,null,null,null,null,0,0,0]
[null,null,null,null,null,null,null,null,null,null,null,0,0,0]
[null,null,null,null,null,null,null,null,null,null,null,0,0,0]
[null,null,null,null,null,null,null,null,null,null,null,0,0,0]
[null,null,null,null,null,null,null,null,null,null,null,0,0,0]
[null,null,null,null,null,null,null,null,null,null,null,0,0,0]
[null,null,null,null,null,null,null,null,null,null,null,0,0,0]
[null,null,null,null,null,null,null,null,null,null,null,0,0,0]
[null,null,null,null,null,null,null,null,null,null,null,0,0,0]
[null,null,null,null,null,null,null,null,null,null,null,0,0,0]
[null,null,null,null,null,null,null,null,null,null,null,0,0,0]
[null,null,null,null,null,null,null,null,null,null,null,0,0,0]
[null,null,null,null,null,null,null,null,null,null,null,0,0,0]
[null,null,null,null,null,null,null,null,null,null,null,0,0,0]
[null,null,null,null,null,null,null,null,null,null,null,0,0,0]
[null,null,null,null,null,null,null,null,null,null,null,0,0,0]
[null,null,null,null,null,null,null,null,null,null,null,0,0,0]
[null,null,null,null,null,null,null,null,null,null,null,0,0,0,null,null,null,null,null,null,null,null,null,null,null,null,{"$f":"L1345-SUM(F1345,J1345)","v":0}]
[null,null,null,null,null,null,null,null,null,null,null,0,0,0,null,null,null,null,null,null,null,null,null,null,null,null,0]
[null,null,null,null,null,null,null,null,null,null,null,0,0,0,null,null,null,null,null,null,null,null,null,null,null,null,0]
[null,null,null,null,null,null,null,null,null,null,null,0,0,0,null,null,null,null,null,null,null,null,null,null,null,null,0]
[null,null,null,null,null,null,null,null,null,null,null,0,0,0,null,null,null,null,null,null,null,null,null,null,null,null,0]
[null,null,null,null,null,null,null,null,null,null,null,0,0,0]
[null,null,null,null,null,null,null,null,null,null,null,0,0,0,null,null,null,null,null,null,null,null,null,null,null,null,{"$f":"L1351-SUM(F1351,J1351)","v":0}]
[null,null,null,null,null,null,null,null,null,null,null,0,0,0,null,null,null,null,null,null,null,null,null,null,null,null,0]
[null,null,null,null,null,null,null,null,null,null,null,0,0,0,null,null,null,null,null,null,null,null,null,null,null,null,0]
[null,null,null,null,null,null,null,null,null,null,null,0,0,0,null,null,null,null,null,null,null,null,null,null,null,null,0]
[null,null,null,null,null,null,null,null,null,null,null,0,0,0,null,null,null,null,null,null,null,null,null,null,null,null,0]
[null,null,null,null,null,null,null,null,null,null,null,0,0,0,null,null,null,null,null,null,null,null,null,null,null,null,0]
[null,null,null,null,null,null,null,null,null,null,null,0,0,0,null,null,null,null,null,null,null,null,null,null,null,null,0]
[null,null,null,null,null,null,null,null,null,null,null,0,0,0,null,null,null,null,null,null,null,null,null,null,null,null,0]
[null,null,null,null,null,null,null,null,null,null,null,0,0,0,null,null,null,null,null,null,null,null,null,null,null,null,0]
[null,null,null,null,null,null,null,null,null,null,null,0,0,0,null,null,null,null,null,null,null,null,null,null,null,null,0]
[null,null,null,null,null,null,null,null,null,null,null,0,0,0]
[null,null,null,null,null,null,null,null,null,null,null,0,0,0]
[null,null,null,null,null,null,null,null,null,null,null,0,0,0]
[null,null,null,null,null,null,null,null,null,null,null,0,0,0]
[null,null,null,null,null,null,null,null,null,null,null,0,0,0]
[null,null,null,null,null,null,null,null,null,null,null,0,0,0]
[null,null,null,null,null,null,null,null,null,null,null,0,0,0]
[null,null,null,null,null,null,null,null,null,null,null,0,0,0]
[null,null,null,null,null,null,null,null,null,null,null,0,0,0]
[null,null,null,null,null,null,null,null,null,null,null,0,0,0]
[null,null,null,null,null,null,null,null,null,null,null,0,0,0]
[null,null,null,null,null,null,null,null,null,null,null,0,0,0]
[null,null,null,null,null,null,null,null,null,null,null,0,0,0]
[null,null,null,null,null,null,null,null,null,null,null,0,0,0]
[null,null,null,null,null,null,null,null,null,null,null,0,0,{"$f":"MAX(L1375-M1375,0)","v":0}]
[null,null,null,null,null,null,null,null,null,null,null,{"$f":"SUM(D1376:K1376)","v":0},0,0]
[null,null,null,null,null,null,null,null,null,null,null,0,0,0]
[null,null,null,null,null,null,null,null,null,null,null,0,0,0]
[null,null,null,null,null,null,null,null,null,null,null,0,0,0]
[null,null,null,null,null,null,null,null,null,null,null,0,0,0]
[null,null,null,null,null,null,null,null,null,null,null,0,0,0]
[null,null,null,null,null,null,null,null,null,null,null,0,0,0]
[null,null,null,null,null,null,null,null,null,null,null,0,0,0]
[null,null,null,null,null,null,null,null,null,null,null,0,0,0]
[null,null,null,null,null,null,null,null,null,null,null,0,0,0]
[null,null,null,null,null,null,null,null,null,null,null,0,0,0]
[null,null,null,null,null,null,null,null,null,null,null,0,0,0]
[null,null,null,null,null,null,null,null,null,null,null,0,0,0]
[null,null,null,null,null,null,null,null,null,null,null,0,0,0]
[null,null,null,null,null,null,null,null,null,null,null,0,0,0]
[null,null,null,null,null,null,null,null,null,null,null,0,0,0]
[null,null,null,null,null,null,null,null,null,null,null,{"$f":"SUM(D1392:K1392)","v":0},0,0,null,null,null,null,null,null,null,null,null,null,null,null,{"$f":"L1392-SUM(F1392,J1392)","v":0}]
[null,null,null,null,null,null,null,null,null,null,null,{"$f":"SUM(D1393:K1393)","v":0},0,0,null,null,null,null,null,null,null,null,null,null,null,null,{"$f":"L1393-SUM(F1393,J1393)","v":0}]
[null,null,null,null,null,null,null,null,null,null,null,0,0,0,null,null,null,null,null,null,null,null,null,null,null,null,0]
[null,null,null,null,null,null,null,null,null,null,null,0,0,0,null,null,null,null,null,null,null,null,null,null,null,null,0]
[null,null,null,null,null,null,null,null,null,null,null,0,0,0]
[null,null,null,null,null,null,null,null,null,null,null,0,0,0]
[null,null,null,null,null,null,null,null,null,null,null,0,0,0]
[null,null,null,null,null,null,null,null,null,null,null,0,0,0]
[null,null,null,null,null,null,null,null,null,null,null,0,0,0]
[null,null,null,null,null,null,null,null,null,null,null,0,0,0]
[null,null,null,null,null,null,null,null,null,null,null,0,0,0]
[null,null,null,null,null,null,null,null,null,null,null,0,0,0]
[null,null,null,null,null,null,null,null,null,null,null,0,0,0]
[null,null,null,null,null,null,null,null,null,null,null,0,0,0]
[null,null,null,null,null,null,null,null,null,null,null,0,0,0]
[null,null,null,null,null,null,null,null,null,null,null,0,0,0]
[null,null,null,null,null,null,null,null,null,null,null,0,0,0]
[null,null,null,null,null,null,null,null,null,null,null,0,0,0]
[null,null,null,null,null,null,null,null,null,null,null,0,0,0]
[null,null,null,null,null,null,null,null,null,null,null,0,0,0]
[null,null,null,null,null,null,null,null,null,null,null,0,0,0]
[null,null,null,null,null,null,null,null,null,null,null,0,0,0]
[null,null,null,null,null,null,null,null,null,null,null,0,0,0]
[null,null,null,null,null,null,null,null,null,null,null,0,0,0]
[null,null,null,null,null,null,null,null,null,null,null,0,0,0]
[null,null,null,null,null,null,null,null,null,null,null,0,0,0]
[null,null,null,null,null,null,null,null,null,null,null,0,0,0]
[null,null,null,null,null,null,null,null,null,null,null,0,0,0]
[null,null,null,null,null,null,null,null,null,null,null,0,0,0]
[null,null,null,null,null,null,null,null,null,null,null,0,0,0]
[null,null,null,null,null,null,null,null,null,null,null,0,0,0]
[null,null,null,null,null,null,null,null,null,null,null,0,0,0]
[null,null,null,null,null,null,null,null,null,null,null,0,0,0]
[null,null,null,null,null,null,null,null,null,null,null,0,0,0]
[null,null,null,null,null,null,null,null,null,null,null,0,0,0,null,null,null,null,null,null,null,null,null,null,null,null,{"$f":"L1426-SUM(F1426,J1426)","v":0}]
[null,null,null,null,null,null,null,null,null,null,null,0,0,0,null,null,null,null,null,null,null,null,null,null,null,null,0]
[null,null,null,null,null,null,null,null,null,null,null,0,0,0,null,null,null,null,null,null,null,null,null,null,null,null,0]
[null,null,null,null,null,null,null,null,null,null,null,0,0,0,null,null,null,null,null,null,null,null,null,null,null,null,0]
[null,null,null,null,null,null,null,null,null,null,null,0,0,0,null,null,null,null,null,null,null,null,null,null,null,null,0]
[null,null,null,null,null,null,null,null,null,null,null,0,0,0]
[null,null,null,null,null,null,null,null,null,null,null,0,0,0,null,null,null,null,null,null,null,null,null,null,null,null,{"$f":"L1432-SUM(F1432,J1432)","v":0}]
[null,null,null,null,null,null,null,null,null,null,null,0,0,0,null,null,null,null,null,null,null,null,null,null,null,null,0]
[null,null,null,null,null,null,null,null,null,null,null,0,0,0,null,null,null,null,null,null,null,null,null,null,null,null,0]
[null,null,null,null,null,null,null,null,null,null,null,0,0,0,null,null,null,null,null,null,null,null,null,null,null,null,0]
[null,null,null,null,null,null,null,null,null,null,null,0,0,0,null,null,null,null,null,null,null,null,null,null,null,null,0]
[null,null,null,null,null,null,null,null,null,null,null,0,0,0,null,null,null,null,null,null,null,null,null,null,null,null,0]
[null,null,null,null,null,null,null,null,null,null,null,0,0,0,null,null,null,null,null,null,null,null,null,null,null,null,0]
[null,null,null,null,null,null,null,null,null,null,null,0,0,{"$f":"MAX(L1439-M1439,0)","v":0},null,null,null,null,null,null,null,null,null,null,null,null,0]
[null,null,null,null,null,null,null,null,null,null,null,0,0,0,null,null,null,null,null,null,null,null,null,null,null,null,0]
[null,null,null,null,null,null,null,null,null,null,null,0,0,0,null,null,null,null,null,null,null,null,null,null,null,null,0]
[null,null,null,null,null,null,null,null,null,null,null,0,0,0]
[null,null,null,null,null,null,null,null,null,null,null,0,0,0]
[null,null,null,null,null,null,null,null,null,null,null,0,0,0]
[null,null,null,null,null,null,null,null,null,null,null,0,0,0]
[null,null,null,null,null,null,null,null,null,null,null,0,0,0]
[null,null,null,null,null,null,null,null,null,null,null,0,0,0]
[null,null,null,null,null,null,null,null,null,null,null,0,0,0]
[null,null,null,null,null,null,null,null,null,null,null,0,0,0]
[null,null,null,null,null,null,null,null,null,null,null,0,0,0]
[null,null,null,null,null,null,null,null,null,null,null,0,0,0]
[null,null,null,null,null,null,null,null,null,null,null,0,0,0]
[null,null,null,null,null,null,null,null,null,null,null,0,0,0]
[null,null,null,null,null,null,null,null,null,null,null,0,0,0]
[null,null,null,null,null,null,null,null,null,null,null,0,0,0]
[null,null,null,null,null,null,null,null,null,null,null,0,0,0]
[null,null,null,null,null,null,null,null,null,null,null,{"$f":"SUM(D1457:K1457)","v":0},0,0]
[null,null,null,null,null,null,null,null,null,null,null,0,0,0]
[null,null,null,null,null,null,null,null,null,null,null,0,0,0]
[null,null,null,null,null,null,null,null,null,null,null,0,0,0]
[null,null,null,null,null,null,null,null,null,null,null,0,0,0]
[null,null,null,null,null,null,null,null,null,null,null,0,0,0]
[null,null,null,null,null,null,null,null,null,null,null,0,0,0]
[null,null,null,null,null,null,null,null,null,null,null,0,0,0]
[null,null,null,null,null,null,null,null,null,null,null,0,0,0]
[null,null,null,null,null,null,null,null,null,null,null,0,0,0]
[null,null,null,null,null,null,null,null,null,null,null,0,0,0]
[null,null,null,null,null,null,null,null,null,null,null,0,0,0]
[null,null,null,null,null,null,null,null,null,null,null,0,0,0]
[null,null,null,null,null,null,null,null,null,null,null,0,0,0]
[null,null,null,null,null,null,null,null,null,null,null,0,0,0]
[null,null,null,null,null,null,null,null,null,null,null,0,0,0]
[null,null,null,null,null,null,null,null,null,null,null,{"$f":"SUM(D1473:K1473)","v":0},0,0,null,null,null,null,null,null,null,null,null,null,null,null,{"$f":"L1473-SUM(F1473,J1473)","v":0}]
[null,null,null,null,null,null,null,null,null,null,null,{"$f":"SUM(D1474:K1474)","v":0},0,0,null,null,null,null,null,null,null,null,null,null,null,null,{"$f":"L1474-SUM(F1474,J1474)","v":0}]
[null,null,null,null,null,null,null,null,null,null,null,0,0,0,null,null,null,null,null,null,null,null,null,null,null,null,0]
[null,null,null,null,null,null,null,null,null,null,null,0,0,0,null,null,null,null,null,null,null,null,null,null,null,null,0]
[null,null,null,null,null,null,null,null,null,null,null,0,0,0]
[null,null,null,null,null,null,null,null,null,null,null,0,0,0]
[null,null,null,null,null,null,null,null,null,null,null,0,0,0]
[null,null,null,null,null,null,null,null,null,null,null,0,0,0]
[null,null,null,null,null,null,null,null,null,null,null,0,0,0]
[null,null,null,null,null,null,null,null,null,null,null,0,0,0]
[null,null,null,null,null,null,null,null,null,null,null,0,0,0]
[null,null,null,null,null,null,null,null,null,null,null,0,0,0]
[null,null,null,null,null,null,null,null,null,null,null,0,0,0]
[null,null,null,null,null,null,null,null,null,null,null,0,0,0]
[null,null,null,null,null,null,null,null,null,null,null,0,0,0]
[null,null,null,null,null,null,null,null,null,null,null,0,0,0]
[null,null,null,null,null,null,null,null,null,null,null,0,0,0]
[null,null,null,null,null,null,null,null,null,null,null,0,0,0]
[null,null,null,null,null,null,null,null,null,null,null,0,0,0]
[null,null,null,null,null,null,null,null,null,null,null,0,0,0]
[null,null,null,null,null,null,null,null,null,null,null,0,0,0]
[null,null,null,null,null,null,null,null,null,null,null,0,0,0]
[null,null,null,null,null,null,null,null,null,null,null,0,0,0]
[null,null,null,null,null,null,null,null,null,null,null,0,0,0]
[null,null,null,null,null,null,null,null,null,null,null,0,0,0]
[null,null,null,null,null,null,null,null,null,null,null,0,0,0]
[null,null,null,null,null,null,null,null,null,null,null,0,0,0]
[null,null,null,null,null,null,null,null,null,null,null,0,0,0]
[null,null,null,null,null,null,null,null,null,null,null,0,0,0]
[null,null,null,null,null,null,null,null,null,null,null,0,0,0]
[null,null,null,null,null,null,null,null,null,null,null,0,0,{"$f":"MAX(L1503-M1503,0)","v":0}]
[null,null,null,null,null,null,null,null,null,null,null,0,0,0]
[null,null,null,null,null,null,null,null,null,null,null,0,0,0]
[null,null,null,null,null,null,null,null,null,null,null,0,0,0]
[null,null,null,null,null,null,null,null,null,null,null,0,0,0,null,null,null,null,null,null,null,null,null,null,null,null,{"$f":"L1507-SUM(F1507,J1507)","v":0}]
[null,null,null,null,null,null,null,null,null,null,null,0,0,0,null,null,null,null,null,null,null,null,null,null,null,null,0]
[null,null,null,null,null,null,null,null,null,null,null,0,0,0,null,null,null,null,null,null,null,null,null,null,null,null,0]
[null,null,null,null,null,null,null,null,null,null,null,0,0,0,null,null,null,null,null,null,null,null,null,null,null,null,0]
[null,null,null,null,null,null,null,null,null,null,null,0,0,0,null,null,null,null,null,null,null,null,null,null,null,null,0]
[null,null,null,null,null,null,null,null,null,null,null,0,0,0]
[null,null,null,null,null,null,null,null,null,null,null,0,0,0,null,null,null,null,null,null,null,null,null,null,null,null,{"$f":"L1513-SUM(F1513,J1513)","v":0}]
[null,null,null,null,null,null,null,null,null,null,null,0,0,0,null,null,null,null,null,null,null,null,null,null,null,null,0]
[null,null,null,null,null,null,null,null,null,null,null,0,0,0,null,null,null,null,null,null,null,null,null,null,null,null,0]
[null,null,null,null,null,null,null,null,null,null,null,0,0,0,null,null,null,null,null,null,null,null,null,null,null,null,0]
[null,null,null,null,null,null,null,null,null,null,null,0,0,0,null,null,null,null,null,null,null,null,null,null,null,null,0]
[null,null,null,null,null,null,null,null,null,null,null,0,0,0,null,null,null,null,null,null,null,null,null,null,null,null,0]
[null,null,null,null,null,null,null,null,null,null,null,0,0,0,null,null,null,null,null,null,null,null,null,null,null,null,0]
[null,null,null,null,null,null,null,null,null,null,null,0,0,0,null,null,null,null,null,null,null,null,null,null,null,null,0]
[null,null,null,null,null,null,null,null,null,null,null,0,0,0,null,null,null,null,null,null,null,null,null,null,null,null,0]
[null,null,null,null,null,null,null,null,null,null,null,0,0,0,null,null,null,null,null,null,null,null,null,null,null,null,0]
[null,null,null,null,null,null,null,null,null,null,null,0,0,0]
[null,null,null,null,null,null,null,null,null,null,null,0,0,0]
[null,null,null,null,null,null,null,null,null,null,null,0,0,0]
[null,null,null,null,null,null,null,null,null,null,null,0,0,0]
[null,null,null,null,null,null,null,null,null,null,null,0,0,0]
[null,null,null,null,null,null,null,null,null,null,null,0,0,0]
[null,null,null,null,null,null,null,null,null,null,null,0,0,0]
[null,null,null,null,null,null,null,null,null,null,null,0,0,0]
[null,null,null,null,null,null,null,null,null,null,null,0,0,0]
[null,null,null,null,null,null,null,null,null,null,null,0,0,0]
[null,null,null,null,null,null,null,null,null,null,null,0,0,0]
[null,null,null,null,null,null,null,null,null,null,null,0,0,0]
[null,null,null,null,null,null,null,null,null,null,null,0,0,0]
[null,null,null,null,null,null,null,null,null,null,null,0,0,0]
[null,null,null,null,null,null,null,null,null,null,null,0,0,0]
[null,null,null,null,null,null,null,null,null,null,null,{"$f":"SUM(D1538:K1538)","v":0},0,0]
[null,null,null,null,null,null,null,null,null,null,null,0,0,0]
[null,null,null,null,null,null,null,null,null,null,null,0,0,0]
[null,null,null,null,null,null,null,null,null,null,null,0,0,0]
[null,null,null,null,null,null,null,null,null,null,null,0,0,0]
[null,null,null,null,null,null,null,null,null,null,null,0,0,0]
[null,null,null,null,null,null,null,null,null,null,null,0,0,0]
[null,null,null,null,null,null,null,null,null,null,null,0,0,0]
[null,null,null,null,null,null,null,null,null,null,null,0,0,0]
[null,null,null,null,null,null,null,null,null,null,null,0,0,0]
[null,null,null,null,null,null,null,null,null,null,null,0,0,0]
[null,null,null,null,null,null,null,null,null,null,null,0,0,0]
[null,null,null,null,null,null,null,null,null,null,null,0,0,0]
[null,null,null,null,null,null,null,null,null,null,null,0,0,0]
[null,null,null,null,null,null,null,null,null,null,null,0,0,0]
[null,null,null,null,null,null,null,null,null,null,null,0,0,0]
[null,null,null,null,null,null,null,null,null,null,null,{"$f":"SUM(D1554:K1554)","v":0},0,0,null,null,null,null,null,null,null,null,null,null,null,null,{"$f":"L1554-SUM(F1554,J1554)","v":0}]
[null,null,null,null,null,null,null,null,null,null,null,{"$f":"SUM(D1555:K1555)","v":0},0,0,null,null,null,null,null,null,null,null,null,null,null,null,{"$f":"L1555-SUM(F1555,J1555)","v":0}]
[null,null,null,null,null,null,null,null,null,null,null,0,0,0,null,null,null,null,null,null,null,null,null,null,null,null,0]
[null,null,null,null,null,null,null,null,null,null,null,0,0,0,null,null,null,null,null,null,null,null,null,null,null,null,0]
[null,null,null,null,null,null,null,null,null,null,null,0,0,0]
[null,null,null,null,null,null,null,null,null,null,null,0,0,0]
[null,null,null,null,null,null,null,null,null,null,null,0,0,0]
[null,null,null,null,null,null,null,null,null,null,null,0,0,0]
[null,null,null,null,null,null,null,null,null,null,null,0,0,0]
[null,null,null,null,null,null,null,null,null,null,null,0,0,0]
[null,null,null,null,null,null,null,null,null,null,null,0,0,0]
[null,null,null,null,null,null,null,null,null,null,null,0,0,0]
[null,null,null,null,null,null,null,null,null,null,null,0,{"$f":"$C$14*$C$13","v":0},0]
[null,null,null,null,null,null,null,null,null,null,null,0,0,{"$f":"MAX(L1567-M1567,0)","v":0}]
[null,null,null,null,null,null,null,null,null,null,null,0,0,0]
[null,null,null,null,null,null,null,null,null,null,null,0,0,0]
[null,null,null,null,null,null,null,null,null,null,null,0,0,0]
[null,null,null,null,null,null,null,null,null,null,null,0,0,0]
[null,null,null,null,null,null,null,null,null,null,null,0,0,0]
[null,null,null,null,null,null,null,null,null,null,null,0,0,0]
[null,null,null,null,null,null,null,null,null,null,null,0,0,0]
[null,null,null,null,null,null,null,null,null,null,null,0,0,0]
[null,null,null,null,null,null,null,null,null,null,null,0,0,0]
[null,null,null,null,null,null,null,null,null,null,null,0,0,0]
[null,null,null,null,null,null,null,null,null,null,null,0,0,0]
[null,null,null,null,null,null,null,null,null,null,null,0,0,0]
[null,null,null,null,null,null,null,null,null,null,null,0,0,0]
[null,null,null,null,null,null,null,null,null,null,null,0,0,0]
[null,null,null,null,null,null,null,null,null,null,null,0,0,0]
[null,null,null,null,null,null,null,null,null,null,null,0,0,0]
[null,null,null,null,null,null,null,null,null,null,null,0,0,0]
[null,null,null,null,null,null,null,null,null,null,null,0,0,0]
[null,null,null,null,null,null,null,null,null,null,null,0,0,0]
[null,null,null,null,null,null,null,null,null,null,null,0,0,0]
[null,null,null,null,null,null,null,null,null,null,null,0,0,0,null,null,null,null,null,null,null,null,null,null,null,null,{"$f":"L1588-SUM(F1588,J1588)","v":0}]
[null,null,null,null,null,null,null,null,null,null,null,0,0,0,null,null,null,null,null,null,null,null,null,null,null,null,0]
[null,null,null,null,null,null,null,null,null,null,null,0,0,0,null,null,null,null,null,null,null,null,null,null,null,null,0]
[null,null,null,null,null,null,null,null,null,null,null,0,0,0,null,null,null,null,null,null,null,null,null,null,null,null,0]
[null,null,null,null,null,null,null,null,null,null,null,0,0,0,null,null,null,null,null,null,null,null,null,null,null,null,0]
[null,null,null,null,null,null,null,null,null,null,null,0,0,0]
[null,null,null,null,null,null,null,null,null,null,null,0,0,0,null,null,null,null,null,null,null,null,null,null,null,null,{"$f":"L1594-SUM(F1594,J1594)","v":0}]
[null,null,null,null,null,null,null,null,null,null,null,0,0,0,null,null,null,null,null,null,null,null,null,null,null,null,0]
[null,null,null,null,null,null,null,null,null,null,null,0,0,0,null,null,null,null,null,null,null,null,null,null,null,null,0]
[null,null,null,null,null,null,null,null,null,null,null,0,0,0,null,null,null,null,null,null,null,null,null,null,null,null,0]
[null,null,null,null,null,null,null,null,null,null,null,0,0,0,null,null,null,null,null,null,null,null,null,null,null,null,0]
[null,null,null,null,null,null,null,null,null,null,null,0,0,0,null,null,null,null,null,null,null,null,null,null,null,null,0]
[null,null,null,null,null,null,null,null,null,null,null,0,0,0,null,null,null,null,null,null,null,null,null,null,null,null,0]
[null,null,null,null,null,null,null,null,null,null,null,0,0,0,null,null,null,null,null,null,null,null,null,null,null,null,0]
[null,null,null,null,null,null,null,null,null,null,null,0,0,0,null,null,null,null,null,null,null,null,null,null,null,null,0]
[null,null,null,null,null,null,null,null,null,null,null,0,0,0,null,null,null,null,null,null,null,null,null,null,null,null,0]
[null,null,null,null,null,null,null,null,null,null,null,0,0,0]
[null,null,null,null,null,null,null,null,null,null,null,0,0,0]
[null,null,null,null,null,null,null,null,null,null,null,0,0,0]
[null,null,null,null,null,null,null,null,null,null,null,0,0,0]
[null,null,null,null,null,null,null,null,null,null,null,0,0,0]
[null,null,null,null,null,null,null,null,null,null,null,0,0,0]
[null,null,null,null,null,null,null,null,null,null,null,0,0,0]
[null,null,null,null,null,null,null,null,null,null,null,0,0,0]
[null,null,null,null,null,null,null,null,null,null,null,0,0,0]
[null,null,null,null,null,null,null,null,null,null,null,0,0,0]
[null,null,null,null,null,null,null,null,null,null,null,0,0,0]
[null,null,null,null,null,null,null,null,null,null,null,0,0,0]
[null,null,null,null,null,null,null,null,null,null,null,0,0,0]
[null,null,null,null,null,null,null,null,null,null,null,0,0,0]
[null,null,null,null,null,null,null,null,null,null,null,0,0,0]
[null,null,null,null,null,null,null,null,null,null,null,{"$f":"SUM(D1619:K1619)","v":0},0,0]
[null,null,null,null,null,null,null,null,null,null,null,0,0,0]
[null,null,null,null,null,null,null,null,null,null,null,0,0,0]
[null,null,null,null,null,null,null,null,null,null,null,0,0,0]
[null,null,null,null,null,null,null,null,null,null,null,0,0,0]
[null,null,null,null,null,null,null,null,null,null,null,0,0,0]
[null,null,null,null,null,null,null,null,null,null,null,0,0,0]
[null,null,null,null,null,null,null,null,null,null,null,0,0,0]
[null,null,null,null,null,null,null,null,null,null,null,0,0,0]
[null,null,null,null,null,null,null,null,null,null,null,0,0,0]
[null,null,null,null,null,null,null,null,null,null,null,0,0,0]
[null,null,null,null,null,null,null,null,null,null,null,0,0,0]
[null,null,null,null,null,null,null,null,null,null,null,0,0,{"$f":"MAX(L1631-M1631,0)","v":0}]
[null,null,null,null,null,null,null,null,null,null,null,0,0,0]
[null,null,null,null,null,null,null,null,null,null,null,0,0,0]
[null,null,null,null,null,null,null,null,null,null,null,0,0,0]
[null,null,null,null,null,null,null,null,null,null,null,{"$f":"SUM(D1635:K1635)","v":0},0,0,null,null,null,null,null,null,null,null,null,null,null,null,{"$f":"L1635-SUM(F1635,J1635)","v":0}]
[null,null,null,null,null,null,null,null,null,null,null,{"$f":"SUM(D1636:K1636)","v":0},{"$f":"$C$14*$C$13","v":0},0,null,null,null,null,null,null,null,null,null,null,null,null,{"$f":"L1636-SUM(F1636,J1636)","v":0}]
[null,null,null,null,null,null,null,null,null,null,null,0,0,0,null,null,null,null,null,null,null,null,null,null,null,null,0]
[null,null,null,null,null,null,null,null,null,null,null,0,0,0,null,null,null,null,null,null,null,null,null,null,null,null,0]
[null,null,null,null,null,null,null,null,null,null,null,0,0,0]
[null,null,null,null,null,null,null,null,null,null,null,0,0,0]
[null,null,null,null,null,null,null,null,null,null,null,0,0,0]
[null,null,null,null,null,null,null,null,null,null,null,0,0,0]
[null,null,null,null,null,null,null,null,null,null,null,0,0,0]
[null,null,null,null,null,null,null,null,null,null,null,0,0,0]
[null,null,null,null,null,null,null,null,null,null,null,0,0,0]
[null,null,null,null,null,null,null,null,null,null,null,0,0,0]
[null,null,null,null,null,null,null,null,null,null,null,0,0,0]
[null,null,null,null,null,null,null,null,null,null,null,0,0,0]
[null,null,null,null,null,null,null,null,null,null,null,0,0,0]
[null,null,null,null,null,null,null,null,null,null,null,0,0,0]
[null,null,null,null,null,null,null,null,null,null,null,0,0,0]
[null,null,null,null,null,null,null,null,null,null,null,0,0,0]
[null,null,null,null,null,null,null,null,null,null,null,0,0,0]
[null,null,null,null,null,null,null,null,null,null,null,0,0,0]
[null,null,null,null,null,null,null,null,null,null,null,0,0,0]
[null,null,null,null,null,null,null,null,null,null,null,0,0,0]
[null,null,null,null,null,null,null,null,null,null,null,0,0,0]
[null,null,null,null,null,null,null,null,null,null,null,0,0,0]
[null,null,null,null,null,null,null,null,null,null,null,0,0,0]
[null,null,null,null,null,null,null,null,null,null,null,0,0,0]
[null,null,null,null,null,null,null,null,null,null,null,0,0,0]
[null,null,null,null,null,null,null,null,null,null,null,0,0,0]
[null,null,null,null,null,null,null,null,null,null,null,0,0,0]
[null,null,null,null,null,null,null,null,null,null,null,0,0,0]
[null,null,null,null,null,null,null,null,null,null,null,0,0,0]
[null,null,null,null,null,null,null,null,null,null,null,0,0,0]
[null,null,null,null,null,null,null,null,null,null,null,0,0,0]
[null,null,null,null,null,null,null,null,null,null,null,0,0,0]
[null,null,null,null,null,null,null,null,null,null,null,0,0,0,null,null,null,null,null,null,null,null,null,null,null,null,{"$f":"L1669-SUM(F1669,J1669)","v":0}]
[null,null,null,null,null,null,null,null,null,null,null,0,0,0,null,null,null,null,null,null,null,null,null,null,null,null,0]
[null,null,null,null,null,null,null,null,null,null,null,0,0,0,null,null,null,null,null,null,null,null,null,null,null,null,0]
[null,null,null,null,null,null,null,null,null,null,null,0,0,0,null,null,null,null,null,null,null,null,null,null,null,null,0]
[null,null,null,null,null,null,null,null,null,null,null,0,0,0,null,null,null,null,null,null,null,null,null,null,null,null,0]
[null,null,null,null,null,null,null,null,null,null,null,0,0,0]
[null,null,null,null,null,null,null,null,null,null,null,0,0,0,null,null,null,null,null,null,null,null,null,null,null,null,{"$f":"L1675-SUM(F1675,J1675)","v":0}]
[null,null,null,null,null,null,null,null,null,null,null,0,0,0,null,null,null,null,null,null,null,null,null,null,null,null,0]
[null,null,null,null,null,null,null,null,null,null,null,0,0,0,null,null,null,null,null,null,null,null,null,null,null,null,0]
[null,null,null,null,null,null,null,null,null,null,null,0,0,0,null,null,null,null,null,null,null,null,null,null,null,null,0]
[null,null,null,null,null,null,null,null,null,null,null,{"$f":"SUM(D1679:K1679)","v":0},{"$f":"$C$14*$C$13","v":0},{"$f":"MAX(L1679-M1679,0)","v":0}]
[null,null,null,null,null,null,null,null,null,null,null,0,0,0]
[null,null,null,null,null,null,null,null,null,null,null,0,0,0]
[null,null,null,null,null,null,null,null,null,null,null,0,0,0]
[null,null,null,null,null,null,null,null,null,null,null,0,0,0]
[null,null,null,null,null,null,null,null,null,null,null,0,0,0]
[null,null,null,null,null,null,null,null,null,null,null,0,0,0]
[null,null,null,null,null,null,null,null,null,null,null,0,0,0]
[null,null,null,null,null,null,null,null,null,null,null,0,0,0]
[null,null,null,null,null,null,null,null,null,null,null,0,0,0]
[null,null,null,null,null,null,null,null,null,null,null,0,0,0]
[null,null,null,null,null,null,null,null,null,null,null,0,0,0]
[null,null,null,null,null,null,null,null,null,null,null,0,0,0]
[null,null,null,null,null,null,null,null,null,null,null,0,0,0]
[null,null,null,null,null,null,null,null,null,null,null,0,0,0]
[null,null,null,null,null,null,null,null,null,null,null,0,0,0]
[null,null,null,null,null,null,null,null,null,null,null,0,0,0]
[null,null,null,null,null,null,null,null,null,null,null,0,0,0]
[null,null,null,null,null,null,null,null,null,null,null,0,0,0]
[null,null,null,null,null,null,null,null,null,null,null,0,0,0]
[null,null,null,null,null,null,null,null,null,null,null,0,0,0]
[null,null,null,null,null,null,null,null,null,null,null,0,0,0]
[null,null,null,null,null,null,null,null,null,null,null,0,0,0]
[null,null,null,null,null,null,null,null,null,null,null,0,0,0]
[null,null,null,null,null,null,null,null,null,null,null,0,0,0]
[null,null,null,null,null,null,null,null,null,null,null,0,0,0]
[null,null,null,null,null,null,null,null,null,null,null,0,0,0]
[null,null,null,null,null,null,null,null,null,null,null,{"$f":"SUM(D1706:K1706)","v":0},0,0,null,null,null,null,null,null,null,null,null,null,null,null,{"$f":"L1706-SUM(F1706,J1706)","v":0}]
[null,null,null,null,null,null,null,null,null,null,null,{"$f":"SUM(D1707:K1707)","v":0},0,0,null,null,null,null,null,null,null,null,null,null,null,null,{"$f":"L1707-SUM(F1707,J1707)","v":0}]
[null,null,null,null,null,null,null,null,null,null,null,0,0,0,null,null,null,null,null,null,null,null,null,null,null,null,0]
[null,null,null,null,null,null,null,null,null,null,null,0,0,0,null,null,null,null,null,null,null,null,null,null,null,null,0]
[null,null,null,null,null,null,null,null,null,null,null,0,0,0]
[null,null,null,null,null,null,null,null,null,null,null,0,0,0]
[null,null,null,null,null,null,null,null,null,null,null,0,0,0]
[null,null,null,null,null,null,null,null,null,null,null,0,0,0]
[null,null,null,null,null,null,null,null,null,null,null,0,0,0]
[null,null,null,null,null,null,null,null,null,null,null,0,0,0]
[null,null,null,null,null,null,null,null,null,null,null,0,0,0]
[null,null,null,null,null,null,null,null,null,null,null,0,0,0]
[null,null,null,null,null,null,null,null,null,null,null,0,0,0]
[null,null,null,null,null,null,null,null,null,null,null,0,0,0]
[null,null,null,null,null,null,null,null,null,null,null,0,0,0]
[null,null,null,null,null,null,null,null,null,null,null,0,0,0]
[null,null,null,null,null,null,null,null,null,null,null,0,0,0]
[null,null,null,null,null,null,null,null,null,null,null,0,0,0]
[null,null,null,null,null,null,null,null,null,null,null,0,0,0]
[null,null,null,null,null,null,null,null,null,null,null,0,0,0]
[null,null,null,null,null,null,null,null,null,null,null,0,0,0]
[null,null,null,null,null,null,null,null,null,null,null,0,0,0]
[null,null,null,null,null,null,null,null,null,null,null,0,0,0]
[null,null,null,null,null,null,null,null,null,null,null,0,0,0]
[null,null,null,null,null,null,null,null,null,null,null,0,0,0]
[null,null,null,null,null,null,null,null,null,null,null,0,0,0]
[null,null,null,null,null,null,null,null,null,null,null,0,0,0]
[null,null,null,null,null,null,null,null,null,null,null,0,0,0]
[null,null,null,null,null,null,null,null,null,null,null,0,0,0]
[null,null,null,null,null,null,null,null,null,null,null,0,0,0]
[null,null,null,null,null,null,null,null,null,null,null,0,0,0]
[null,null,null,null,null,null,null,null,null,null,null,0,0,0]
[null,null,null,null,null,null,null,null,null,null,null,0,0,0]
[null,null,null,null,null,null,null,null,null,null,null,0,0,0]
[null,null,null,null,null,null,null,null,null,null,null,0,0,0,null,null,null,null,null,null,null,null,null,null,null,null,{"$f":"L1740-SUM(F1740,J1740)","v":0}]
[null,null,null,null,null,null,null,null,null,null,null,0,0,0,null,null,null,null,null,null,null,null,null,null,null,null,0]
[null,null,null,null,null,null,null,null,null,null,null,0,0,0,null,null,null,null,null,null,null,null,null,null,null,null,0]
[null,null,null,null,null,null,null,null,null,null,null,0,0,0,null,null,null,null,null,null,null,null,null,null,null,null,0]
[null,null,null,null,null,null,null,null,null,null,null,0,0,0,null,null,null,null,null,null,null,null,null,null,null,null,0]
[null,null,null,null,null,null,null,null,null,null,null,0,0,0]
[null,null,null,null,null,null,null,null,null,null,null,0,0,0,null,null,null,null,null,null,null,null,null,null,null,null,{"$f":"L1746-SUM(F1746,J1746)","v":0}]
[null,null,null,null,null,null,null,null,null,null,null,0,0,0,null,null,null,null,null,null,null,null,null,null,null,null,0]
[null,null,null,null,null,null,null,null,null,null,null,0,0,0,null,null,null,null,null,null,null,null,null,null,null,null,0]
[null,null,null,null,null,null,null,null,null,null,null,0,0,0,null,null,null,null,null,null,null,null,null,null,null,null,0]
[null,null,null,null,null,null,null,null,null,null,null,0,0,0,null,null,null,null,null,null,null,null,null,null,null,null,0]
[null,null,null,null,null,null,null,null,null,null,null,0,0,0,null,null,null,null,null,null,null,null,null,null,null,null,0]
[null,null,null,null,null,null,null,null,null,null,null,0,0,0,null,null,null,null,null,null,null,null,null,null,null,null,0]
[null,null,null,null,null,null,null,null,null,null,null,0,0,0,null,null,null,null,null,null,null,null,null,null,null,null,0]
[null,null,null,null,null,null,null,null,null,null,null,0,0,0,null,null,null,null,null,null,null,null,null,null,null,null,0]
[null,null,null,null,null,null,null,null,null,null,null,0,0,0,null,null,null,null,null,null,null,null,null,null,null,null,0]
[null,null,null,null,null,null,null,null,null,null,null,0,0,0]
[null,null,null,null,null,null,null,null,null,null,null,0,0,0]
[null,null,null,null,null,null,null,null,null,null,null,0,0,0]
[null,null,null,null,null,null,null,null,null,null,null,0,0,0]
[null,null,null,null,null,null,null,null,null,null,null,0,0,0]
[null,null,null,null,null,null,null,null,null,null,null,0,0,0]
[null,null,null,null,null,null,null,null,null,null,null,0,0,0]
[null,null,null,null,null,null,null,null,null,null,null,0,0,0]
[null,null,null,null,null,null,null,null,null,null,null,0,0,0]
[null,null,null,null,null,null,null,null,null,null,null,0,0,0]
[null,null,null,null,null,null,null,null,null,null,null,0,0,0]
[null,null,null,null,null,null,null,null,null,null,null,0,0,0]
[null,null,null,null,null,null,null,null,null,null,null,0,0,0]
[null,null,null,null,null,null,null,null,null,null,null,0,0,0]
[null,null,null,null,null,null,null,null,null,null,null,0,0,0]
[null,null,null,null,null,null,null,null,null,null,null,{"$f":"SUM(D1771:K1771)","v":0},0,0]
[null,null,null,null,null,null,null,null,null,null,null,0,0,0]
[null,null,null,null,null,null,null,null,null,null,null,0,0,0]
[null,null,null,null,null,null,null,null,null,null,null,0,0,0]
[null,null,null,null,null,null,null,null,null,null,null,0,0,0]
[null,null,null,null,null,null,null,null,null,null,null,0,0,0]
[null,null,null,null,null,null,null,null,null,null,null,0,0,0]
[null,null,null,null,null,null,null,null,null,null,null,0,0,0]
[null,null,null,null,null,null,null,null,null,null,null,0,0,0]
[null,null,null,null,null,null,null,null,null,null,null,0,0,0]
[null,null,null,null,null,null,null,null,null,null,null,0,0,0]
[null,null,null,null,null,null,null,null,null,null,null,0,0,0]
[null,null,null,null,null,null,null,null,null,null,null,0,0,0]
[null,null,null,null,null,null,null,null,null,null,null,0,0,0]
[null,null,null,null,null,null,null,null,null,null,null,0,0,0]
[null,null,null,null,null,null,null,null,null,null,null,0,0,0]
[null,null,null,null,null,null,null,null,null,null,null,{"$f":"SUM(D1787:K1787)","v":0},0,0,null,null,null,null,null,null,null,null,null,null,null,null,{"$f":"L1787-SUM(F1787,J1787)","v":0}]
[null,null,null,null,null,null,null,null,null,null,null,{"$f":"SUM(D1788:K1788)","v":0},0,0,null,null,null,null,null,null,null,null,null,null,null,null,{"$f":"L1788-SUM(F1788,J1788)","v":0}]
[null,null,null,null,null,null,null,null,null,null,null,0,0,0,null,null,null,null,null,null,null,null,null,null,null,null,0]
[null,null,null,null,null,null,null,null,null,null,null,0,0,0,null,null,null,null,null,null,null,null,null,null,null,null,0]
[null,null,null,null,null,null,null,null,null,null,null,0,0,0]
[null,null,null,null,null,null,null,null,null,null,null,0,0,0]
[null,null,null,null,null,null,null,null,null,null,null,0,0,0]
[null,null,null,null,null,null,null,null,null,null,null,0,0,0]
[null,null,null,null,null,null,null,null,null,null,null,0,0,0]
[null,null,null,null,null,null,null,null,null,null,null,0,0,0]
[null,null,null,null,null,null,null,null,null,null,null,0,0,0]
[null,null,null,null,null,null,null,null,null,null,null,0,0,0]
[null,null,null,null,null,null,null,null,null,null,null,0,0,0]
[null,null,null,null,null,null,null,null,null,null,null,0,0,0]
[null,null,null,null,null,null,null,null,null,null,null,0,0,0]
[null,null,null,null,null,null,null,null,null,null,null,0,0,0]
[null,null,null,null,null,null,null,null,null,null,null,0,0,0]
[null,null,null,null,null,null,null,null,null,null,null,0,0,0]
[null,null,null,null,null,null,null,null,null,null,null,0,0,0]
[null,null,null,null,null,null,null,null,null,null,null,0,0,0]
[null,null,null,null,null,null,null,null,null,null,null,0,0,0]
[null,null,null,null,null,null,null,null,null,null,null,0,0,0]
[null,null,null,null,null,null,null,null,null,null,null,0,0,0]
[null,null,null,null,null,null,null,null,null,null,null,0,0,0]
[null,null,null,null,null,null,null,null,null,null,null,0,0,0]
[null,null,null,null,null,null,null,null,null,null,null,0,0,0]
[null,null,null,null,null,null,null,null,null,null,null,0,0,0]
[null,null,null,null,null,null,null,null,null,null,null,0,0,0]
[null,null,null,null,null,null,null,null,null,null,null,0,0,0]
[null,null,null,null,null,null,null,null,null,null,null,0,0,0]
[null,null,null,null,null,null,null,null,null,null,null,0,0,0]
[null,null,null,null,null,null,null,null,null,null,null,0,0,0]
[null,null,null,null,null,null,null,null,null,null,null,0,0,0]
[null,null,null,null,null,null,null,null,null,null,null,0,0,0]
[null,null,null,null,null,null,null,null,null,null,null,0,0,0,null,null,null,null,null,null,null,null,null,null,null,null,{"$f":"L1821-SUM(F1821,J1821)","v":0}]
[null,null,null,null,null,null,null,null,null,null,null,0,0,0,null,null,null,null,null,null,null,null,null,null,null,null,0]
[null,null,null,null,null,null,null,null,null,null,null,0,0,0,null,null,null,null,null,null,null,null,null,null,null,null,0]
[null,null,null,null,null,null,null,null,null,null,null,0,0,0,null,null,null,null,null,null,null,null,null,null,null,null,0]
[null,null,null,null,null,null,null,null,null,null,null,0,0,0,null,null,null,null,null,null,null,null,null,null,null,null,0]
[null,null,null,null,null,null,null,null,null,null,null,0,0,0]
[null,null,null,null,null,null,null,null,null,null,null,0,0,0,null,null,null,null,null,null,null,null,null,null,null,null,{"$f":"L1827-SUM(F1827,J1827)","v":0}]
[null,null,null,null,null,null,null,null,null,null,null,0,0,0,null,null,null,null,null,null,null,null,null,null,null,null,0]
[null,null,null,null,null,null,null,null,null,null,null,0,0,0,null,null,null,null,null,null,null,null,null,null,null,null,0]
[null,null,null,null,null,null,null,null,null,null,null,0,0,0,null,null,null,null,null,null,null,null,null,null,null,null,0]
[null,null,null,null,null,null,null,null,null,null,null,0,0,0,null,null,null,null,null,null,null,null,null,null,null,null,0]
[null,null,null,null,null,null,null,null,null,null,null,0,0,0,null,null,null,null,null,null,null,null,null,null,null,null,0]
[null,null,null,null,null,null,null,null,null,null,null,0,0,0,null,null,null,null,null,null,null,null,null,null,null,null,0]
[null,null,null,null,null,null,null,null,null,null,null,0,0,0,null,null,null,null,null,null,null,null,null,null,null,null,0]
[null,null,null,null,null,null,null,null,null,null,null,0,0,0,null,null,null,null,null,null,null,null,null,null,null,null,0]
[null,null,null,null,null,null,null,null,null,null,null,0,0,0,null,null,null,null,null,null,null,null,null,null,null,null,0]
[null,null,null,null,null,null,null,null,null,null,null,0,0,0]
[null,null,null,null,null,null,null,null,null,null,null,0,0,0]
[null,null,null,null,null,null,null,null,null,null,null,0,0,0]
[null,null,null,null,null,null,null,null,null,null,null,0,0,0]
[null,null,null,null,null,null,null,null,null,null,null,0,0,0]
[null,null,null,null,null,null,null,null,null,null,null,0,0,0]
[null,null,null,null,null,null,null,null,null,null,null,0,0,0]
[null,null,null,null,null,null,null,null,null,null,null,0,0,0]
[null,null,null,null,null,null,null,null,null,null,null,0,0,0]
[null,null,null,null,null,null,null,null,null,null,null,0,0,0]
[null,null,null,null,null,null,null,null,null,null,null,0,0,0]
[null,null,null,null,null,null,null,null,null,null,null,0,0,0]
[null,null,null,null,null,null,null,null,null,null,null,0,0,0]
[null,null,null,null,null,null,null,null,null,null,null,0,0,0]
[null,null,null,null,null,null,null,null,null,null,null,0,0,0]
[null,null,null,null,null,null,null,null,null,null,null,{"$f":"SUM(D1852:K1852)","v":0},0,0]
[null,null,null,null,null,null,null,null,null,null,null,0,0,0]
[null,null,null,null,null,null,null,null,null,null,null,0,0,0]
[null,null,null,null,null,null,null,null,null,null,null,0,0,0]
[null,null,null,null,null,null,null,null,null,null,null,0,0,0]
[null,null,null,null,null,null,null,null,null,null,null,0,0,0]
[null,null,null,null,null,null,null,null,null,null,null,0,0,0]
[null,null,null,null,null,null,null,null,null,null,null,0,0,0]
[null,null,null,null,null,null,null,null,null,null,null,0,0,0]
[null,null,null,null,null,null,null,null,null,null,null,0,0,0]
[null,null,null,null,null,null,null,null,null,null,null,0,0,0]
[null,null,null,null,null,null,null,null,null,null,null,0,0,0]
[null,null,null,null,null,null,null,null,null,null,null,0,0,0]
[null,null,null,null,null,null,null,null,null,null,null,0,0,0]
[null,null,null,null,null,null,null,null,null,null,null,0,0,0]
[null,null,null,null,null,null,null,null,null,null,null,0,0,0]
[null,null,null,null,null,null,null,null,null,null,null,{"$f":"SUM(D1868:K1868)","v":0},0,0,null,null,null,null,null,null,null,null,null,null,null,null,{"$f":"L1868-SUM(F1868,J1868)","v":0}]
[null,null,null,null,null,null,null,null,null,null,null,{"$f":"SUM(D1869:K1869)","v":0},0,0,null,null,null,null,null,null,null,null,null,null,null,null,{"$f":"L1869-SUM(F1869,J1869)","v":0}]
[null,null,null,null,null,null,null,null,null,null,null,0,0,0,null,null,null,null,null,null,null,null,null,null,null,null,0]
[null,null,null,null,null,null,null,null,null,null,null,0,0,0,null,null,null,null,null,null,null,null,null,null,null,null,0]
[null,null,null,null,null,null,null,null,null,null,null,0,0,0]
[null,null,null,null,null,null,null,null,null,null,null,0,0,0]
[null,null,null,null,null,null,null,null,null,null,null,0,0,0]
[null,null,null,null,null,null,null,null,null,null,null,0,0,0]
[null,null,null,null,null,null,null,null,null,null,null,0,0,0]
[null,null,null,null,null,null,null,null,null,null,null,0,0,0]
[null,null,null,null,null,null,null,null,null,null,null,0,0,0]
[null,null,null,null,null,null,null,null,null,null,null,0,0,0]
[null,null,null,null,null,null,null,null,null,null,null,0,0,0]
[null,null,null,null,null,null,null,null,null,null,null,0,0,0]
[null,null,null,null,null,null,null,null,null,null,null,0,0,0]
[null,null,null,null,null,null,null,null,null,null,null,0,0,0]
[null,null,null,null,null,null,null,null,null,null,null,0,0,0]
[null,null,null,null,null,null,null,null,null,null,null,0,0,0]
[null,null,null,null,null,null,null,null,null,null,null,0,0,0]
[null,null,null,null,null,null,null,null,null,null,null,0,0,0]
[null,null,null,null,null,null,null,null,null,null,null,0,0,0]
[null,null,null,null,null,null,null,null,null,null,null,0,0,0]
[null,null,null,null,null,null,null,null,null,null,null,0,0,0]
[null,null,null,null,null,null,null,null,null,null,null,0,0,0]
[null,null,null,null,null,null,null,null,null,null,null,0,0,0]
[null,null,null,null,null,null,null,null,null,null,null,0,0,0]
[null,null,null,null,null,null,null,null,null,null,null,0,0,0]
[null,null,null,null,null,null,null,null,null,null,null,0,0,0]
[null,null,null,null,null,null,null,null,null,null,null,0,0,0]
[null,null,null,null,null,null,null,null,null,null,null,0,0,0]
[null,null,null,null,null,null,null,null,null,null,null,0,0,0]
[null,null,null,null,null,null,null,null,null,null,null,0,0,0]
[null,null,null,null,null,null,null,null,null,null,null,0,0,0]
[null,null,null,null,null,null,null,null,null,null,null,0,0,0]
[null,null,null,null,null,null,null,null,null,null,null,0,0,0,null,null,null,null,null,null,null,null,null,null,null,null,{"$f":"L1902-SUM(F1902,J1902)","v":0}]
[null,null,null,null,null,null,null,null,null,null,null,0,0,0,null,null,null,null,null,null,null,null,null,null,null,null,0]
[null,null,null,null,null,null,null,null,null,null,null,0,0,0,null,null,null,null,null,null,null,null,null,null,null,null,0]
[null,null,null,null,null,null,null,null,null,null,null,0,0,0,null,null,null,null,null,null,null,null,null,null,null,null,0]
[null,null,null,null,null,null,null,null,null,null,null,0,0,0,null,null,null,null,null,null,null,null,null,null,null,null,0]
[null,null,null,null,null,null,null,null,null,null,null,0,0,0]
[null,null,null,null,null,null,null,null,null,null,null,0,0,0,null,null,null,null,null,null,null,null,null,null,null,null,{"$f":"L1908-SUM(F1908,J1908)","v":0}]
[null,null,null,null,null,null,null,null,null,null,null,0,0,0,null,null,null,null,null,null,null,null,null,null,null,null,0]
[null,null,null,null,null,null,null,null,null,null,null,0,0,0,null,null,null,null,null,null,null,null,null,null,null,null,0]
[null,null,null,null,null,null,null,null,null,null,null,0,0,0,null,null,null,null,null,null,null,null,null,null,null,null,0]
[null,null,null,null,null,null,null,null,null,null,null,0,0,0,null,null,null,null,null,null,null,null,null,null,null,null,0]
[null,null,null,null,null,null,null,null,null,null,null,0,0,0,null,null,null,null,null,null,null,null,null,null,null,null,0]
[null,null,null,null,null,null,null,null,null,null,null,0,0,0,null,null,null,null,null,null,null,null,null,null,null,null,0]
[null,null,null,null,null,null,null,null,null,null,null,0,0,0,null,null,null,null,null,null,null,null,null,null,null,null,0]
[null,null,null,null,null,null,null,null,null,null,null,0,0,0,null,null,null,null,null,null,null,null,null,null,null,null,0]
[null,null,null,null,null,null,null,null,null,null,null,0,0,0,null,null,null,null,null,null,null,null,null,null,null,null,0]
[null,null,null,null,null,null,null,null,null,null,null,0,0,0]
[null,null,null,null,null,null,null,null,null,null,null,0,0,0]
[null,null,null,null,null,null,null,null,null,null,null,0,0,0]
[null,null,null,null,null,null,null,null,null,null,null,0,0,0]
[null,null,null,null,null,null,null,null,null,null,null,0,0,0]
[null,null,null,null,null,null,null,null,null,null,null,0,0,0]
[null,null,null,null,null,null,null,null,null,null,null,0,0,0]
[null,null,null,null,null,null,null,null,null,null,null,0,0,0]
[null,null,null,null,null,null,null,null,null,null,null,0,0,0]
[null,null,null,null,null,null,null,null,null,null,null,0,0,0]
[null,null,null,null,null,null,null,null,null,null,null,0,0,0]
[null,null,null,null,null,null,null,null,null,null,null,0,0,0]
[null,null,null,null,null,null,null,null,null,null,null,0,0,0]
[null,null,null,null,null,null,null,null,null,null,null,0,0,0]
[null,null,null,null,null,null,null,null,null,null,null,0,0,0]
[null,null,null,null,null,null,null,null,null,null,null,{"$f":"SUM(D1933:K1933)","v":0},0,0]
[null,null,null,null,null,null,null,null,null,null,null,0,{"$f":"$C$14*$C$13","v":0},{"$f":"MAX(L1934-M1934,0)","v":0}]
[null,null,null,null,null,null,null,null,null,null,null,0,0,0]
[null,null,null,null,null,null,null,null,null,null,null,0,0,0]
[null,null,null,null,null,null,null,null,null,null,null,0,0,0]
[null,null,null,null,null,null,null,null,null,null,null,0,0,0]
[null,null,null,null,null,null,null,null,null,null,null,0,0,0]
[null,null,null,null,null,null,null,null,null,null,null,0,0,0]
[null,null,null,null,null,null,null,null,null,null,null,0,0,0]
[null,null,null,null,null,null,null,null,null,null,null,0,0,0]
[null,null,null,null,null,null,null,null,null,null,null,0,0,0]
[null,null,null,null,null,null,null,null,null,null,null,0,0,0]
[null,null,null,null,null,null,null,null,null,null,null,0,0,0]
[null,null,null,null,null,null,null,null,null,null,null,0,0,0]
[null,null,null,null,null,null,null,null,null,null,null,{"$f":"SUM(D1947:K1947)","v":0},0,0,null,null,null,null,null,null,null,null,null,null,null,null,{"$f":"L1947-SUM(F1947,J1947)","v":0}]
[null,null,null,null,null,null,null,null,null,null,null,{"$f":"SUM(D1948:K1948)","v":0},0,0,null,null,null,null,null,null,null,null,null,null,null,null,{"$f":"L1948-SUM(F1948,J1948)","v":0}]
[null,null,null,null,null,null,null,null,null,null,null,0,0,0,null,null,null,null,null,null,null,null,null,null,null,null,0]
[null,null,null,null,null,null,null,null,null,null,null,0,0,0,null,null,null,null,null,null,null,null,null,null,null,null,0]
[null,null,null,null,null,null,null,null,null,null,null,0,0,0]
[null,null,null,null,null,null,null,null,null,null,null,0,0,0]
[null,null,null,null,null,null,null,null,null,null,null,0,0,0]
[null,null,null,null,null,null,null,null,null,null,null,0,0,0]
[null,null,null,null,null,null,null,null,null,null,null,0,0,0]
[null,null,null,null,null,null,null,null,null,null,null,0,0,0]
[null,null,null,null,null,null,null,null,null,null,null,0,0,0]
[null,null,null,null,null,null,null,null,null,null,null,0,0,0]
[null,null,null,null,null,null,null,null,null,null,null,0,0,0]
[null,null,null,null,null,null,null,null,null,null,null,0,0,0]
[null,null,null,null,null,null,null,null,null,null,null,0,0,0]
[null,null,null,null,null,null,null,null,null,null,null,0,0,0]
[null,null,null,null,null,null,null,null,null,null,null,0,0,0]
[null,null,null,null,null,null,null,null,null,null,null,0,0,0]
[null,null,null,null,null,null,null,null,null,null,null,0,0,0]
[null,null,null,null,null,null,null,null,null,null,null,0,0,0]
[null,null,null,null,null,null,null,null,null,null,null,0,0,0]
[null,null,null,null,null,null,null,null,null,null,null,0,0,0]
[null,null,null,null,null,null,null,null,null,null,null,0,0,0]
[null,null,null,null,null,null,null,null,null,null,null,0,0,0]
[null,null,null,null,null,null,null,null,null,null,null,0,0,0]
[null,null,null,null,null,null,null,null,null,null,null,0,0,0]
[null,null,null,null,null,null,null,null,null,null,null,0,0,0]
[null,null,null,null,null,null,null,null,null,null,null,0,0,0]
[null,null,null,null,null,null,null,null,null,null,null,0,0,0]
[null,null,null,null,null,null,null,null,null,null,null,0,0,0]
[null,null,null,null,null,null,null,null,null,null,null,0,0,0]
[null,null,null,null,null,null,null,null,null,null,null,0,0,0]
[null,null,null,null,null,null,null,null,null,null,null,0,0,0]
[null,null,null,null,null,null,null,null,null,null,null,0,0,0]
[null,null,null,null,null,null,null,null,null,null,null,0,0,0,null,null,null,null,null,null,null,null,null,null,null,null,{"$f":"L1981-SUM(F1981,J1981)","v":0}]
[null,null,null,null,null,null,null,null,null,null,null,0,0,0,null,null,null,null,null,null,null,null,null,null,null,null,0]
[null,null,null,null,null,null,null,null,null,null,null,0,0,0,null,null,null,null,null,null,null,null,null,null,null,null,0]
[null,null,null,null,null,null,null,null,null,null,null,0,0,0,null,null,null,null,null,null,null,null,null,null,null,null,0]
[null,null,null,null,null,null,null,null,null,null,null,0,0,0,null,null,null,null,null,null,null,null,null,null,null,null,0]
[null,null,null,null,null,null,null,null,null,null,null,0,0,0]
[null,null,null,null,null,null,null,null,null,null,null,0,0,0,null,null,null,null,null,null,null,null,null,null,null,null,{"$f":"L1987-SUM(F1987,J1987)","v":0}]
[null,null,null,null,null,null,null,null,null,null,null,0,0,0,null,null,null,null,null,null,null,null,null,null,null,null,0]
[null,null,null,null,null,null,null,null,null,null,null,0,0,0,null,null,null,null,null,null,null,null,null,null,null,null,0]
[null,null,null,null,null,null,null,null,null,null,null,0,0,0,null,null,null,null,null,null,null,null,null,null,null,null,0]
[null,null,null,null,null,null,null,null,null,null,null,0,0,0,null,null,null,null,null,null,null,null,null,null,null,null,0]
[null,null,null,null,null,null,null,null,null,null,null,0,0,0,null,null,null,null,null,null,null,null,null,null,null,null,0]
[null,null,null,null,null,null,null,null,null,null,null,0,0,0,null,null,null,null,null,null,null,null,null,null,null,null,0]
[null,null,null,null,null,null,null,null,null,null,null,0,0,0,null,null,null,null,null,null,null,null,null,null,null,null,0]
[null,null,null,null,null,null,null,null,null,null,null,0,0,0,null,null,null,null,null,null,null,null,null,null,null,null,0]
[null,null,null,null,null,null,null,null,null,null,null,0,0,0,null,null,null,null,null,null,null,null,null,null,null,null,0]
[null,null,null,null,null,null,null,null,null,null,null,0,0,0]
[null,null,null,null,null,null,null,null,null,null,null,0,0,{"$f":"MAX(L1998-M1998,0)","v":0}]
[null,null,null,null,null,null,null,null,null,null,null,0,0,0]
[null,null,null,null,null,null,null,null,null,null,null,0,0,0]
[null,null,null,null,null,null,null,null,null,null,null,0,0,0]
[null,null,null,null,null,null,null,null,null,null,null,0,0,0]
[null,null,null,null,null,null,null,null,null,null,null,0,0,0]
[null,null,null,null,null,null,null,null,null,null,null,0,0,0]
[null,null,null,null,null,null,null,null,null,null,null,0,0,0]
[null,null,null,null,null,null,null,null,null,null,null,0,0,0]
[null,null,null,null,null,null,null,null,null,null,null,0,0,0]
[null,null,null,null,null,null,null,null,null,null,null,0,0,0]
[null,null,null,null,null,null,null,null,null,null,null,0,0,0]
[null,null,null,null,null,null,null,null,null,null,null,0,0,0]
[null,null,null,null,null,null,null,null,null,null,null,0,0,0]
[null,null,null,null,null,null,null,null,null,null,null,{"$f":"SUM(D2012:K2012)","v":0},0,0]
[null,null,null,null,null,null,null,null,null,null,null,0,0,0]
[null,null,null,null,null,null,null,null,null,null,null,0,0,0]
[null,null,null,null,null,null,null,null,null,null,null,0,0,0]
[null,null,null,null,null,null,null,null,null,null,null,0,0,0]
[null,null,null,null,null,null,null,null,null,null,null,0,0,0]
[null,null,null,null,null,null,null,null,null,null,null,0,0,0]
[null,null,null,null,null,null,null,null,null,null,null,0,0,0]
[null,null,null,null,null,null,null,null,null,null,null,0,0,0]
[null,null,null,null,null,null,null,null,null,null,null,0,0,0]
[null,null,null,null,null,null,null,null,null,null,null,0,0,0]
[null,null,null,null,null,null,null,null,null,null,null,0,0,0]
[null,null,null,null,null,null,null,null,null,null,null,0,0,0]
[null,null,null,null,null,null,null,null,null,null,null,0,0,0]
[null,null,null,null,null,null,null,null,null,null,null,0,0,0]
[null,null,null,null,null,null,null,null,null,null,null,0,0,0]
[null,null,null,null,null,null,null,null,null,null,null,{"$f":"SUM(D2028:K2028)","v":0},0,0,null,null,null,null,null,null,null,null,null,null,null,null,{"$f":"L2028-SUM(F2028,J2028)","v":0}]
[null,null,null,null,null,null,null,null,null,null,null,{"$f":"SUM(D2029:K2029)","v":0},0,0,null,null,null,null,null,null,null,null,null,null,null,null,{"$f":"L2029-SUM(F2029,J2029)","v":0}]
[null,null,null,null,null,null,null,null,null,null,null,0,0,0,null,null,null,null,null,null,null,null,null,null,null,null,0]
[null,null,null,null,null,null,null,null,null,null,null,0,0,0,null,null,null,null,null,null,null,null,null,null,null,null,0]
[null,null,null,null,null,null,null,null,null,null,null,0,0,0]
[null,null,null,null,null,null,null,null,null,null,null,0,0,0]
[null,null,null,null,null,null,null,null,null,null,null,0,0,0]
[null,null,null,null,null,null,null,null,null,null,null,0,0,0]
[null,null,null,null,null,null,null,null,null,null,null,0,0,0]
[null,null,null,null,null,null,null,null,null,null,null,0,0,0]
[null,null,null,null,null,null,null,null,null,null,null,0,0,0]
[null,null,null,null,null,null,null,null,null,null,null,0,0,0]
[null,null,null,null,null,null,null,null,null,null,null,0,0,0]
[null,null,null,null,null,null,null,null,null,null,null,0,0,0]
[null,null,null,null,null,null,null,null,null,null,null,0,0,0]
[null,null,null,null,null,null,null,null,null,null,null,0,0,0]
[null,null,null,null,null,null,null,null,null,null,null,0,0,0]
[null,null,null,null,null,null,null,null,null,null,null,0,0,0]
[null,null,null,null,null,null,null,null,null,null,null,0,0,0]
[null,null,null,null,null,null,null,null,null,null,null,0,0,0]
[null,null,null,null,null,null,null,null,null,null,null,0,0,0]
[null,null,null,null,null,null,null,null,null,null,null,0,0,0]
[null,null,null,null,null,null,null,null,null,null,null,0,0,0]
[null,null,null,null,null,null,null,null,null,null,null,0,0,0]
[null,null,null,null,null,null,null,null,null,null,null,0,0,0]
[null,null,null,null,null,null,null,null,null,null,null,0,0,0]
[null,null,null,null,null,null,null,null,null,null,null,0,0,0]
[null,null,null,null,null,null,null,null,null,null,null,0,0,0]
[null,null,null,null,null,null,null,null,null,null,null,0,0,0]
[null,null,null,null,null,null,null,null,null,null,null,0,0,0]
[null,null,null,null,null,null,null,null,null,null,null,0,0,0]
[null,null,null,null,null,null,null,null,null,null,null,0,0,0]
[null,null,null,null,null,null,null,null,null,null,null,0,0,0]
[null,null,null,null,null,null,null,null,null,null,null,0,0,0]
[null,null,null,null,null,null,null,null,null,null,null,0,0,0,null,null,null,null,null,null,null,null,null,null,null,null,{"$f":"L2062-SUM(F2062,J2062)","v":0}]
[null,null,null,null,null,null,null,null,null,null,null,0,0,0,null,null,null,null,null,null,null,null,null,null,null,null,0]
[null,null,null,null,null,null,null,null,null,null,null,0,0,0,null,null,null,null,null,null,null,null,null,null,null,null,0]
[null,null,null,null,null,null,null,null,null,null,null,0,0,0,null,null,null,null,null,null,null,null,null,null,null,null,0]
[null,null,null,null,null,null,null,null,null,null,null,0,0,0,null,null,null,null,null,null,null,null,null,null,null,null,0]
[null,null,null,null,null,null,null,null,null,null,null,0,0,0]
[null,null,null,null,null,null,null,null,null,null,null,0,0,0,null,null,null,null,null,null,null,null,null,null,null,null,{"$f":"L2068-SUM(F2068,J2068)","v":0}]
[null,null,null,null,null,null,null,null,null,null,null,0,0,0,null,null,null,null,null,null,null,null,null,null,null,null,0]
[null,null,null,null,null,null,null,null,null,null,null,0,0,0,null,null,null,null,null,null,null,null,null,null,null,null,0]
[null,null,null,null,null,null,null,null,null,null,null,0,0,0,null,null,null,null,null,null,null,null,null,null,null,null,0]
[null,null,null,null,null,null,null,null,null,null,null,0,0,0,null,null,null,null,null,null,null,null,null,null,null,null,0]
[null,null,null,null,null,null,null,null,null,null,null,0,0,0,null,null,null,null,null,null,null,null,null,null,null,null,0]
[null,null,null,null,null,null,null,null,null,null,null,0,0,0,null,null,null,null,null,null,null,null,null,null,null,null,0]
[null,null,null,null,null,null,null,null,null,null,null,0,0,0,null,null,null,null,null,null,null,null,null,null,null,null,0]
[null,null,null,null,null,null,null,null,null,null,null,0,0,0,null,null,null,null,null,null,null,null,null,null,null,null,0]
[null,null,null,null,null,null,null,null,null,null,null,0,0,0,null,null,null,null,null,null,null,null,null,null,null,null,0]
[null,null,null,null,null,null,null,null,null,null,null,0,0,0]
[null,null,null,null,null,null,null,null,null,null,null,0,0,0]
[null,null,null,null,null,null,null,null,null,null,null,0,0,0]
[null,null,null,null,null,null,null,null,null,null,null,0,0,0]
[null,null,null,null,null,null,null,null,null,null,null,0,0,0]
[null,null,null,null,null,null,null,null,null,null,null,0,0,0]
[null,null,null,null,null,null,null,null,null,null,null,0,0,0]
[null,null,null,null,null,null,null,null,null,null,null,0,0,0]
[null,null,null,null,null,null,null,null,null,null,null,0,0,0]
[null,null,null,null,null,null,null,null,null,null,null,0,0,0]
[null,null,null,null,null,null,null,null,null,null,null,0,0,0]
[null,null,null,null,null,null,null,null,null,null,null,0,0,0]
[null,null,null,null,null,null,null,null,null,null,null,0,0,0]
[null,null,null,null,null,null,null,null,null,null,null,0,0,0]
[null,null,null,null,null,null,null,null,null,null,null,0,0,0]
[null,null,null,null,null,null,null,null,null,null,null,{"$f":"SUM(D2093:K2093)","v":0},0,0]
[null,null,null,null,null,null,null,null,null,null,null,0,0,0]
[null,null,null,null,null,null,null,null,null,null,null,0,0,0]
[null,null,null,null,null,null,null,null,null,null,null,0,0,0]
[null,null,null,null,null,null,null,null,null,null,null,0,0,0]
[null,null,null,null,null,null,null,null,null,null,null,0,0,0]
[null,null,null,null,null,null,null,null,null,null,null,0,0,0]
[null,null,null,null,null,null,null,null,null,null,null,0,0,0]
[null,null,null,null,null,null,null,null,null,null,null,0,0,0]
[null,null,null,null,null,null,null,null,null,null,null,0,0,0]
[null,null,null,null,null,null,null,null,null,null,null,0,0,0]
[null,null,null,null,null,null,null,null,null,null,null,0,0,0]
[null,null,null,null,null,null,null,null,null,null,null,0,0,0]
[null,null,null,null,null,null,null,null,null,null,null,0,0,0]
[null,null,null,null,null,null,null,null,null,null,null,0,0,0]
[null,null,null,null,null,null,null,null,null,null,null,0,0,0]
[null,null,null,null,null,null,null,null,null,null,null,{"$f":"SUM(D2109:K2109)","v":0},0,0,null,null,null,null,null,null,null,null,null,null,null,null,{"$f":"L2109-SUM(F2109,J2109)","v":0}]
[null,null,null,null,null,null,null,null,null,null,null,{"$f":"SUM(D2110:K2110)","v":0},0,0,null,null,null,null,null,null,null,null,null,null,null,null,{"$f":"L2110-SUM(F2110,J2110)","v":0}]
[null,null,null,null,null,null,null,null,null,null,null,0,0,0,null,null,null,null,null,null,null,null,null,null,null,null,0]
[null,null,null,null,null,null,null,null,null,null,null,0,0,0,null,null,null,null,null,null,null,null,null,null,null,null,0]
[null,null,null,null,null,null,null,null,null,null,null,0,0,0]
[null,null,null,null,null,null,null,null,null,null,null,0,0,0]
[null,null,null,null,null,null,null,null,null,null,null,0,0,0]
[null,null,null,null,null,null,null,null,null,null,null,0,0,0]
[null,null,null,null,null,null,null,null,null,null,null,0,0,0]
[null,null,null,null,null,null,null,null,null,null,null,0,0,0]
[null,null,null,null,null,null,null,null,null,null,null,0,0,0]
[null,null,null,null,null,null,null,null,null,null,null,0,0,0]
[null,null,null,null,null,null,null,null,null,null,null,0,0,0]
[null,null,null,null,null,null,null,null,null,null,null,0,0,0]
[null,null,null,null,null,null,null,null,null,null,null,0,0,0]
[null,null,null,null,null,null,null,null,null,null,null,0,0,0]
[null,null,null,null,null,null,null,null,null,null,null,0,0,0]
[null,null,null,null,null,null,null,null,null,null,null,0,0,0]
[null,null,null,null,null,null,null,null,null,null,null,0,0,0]
[null,null,null,null,null,null,null,null,null,null,null,0,0,0]
[null,null,null,null,null,null,null,null,null,null,null,0,0,0]
[null,null,null,null,null,null,null,null,null,null,null,0,0,0]
[null,null,null,null,null,null,null,null,null,null,null,0,0,0]
[null,null,null,null,null,null,null,null,null,null,null,0,0,0]
[null,null,null,null,null,null,null,null,null,null,null,0,0,0]
[null,null,null,null,null,null,null,null,null,null,null,0,0,0]
[null,null,null,null,null,null,null,null,null,null,null,0,0,0]
[null,null,null,null,null,null,null,null,null,null,null,0,0,0]
[null,null,null,null,null,null,null,null,null,null,null,0,0,0]
[null,null,null,null,null,null,null,null,null,null,null,0,0,0]
[null,null,null,null,null,null,null,null,null,null,null,0,0,0]
[null,null,null,null,null,null,null,null,null,null,null,0,0,0]
[null,null,null,null,null,null,null,null,null,null,null,0,0,0]
[null,null,null,null,null,null,null,null,null,null,null,0,0,0]
[null,null,null,null,null,null,null,null,null,null,null,0,0,0,null,null,null,null,null,null,null,null,null,null,null,null,{"$f":"L2143-SUM(F2143,J2143)","v":0}]
[null,null,null,null,null,null,null,null,null,null,null,0,0,0,null,null,null,null,null,null,null,null,null,null,null,null,0]
[null,null,null,null,null,null,null,null,null,null,null,0,0,0,null,null,null,null,null,null,null,null,null,null,null,null,0]
[null,null,null,null,null,null,null,null,null,null,null,0,0,0,null,null,null,null,null,null,null,null,null,null,null,null,0]
[null,null,null,null,null,null,null,null,null,null,null,0,0,0,null,null,null,null,null,null,null,null,null,null,null,null,0]
[null,null,null,null,null,null,null,null,null,null,null,0,0,0]
[null,null,null,null,null,null,null,null,null,null,null,0,0,0,null,null,null,null,null,null,null,null,null,null,null,null,{"$f":"L2149-SUM(F2149,J2149)","v":0}]
[null,null,null,null,null,null,null,null,null,null,null,0,0,0,null,null,null,null,null,null,null,null,null,null,null,null,0]
[null,null,null,null,null,null,null,null,null,null,null,0,0,0,null,null,null,null,null,null,null,null,null,null,null,null,0]
[null,null,null,null,null,null,null,null,null,null,null,0,0,0,null,null,null,null,null,null,null,null,null,null,null,null,0]
[null,null,null,null,null,null,null,null,null,null,null,0,0,0,null,null,null,null,null,null,null,null,null,null,null,null,0]
[null,null,null,null,null,null,null,null,null,null,null,0,0,0,null,null,null,null,null,null,null,null,null,null,null,null,0]
[null,null,null,null,null,null,null,null,null,null,null,0,0,0,null,null,null,null,null,null,null,null,null,null,null,null,0]
[null,null,null,null,null,null,null,null,null,null,null,0,0,0,null,null,null,null,null,null,null,null,null,null,null,null,0]
[null,null,null,null,null,null,null,null,null,null,null,0,0,0,null,null,null,null,null,null,null,null,null,null,null,null,0]
[null,null,null,null,null,null,null,null,null,null,null,0,0,0,null,null,null,null,null,null,null,null,null,null,null,null,0]
[null,null,null,null,null,null,null,null,null,null,null,0,0,0]
[null,null,null,null,null,null,null,null,null,null,null,0,0,0]
[null,null,null,null,null,null,null,null,null,null,null,0,0,0]
[null,null,null,null,null,null,null,null,null,null,null,0,0,0]
[null,null,null,null,null,null,null,null,null,null,null,0,0,0]
[null,null,null,null,null,null,null,null,null,null,null,0,0,0]
[null,null,null,null,null,null,null,null,null,null,null,0,0,0]
[null,null,null,null,null,null,null,null,null,null,null,0,0,0]
[null,null,null,null,null,null,null,null,null,null,null,0,0,0]
[null,null,null,null,null,null,null,null,null,null,null,0,0,0]
[null,null,null,null,null,null,null,null,null,null,null,0,0,0]
[null,null,null,null,null,null,null,null,null,null,null,0,0,0]
[null,null,null,null,null,null,null,null,null,null,null,0,0,0]
[null,null,null,null,null,null,null,null,null,null,null,0,0,0]
[null,null,null,null,null,null,null,null,null,null,null,0,0,0]
[null,null,null,null,null,null,null,null,null,null,null,{"$f":"SUM(D2174:K2174)","v":0},0,0]
[null,null,null,null,null,null,null,null,null,null,null,0,0,0]
[null,null,null,null,null,null,null,null,null,null,null,0,0,0]
[null,null,null,null,null,null,null,null,null,null,null,0,0,0]
[null,null,null,null,null,null,null,null,null,null,null,0,0,0]
[null,null,null,null,null,null,null,null,null,null,null,0,0,0]
[null,null,null,null,null,null,null,null,null,null,null,0,0,0]
[null,null,null,null,null,null,null,null,null,null,null,0,0,0]
[null,null,null,null,null,null,null,null,null,null,null,0,0,0]
[null,null,null,null,null,null,null,null,null,null,null,0,0,0]
[null,null,null,null,null,null,null,null,null,null,null,0,0,0]
[null,null,null,null,null,null,null,null,null,null,null,0,0,0]
[null,null,null,null,null,null,null,null,null,null,null,0,0,0]
[null,null,null,null,null,null,null,null,null,null,null,0,0,0]
[null,null,null,null,null,null,null,null,null,null,null,0,0,0]
[null,null,null,null,null,null,null,null,null,null,null,0,{"$f":"$C$14*$C$13","v":0},0]
[null,null,null,null,null,null,null,null,null,null,null,{"$f":"SUM(D2190:K2190)","v":0},0,0,null,null,null,null,null,null,null,null,null,null,null,null,{"$f":"L2190-SUM(F2190,J2190)","v":0}]
[null,null,null,null,null,null,null,null,null,null,null,{"$f":"SUM(D2191:K2191)","v":0},0,0,null,null,null,null,null,null,null,null,null,null,null,null,{"$f":"L2191-SUM(F2191,J2191)","v":0}]
[null,null,null,null,null,null,null,null,null,null,null,0,0,0,null,null,null,null,null,null,null,null,null,null,null,null,0]
[null,null,null,null,null,null,null,null,null,null,null,0,0,0,null,null,null,null,null,null,null,null,null,null,null,null,0]
[null,null,null,null,null,null,null,null,null,null,null,0,0,0]
[null,null,null,null,null,null,null,null,null,null,null,0,0,0]
[null,null,null,null,null,null,null,null,null,null,null,0,0,0]
[null,null,null,null,null,null,null,null,null,null,null,0,0,0]
[null,null,null,null,null,null,null,null,null,null,null,0,0,0]
[null,null,null,null,null,null,null,null,null,null,null,0,0,0]
[null,null,null,null,null,null,null,null,null,null,null,0,0,0]
[null,null,null,null,null,null,null,null,null,null,null,0,0,0]
[null,null,null,null,null,null,null,null,null,null,null,0,0,0]
[null,null,null,null,null,null,null,null,null,null,null,0,0,0]
[null,null,null,null,null,null,null,null,null,null,null,0,0,0]
[null,null,null,null,null,null,null,null,null,null,null,0,0,0]
[null,null,null,null,null,null,null,null,null,null,null,0,0,0]
[null,null,null,null,null,null,null,null,null,null,null,0,0,0]
[null,null,null,null,null,null,null,null,null,null,null,0,0,0]
[null,null,null,null,null,null,null,null,null,null,null,0,0,0]
[null,null,null,null,null,null,null,null,null,null,null,0,0,0]
[null,null,null,null,null,null,null,null,null,null,null,0,0,0]
[null,null,null,null,null,null,null,null,null,null,null,0,0,0]
[null,null,null,null,null,null,null,null,null,null,null,0,0,0]
[null,null,null,null,null,null,null,null,null,null,null,0,0,0]
[null,null,null,null,null,null,null,null,null,null,null,0,0,0]
[null,null,null,null,null,null,null,null,null,null,null,0,0,0]
[null,null,null,null,null,null,null,null,null,null,null,0,0,0]
[null,null,null,null,null,null,null,null,null,null,null,0,0,0]
[null,null,null,null,null,null,null,null,null,null,null,0,0,0]
[null,null,null,null,null,null,null,null,null,null,null,0,0,0]
[null,null,null,null,null,null,null,null,null,null,null,0,0,0]
[null,null,null,null,null,null,null,null,null,null,null,0,0,0]
[null,null,null,null,null,null,null,null,null,null,null,0,0,0]
[null,null,null,null,null,null,null,null,null,null,null,0,0,0,null,null,null,null,null,null,null,null,null,null,null,null,{"$f":"L2224-SUM(F2224,J2224)","v":0}]
[null,null,null,null,null,null,null,null,null,null,null,0,0,0,null,null,null,null,null,null,null,null,null,null,null,null,0]
[null,null,null,null,null,null,null,null,null,null,null,0,0,0,null,null,null,null,null,null,null,null,null,null,null,null,0]
[null,null,null,null,null,null,null,null,null,null,null,0,0,0,null,null,null,null,null,null,null,null,null,null,null,null,0]
[null,null,null,null,null,null,null,null,null,null,null,0,0,0,null,null,null,null,null,null,null,null,null,null,null,null,0]
[null,null,null,null,null,null,null,null,null,null,null,0,0,0]
[null,null,null,null,null,null,null,null,null,null,null,0,0,0,null,null,null,null,null,null,null,null,null,null,null,null,{"$f":"L2230-SUM(F2230,J2230)","v":0}]
[null,null,null,null,null,null,null,null,null,null,null,0,0,0,null,null,null,null,null,null,null,null,null,null,null,null,0]
[null,null,null,null,null,null,null,null,null,null,null,0,0,0,null,null,null,null,null,null,null,null,null,null,null,null,0]
[null,null,null,null,null,null,null,null,null,null,null,0,0,0,null,null,null,null,null,null,null,null,null,null,null,null,0]
[null,null,null,null,null,null,null,null,null,null,null,0,0,0,null,null,null,null,null,null,null,null,null,null,null,null,0]
[null,null,null,null,null,null,null,null,null,null,null,0,0,0,null,null,null,null,null,null,null,null,null,null,null,null,0]
[null,null,null,null,null,null,null,null,null,null,null,0,0,0,null,null,null,null,null,null,null,null,null,null,null,null,0]
[null,null,null,null,null,null,null,null,null,null,null,0,0,0,null,null,null,null,null,null,null,null,null,null,null,null,0]
[null,null,null,null,null,null,null,null,null,null,null,0,0,0,null,null,null,null,null,null,null,null,null,null,null,null,0]
[null,null,null,null,null,null,null,null,null,null,null,0,0,0,null,null,null,null,null,null,null,null,null,null,null,null,0]
[null,null,null,null,null,null,null,null,null,null,null,0,0,0]
[null,null,null,null,null,null,null,null,null,null,null,0,0,0]
[null,null,null,null,null,null,null,null,null,null,null,0,0,0]
[null,null,null,null,null,null,null,null,null,null,null,0,0,0]
[null,null,null,null,null,null,null,null,null,null,null,0,0,0]
[null,null,null,null,null,null,null,null,null,null,null,0,0,0]
[null,null,null,null,null,null,null,null,null,null,null,0,0,0]
[null,null,null,null,null,null,null,null,null,null,null,0,0,0]
[null,null,null,null,null,null,null,null,null,null,null,0,0,0]
[null,null,null,null,null,null,null,null,null,null,null,0,0,0]
[null,null,null,null,null,null,null,null,null,null,null,0,0,0]
[null,null,null,null,null,null,null,null,null,null,null,0,0,0]
[null,null,null,null,null,null,null,null,null,null,null,0,0,0]
[null,null,null,null,null,null,null,null,null,null,null,0,0,{"$f":"MAX(L2253-M2253,0)","v":0}]
[null,null,null,null,null,null,null,null,null,null,null,0,0,0]
[null,null,null,null,null,null,null,null,null,null,null,{"$f":"SUM(D2255:K2255)","v":0},0,0]
[null,null,null,null,null,null,null,null,null,null,null,0,0,0]
[null,null,null,null,null,null,null,null,null,null,null,0,0,0]
[null,null,null,null,null,null,null,null,null,null,null,0,0,0]
[null,null,null,null,null,null,null,null,null,null,null,0,0,0]
[null,null,null,null,null,null,null,null,null,null,null,0,0,0]
[null,null,null,null,null,null,null,null,null,null,null,0,0,0]
[null,null,null,null,null,null,null,null,null,null,null,0,0,0]
[null,null,null,null,null,null,null,null,null,null,null,0,0,0]
[null,null,null,null,null,null,null,null,null,null,null,0,0,0]
[null,null,null,null,null,null,null,null,null,null,null,0,0,0]
[null,null,null,null,null,null,null,null,null,null,null,0,0,0]
[null,null,null,null,null,null,null,null,null,null,null,0,0,0]
[null,null,null,null,null,null,null,null,null,null,null,0,0,0]
[null,null,null,null,null,null,null,null,null,null,null,0,0,0]
[null,null,null,null,null,null,null,null,null,null,null,0,0,0]
[null,null,null,null,null,null,null,null,null,null,null,{"$f":"SUM(D2271:K2271)","v":0},0,0,null,null,null,null,null,null,null,null,null,null,null,null,{"$f":"L2271-SUM(F2271,J2271)","v":0}]
[null,null,null,null,null,null,null,null,null,null,null,{"$f":"SUM(D2272:K2272)","v":0},0,0,null,null,null,null,null,null,null,null,null,null,null,null,{"$f":"L2272-SUM(F2272,J2272)","v":0}]
[null,null,null,null,null,null,null,null,null,null,null,0,0,0,null,null,null,null,null,null,null,null,null,null,null,null,0]
[null,null,null,null,null,null,null,null,null,null,null,0,0,0,null,null,null,null,null,null,null,null,null,null,null,null,0]
[null,null,null,null,null,null,null,null,null,null,null,0,0,0]
[null,null,null,null,null,null,null,null,null,null,null,0,0,0]
[null,null,null,null,null,null,null,null,null,null,null,0,0,0]
[null,null,null,null,null,null,null,null,null,null,null,0,0,0]
[null,null,null,null,null,null,null,null,null,null,null,0,0,0]
[null,null,null,null,null,null,null,null,null,null,null,0,0,0]
[null,null,null,null,null,null,null,null,null,null,null,0,0,0]
[null,null,null,null,null,null,null,null,null,null,null,0,0,0]
[null,null,null,null,null,null,null,null,null,null,null,0,0,0]
[null,null,null,null,null,null,null,null,null,null,null,0,0,0]
[null,null,null,null,null,null,null,null,null,null,null,0,0,0]
[null,null,null,null,null,null,null,null,null,null,null,0,0,0]
[null,null,null,null,null,null,null,null,null,null,null,0,0,0]
[null,null,null,null,null,null,null,null,null,null,null,0,0,0]
[null,null,null,null,null,null,null,null,null,null,null,0,0,0]
[null,null,null,null,null,null,null,null,null,null,null,0,0,0]
[null,null,null,null,null,null,null,null,null,null,null,0,0,0]
[null,null,null,null,null,null,null,null,null,null,null,0,0,0]
[null,null,null,null,null,null,null,null,null,null,null,0,0,0]
[null,null,null,null,null,null,null,null,null,null,null,0,0,0]
[null,null,null,null,null,null,null,null,null,null,null,0,0,0]
[null,null,null,null,null,null,null,null,null,null,null,0,0,0]
[null,null,null,null,null,null,null,null,null,null,null,0,0,0]
[null,null,null,null,null,null,null,null,null,null,null,0,0,0]
[null,null,null,null,null,null,null,null,null,null,null,0,0,0]
[null,null,null,null,null,null,null,null,null,null,null,0,0,0]
[null,null,null,null,null,null,null,null,null,null,null,0,0,0]
[null,null,null,null,null,null,null,null,null,null,null,0,0,0]
[null,null,null,null,null,null,null,null,null,null,null,0,0,0]
[null,null,null,null,null,null,null,null,null,null,null,0,0,0]
[null,null,null,null,null,null,null,null,null,null,null,0,0,0,null,null,null,null,null,null,null,null,null,null,null,null,{"$f":"L2305-SUM(F2305,J2305)","v":0}]
[null,null,null,null,null,null,null,null,null,null,null,0,0,0,null,null,null,null,null,null,null,null,null,null,null,null,0]
[null,null,null,null,null,null,null,null,null,null,null,0,0,0,null,null,null,null,null,null,null,null,null,null,null,null,0]
[null,null,null,null,null,null,null,null,null,null,null,0,0,0,null,null,null,null,null,null,null,null,null,null,null,null,0]
[null,null,null,null,null,null,null,null,null,null,null,0,0,0,null,null,null,null,null,null,null,null,null,null,null,null,0]
[null,null,null,null,null,null,null,null,null,null,null,0,0,0]
[null,null,null,null,null,null,null,null,null,null,null,0,0,0,null,null,null,null,null,null,null,null,null,null,null,null,{"$f":"L2311-SUM(F2311,J2311)","v":0}]
[null,null,null,null,null,null,null,null,null,null,null,0,0,0,null,null,null,null,null,null,null,null,null,null,null,null,0]
[null,null,null,null,null,null,null,null,null,null,null,0,0,0,null,null,null,null,null,null,null,null,null,null,null,null,0]
[null,null,null,null,null,null,null,null,null,null,null,0,0,0,null,null,null,null,null,null,null,null,null,null,null,null,0]
[null,null,null,null,null,null,null,null,null,null,null,0,0,0,null,null,null,null,null,null,null,null,null,null,null,null,0]
[null,null,null,null,null,null,null,null,null,null,null,0,0,0,null,null,null,null,null,null,null,null,null,null,null,null,0]
[null,null,null,null,null,null,null,null,null,null,null,0,0,{"$f":"MAX(L2317-M2317,0)","v":0},null,null,null,null,null,null,null,null,null,null,null,null,0]
[null,null,null,null,null,null,null,null,null,null,null,0,0,0,null,null,null,null,null,null,null,null,null,null,null,null,0]
[null,null,null,null,null,null,null,null,null,null,null,0,0,0,null,null,null,null,null,null,null,null,null,null,null,null,0]
[null,null,null,null,null,null,null,null,null,null,null,0,0,0,null,null,null,null,null,null,null,null,null,null,null,null,0]
[null,null,null,null,null,null,null,null,null,null,null,0,0,0]
[null,null,null,null,null,null,null,null,null,null,null,0,0,0]
[null,null,null,null,null,null,null,null,null,null,null,0,0,0]
[null,null,null,null,null,null,null,null,null,null,null,0,0,0]
[null,null,null,null,null,null,null,null,null,null,null,0,0,0]
[null,null,null,null,null,null,null,null,null,null,null,0,0,0]
[null,null,null,null,null,null,null,null,null,null,null,0,0,0]
[null,null,null,null,null,null,null,null,null,null,null,0,0,0]
[null,null,null,null,null,null,null,null,null,null,null,0,0,0]
[null,null,null,null,null,null,null,null,null,null,null,0,0,0]
[null,null,null,null,null,null,null,null,null,null,null,0,0,0]
[null,null,null,null,null,null,null,null,null,null,null,0,0,0]
[null,null,null,null,null,null,null,null,null,null,null,0,0,0]
[null,null,null,null,null,null,null,null,null,null,null,0,0,0]
[null,null,null,null,null,null,null,null,null,null,null,0,0,0]
[null,null,null,null,null,null,null,null,null,null,null,{"$f":"SUM(D2336:K2336)","v":0},0,0]
[null,null,null,null,null,null,null,null,null,null,null,0,0,0]
[null,null,null,null,null,null,null,null,null,null,null,0,0,0]
[null,null,null,null,null,null,null,null,null,null,null,0,0,0]
[null,null,null,null,null,null,null,null,null,null,null,0,0,0]
[null,null,null,null,null,null,null,null,null,null,null,0,0,0]
[null,null,null,null,null,null,null,null,null,null,null,0,0,0]
[null,null,null,null,null,null,null,null,null,null,null,0,0,0]
[null,null,null,null,null,null,null,null,null,null,null,0,0,0]
[null,null,null,null,null,null,null,null,null,null,null,0,0,0]
[null,null,null,null,null,null,null,null,null,null,null,0,0,0]
[null,null,null,null,null,null,null,null,null,null,null,0,0,0]
[null,null,null,null,null,null,null,null,null,null,null,0,0,0]
[null,null,null,null,null,null,null,null,null,null,null,0,0,0]
[null,null,null,null,null,null,null,null,null,null,null,0,0,0]
[null,null,null,null,null,null,null,null,null,null,null,0,0,0]
[null,null,null,null,null,null,null,null,null,null,null,{"$f":"SUM(D2352:K2352)","v":0},0,0,null,null,null,null,null,null,null,null,null,null,null,null,{"$f":"L2352-SUM(F2352,J2352)","v":0}]
[null,null,null,null,null,null,null,null,null,null,null,{"$f":"SUM(D2353:K2353)","v":0},0,0,null,null,null,null,null,null,null,null,null,null,null,null,{"$f":"L2353-SUM(F2353,J2353)","v":0}]
[null,null,null,null,null,null,null,null,null,null,null,0,0,0,null,null,null,null,null,null,null,null,null,null,null,null,0]
[null,null,null,null,null,null,null,null,null,null,null,0,0,0,null,null,null,null,null,null,null,null,null,null,null,null,0]
[null,null,null,null,null,null,null,null,null,null,null,0,0,0]
[null,null,null,null,null,null,null,null,null,null,null,0,0,0]
[null,null,null,null,null,null,null,null,null,null,null,0,0,0]
[null,null,null,null,null,null,null,null,null,null,null,0,0,0]
[null,null,null,null,null,null,null,null,null,null,null,0,0,0]
[null,null,null,null,null,null,null,null,null,null,null,0,0,0]
[null,null,null,null,null,null,null,null,null,null,null,0,0,0]
[null,null,null,null,null,null,null,null,null,null,null,0,0,0]
[null,null,null,null,null,null,null,null,null,null,null,0,0,0]
[null,null,null,null,null,null,null,null,null,null,null,0,0,0]
[null,null,null,null,null,null,null,null,null,null,null,0,0,0]
[null,null,null,null,null,null,null,null,null,null,null,0,0,0]
[null,null,null,null,null,null,null,null,null,null,null,0,0,0]
[null,null,null,null,null,null,null,null,null,null,null,0,0,0]
[null,null,null,null,null,null,null,null,null,null,null,0,0,0]
[null,null,null,null,null,null,null,null,null,null,null,0,0,0]
[null,null,null,null,null,null,null,null,null,null,null,0,0,0]
[null,null,null,null,null,null,null,null,null,null,null,0,0,0]
[null,null,null,null,null,null,null,null,null,null,null,0,0,0]
[null,null,null,null,null,null,null,null,null,null,null,0,0,0]
[null,null,null,null,null,null,null,null,null,null,null,0,0,0]
[null,null,null,null,null,null,null,null,null,null,null,0,0,0]
[null,null,null,null,null,null,null,null,null,null,null,0,0,0]
[null,null,null,null,null,null,null,null,null,null,null,0,0,0]
[null,null,null,null,null,null,null,null,null,null,null,0,0,0]
[null,null,null,null,null,null,null,null,null,null,null,0,0,{"$f":"MAX(L2381-M2381,0)","v":0}]
[null,null,null,null,null,null,null,null,null,null,null,0,0,0]
[null,null,null,null,null,null,null,null,null,null,null,0,0,0]
[null,null,null,null,null,null,null,null,null,null,null,0,0,0]
[null,null,null,null,null,null,null,null,null,null,null,0,0,0]
[null,null,null,null,null,null,null,null,null,null,null,0,0,0,null,null,null,null,null,null,null,null,null,null,null,null,{"$f":"L2386-SUM(F2386,J2386)","v":0}]
[null,null,null,null,null,null,null,null,null,null,null,0,0,0,null,null,null,null,null,null,null,null,null,null,null,null,0]
[null,null,null,null,null,null,null,null,null,null,null,0,0,0,null,null,null,null,null,null,null,null,null,null,null,null,0]
[null,null,null,null,null,null,null,null,null,null,null,0,0,0,null,null,null,null,null,null,null,null,null,null,null,null,0]
[null,null,null,null,null,null,null,null,null,null,null,0,0,0,null,null,null,null,null,null,null,null,null,null,null,null,0]
[null,null,null,null,null,null,null,null,null,null,null,0,0,0]
[null,null,null,null,null,null,null,null,null,null,null,0,0,0,null,null,null,null,null,null,null,null,null,null,null,null,{"$f":"L2392-SUM(F2392,J2392)","v":0}]
[null,null,null,null,null,null,null,null,null,null,null,0,0,0,null,null,null,null,null,null,null,null,null,null,null,null,0]
[null,null,null,null,null,null,null,null,null,null,null,0,0,0,null,null,null,null,null,null,null,null,null,null,null,null,0]
[null,null,null,null,null,null,null,null,null,null,null,0,0,0,null,null,null,null,null,null,null,null,null,null,null,null,0]
[null,null,null,null,null,null,null,null,null,null,null,0,0,0,null,null,null,null,null,null,null,null,null,null,null,null,0]
[null,null,null,null,null,null,null,null,null,null,null,0,0,0,null,null,null,null,null,null,null,null,null,null,null,null,0]
[null,null,null,null,null,null,null,null,null,null,null,0,0,0,null,null,null,null,null,null,null,null,null,null,null,null,0]
[null,null,null,null,null,null,null,null,null,null,null,0,0,0,null,null,null,null,null,null,null,null,null,null,null,null,0]
[null,null,null,null,null,null,null,null,null,null,null,0,0,0,null,null,null,null,null,null,null,null,null,null,null,null,0]
[null,null,null,null,null,null,null,null,null,null,null,0,0,0,null,null,null,null,null,null,null,null,null,null,null,null,0]
[null,null,null,null,null,null,null,null,null,null,null,0,0,0]
[null,null,null,null,null,null,null,null,null,null,null,0,0,0]
[null,null,null,null,null,null,null,null,null,null,null,0,0,0]
[null,null,null,null,null,null,null,null,null,null,null,0,0,0]
[null,null,null,null,null,null,null,null,null,null,null,0,0,0]
[null,null,null,null,null,null,null,null,null,null,null,0,0,0]
[null,null,null,null,null,null,null,null,null,null,null,0,0,0]
[null,null,null,null,null,null,null,null,null,null,null,0,0,0]
[null,null,null,null,null,null,null,null,null,null,null,0,0,0]
[null,null,null,null,null,null,null,null,null,null,null,0,0,0]
[null,null,null,null,null,null,null,null,null,null,null,0,0,0]
[null,null,null,null,null,null,null,null,null,null,null,0,0,0]
[null,null,null,null,null,null,null,null,null,null,null,0,0,0]
[null,null,null,null,null,null,null,null,null,null,null,0,0,0]
[null,null,null,null,null,null,null,null,null,null,null,0,0,0]
[null,null,null,null,null,null,null,null,null,null,null,{"$f":"SUM(D2417:K2417)","v":0},0,0]
[null,null,null,null,null,null,null,null,null,null,null,0,0,0]
[null,null,null,null,null,null,null,null,null,null,null,0,0,0]
[null,null,null,null,null,null,null,null,null,null,null,0,0,0]
[null,null,null,null,null,null,null,null,null,null,null,0,0,0]
[null,null,null,null,null,null,null,null,null,null,null,0,0,0]
[null,null,null,null,null,null,null,null,null,null,null,0,0,0]
[null,null,null,null,null,null,null,null,null,null,null,0,0,0]
[null,null,null,null,null,null,null,null,null,null,null,0,0,0]
[null,null,null,null,null,null,null,null,null,null,null,0,0,0]
[null,null,null,null,null,null,null,null,null,null,null,0,0,0]
[null,null,null,null,null,null,null,null,null,null,null,0,0,0]
[null,null,null,null,null,null,null,null,null,null,null,0,0,0]
[null,null,null,null,null,null,null,null,null,null,null,0,0,0]
[null,null,null,null,null,null,null,null,null,null,null,0,0,0]
[null,null,null,null,null,null,null,null,null,null,null,0,0,0]
[null,null,null,null,null,null,null,null,null,null,null,{"$f":"SUM(D2433:K2433)","v":0},0,0,null,null,null,null,null,null,null,null,null,null,null,null,{"$f":"L2433-SUM(F2433,J2433)","v":0}]
[null,null,null,null,null,null,null,null,null,null,null,{"$f":"SUM(D2434:K2434)","v":0},0,0,null,null,null,null,null,null,null,null,null,null,null,null,{"$f":"L2434-SUM(F2434,J2434)","v":0}]
[null,null,null,null,null,null,null,null,null,null,null,0,0,0,null,null,null,null,null,null,null,null,null,null,null,null,0]
[null,null,null,null,null,null,null,null,null,null,null,0,0,0,null,null,null,null,null,null,null,null,null,null,null,null,0]
[null,null,null,null,null,null,null,null,null,null,null,0,0,0]
[null,null,null,null,null,null,null,null,null,null,null,0,0,0]
[null,null,null,null,null,null,null,null,null,null,null,0,0,0]
[null,null,null,null,null,null,null,null,null,null,null,0,0,0]
[null,null,null,null,null,null,null,null,null,null,null,0,0,0]
[null,null,null,null,null,null,null,null,null,null,null,0,0,0]
[null,null,null,null,null,null,null,null,null,null,null,0,0,0]
[null,null,null,null,null,null,null,null,null,null,null,0,{"$f":"$C$14*$C$13","v":0},0]
[null,null,null,null,null,null,null,null,null,null,null,0,0,{"$f":"MAX(L2445-M2445,0)","v":0}]
[null,null,null,null,null,null,null,null,null,null,null,0,0,0]
[null,null,null,null,null,null,null,null,null,null,null,0,0,0]
[null,null,null,null,null,null,null,null,null,null,null,0,0,0]
[null,null,null,null,null,null,null,null,null,null,null,0,0,0]
[null,null,null,null,null,null,null,null,null,null,null,0,0,0]
[null,null,null,null,null,null,null,null,null,null,null,0,0,0]
[null,null,null,null,null,null,null,null,null,null,null,0,0,0]
[null,null,null,null,null,null,null,null,null,null,null,0,0,0]
[null,null,null,null,null,null,null,null,null,null,null,0,0,0]
[null,null,null,null,null,null,null,null,null,null,null,0,0,0]
[null,null,null,null,null,null,null,null,null,null,null,0,0,0]
[null,null,null,null,null,null,null,null,null,null,null,0,0,0]
[null,null,null,null,null,null,null,null,null,null,null,0,0,0]
[null,null,null,null,null,null,null,null,null,null,null,0,0,0]
[null,null,null,null,null,null,null,null,null,null,null,0,0,0]
[null,null,null,null,null,null,null,null,null,null,null,0,0,0]
[null,null,null,null,null,null,null,null,null,null,null,0,0,0]
[null,null,null,null,null,null,null,null,null,null,null,0,0,0]
[null,null,null,null,null,null,null,null,null,null,null,0,0,0]
[null,null,null,null,null,null,null,null,null,null,null,0,0,0]
[null,null,null,null,null,null,null,null,null,null,null,0,0,0]
[null,null,null,null,null,null,null,null,null,null,null,0,0,0,null,null,null,null,null,null,null,null,null,null,null,null,{"$f":"L2467-SUM(F2467,J2467)","v":0}]
[null,null,null,null,null,null,null,null,null,null,null,0,0,0,null,null,null,null,null,null,null,null,null,null,null,null,0]
[null,null,null,null,null,null,null,null,null,null,null,0,0,0,null,null,null,null,null,null,null,null,null,null,null,null,0]
[null,null,null,null,null,null,null,null,null,null,null,0,0,0,null,null,null,null,null,null,null,null,null,null,null,null,0]
[null,null,null,null,null,null,null,null,null,null,null,0,0,0,null,null,null,null,null,null,null,null,null,null,null,null,0]
[null,null,null,null,null,null,null,null,null,null,null,0,0,0]
[null,null,null,null,null,null,null,null,null,null,null,0,0,0,null,null,null,null,null,null,null,null,null,null,null,null,{"$f":"L2473-SUM(F2473,J2473)","v":0}]
[null,null,null,null,null,null,null,null,null,null,null,0,0,0,null,null,null,null,null,null,null,null,null,null,null,null,0]
[null,null,null,null,null,null,null,null,null,null,null,0,0,0,null,null,null,null,null,null,null,null,null,null,null,null,0]
[null,null,null,null,null,null,null,null,null,null,null,0,0,0,null,null,null,null,null,null,null,null,null,null,null,null,0]
[null,null,null,null,null,null,null,null,null,null,null,0,0,0,null,null,null,null,null,null,null,null,null,null,null,null,0]
[null,null,null,null,null,null,null,null,null,null,null,0,0,0,null,null,null,null,null,null,null,null,null,null,null,null,0]
[null,null,null,null,null,null,null,null,null,null,null,0,0,0,null,null,null,null,null,null,null,null,null,null,null,null,0]
[null,null,null,null,null,null,null,null,null,null,null,0,0,0,null,null,null,null,null,null,null,null,null,null,null,null,0]
[null,null,null,null,null,null,null,null,null,null,null,0,0,0,null,null,null,null,null,null,null,null,null,null,null,null,0]
[null,null,null,null,null,null,null,null,null,null,null,0,0,0,null,null,null,null,null,null,null,null,null,null,null,null,0]
[null,null,null,null,null,null,null,null,null,null,null,0,0,0]
[null,null,null,null,null,null,null,null,null,null,null,0,0,0]
[null,null,null,null,null,null,null,null,null,null,null,0,0,0]
[null,null,null,null,null,null,null,null,null,null,null,0,0,0]
[null,null,null,null,null,null,null,null,null,null,null,0,0,0]
[null,null,null,null,null,null,null,null,null,null,null,0,0,0]
[null,null,null,null,null,null,null,null,null,null,null,0,0,0]
[null,null,null,null,null,null,null,null,null,null,null,0,0,0]
[null,null,null,null,null,null,null,null,null,null,null,0,0,0]
[null,null,null,null,null,null,null,null,null,null,null,0,0,0]
[null,null,null,null,null,null,null,null,null,null,null,0,0,0]
[null,null,null,null,null,null,null,null,null,null,null,0,0,0]
[null,null,null,null,null,null,null,null,null,null,null,0,0,0]
[null,null,null,null,null,null,null,null,null,null,null,0,0,0]
[null,null,null,null,null,null,null,null,null,null,null,0,0,0]
[null,null,null,null,null,null,null,null,null,null,null,{"$f":"SUM(D2498:K2498)","v":0},0,0]
[null,null,null,null,null,null,null,null,null,null,null,0,0,0]
[null,null,null,null,null,null,null,null,null,null,null,0,0,0]
[null,null,null,null,null,null,null,null,null,null,null,0,0,0]
[null,null,null,null,null,null,null,null,null,null,null,0,0,0]
[null,null,null,null,null,null,null,null,null,null,null,0,0,0]
[null,null,null,null,null,null,null,null,null,null,null,0,0,0]
[null,null,null,null,null,null,null,null,null,null,null,0,0,0]
[null,null,null,null,null,null,null,null,null,null,null,0,0,0]
[null,null,null,null,null,null,null,null,null,null,null,0,0,0]
[null,null,null,null,null,null,null,null,null,null,null,0,0,0]
[null,null,null,null,null,null,null,null,null,null,null,0,0,{"$f":"MAX(L2509-M2509,0)","v":0}]
[null,null,null,null,null,null,null,null,null,null,null,0,0,0]
[null,null,null,null,null,null,null,null,null,null,null,0,0,0]
[null,null,null,null,null,null,null,null,null,null,null,0,0,0]
[null,null,null,null,null,null,null,null,null,null,null,0,0,0]
[null,null,null,null,null,null,null,null,null,null,null,{"$f":"SUM(D2514:K2514)","v":0},0,0,null,null,null,null,null,null,null,null,null,null,null,null,{"$f":"L2514-SUM(F2514,J2514)","v":0}]
[null,null,null,null,null,null,null,null,null,null,null,{"$f":"SUM(D2515:K2515)","v":0},0,0,null,null,null,null,null,null,null,null,null,null,null,null,{"$f":"L2515-SUM(F2515,J2515)","v":0}]
[null,null,null,null,null,null,null,null,null,null,null,0,0,0,null,null,null,null,null,null,null,null,null,null,null,null,0]
[null,null,null,null,null,null,null,null,null,null,null,0,0,0,null,null,null,null,null,null,null,null,null,null,null,null,0]
[null,null,null,null,null,null,null,null,null,null,null,0,0,0]
[null,null,null,null,null,null,null,null,null,null,null,0,0,0]
[null,null,null,null,null,null,null,null,null,null,null,0,0,0]
[null,null,null,null,null,null,null,null,null,null,null,0,0,0]
[null,null,null,null,null,null,null,null,null,null,null,0,0,0]
[null,null,null,null,null,null,null,null,null,null,null,0,0,0]
[null,null,null,null,null,null,null,null,null,null,null,0,0,0]
[null,null,null,null,null,null,null,null,null,null,null,0,0,0]
[null,null,null,null,null,null,null,null,null,null,null,0,0,0]
[null,null,null,null,null,null,null,null,null,null,null,0,0,0]
[null,null,null,null,null,null,null,null,null,null,null,0,0,0]
[null,null,null,null,null,null,null,null,null,null,null,0,0,0]
[null,null,null,null,null,null,null,null,null,null,null,0,0,0]
[null,null,null,null,null,null,null,null,null,null,null,0,0,0]
[null,null,null,null,null,null,null,null,null,null,null,0,0,0]
[null,null,null,null,null,null,null,null,null,null,null,0,0,0]
[null,null,null,null,null,null,null,null,null,null,null,0,0,0]
[null,null,null,null,null,null,null,null,null,null,null,0,0,0]
[null,null,null,null,null,null,null,null,null,null,null,0,0,0]
[null,null,null,null,null,null,null,null,null,null,null,0,0,0]
[null,null,null,null,null,null,null,null,null,null,null,0,0,0]
[null,null,null,null,null,null,null,null,null,null,null,0,0,0]
[null,null,null,null,null,null,null,null,null,null,null,0,0,0]
[null,null,null,null,null,null,null,null,null,null,null,0,0,0]
[null,null,null,null,null,null,null,null,null,null,null,0,0,0]
[null,null,null,null,null,null,null,null,null,null,null,0,0,0]
[null,null,null,null,null,null,null,null,null,null,null,0,0,0]
[null,null,null,null,null,null,null,null,null,null,null,0,0,0]
[null,null,null,null,null,null,null,null,null,null,null,0,0,0]
[null,null,null,null,null,null,null,null,null,null,null,0,0,0]
[null,null,null,null,null,null,null,null,null,null,null,0,0,0,null,null,null,null,null,null,null,null,null,null,null,null,{"$f":"L2548-SUM(F2548,J2548)","v":0}]
[null,null,null,null,null,null,null,null,null,null,null,0,0,0,null,null,null,null,null,null,null,null,null,null,null,null,0]
[null,null,null,null,null,null,null,null,null,null,null,0,0,0,null,null,null,null,null,null,null,null,null,null,null,null,0]
[null,null,null,null,null,null,null,null,null,null,null,0,0,0,null,null,null,null,null,null,null,null,null,null,null,null,0]
[null,null,null,null,null,null,null,null,null,null,null,0,0,0,null,null,null,null,null,null,null,null,null,null,null,null,0]
[null,null,null,null,null,null,null,null,null,null,null,0,0,0]
[null,null,null,null,null,null,null,null,null,null,null,0,0,0,null,null,null,null,null,null,null,null,null,null,null,null,{"$f":"L2554-SUM(F2554,J2554)","v":0}]
[null,null,null,null,null,null,null,null,null,null,null,0,0,0,null,null,null,null,null,null,null,null,null,null,null,null,0]
[null,null,null,null,null,null,null,null,null,null,null,0,0,0,null,null,null,null,null,null,null,null,null,null,null,null,0]
[null,null,null,null,null,null,null,null,null,null,null,0,0,0,null,null,null,null,null,null,null,null,null,null,null,null,0]
[null,null,null,null,null,null,null,null,null,null,null,0,0,0,null,null,null,null,null,null,null,null,null,null,null,null,0]
[null,null,null,null,null,null,null,null,null,null,null,0,0,0,null,null,null,null,null,null,null,null,null,null,null,null,0]
[null,null,null,null,null,null,null,null,null,null,null,0,0,0,null,null,null,null,null,null,null,null,null,null,null,null,0]
[null,null,null,null,null,null,null,null,null,null,null,0,0,0,null,null,null,null,null,null,null,null,null,null,null,null,0]
[null,null,null,null,null,null,null,null,null,null,null,0,0,0,null,null,null,null,null,null,null,null,null,null,null,null,0]
[null,null,null,null,null,null,null,null,null,null,null,0,0,0,null,null,null,null,null,null,null,null,null,null,null,null,0]
[null,null,null,null,null,null,null,null,null,null,null,0,0,0]
[null,null,null,null,null,null,null,null,null,null,null,0,0,0]
[null,null,null,null,null,null,null,null,null,null,null,0,0,0]
[null,null,null,null,null,null,null,null,null,null,null,0,0,0]
[null,null,null,null,null,null,null,null,null,null,null,0,0,0]
[null,null,null,null,null,null,null,null,null,null,null,0,0,0]
[null,null,null,null,null,null,null,null,null,null,null,0,0,0]
[null,null,null,null,null,null,null,null,null,null,null,0,0,0]
[null,null,null,null,null,null,null,null,null,null,null,0,0,0]
[null,null,null,null,null,null,null,null,null,null,null,0,0,{"$f":"MAX(L2573-M2573,0)","v":0}]
[null,null,null,null,null,null,null,null,null,null,null,0,0,0]
[null,null,null,null,null,null,null,null,null,null,null,0,0,0]
[null,null,null,null,null,null,null,null,null,null,null,0,0,0]
[null,null,null,null,null,null,null,null,null,null,null,0,0,0]
[null,null,null,null,null,null,null,null,null,null,null,0,0,0]
[null,null,null,null,null,null,null,null,null,null,null,{"$f":"SUM(D2579:K2579)","v":0},0,0]
[null,null,null,null,null,null,null,null,null,null,null,0,0,0]
[null,null,null,null,null,null,null,null,null,null,null,0,0,0]
[null,null,null,null,null,null,null,null,null,null,null,0,0,0]
[null,null,null,null,null,null,null,null,null,null,null,0,0,0]
[null,null,null,null,null,null,null,null,null,null,null,0,0,0]
[null,null,null,null,null,null,null,null,null,null,null,0,0,0]
[null,null,null,null,null,null,null,null,null,null,null,0,0,0]
[null,null,null,null,null,null,null,null,null,null,null,0,0,0]
[null,null,null,null,null,null,null,null,null,null,null,0,0,0]
[null,null,null,null,null,null,null,null,null,null,null,0,0,0]
[null,null,null,null,null,null,null,null,null,null,null,0,0,0]
[null,null,null,null,null,null,null,null,null,null,null,0,0,0]
[null,null,null,null,null,null,null,null,null,null,null,0,0,0]
[null,null,null,null,null,null,null,null,null,null,null,0,0,{"$f":"MAX(L2593-M2593,0)","v":0},null,null,null,null,null,null,null,null,null,null,null,null,{"$f":"L2593-SUM(F2593,J2593)","v":0}]
[null,null,null,null,null,null,null,null,null,null,null,0,0,0,null,null,null,null,null,null,null,null,null,null,null,null,0]
[null,null,null,null,null,null,null,null,null,null,null,0,0,0,null,null,null,null,null,null,null,null,null,null,null,null,0]
[null,null,null,null,null,null,null,null,null,null,null,0,0,0,null,null,null,null,null,null,null,null,null,null,null,null,0]
[null,null,null,null,null,null,null,null,null,null,null,0,0,0,null,null,null,null,null,null,null,null,null,null,null,null,0]
[null,null,null,null,null,null,null,null,null,null,null,0,0,0,null,null,null,null,null,null,null,null,null,null,null,null,0]
[null,null,null,null,null,null,null,null,null,null,null,0,0,0,null,null,null,null,null,null,null,null,null,null,null,null,0]
[null,null,null,null,null,null,null,null,null,null,null,0,0,0]
[null,null,null,null,null,null,null,null,null,null,null,0,0,0]
[null,null,null,null,null,null,null,null,null,null,null,0,0,0]
[null,null,null,null,null,null,null,null,null,null,null,0,0,0]
[null,null,null,null,null,null,null,null,null,null,null,0,0,0]
[null,null,null,null,null,null,null,null,null,null,null,0,0,0]
[null,null,null,null,null,null,null,null,null,null,null,0,0,0]
[null,null,null,null,null,null,null,null,null,null,null,0,0,0]
[null,null,null,null,null,null,null,null,null,null,null,0,0,0]
[null,null,null,null,null,null,null,null,null,null,null,0,0,0]
[null,null,null,null,null,null,null,null,null,null,null,0,0,{"$f":"MAX(L2610-M2610,0)","v":0}]
[null,null,null,null,null,null,null,null,null,null,null,0,0,0]
[null,null,null,null,null,null,null,null,null,null,null,0,0,0]
[null,null,null,null,null,null,null,null,null,null,null,0,0,0]
[null,null,null,null,null,null,null,null,null,null,null,0,0,0]
[null,null,null,null,null,null,null,null,null,null,null,{"$f":"SUM(D2615:K2615)","v":0},0,0]
[null,null,null,null,null,null,null,null,null,null,null,0,0,0]
[null,null,null,null,null,null,null,null,null,null,null,0,0,0]
[null,null,null,null,null,null,null,null,null,null,null,0,0,0]
[null,null,null,null,null,null,null,null,null,null,null,0,0,0]
[null,null,null,null,null,null,null,null,null,null,null,0,0,0]
[null,null,null,null,null,null,null,null,null,null,null,0,0,0]
[null,null,null,null,null,null,null,null,null,null,null,0,0,0]
[null,null,null,null,null,null,null,null,null,null,null,0,0,0]
[null,null,null,null,null,null,null,null,null,null,null,0,0,0]
[null,null,null,null,null,null,null,null,null,null,null,0,0,0]
[null,null,null,null,null,null,null,null,null,null,null,0,0,0]
[null,null,null,null,null,null,null,null,null,null,null,0,0,0]
[null,null,null,null,null,null,null,null,null,null,null,0,0,0]
[null,null,null,null,null,null,null,null,null,null,null,0,0,0]
[null,null,null,null,null,null,null,null,null,null,null,0,0,0]
[null,null,null,null,null,null,null,null,null,null,null,{"$f":"SUM(D2631:K2631)","v":0},0,0,null,null,null,null,null,null,null,null,null,null,null,null,{"$f":"L2631-SUM(F2631,J2631)","v":0}]
[null,null,null,null,null,null,null,null,null,null,null,{"$f":"SUM(D2632:K2632)","v":0},0,0,null,null,null,null,null,null,null,null,null,null,null,null,{"$f":"L2632-SUM(F2632,J2632)","v":0}]
[null,null,null,null,null,null,null,null,null,null,null,0,0,0,null,null,null,null,null,null,null,null,null,null,null,null,0]
[null,null,null,null,null,null,null,null,null,null,null,0,0,0,null,null,null,null,null,null,null,null,null,null,null,null,0]
[null,null,null,null,null,null,null,null,null,null,null,0,0,0]
[null,null,null,null,null,null,null,null,null,null,null,0,0,0]
[null,null,null,null,null,null,null,null,null,null,null,0,0,0]
[null,null,null,null,null,null,null,null,null,null,null,0,0,0]
[null,null,null,null,null,null,null,null,null,null,null,0,0,0]
[null,null,null,null,null,null,null,null,null,null,null,0,0,0]
[null,null,null,null,null,null,null,null,null,null,null,0,0,0]
[null,null,null,null,null,null,null,null,null,null,null,0,0,0]
[null,null,null,null,null,null,null,null,null,null,null,0,0,0]
[null,null,null,null,null,null,null,null,null,null,null,0,0,0]
[null,null,null,null,null,null,null,null,null,null,null,0,0,0]
[null,null,null,null,null,null,null,null,null,null,null,0,0,0]
[null,null,null,null,null,null,null,null,null,null,null,0,0,0]
[null,null,null,null,null,null,null,null,null,null,null,0,0,0]
[null,null,null,null,null,null,null,null,null,null,null,0,0,0]
[null,null,null,null,null,null,null,null,null,null,null,0,0,0]
[null,null,null,null,null,null,null,null,null,null,null,0,0,0]
[null,null,null,null,null,null,null,null,null,null,null,0,0,0]
[null,null,null,null,null,null,null,null,null,null,null,0,0,0]
[null,null,null,null,null,null,null,null,null,null,null,0,0,0]
[null,null,null,null,null,null,null,null,null,null,null,0,0,0]
[null,null,null,null,null,null,null,null,null,null,null,0,0,0]
[null,null,null,null,null,null,null,null,null,null,null,0,0,0]
[null,null,null,null,null,null,null,null,null,null,null,0,0,0]
[null,null,null,null,null,null,null,null,null,null,null,0,0,0]
[null,null,null,null,null,null,null,null,null,null,null,0,0,0]
[null,null,null,null,null,null,null,null,null,null,null,0,0,0]
[null,null,null,null,null,null,null,null,null,null,null,0,0,0]
[null,null,null,null,null,null,null,null,null,null,null,0,0,0]
[null,null,null,null,null,null,null,null,null,null,null,0,0,0]
[null,null,null,null,null,null,null,null,null,null,null,0,0,0,null,null,null,null,null,null,null,null,null,null,null,null,{"$f":"L2665-SUM(F2665,J2665)","v":0}]
[null,null,null,null,null,null,null,null,null,null,null,0,0,0,null,null,null,null,null,null,null,null,null,null,null,null,0]
[null,null,null,null,null,null,null,null,null,null,null,0,0,0,null,null,null,null,null,null,null,null,null,null,null,null,0]
[null,null,null,null,null,null,null,null,null,null,null,0,0,0,null,null,null,null,null,null,null,null,null,null,null,null,0]
[null,null,null,null,null,null,null,null,null,null,null,0,0,0,null,null,null,null,null,null,null,null,null,null,null,null,0]
[null,null,null,null,null,null,null,null,null,null,null,0,0,0]
[null,null,null,null,null,null,null,null,null,null,null,0,0,0,null,null,null,null,null,null,null,null,null,null,null,null,{"$f":"L2671-SUM(F2671,J2671)","v":0}]
[null,null,null,null,null,null,null,null,null,null,null,0,0,0,null,null,null,null,null,null,null,null,null,null,null,null,0]
[null,null,null,null,null,null,null,null,null,null,null,0,0,0,null,null,null,null,null,null,null,null,null,null,null,null,0]
[null,null,null,null,null,null,null,null,null,null,null,0,0,{"$f":"MAX(L2674-M2674,0)","v":0},null,null,null,null,null,null,null,null,null,null,null,null,0]
[null,null,null,null,null,null,null,null,null,null,null,0,0,0,null,null,null,null,null,null,null,null,null,null,null,null,0]
[null,null,null,null,null,null,null,null,null,null,null,0,0,0,null,null,null,null,null,null,null,null,null,null,null,null,0]
[null,null,null,null,null,null,null,null,null,null,null,0,0,0,null,null,null,null,null,null,null,null,null,null,null,null,0]
[null,null,null,null,null,null,null,null,null,null,null,0,0,0,null,null,null,null,null,null,null,null,null,null,null,null,0]
[null,null,null,null,null,null,null,null,null,null,null,0,0,0,null,null,null,null,null,null,null,null,null,null,null,null,0]
[null,null,null,null,null,null,null,null,null,null,null,0,0,0,null,null,null,null,null,null,null,null,null,null,null,null,0]
[null,null,null,null,null,null,null,null,null,null,null,0,0,0]
[null,null,null,null,null,null,null,null,null,null,null,0,0,0]
[null,null,null,null,null,null,null,null,null,null,null,0,0,0]
[null,null,null,null,null,null,null,null,null,null,null,0,0,0]
[null,null,null,null,null,null,null,null,null,null,null,0,0,0]
[null,null,null,null,null,null,null,null,null,null,null,0,0,0]
[null,null,null,null,null,null,null,null,null,null,null,0,0,0]
[null,null,null,null,null,null,null,null,null,null,null,0,0,0]
[null,null,null,null,null,null,null,null,null,null,null,0,0,0]
[null,null,null,null,null,null,null,null,null,null,null,0,0,0]
[null,null,null,null,null,null,null,null,null,null,null,0,0,0]
[null,null,null,null,null,null,null,null,null,null,null,0,0,0]
[null,null,null,null,null,null,null,null,null,null,null,0,0,0]
[null,null,null,null,null,null,null,null,null,null,null,0,0,0]
[null,null,null,null,null,null,null,null,null,null,null,0,0,0]
[null,null,null,null,null,null,null,null,null,null,null,{"$f":"SUM(D2696:K2696)","v":0},0,0]
[null,null,null,null,null,null,null,null,null,null,null,0,0,0]
[null,null,null,null,null,null,null,null,null,null,null,0,0,0]
[null,null,null,null,null,null,null,null,null,null,null,0,0,0]
[null,null,null,null,null,null,null,null,null,null,null,0,0,0]
[null,null,null,null,null,null,null,null,null,null,null,0,0,0]
[null,null,null,null,null,null,null,null,null,null,null,0,0,0]
[null,null,null,null,null,null,null,null,null,null,null,0,0,0]
[null,null,null,null,null,null,null,null,null,null,null,0,0,0]
[null,null,null,null,null,null,null,null,null,null,null,0,0,0]
[null,null,null,null,null,null,null,null,null,null,null,0,0,0]
[null,null,null,null,null,null,null,null,null,null,null,0,0,0]
[null,null,null,null,null,null,null,null,null,null,null,0,0,0]
[null,null,null,null,null,null,null,null,null,null,null,0,0,0]
[null,null,null,null,null,null,null,null,null,null,null,0,0,0]
[null,null,null,null,null,null,null,null,null,null,null,0,0,0]
[null,null,null,null,null,null,null,null,null,null,null,{"$f":"SUM(D2712:K2712)","v":0},0,0,null,null,null,null,null,null,null,null,null,null,null,null,{"$f":"L2712-SUM(F2712,J2712)","v":0}]
[null,null,null,null,null,null,null,null,null,null,null,{"$f":"SUM(D2713:K2713)","v":0},0,0,null,null,null,null,null,null,null,null,null,null,null,null,{"$f":"L2713-SUM(F2713,J2713)","v":0}]
[null,null,null,null,null,null,null,null,null,null,null,0,0,0,null,null,null,null,null,null,null,null,null,null,null,null,0]
[null,null,null,null,null,null,null,null,null,null,null,0,0,0,null,null,null,null,null,null,null,null,null,null,null,null,0]
[null,null,null,null,null,null,null,null,null,null,null,0,0,0]
[null,null,null,null,null,null,null,null,null,null,null,0,0,0]
[null,null,null,null,null,null,null,null,null,null,null,0,0,0]
[null,null,null,null,null,null,null,null,null,null,null,0,0,0]
[null,null,null,null,null,null,null,null,null,null,null,0,0,0]
[null,null,null,null,null,null,null,null,null,null,null,0,0,0]
[null,null,null,null,null,null,null,null,null,null,null,0,0,0]
[null,null,null,null,null,null,null,null,null,null,null,0,0,0]
[null,null,null,null,null,null,null,null,null,null,null,0,0,0]
[null,null,null,null,null,null,null,null,null,null,null,0,0,0]
[null,null,null,null,null,null,null,null,null,null,null,0,0,0]
[null,null,null,null,null,null,null,null,null,null,null,0,0,0]
[null,null,null,null,null,null,null,null,null,null,null,0,0,0]
[null,null,null,null,null,null,null,null,null,null,null,0,0,0]
[null,null,null,null,null,null,null,null,null,null,null,0,0,0]
[null,null,null,null,null,null,null,null,null,null,null,0,0,0]
[null,null,null,null,null,null,null,null,null,null,null,0,0,0]
[null,null,null,null,null,null,null,null,null,null,null,0,0,0]
[null,null,null,null,null,null,null,null,null,null,null,0,0,0]
[null,null,null,null,null,null,null,null,null,null,null,0,0,0]
[null,null,null,null,null,null,null,null,null,null,null,0,0,0]
[null,null,null,null,null,null,null,null,null,null,null,0,0,0]
[null,null,null,null,null,null,null,null,null,null,null,0,0,{"$f":"MAX(L2738-M2738,0)","v":0}]
[null,null,null,null,null,null,null,null,null,null,null,0,0,0]
[null,null,null,null,null,null,null,null,null,null,null,0,0,0]
[null,null,null,null,null,null,null,null,null,null,null,0,0,0]
[null,null,null,null,null,null,null,null,null,null,null,0,0,0]
[null,null,null,null,null,null,null,null,null,null,null,0,0,0]
[null,null,null,null,null,null,null,null,null,null,null,0,0,0]
[null,null,null,null,null,null,null,null,null,null,null,0,0,0]
[null,null,null,null,null,null,null,null,null,null,null,0,0,0,null,null,null,null,null,null,null,null,null,null,null,null,{"$f":"L2746-SUM(F2746,J2746)","v":0}]
[null,null,null,null,null,null,null,null,null,null,null,0,0,0,null,null,null,null,null,null,null,null,null,null,null,null,0]
[null,null,null,null,null,null,null,null,null,null,null,0,0,0,null,null,null,null,null,null,null,null,null,null,null,null,0]
[null,null,null,null,null,null,null,null,null,null,null,0,0,0,null,null,null,null,null,null,null,null,null,null,null,null,0]
[null,null,null,null,null,null,null,null,null,null,null,0,0,0,null,null,null,null,null,null,null,null,null,null,null,null,0]
[null,null,null,null,null,null,null,null,null,null,null,0,0,0]
[null,null,null,null,null,null,null,null,null,null,null,0,0,0,null,null,null,null,null,null,null,null,null,null,null,null,{"$f":"L2752-SUM(F2752,J2752)","v":0}]
[null,null,null,null,null,null,null,null,null,null,null,0,0,0,null,null,null,null,null,null,null,null,null,null,null,null,0]
[null,null,null,null,null,null,null,null,null,null,null,0,0,0,null,null,null,null,null,null,null,null,null,null,null,null,0]
[null,null,null,null,null,null,null,null,null,null,null,0,0,0,null,null,null,null,null,null,null,null,null,null,null,null,0]
[null,null,null,null,null,null,null,null,null,null,null,0,0,0,null,null,null,null,null,null,null,null,null,null,null,null,0]
[null,null,null,null,null,null,null,null,null,null,null,0,0,0,null,null,null,null,null,null,null,null,null,null,null,null,0]
[null,null,null,null,null,null,null,null,null,null,null,0,0,0,null,null,null,null,null,null,null,null,null,null,null,null,0]
[null,null,null,null,null,null,null,null,null,null,null,0,0,0,null,null,null,null,null,null,null,null,null,null,null,null,0]
[null,null,null,null,null,null,null,null,null,null,null,0,0,0,null,null,null,null,null,null,null,null,null,null,null,null,0]
[null,null,null,null,null,null,null,null,null,null,null,0,0,0,null,null,null,null,null,null,null,null,null,null,null,null,0]
[null,null,null,null,null,null,null,null,null,null,null,0,0,0]
[null,null,null,null,null,null,null,null,null,null,null,0,0,0]
[null,null,null,null,null,null,null,null,null,null,null,0,0,0]
[null,null,null,null,null,null,null,null,null,null,null,0,0,0]
[null,null,null,null,null,null,null,null,null,null,null,0,0,0]
[null,null,null,null,null,null,null,null,null,null,null,0,0,0]
[null,null,null,null,null,null,null,null,null,null,null,0,0,0]
[null,null,null,null,null,null,null,null,null,null,null,0,0,0]
[null,null,null,null,null,null,null,null,null,null,null,0,0,0]
[null,null,null,null,null,null,null,null,null,null,null,0,0,0]
[null,null,null,null,null,null,null,null,null,null,null,0,0,0]
[null,null,null,null,null,null,null,null,null,null,null,0,0,0]
[null,null,null,null,null,null,null,null,null,null,null,0,0,0]
[null,null,null,null,null,null,null,null,null,null,null,0,0,0]
[null,null,null,null,null,null,null,null,null,null,null,0,0,0]
[null,null,null,null,null,null,null,null,null,null,null,{"$f":"SUM(D2777:K2777)","v":0},0,0]
[null,null,null,null,null,null,null,null,null,null,null,0,0,0]
[null,null,null,null,null,null,null,null,null,null,null,0,0,0]
[null,null,null,null,null,null,null,null,null,null,null,0,0,0]
[null,null,null,null,null,null,null,null,null,null,null,0,0,0]
[null,null,null,null,null,null,null,null,null,null,null,0,0,0]
[null,null,null,null,null,null,null,null,null,null,null,0,0,0]
[null,null,null,null,null,null,null,null,null,null,null,0,0,0]
[null,null,null,null,null,null,null,null,null,null,null,0,0,0]
[null,null,null,null,null,null,null,null,null,null,null,0,0,0]
[null,null,null,null,null,null,null,null,null,null,null,0,0,0]
[null,null,null,null,null,null,null,null,null,null,null,0,0,0]
[null,null,null,null,null,null,null,null,null,null,null,0,0,0]
[null,null,null,null,null,null,null,null,null,null,null,0,0,0]
[null,null,null,null,null,null,null,null,null,null,null,0,0,0]
[null,null,null,null,null,null,null,null,null,null,null,0,0,0]
[null,null,null,null,null,null,null,null,null,null,null,{"$f":"SUM(D2793:K2793)","v":0},0,0,null,null,null,null,null,null,null,null,null,null,null,null,{"$f":"L2793-SUM(F2793,J2793)","v":0}]
[null,null,null,null,null,null,null,null,null,null,null,{"$f":"SUM(D2794:K2794)","v":0},0,0,null,null,null,null,null,null,null,null,null,null,null,null,{"$f":"L2794-SUM(F2794,J2794)","v":0}]
[null,null,null,null,null,null,null,null,null,null,null,0,0,0,null,null,null,null,null,null,null,null,null,null,null,null,0]
[null,null,null,null,null,null,null,null,null,null,null,0,0,0,null,null,null,null,null,null,null,null,null,null,null,null,0]
[null,null,null,null,null,null,null,null,null,null,null,0,0,0]
[null,null,null,null,null,null,null,null,null,null,null,0,0,0]
[null,null,null,null,null,null,null,null,null,null,null,0,0,0]
[null,null,null,null,null,null,null,null,null,null,null,0,0,0]
[null,null,null,null,null,null,null,null,null,null,null,0,0,0]
[null,null,null,null,null,null,null,null,null,null,null,0,0,{"$f":"MAX(L2802-M2802,0)","v":0}]
[null,null,null,null,null,null,null,null,null,null,null,0,0,0]
[null,null,null,null,null,null,null,null,null,null,null,0,0,0]
[null,null,null,null,null,null,null,null,null,null,null,0,0,0]
[null,null,null,null,null,null,null,null,null,null,null,0,{"$f":"$C$14*$C$13","v":0},0]
[null,null,null,null,null,null,null,null,null,null,null,0,0,0]
[null,null,null,null,null,null,null,null,null,null,null,0,0,0]
[null,null,null,null,null,null,null,null,null,null,null,0,0,0]
[null,null,null,null,null,null,null,null,null,null,null,0,0,0]
[null,null,null,null,null,null,null,null,null,null,null,0,0,0]
[null,null,null,null,null,null,null,null,null,null,null,0,0,0]
[null,null,null,null,null,null,null,null,null,null,null,0,0,0]
[null,null,null,null,null,null,null,null,null,null,null,0,0,0]
[null,null,null,null,null,null,null,null,null,null,null,0,0,0]
[null,null,null,null,null,null,null,null,null,null,null,0,0,0]
[null,null,null,null,null,null,null,null,null,null,null,0,0,0]
[null,null,null,null,null,null,null,null,null,null,null,0,0,0]
[null,null,null,null,null,null,null,null,null,null,null,0,0,0]
[null,null,null,null,null,null,null,null,null,null,null,0,0,0]
[null,null,null,null,null,null,null,null,null,null,null,0,0,0]
[null,null,null,null,null,null,null,null,null,null,null,0,0,0]
[null,null,null,null,null,null,null,null,null,null,null,0,0,0]
[null,null,null,null,null,null,null,null,null,null,null,0,0,0]
[null,null,null,null,null,null,null,null,null,null,null,0,0,0]
[null,null,null,null,null,null,null,null,null,null,null,0,0,0]
[null,null,null,null,null,null,null,null,null,null,null,0,0,0,null,null,null,null,null,null,null,null,null,null,null,null,{"$f":"L2827-SUM(F2827,J2827)","v":0}]
[null,null,null,null,null,null,null,null,null,null,null,0,0,0,null,null,null,null,null,null,null,null,null,null,null,null,0]
[null,null,null,null,null,null,null,null,null,null,null,0,0,0,null,null,null,null,null,null,null,null,null,null,null,null,0]
[null,null,null,null,null,null,null,null,null,null,null,0,0,0,null,null,null,null,null,null,null,null,null,null,null,null,0]
[null,null,null,null,null,null,null,null,null,null,null,0,0,0,null,null,null,null,null,null,null,null,null,null,null,null,0]
[null,null,null,null,null,null,null,null,null,null,null,0,0,0]
[null,null,null,null,null,null,null,null,null,null,null,0,0,0,null,null,null,null,null,null,null,null,null,null,null,null,{"$f":"L2833-SUM(F2833,J2833)","v":0}]
[null,null,null,null,null,null,null,null,null,null,null,0,0,0,null,null,null,null,null,null,null,null,null,null,null,null,0]
[null,null,null,null,null,null,null,null,null,null,null,0,0,0,null,null,null,null,null,null,null,null,null,null,null,null,0]
[null,null,null,null,null,null,null,null,null,null,null,0,0,0,null,null,null,null,null,null,null,null,null,null,null,null,0]
[null,null,null,null,null,null,null,null,null,null,null,0,0,0,null,null,null,null,null,null,null,null,null,null,null,null,0]
[null,null,null,null,null,null,null,null,null,null,null,0,0,0,null,null,null,null,null,null,null,null,null,null,null,null,0]
[null,null,null,null,null,null,null,null,null,null,null,0,0,0,null,null,null,null,null,null,null,null,null,null,null,null,0]
[null,null,null,null,null,null,null,null,null,null,null,0,0,0,null,null,null,null,null,null,null,null,null,null,null,null,0]
[null,null,null,null,null,null,null,null,null,null,null,0,0,0,null,null,null,null,null,null,null,null,null,null,null,null,0]
[null,null,null,null,null,null,null,null,null,null,null,0,0,0,null,null,null,null,null,null,null,null,null,null,null,null,0]
[null,null,null,null,null,null,null,null,null,null,null,0,0,0]
[null,null,null,null,null,null,null,null,null,null,null,0,0,0]
[null,null,null,null,null,null,null,null,null,null,null,0,0,0]
[null,null,null,null,null,null,null,null,null,null,null,0,0,0]
[null,null,null,null,null,null,null,null,null,null,null,0,0,0]
[null,null,null,null,null,null,null,null,null,null,null,0,0,0]
[null,null,null,null,null,null,null,null,null,null,null,0,0,0]
[null,null,null,null,null,null,null,null,null,null,null,0,0,0]
[null,null,null,null,null,null,null,null,null,null,null,0,0,0]
[null,null,null,null,null,null,null,null,null,null,null,0,0,0]
[null,null,null,null,null,null,null,null,null,null,null,0,0,0]
[null,null,null,null,null,null,null,null,null,null,null,0,0,0]
[null,null,null,null,null,null,null,null,null,null,null,0,0,0]
[null,null,null,null,null,null,null,null,null,null,null,0,0,0]
[null,null,null,null,null,null,null,null,null,null,null,0,0,0]
[null,null,null,null,null,null,null,null,null,null,null,{"$f":"SUM(D2858:K2858)","v":0},0,0]
[null,null,null,null,null,null,null,null,null,null,null,0,0,0]
[null,null,null,null,null,null,null,null,null,null,null,0,0,0]
[null,null,null,null,null,null,null,null,null,null,null,0,0,0]
[null,null,null,null,null,null,null,null,null,null,null,0,0,0]
[null,null,null,null,null,null,null,null,null,null,null,0,0,0]
[null,null,null,null,null,null,null,null,null,null,null,0,0,0]
[null,null,null,null,null,null,null,null,null,null,null,0,0,0]
[null,null,null,null,null,null,null,null,null,null,null,0,0,{"$f":"MAX(L2866-M2866,0)","v":0}]
[null,null,null,null,null,null,null,null,null,null,null,0,0,0]
[null,null,null,null,null,null,null,null,null,null,null,0,0,0]
[null,null,null,null,null,null,null,null,null,null,null,0,0,0]
[null,null,null,null,null,null,null,null,null,null,null,0,0,0]
[null,null,null,null,null,null,null,null,null,null,null,0,0,0]
[null,null,null,null,null,null,null,null,null,null,null,{"$f":"SUM(D2872:K2872)","v":0},0,0,null,null,null,null,null,null,null,null,null,null,null,null,{"$f":"L2872-SUM(F2872,J2872)","v":0}]
[null,null,null,null,null,null,null,null,null,null,null,{"$f":"SUM(D2873:K2873)","v":0},0,0,null,null,null,null,null,null,null,null,null,null,null,null,{"$f":"L2873-SUM(F2873,J2873)","v":0}]
[null,null,null,null,null,null,null,null,null,null,null,0,0,0,null,null,null,null,null,null,null,null,null,null,null,null,0]
[null,null,null,null,null,null,null,null,null,null,null,0,0,0,null,null,null,null,null,null,null,null,null,null,null,null,0]
[null,null,null,null,null,null,null,null,null,null,null,0,0,0]
[null,null,null,null,null,null,null,null,null,null,null,0,0,0]
[null,null,null,null,null,null,null,null,null,null,null,0,0,0]
[null,null,null,null,null,null,null,null,null,null,null,0,0,0]
[null,null,null,null,null,null,null,null,null,null,null,0,0,0]
[null,null,null,null,null,null,null,null,null,null,null,0,0,0]
[null,null,null,null,null,null,null,null,null,null,null,0,0,0]
[null,null,null,null,null,null,null,null,null,null,null,0,0,0]
[null,null,null,null,null,null,null,null,null,null,null,0,0,0]
[null,null,null,null,null,null,null,null,null,null,null,0,0,0]
[null,null,null,null,null,null,null,null,null,null,null,0,0,0]
[null,null,null,null,null,null,null,null,null,null,null,0,0,0]
[null,null,null,null,null,null,null,null,null,null,null,0,0,0]
[null,null,null,null,null,null,null,null,null,null,null,0,0,0]
[null,null,null,null,null,null,null,null,null,null,null,0,0,0]
[null,null,null,null,null,null,null,null,null,null,null,0,0,0]
[null,null,null,null,null,null,null,null,null,null,null,0,0,0]
[null,null,null,null,null,null,null,null,null,null,null,0,0,0]
[null,null,null,null,null,null,null,null,null,null,null,0,0,0]
[null,null,null,null,null,null,null,null,null,null,null,0,0,0]
[null,null,null,null,null,null,null,null,null,null,null,0,0,0]
[null,null,null,null,null,null,null,null,null,null,null,0,0,0]
[null,null,null,null,null,null,null,null,null,null,null,0,0,0]
[null,null,null,null,null,null,null,null,null,null,null,0,0,0]
[null,null,null,null,null,null,null,null,null,null,null,0,0,0]
[null,null,null,null,null,null,null,null,null,null,null,0,0,0]
[null,null,null,null,null,null,null,null,null,null,null,0,0,0]
[null,null,null,null,null,null,null,null,null,null,null,0,0,0]
[null,null,null,null,null,null,null,null,null,null,null,0,0,0]
[null,null,null,null,null,null,null,null,null,null,null,0,0,0]
[null,null,null,null,null,null,null,null,null,null,null,0,0,0,null,null,null,null,null,null,null,null,null,null,null,null,{"$f":"L2906-SUM(F2906,J2906)","v":0}]
[null,null,null,null,null,null,null,null,null,null,null,0,0,0,null,null,null,null,null,null,null,null,null,null,null,null,0]
[null,null,null,null,null,null,null,null,null,null,null,0,0,0,null,null,null,null,null,null,null,null,null,null,null,null,0]
[null,null,null,null,null,null,null,null,null,null,null,0,0,0,null,null,null,null,null,null,null,null,null,null,null,null,0]
[null,null,null,null,null,null,null,null,null,null,null,0,0,0,null,null,null,null,null,null,null,null,null,null,null,null,0]
[null,null,null,null,null,null,null,null,null,null,null,0,0,0]
[null,null,null,null,null,null,null,null,null,null,null,0,0,0,null,null,null,null,null,null,null,null,null,null,null,null,{"$f":"L2912-SUM(F2912,J2912)","v":0}]
[null,null,null,null,null,null,null,null,null,null,null,0,0,0,null,null,null,null,null,null,null,null,null,null,null,null,0]
[null,null,null,null,null,null,null,null,null,null,null,0,0,0,null,null,null,null,null,null,null,null,null,null,null,null,0]
[null,null,null,null,null,null,null,null,null,null,null,0,0,0,null,null,null,null,null,null,null,null,null,null,null,null,0]
[null,null,null,null,null,null,null,null,null,null,null,0,0,0,null,null,null,null,null,null,null,null,null,null,null,null,0]
[null,null,null,null,null,null,null,null,null,null,null,0,0,0,null,null,null,null,null,null,null,null,null,null,null,null,0]
[null,null,null,null,null,null,null,null,null,null,null,0,0,0,null,null,null,null,null,null,null,null,null,null,null,null,0]
[null,null,null,null,null,null,null,null,null,null,null,0,0,0,null,null,null,null,null,null,null,null,null,null,null,null,0]
[null,null,null,null,null,null,null,null,null,null,null,0,0,0,null,null,null,null,null,null,null,null,null,null,null,null,0]
[null,null,null,null,null,null,null,null,null,null,null,0,0,0,null,null,null,null,null,null,null,null,null,null,null,null,0]
[null,null,null,null,null,null,null,null,null,null,null,0,0,0]
[null,null,null,null,null,null,null,null,null,null,null,0,0,0]
[null,null,null,null,null,null,null,null,null,null,null,0,0,0]
[null,null,null,null,null,null,null,null,null,null,null,0,0,0]
[null,null,null,null,null,null,null,null,null,null,null,0,0,0]
[null,null,null,null,null,null,null,null,null,null,null,0,0,0]
[null,null,null,null,null,null,null,null,null,null,null,0,0,0]
[null,null,null,null,null,null,null,null,null,null,null,0,0,0]
[null,null,null,null,null,null,null,null,null,null,null,0,0,0]
[null,null,null,null,null,null,null,null,null,null,null,0,0,0]
[null,null,null,null,null,null,null,null,null,null,null,0,0,0]
[null,null,null,null,null,null,null,null,null,null,null,0,0,0]
[null,null,null,null,null,null,null,null,null,null,null,0,0,0]
[null,null,null,null,null,null,null,null,null,null,null,0,0,0]
[null,null,null,null,null,null,null,null,null,null,null,0,0,0]
[null,null,null,null,null,null,null,null,null,null,null,{"$f":"SUM(D2937:K2937)","v":0},0,0]
[null,null,null,null,null,null,null,null,null,null,null,0,0,0]
[null,null,null,null,null,null,null,null,null,null,null,0,0,0]
[null,null,null,null,null,null,null,null,null,null,null,0,0,0]
[null,null,null,null,null,null,null,null,null,null,null,0,0,0]
[null,null,null,null,null,null,null,null,null,null,null,0,0,0]
[null,null,null,null,null,null,null,null,null,null,null,0,0,0]
[null,null,null,null,null,null,null,null,null,null,null,0,0,0]
[null,null,null,null,null,null,null,null,null,null,null,0,0,0]
[null,null,null,null,null,null,null,null,null,null,null,0,0,0]
[null,null,null,null,null,null,null,null,null,null,null,0,0,0]
[null,null,null,null,null,null,null,null,null,null,null,0,0,0]
[null,null,null,null,null,null,null,null,null,null,null,0,0,0]
[null,null,null,null,null,null,null,null,null,null,null,0,0,0]
[null,null,null,null,null,null,null,null,null,null,null,0,0,0]
[null,null,null,null,null,null,null,null,null,null,null,0,0,0]
[null,null,null,null,null,null,null,null,null,null,null,{"$f":"SUM(D2953:K2953)","v":0},0,0,null,null,null,null,null,null,null,null,null,null,null,null,{"$f":"L2953-SUM(F2953,J2953)","v":0}]
[null,null,null,null,null,null,null,null,null,null,null,{"$f":"SUM(D2954:K2954)","v":0},0,0,null,null,null,null,null,null,null,null,null,null,null,null,{"$f":"L2954-SUM(F2954,J2954)","v":0}]
[null,null,null,null,null,null,null,null,null,null,null,0,0,0,null,null,null,null,null,null,null,null,null,null,null,null,0]
[null,null,null,null,null,null,null,null,null,null,null,0,0,0,null,null,null,null,null,null,null,null,null,null,null,null,0]
[null,null,null,null,null,null,null,null,null,null,null,0,0,0]
[null,null,null,null,null,null,null,null,null,null,null,0,0,0]
[null,null,null,null,null,null,null,null,null,null,null,0,0,0]
[null,null,null,null,null,null,null,null,null,null,null,0,0,0]
[null,null,null,null,null,null,null,null,null,null,null,0,0,0]
[null,null,null,null,null,null,null,null,null,null,null,0,0,0]
[null,null,null,null,null,null,null,null,null,null,null,0,0,0]
[null,null,null,null,null,null,null,null,null,null,null,0,0,0]
[null,null,null,null,null,null,null,null,null,null,null,0,0,0]
[null,null,null,null,null,null,null,null,null,null,null,0,0,0]
[null,null,null,null,null,null,null,null,null,null,null,0,0,0]
[null,null,null,null,null,null,null,null,null,null,null,0,0,0]
[null,null,null,null,null,null,null,null,null,null,null,0,0,0]
[null,null,null,null,null,null,null,null,null,null,null,0,0,0]
[null,null,null,null,null,null,null,null,null,null,null,0,0,0]
[null,null,null,null,null,null,null,null,null,null,null,0,0,0]
[null,null,null,null,null,null,null,null,null,null,null,0,0,0]
[null,null,null,null,null,null,null,null,null,null,null,0,0,0]
[null,null,null,null,null,null,null,null,null,null,null,0,0,0]
[null,null,null,null,null,null,null,null,null,null,null,0,0,0]
[null,null,null,null,null,null,null,null,null,null,null,0,0,0]
[null,null,null,null,null,null,null,null,null,null,null,0,0,0]
[null,null,null,null,null,null,null,null,null,null,null,0,0,0]
[null,null,null,null,null,null,null,null,null,null,null,0,0,0]
[null,null,null,null,null,null,null,null,null,null,null,0,0,0]
[null,null,null,null,null,null,null,null,null,null,null,0,0,0]
[null,null,null,null,null,null,null,null,null,null,null,0,0,0]
[null,null,null,null,null,null,null,null,null,null,null,0,0,0]
[null,null,null,null,null,null,null,null,null,null,null,0,0,0]
[null,null,null,null,null,null,null,null,null,null,null,0,0,0]
[null,null,null,null,null,null,null,null,null,null,null,0,0,0,null,null,null,null,null,null,null,null,null,null,null,null,{"$f":"L2987-SUM(F2987,J2987)","v":0}]
[null,null,null,null,null,null,null,null,null,null,null,0,0,0,null,null,null,null,null,null,null,null,null,null,null,null,0]
[null,null,null,null,null,null,null,null,null,null,null,0,0,0,null,null,null,null,null,null,null,null,null,null,null,null,0]
[null,null,null,null,null,null,null,null,null,null,null,0,0,0,null,null,null,null,null,null,null,null,null,null,null,null,0]
[null,null,null,null,null,null,null,null,null,null,null,0,0,0,null,null,null,null,null,null,null,null,null,null,null,null,0]
[null,null,null,null,null,null,null,null,null,null,null,0,0,0]
[null,null,null,null,null,null,null,null,null,null,null,0,0,0,null,null,null,null,null,null,null,null,null,null,null,null,{"$f":"L2993-SUM(F2993,J2993)","v":0}]
[null,null,null,null,null,null,null,null,null,null,null,0,0,0,null,null,null,null,null,null,null,null,null,null,null,null,0]
[null,null,null,null,null,null,null,null,null,null,null,0,0,0,null,null,null,null,null,null,null,null,null,null,null,null,0]
[null,null,null,null,null,null,null,null,null,null,null,0,0,0,null,null,null,null,null,null,null,null,null,null,null,null,0]
[null,null,null,null,null,null,null,null,null,null,null,0,0,0,null,null,null,null,null,null,null,null,null,null,null,null,0]
[null,null,null,null,null,null,null,null,null,null,null,0,0,0,null,null,null,null,null,null,null,null,null,null,null,null,0]
[null,null,null,null,null,null,null,null,null,null,null,0,0,0,null,null,null,null,null,null,null,null,null,null,null,null,0]
[null,null,null,null,null,null,null,null,null,null,null,0,0,0,null,null,null,null,null,null,null,null,null,null,null,null,0]
[null,null,null,null,null,null,null,null,null,null,null,0,0,0,null,null,null,null,null,null,null,null,null,null,null,null,0]
[null,null,null,null,null,null,null,null,null,null,null,0,0,0,null,null,null,null,null,null,null,null,null,null,null,null,0]
[null,null,null,null,null,null,null,null,null,null,null,0,0,0]
[null,null,null,null,null,null,null,null,null,null,null,0,0,0]
[null,null,null,null,null,null,null,null,null,null,null,0,0,0]
[null,null,null,null,null,null,null,null,null,null,null,0,0,0]
[null,null,null,null,null,null,null,null,null,null,null,0,0,0]
[null,null,null,null,null,null,null,null,null,null,null,0,0,0]
[null,null,null,null,null,null,null,null,null,null,null,0,0,0]
[null,null,null,null,null,null,null,null,null,null,null,0,0,0]
[null,null,null,null,null,null,null,null,null,null,null,0,0,0]
[null,null,null,null,null,null,null,null,null,null,null,0,0,0]
[null,null,null,null,null,null,null,null,null,null,null,0,0,0]
[null,null,null,null,null,null,null,null,null,null,null,0,0,0]
[null,null,null,null,null,null,null,null,null,null,null,0,0,0]
[null,null,null,null,null,null,null,null,null,null,null,0,0,0]
[null,null,null,null,null,null,null,null,null,null,null,0,0,0]
[null,null,null,null,null,null,null,null,null,null,null,{"$f":"SUM(D3018:K3018)","v":0},0,0]
[null,null,null,null,null,null,null,null,null,null,null,0,0,0]
[null,null,null,null,null,null,null,null,null,null,null,0,0,0]
[null,null,null,null,null,null,null,null,null,null,null,0,0,0]
[null,null,null,null,null,null,null,null,null,null,null,0,0,0]
[null,null,null,null,null,null,null,null,null,null,null,0,0,0]
[null,null,null,null,null,null,null,null,null,null,null,0,0,0]
[null,null,null,null,null,null,null,null,null,null,null,0,0,0]
[null,null,null,null,null,null,null,null,null,null,null,0,0,0]
[null,null,null,null,null,null,null,null,null,null,null,0,0,0]
[null,null,null,null,null,null,null,null,null,null,null,0,0,0]
[null,null,null,null,null,null,null,null,null,null,null,0,0,0]
[null,null,null,null,null,null,null,null,null,null,null,0,0,0]
[null,null,null,null,null,null,null,null,null,null,null,0,0,0]
[null,null,null,null,null,null,null,null,null,null,null,0,0,0]
[null,null,null,null,null,null,null,null,null,null,null,0,0,0]
[null,null,null,null,null,null,null,null,null,null,null,{"$f":"SUM(D3034:K3034)","v":0},0,0,null,null,null,null,null,null,null,null,null,null,null,null,{"$f":"L3034-SUM(F3034,J3034)","v":0}]
[null,null,null,null,null,null,null,null,null,null,null,{"$f":"SUM(D3035:K3035)","v":0},0,0,null,null,null,null,null,null,null,null,null,null,null,null,{"$f":"L3035-SUM(F3035,J3035)","v":0}]
[null,null,null,null,null,null,null,null,null,null,null,0,0,0,null,null,null,null,null,null,null,null,null,null,null,null,0]
[null,null,null,null,null,null,null,null,null,null,null,0,0,0,null,null,null,null,null,null,null,null,null,null,null,null,0]
[null,null,null,null,null,null,null,null,null,null,null,0,0,0]
[null,null,null,null,null,null,null,null,null,null,null,0,0,0]
[null,null,null,null,null,null,null,null,null,null,null,0,0,0]
[null,null,null,null,null,null,null,null,null,null,null,0,0,0]
[null,null,null,null,null,null,null,null,null,null,null,0,0,0]
[null,null,null,null,null,null,null,null,null,null,null,0,0,0]
[null,null,null,null,null,null,null,null,null,null,null,0,0,0]
[null,null,null,null,null,null,null,null,null,null,null,0,0,0]
[null,null,null,null,null,null,null,null,null,null,null,0,0,0]
[null,null,null,null,null,null,null,null,null,null,null,0,0,0]
[null,null,null,null,null,null,null,null,null,null,null,0,0,0]
[null,null,null,null,null,null,null,null,null,null,null,0,0,0]
[null,null,null,null,null,null,null,null,null,null,null,0,0,0]
[null,null,null,null,null,null,null,null,null,null,null,0,0,0]
[null,null,null,null,null,null,null,null,null,null,null,0,0,0]
[null,null,null,null,null,null,null,null,null,null,null,0,0,0]
[null,null,null,null,null,null,null,null,null,null,null,0,0,0]
[null,null,null,null,null,null,null,null,null,null,null,0,0,0]
[null,null,null,null,null,null,null,null,null,null,null,0,0,0]
[null,null,null,null,null,null,null,null,null,null,null,0,0,0]
[null,null,null,null,null,null,null,null,null,null,null,0,0,0]
[null,null,null,null,null,null,null,null,null,null,null,0,0,0]
[null,null,null,null,null,null,null,null,null,null,null,0,0,0]
[null,null,null,null,null,null,null,null,null,null,null,0,{"$f":"$C$14*$C$13","v":0},0]
[null,null,null,null,null,null,null,null,null,null,null,0,0,0]
[null,null,null,null,null,null,null,null,null,null,null,0,0,0]
[null,null,null,null,null,null,null,null,null,null,null,0,0,0]
[null,null,null,null,null,null,null,null,null,null,null,0,0,0]
[null,null,null,null,null,null,null,null,null,null,null,0,0,0]
[null,null,null,null,null,null,null,null,null,null,null,0,0,0]
[null,null,null,null,null,null,null,null,null,null,null,0,0,0,null,null,null,null,null,null,null,null,null,null,null,null,{"$f":"L3068-SUM(F3068,J3068)","v":0}]
[null,null,null,null,null,null,null,null,null,null,null,0,0,0,null,null,null,null,null,null,null,null,null,null,null,null,0]
[null,null,null,null,null,null,null,null,null,null,null,0,0,0,null,null,null,null,null,null,null,null,null,null,null,null,0]
[null,null,null,null,null,null,null,null,null,null,null,0,0,0,null,null,null,null,null,null,null,null,null,null,null,null,0]
[null,null,null,null,null,null,null,null,null,null,null,0,0,0,null,null,null,null,null,null,null,null,null,null,null,null,0]
[null,null,null,null,null,null,null,null,null,null,null,0,0,0]
[null,null,null,null,null,null,null,null,null,null,null,0,0,0,null,null,null,null,null,null,null,null,null,null,null,null,{"$f":"L3074-SUM(F3074,J3074)","v":0}]
[null,null,null,null,null,null,null,null,null,null,null,0,0,0,null,null,null,null,null,null,null,null,null,null,null,null,0]
[null,null,null,null,null,null,null,null,null,null,null,0,0,0,null,null,null,null,null,null,null,null,null,null,null,null,0]
[null,null,null,null,null,null,null,null,null,null,null,0,0,0,null,null,null,null,null,null,null,null,null,null,null,null,0]
[null,null,null,null,null,null,null,null,null,null,null,0,0,0,null,null,null,null,null,null,null,null,null,null,null,null,0]
[null,null,null,null,null,null,null,null,null,null,null,0,0,0,null,null,null,null,null,null,null,null,null,null,null,null,0]
[null,null,null,null,null,null,null,null,null,null,null,0,0,0,null,null,null,null,null,null,null,null,null,null,null,null,0]
[null,null,null,null,null,null,null,null,null,null,null,0,0,0,null,null,null,null,null,null,null,null,null,null,null,null,0]
[null,null,null,null,null,null,null,null,null,null,null,0,0,0,null,null,null,null,null,null,null,null,null,null,null,null,0]
[null,null,null,null,null,null,null,null,null,null,null,0,0,0,null,null,null,null,null,null,null,null,null,null,null,null,0]
[null,null,null,null,null,null,null,null,null,null,null,0,0,0]
[null,null,null,null,null,null,null,null,null,null,null,0,0,0]
[null,null,null,null,null,null,null,null,null,null,null,0,0,0]
[null,null,null,null,null,null,null,null,null,null,null,0,0,0]
[null,null,null,null,null,null,null,null,null,null,null,0,0,0]
[null,null,null,null,null,null,null,null,null,null,null,0,0,0]
[null,null,null,null,null,null,null,null,null,null,null,0,0,0]
[null,null,null,null,null,null,null,null,null,null,null,0,0,0]
[null,null,null,null,null,null,null,null,null,null,null,0,0,0]
[null,null,null,null,null,null,null,null,null,null,null,0,0,0]
[null,null,null,null,null,null,null,null,null,null,null,0,0,0]
[null,null,null,null,null,null,null,null,null,null,null,0,0,0]
[null,null,null,null,null,null,null,null,null,null,null,0,0,0]
[null,null,null,null,null,null,null,null,null,null,null,0,0,0]
[null,null,null,null,null,null,null,null,null,null,null,0,0,0]
[null,null,null,null,null,null,null,null,null,null,null,{"$f":"SUM(D3099:K3099)","v":0},0,0]
[null,null,null,null,null,null,null,null,null,null,null,0,0,0]
[null,null,null,null,null,null,null,null,null,null,null,0,0,0]
[null,null,null,null,null,null,null,null,null,null,null,0,0,0]
[null,null,null,null,null,null,null,null,null,null,null,0,0,0]
[null,null,null,null,null,null,null,null,null,null,null,0,0,0]
[null,null,null,null,null,null,null,null,null,null,null,0,0,0]
[null,null,null,null,null,null,null,null,null,null,null,0,0,0]
[null,null,null,null,null,null,null,null,null,null,null,0,0,0]
[null,null,null,null,null,null,null,null,null,null,null,0,0,0]
[null,null,null,null,null,null,null,null,null,null,null,0,0,0]
[null,null,null,null,null,null,null,null,null,null,null,0,0,0]
[null,null,null,null,null,null,null,null,null,null,null,0,0,0]
[null,null,null,null,null,null,null,null,null,null,null,0,0,0]
[null,null,null,null,null,null,null,null,null,null,null,0,0,0]
[null,null,null,null,null,null,null,null,null,null,null,0,0,0]
[null,null,null,null,null,null,null,null,null,null,null,{"$f":"SUM(D3115:K3115)","v":0},0,0,null,null,null,null,null,null,null,null,null,null,null,null,{"$f":"L3115-SUM(F3115,J3115)","v":0}]
[null,null,null,null,null,null,null,null,null,null,null,{"$f":"SUM(D3116:K3116)","v":0},0,0,null,null,null,null,null,null,null,null,null,null,null,null,{"$f":"L3116-SUM(F3116,J3116)","v":0}]
[null,null,null,null,null,null,null,null,null,null,null,0,0,0,null,null,null,null,null,null,null,null,null,null,null,null,0]
[null,null,null,null,null,null,null,null,null,null,null,0,0,0,null,null,null,null,null,null,null,null,null,null,null,null,0]
[null,null,null,null,null,null,null,null,null,null,null,0,0,0]
[null,null,null,null,null,null,null,null,null,null,null,0,0,0]
[null,null,null,null,null,null,null,null,null,null,null,0,0,{"$f":"MAX(L3121-M3121,0)","v":0}]
[null,null,null,null,null,null,null,null,null,null,null,0,0,0]
[null,null,null,null,null,null,null,null,null,null,null,0,0,0]
[null,null,null,null,null,null,null,null,null,null,null,0,0,0]
[null,null,null,null,null,null,null,null,null,null,null,0,0,0]
[null,null,null,null,null,null,null,null,null,null,null,0,0,0]
[null,null,null,null,null,null,null,null,null,null,null,0,0,0]
[null,null,null,null,null,null,null,null,null,null,null,0,0,0]
[null,null,null,null,null,null,null,null,null,null,null,0,0,0]
[null,null,null,null,null,null,null,null,null,null,null,0,0,0]
[null,null,null,null,null,null,null,null,null,null,null,0,0,0]
[null,null,null,null,null,null,null,null,null,null,null,0,0,0]
[null,null,null,null,null,null,null,null,null,null,null,0,0,0]
[null,null,null,null,null,null,null,null,null,null,null,0,0,0]
[null,null,null,null,null,null,null,null,null,null,null,0,0,0]
[null,null,null,null,null,null,null,null,null,null,null,0,0,0]
[null,null,null,null,null,null,null,null,null,null,null,0,0,0]
[null,null,null,null,null,null,null,null,null,null,null,0,0,0]
[null,null,null,null,null,null,null,null,null,null,null,0,0,0]
[null,null,null,null,null,null,null,null,null,null,null,0,0,0]
[null,null,null,null,null,null,null,null,null,null,null,0,0,0]
[null,null,null,null,null,null,null,null,null,null,null,0,0,0]
[null,null,null,null,null,null,null,null,null,null,null,0,0,0]
[null,null,null,null,null,null,null,null,null,null,null,0,0,0]
[null,null,null,null,null,null,null,null,null,null,null,0,0,0]
[null,null,null,null,null,null,null,null,null,null,null,0,0,0]
[null,null,null,null,null,null,null,null,null,null,null,0,0,0]
[null,null,null,null,null,null,null,null,null,null,null,0,0,0]
[null,null,null,null,null,null,null,null,null,null,null,0,0,0,null,null,null,null,null,null,null,null,null,null,null,null,{"$f":"L3149-SUM(F3149,J3149)","v":0}]
[null,null,null,null,null,null,null,null,null,null,null,0,0,0,null,null,null,null,null,null,null,null,null,null,null,null,0]
[null,null,null,null,null,null,null,null,null,null,null,0,0,0,null,null,null,null,null,null,null,null,null,null,null,null,0]
[null,null,null,null,null,null,null,null,null,null,null,0,0,0,null,null,null,null,null,null,null,null,null,null,null,null,0]
[null,null,null,null,null,null,null,null,null,null,null,0,0,0,null,null,null,null,null,null,null,null,null,null,null,null,0]
[null,null,null,null,null,null,null,null,null,null,null,0,0,0]
[null,null,null,null,null,null,null,null,null,null,null,0,0,0,null,null,null,null,null,null,null,null,null,null,null,null,{"$f":"L3155-SUM(F3155,J3155)","v":0}]
[null,null,null,null,null,null,null,null,null,null,null,0,0,0,null,null,null,null,null,null,null,null,null,null,null,null,0]
[null,null,null,null,null,null,null,null,null,null,null,0,0,0,null,null,null,null,null,null,null,null,null,null,null,null,0]
[null,null,null,null,null,null,null,null,null,null,null,0,0,0,null,null,null,null,null,null,null,null,null,null,null,null,0]
[null,null,null,null,null,null,null,null,null,null,null,0,0,0,null,null,null,null,null,null,null,null,null,null,null,null,0]
[null,null,null,null,null,null,null,null,null,null,null,0,0,0,null,null,null,null,null,null,null,null,null,null,null,null,0]
[null,null,null,null,null,null,null,null,null,null,null,0,0,0,null,null,null,null,null,null,null,null,null,null,null,null,0]
[null,null,null,null,null,null,null,null,null,null,null,0,0,0,null,null,null,null,null,null,null,null,null,null,null,null,0]
[null,null,null,null,null,null,null,null,null,null,null,0,0,0,null,null,null,null,null,null,null,null,null,null,null,null,0]
[null,null,null,null,null,null,null,null,null,null,null,0,0,0,null,null,null,null,null,null,null,null,null,null,null,null,0]
[null,null,null,null,null,null,null,null,null,null,null,0,0,0]
[null,null,null,null,null,null,null,null,null,null,null,0,0,0]
[null,null,null,null,null,null,null,null,null,null,null,0,0,0]
[null,null,null,null,null,null,null,null,null,null,null,0,0,0]
[null,null,null,null,null,null,null,null,null,null,null,0,0,0]
[null,null,null,null,null,null,null,null,null,null,null,0,0,0]
[null,null,null,null,null,null,null,null,null,null,null,0,0,0]
[null,null,null,null,null,null,null,null,null,null,null,0,0,0]
[null,null,null,null,null,null,null,null,null,null,null,0,0,0]
[null,null,null,null,null,null,null,null,null,null,null,0,0,0]
[null,null,null,null,null,null,null,null,null,null,null,0,0,0]
[null,null,null,null,null,null,null,null,null,null,null,0,0,0]
[null,null,null,null,null,null,null,null,null,null,null,0,0,0]
[null,null,null,null,null,null,null,null,null,null,null,0,0,0]
[null,null,null,null,null,null,null,null,null,null,null,0,0,0]
[null,null,null,null,null,null,null,null,null,null,null,{"$f":"SUM(D3180:K3180)","v":0},0,0]
[null,null,null,null,null,null,null,null,null,null,null,0,0,0]
[null,null,null,null,null,null,null,null,null,null,null,0,0,0]
[null,null,null,null,null,null,null,null,null,null,null,0,0,0]
[null,null,null,null,null,null,null,null,null,null,null,0,0,0]
[null,null,null,null,null,null,null,null,null,null,null,0,0,{"$f":"MAX(L3185-M3185,0)","v":0}]
[null,null,null,null,null,null,null,null,null,null,null,0,0,0]
[null,null,null,null,null,null,null,null,null,null,null,0,0,0]
[null,null,null,null,null,null,null,null,null,null,null,0,0,0]
[null,null,null,null,null,null,null,null,null,null,null,0,0,0]
[null,null,null,null,null,null,null,null,null,null,null,0,0,0]
[null,null,null,null,null,null,null,null,null,null,null,0,0,0]
[null,null,null,null,null,null,null,null,null,null,null,0,0,0]
[null,null,null,null,null,null,null,null,null,null,null,0,0,0]
[null,null,null,null,null,null,null,null,null,null,null,0,0,0]
[null,null,null,null,null,null,null,null,null,null,null,0,0,0]
[null,null,null,null,null,null,null,null,null,null,null,{"$f":"SUM(D3196:K3196)","v":0},0,0,null,null,null,null,null,null,null,null,null,null,null,null,{"$f":"L3196-SUM(F3196,J3196)","v":0}]
[null,null,null,null,null,null,null,null,null,null,null,{"$f":"SUM(D3197:K3197)","v":0},0,0,null,null,null,null,null,null,null,null,null,null,null,null,{"$f":"L3197-SUM(F3197,J3197)","v":0}]
[null,null,null,null,null,null,null,null,null,null,null,0,0,0,null,null,null,null,null,null,null,null,null,null,null,null,0]
[null,null,null,null,null,null,null,null,null,null,null,0,0,0,null,null,null,null,null,null,null,null,null,null,null,null,0]
[null,null,null,null,null,null,null,null,null,null,null,0,0,0]
[null,null,null,null,null,null,null,null,null,null,null,0,0,0]
[null,null,null,null,null,null,null,null,null,null,null,0,0,0]
[null,null,null,null,null,null,null,null,null,null,null,0,0,0]
[null,null,null,null,null,null,null,null,null,null,null,0,0,0]
[null,null,null,null,null,null,null,null,null,null,null,0,0,0]
[null,null,null,null,null,null,null,null,null,null,null,0,0,0]
[null,null,null,null,null,null,null,null,null,null,null,0,0,0]
[null,null,null,null,null,null,null,null,null,null,null,0,0,0]
[null,null,null,null,null,null,null,null,null,null,null,0,0,0]
[null,null,null,null,null,null,null,null,null,null,null,0,0,0]
[null,null,null,null,null,null,null,null,null,null,null,0,0,0]
[null,null,null,null,null,null,null,null,null,null,null,0,0,0]
[null,null,null,null,null,null,null,null,null,null,null,0,0,0]
[null,null,null,null,null,null,null,null,null,null,null,0,0,0]
[null,null,null,null,null,null,null,null,null,null,null,0,0,0]
[null,null,null,null,null,null,null,null,null,null,null,0,0,0]
[null,null,null,null,null,null,null,null,null,null,null,0,0,0]
[null,null,null,null,null,null,null,null,null,null,null,0,0,0]
[null,null,null,null,null,null,null,null,null,null,null,0,0,0]
[null,null,null,null,null,null,null,null,null,null,null,0,0,0]
[null,null,null,null,null,null,null,null,null,null,null,0,0,0]
[null,null,null,null,null,null,null,null,null,null,null,0,0,0]
[null,null,null,null,null,null,null,null,null,null,null,0,0,0]
[null,null,null,null,null,null,null,null,null,null,null,0,0,0]
[null,null,null,null,null,null,null,null,null,null,null,0,0,0]
[null,null,null,null,null,null,null,null,null,null,null,0,0,0]
[null,null,null,null,null,null,null,null,null,null,null,0,0,0]
[null,null,null,null,null,null,null,null,null,null,null,0,0,0]
[null,null,null,null,null,null,null,null,null,null,null,0,0,0]
[null,null,null,null,null,null,null,null,null,null,null,0,0,0,null,null,null,null,null,null,null,null,null,null,null,null,{"$f":"L3230-SUM(F3230,J3230)","v":0}]
[null,null,null,null,null,null,null,null,null,null,null,0,0,0,null,null,null,null,null,null,null,null,null,null,null,null,0]
[null,null,null,null,null,null,null,null,null,null,null,0,0,0,null,null,null,null,null,null,null,null,null,null,null,null,0]
[null,null,null,null,null,null,null,null,null,null,null,0,0,0,null,null,null,null,null,null,null,null,null,null,null,null,0]
[null,null,null,null,null,null,null,null,null,null,null,0,0,0,null,null,null,null,null,null,null,null,null,null,null,null,0]
[null,null,null,null,null,null,null,null,null,null,null,0,0,0]
[null,null,null,null,null,null,null,null,null,null,null,0,0,0,null,null,null,null,null,null,null,null,null,null,null,null,{"$f":"L3236-SUM(F3236,J3236)","v":0}]
[null,null,null,null,null,null,null,null,null,null,null,0,0,0,null,null,null,null,null,null,null,null,null,null,null,null,0]
[null,null,null,null,null,null,null,null,null,null,null,0,0,0,null,null,null,null,null,null,null,null,null,null,null,null,0]
[null,null,null,null,null,null,null,null,null,null,null,0,0,0,null,null,null,null,null,null,null,null,null,null,null,null,0]
[null,null,null,null,null,null,null,null,null,null,null,0,0,0,null,null,null,null,null,null,null,null,null,null,null,null,0]
[null,null,null,null,null,null,null,null,null,null,null,0,0,0,null,null,null,null,null,null,null,null,null,null,null,null,0]
[null,null,null,null,null,null,null,null,null,null,null,0,0,0,null,null,null,null,null,null,null,null,null,null,null,null,0]
[null,null,null,null,null,null,null,null,null,null,null,0,0,0,null,null,null,null,null,null,null,null,null,null,null,null,0]
[null,null,null,null,null,null,null,null,null,null,null,0,0,0,null,null,null,null,null,null,null,null,null,null,null,null,0]
[null,null,null,null,null,null,null,null,null,null,null,0,0,0,null,null,null,null,null,null,null,null,null,null,null,null,0]
[null,null,null,null,null,null,null,null,null,null,null,0,0,0]
[null,null,null,null,null,null,null,null,null,null,null,0,0,0]
[null,null,null,null,null,null,null,null,null,null,null,0,0,0]
[null,null,null,null,null,null,null,null,null,null,null,0,0,{"$f":"MAX(L3249-M3249,0)","v":0}]
[null,null,null,null,null,null,null,null,null,null,null,0,0,0]
[null,null,null,null,null,null,null,null,null,null,null,0,0,0]
[null,null,null,null,null,null,null,null,null,null,null,0,0,0]
[null,null,null,null,null,null,null,null,null,null,null,0,0,0]
[null,null,null,null,null,null,null,null,null,null,null,0,0,0]
[null,null,null,null,null,null,null,null,null,null,null,0,0,0]
[null,null,null,null,null,null,null,null,null,null,null,0,0,0]
[null,null,null,null,null,null,null,null,null,null,null,0,0,0]
[null,null,null,null,null,null,null,null,null,null,null,0,0,0]
[null,null,null,null,null,null,null,null,null,null,null,0,0,0]
[null,null,null,null,null,null,null,null,null,null,null,0,0,0]
[null,null,null,null,null,null,null,null,null,null,null,{"$f":"SUM(D3261:K3261)","v":0},0,0]
[null,null,null,null,null,null,null,null,null,null,null,0,0,0]
[null,null,null,null,null,null,null,null,null,null,null,0,0,0]
[null,null,null,null,null,null,null,null,null,null,null,0,0,0]
[null,null,null,null,null,null,null,null,null,null,null,0,0,0]
[null,null,null,null,null,null,null,null,null,null,null,0,0,0]
[null,null,null,null,null,null,null,null,null,null,null,0,0,0]
[null,null,null,null,null,null,null,null,null,null,null,0,0,0]
[null,null,null,null,null,null,null,null,null,null,null,0,0,0]
[null,null,null,null,null,null,null,null,null,null,null,0,0,0]
[null,null,null,null,null,null,null,null,null,null,null,0,0,0]
[null,null,null,null,null,null,null,null,null,null,null,0,0,0]
[null,null,null,null,null,null,null,null,null,null,null,0,0,0]
[null,null,null,null,null,null,null,null,null,null,null,0,0,0]
[null,null,null,null,null,null,null,null,null,null,null,0,0,0]
[null,null,null,null,null,null,null,null,null,null,null,0,0,0]
[null,null,null,null,null,null,null,null,null,null,null,{"$f":"SUM(D3277:K3277)","v":0},0,0,null,null,null,null,null,null,null,null,null,null,null,null,{"$f":"L3277-SUM(F3277,J3277)","v":0}]
[null,null,null,null,null,null,null,null,null,null,null,{"$f":"SUM(D3278:K3278)","v":0},0,0,null,null,null,null,null,null,null,null,null,null,null,null,{"$f":"L3278-SUM(F3278,J3278)","v":0}]
[null,null,null,null,null,null,null,null,null,null,null,0,0,0,null,null,null,null,null,null,null,null,null,null,null,null,0]
[null,null,null,null,null,null,null,null,null,null,null,0,0,0,null,null,null,null,null,null,null,null,null,null,null,null,0]
[null,null,null,null,null,null,null,null,null,null,null,0,0,0]
[null,null,null,null,null,null,null,null,null,null,null,0,0,0]
[null,null,null,null,null,null,null,null,null,null,null,0,0,0]
[null,null,null,null,null,null,null,null,null,null,null,0,0,0]
[null,null,null,null,null,null,null,null,null,null,null,0,0,0]
[null,null,null,null,null,null,null,null,null,null,null,0,0,0]
[null,null,null,null,null,null,null,null,null,null,null,0,0,0]
[null,null,null,null,null,null,null,null,null,null,null,0,0,0]
[null,null,null,null,null,null,null,null,null,null,null,0,0,0]
[null,null,null,null,null,null,null,null,null,null,null,0,0,0]
[null,null,null,null,null,null,null,null,null,null,null,0,0,0]
[null,null,null,null,null,null,null,null,null,null,null,0,0,0]
[null,null,null,null,null,null,null,null,null,null,null,0,0,0]
[null,null,null,null,null,null,null,null,null,null,null,0,0,0]
[null,null,null,null,null,null,null,null,null,null,null,0,0,0]
[null,null,null,null,null,null,null,null,null,null,null,0,0,0]
[null,null,null,null,null,null,null,null,null,null,null,0,0,0]
[null,null,null,null,null,null,null,null,null,null,null,0,0,0]
[null,null,null,null,null,null,null,null,null,null,null,0,0,0]
[null,null,null,null,null,null,null,null,null,null,null,0,0,0]
[null,null,null,null,null,null,null,null,null,null,null,0,0,0]
[null,null,null,null,null,null,null,null,null,null,null,0,0,0]
[null,null,null,null,null,null,null,null,null,null,null,0,0,0]
[null,null,null,null,null,null,null,null,null,null,null,0,0,0]
[null,null,null,null,null,null,null,null,null,null,null,0,0,0]
[null,null,null,null,null,null,null,null,null,null,null,0,0,0]
[null,null,null,null,null,null,null,null,null,null,null,0,0,0]
[null,null,null,null,null,null,null,null,null,null,null,0,0,0]
[null,null,null,null,null,null,null,null,null,null,null,0,0,0]
[null,null,null,null,null,null,null,null,null,null,null,0,0,0]
[null,null,null,null,null,null,null,null,null,null,null,0,0,0,null,null,null,null,null,null,null,null,null,null,null,null,{"$f":"L3311-SUM(F3311,J3311)","v":0}]
[null,null,null,null,null,null,null,null,null,null,null,0,0,0,null,null,null,null,null,null,null,null,null,null,null,null,0]
[null,null,null,null,null,null,null,null,null,null,null,0,0,{"$f":"MAX(L3313-M3313,0)","v":0},null,null,null,null,null,null,null,null,null,null,null,null,0]
[null,null,null,null,null,null,null,null,null,null,null,0,0,0,null,null,null,null,null,null,null,null,null,null,null,null,0]
[null,null,null,null,null,null,null,null,null,null,null,0,0,0,null,null,null,null,null,null,null,null,null,null,null,null,0]
[null,null,null,null,null,null,null,null,null,null,null,0,{"$f":"$C$14*$C$13","v":0},0]
[null,null,null,null,null,null,null,null,null,null,null,0,0,0,null,null,null,null,null,null,null,null,null,null,null,null,{"$f":"L3317-SUM(F3317,J3317)","v":0}]
[null,null,null,null,null,null,null,null,null,null,null,0,0,0,null,null,null,null,null,null,null,null,null,null,null,null,0]
[null,null,null,null,null,null,null,null,null,null,null,0,0,0,null,null,null,null,null,null,null,null,null,null,null,null,0]
[null,null,null,null,null,null,null,null,null,null,null,0,0,0,null,null,null,null,null,null,null,null,null,null,null,null,0]
[null,null,null,null,null,null,null,null,null,null,null,0,0,0,null,null,null,null,null,null,null,null,null,null,null,null,0]
[null,null,null,null,null,null,null,null,null,null,null,0,0,0,null,null,null,null,null,null,null,null,null,null,null,null,0]
[null,null,null,null,null,null,null,null,null,null,null,0,0,0,null,null,null,null,null,null,null,null,null,null,null,null,0]
[null,null,null,null,null,null,null,null,null,null,null,0,0,0,null,null,null,null,null,null,null,null,null,null,null,null,0]
[null,null,null,null,null,null,null,null,null,null,null,0,0,0,null,null,null,null,null,null,null,null,null,null,null,null,0]
[null,null,null,null,null,null,null,null,null,null,null,0,0,0,null,null,null,null,null,null,null,null,null,null,null,null,0]
[null,null,null,null,null,null,null,null,null,null,null,0,0,0]
[null,null,null,null,null,null,null,null,null,null,null,0,0,0]
[null,null,null,null,null,null,null,null,null,null,null,0,0,0]
[null,null,null,null,null,null,null,null,null,null,null,0,0,0]
[null,null,null,null,null,null,null,null,null,null,null,0,0,0]
[null,null,null,null,null,null,null,null,null,null,null,0,0,0]
[null,null,null,null,null,null,null,null,null,null,null,0,0,0]
[null,null,null,null,null,null,null,null,null,null,null,0,0,0]
[null,null,null,null,null,null,null,null,null,null,null,0,0,0]
[null,null,null,null,null,null,null,null,null,null,null,0,0,0]
[null,null,null,null,null,null,null,null,null,null,null,0,0,0]
[null,null,null,null,null,null,null,null,null,null,null,0,0,0]
[null,null,null,null,null,null,null,null,null,null,null,0,0,0]
[null,null,null,null,null,null,null,null,null,null,null,0,0,0]
[null,null,null,null,null,null,null,null,null,null,null,0,0,0]
[null,null,null,null,null,null,null,null,null,null,null,{"$f":"SUM(D3342:K3342)","v":0},0,0]
[null,null,null,null,null,null,null,null,null,null,null,0,0,0]
[null,null,null,null,null,null,null,null,null,null,null,0,0,0]
[null,null,null,null,null,null,null,null,null,null,null,0,0,0]
[null,null,null,null,null,null,null,null,null,null,null,0,0,0]
[null,null,null,null,null,null,null,null,null,null,null,0,0,0]
[null,null,null,null,null,null,null,null,null,null,null,0,0,0]
[null,null,null,null,null,null,null,null,null,null,null,0,0,0]
[null,null,null,null,null,null,null,null,null,null,null,0,0,0]
[null,null,null,null,null,null,null,null,null,null,null,0,0,0]
[null,null,null,null,null,null,null,null,null,null,null,0,0,0]
[null,null,null,null,null,null,null,null,null,null,null,0,0,0]
[null,null,null,null,null,null,null,null,null,null,null,0,0,0]
[null,null,null,null,null,null,null,null,null,null,null,0,0,0]
[null,null,null,null,null,null,null,null,null,null,null,0,0,0]
[null,null,null,null,null,null,null,null,null,null,null,0,0,0]
[null,null,null,null,null,null,null,null,null,null,null,{"$f":"SUM(D3358:K3358)","v":0},0,0,null,null,null,null,null,null,null,null,null,null,null,null,{"$f":"L3358-SUM(F3358,J3358)","v":0}]
[null,null,null,null,null,null,null,null,null,null,null,{"$f":"SUM(D3359:K3359)","v":0},0,0,null,null,null,null,null,null,null,null,null,null,null,null,{"$f":"L3359-SUM(F3359,J3359)","v":0}]
[null,null,null,null,null,null,null,null,null,null,null,0,0,0,null,null,null,null,null,null,null,null,null,null,null,null,0]
[null,null,null,null,null,null,null,null,null,null,null,0,0,0,null,null,null,null,null,null,null,null,null,null,null,null,0]
[null,null,null,null,null,null,null,null,null,null,null,0,0,0]
[null,null,null,null,null,null,null,null,null,null,null,0,0,0]
[null,null,null,null,null,null,null,null,null,null,null,0,0,0]
[null,null,null,null,null,null,null,null,null,null,null,0,0,0]
[null,null,null,null,null,null,null,null,null,null,null,0,0,0]
[null,null,null,null,null,null,null,null,null,null,null,0,0,0]
[null,null,null,null,null,null,null,null,null,null,null,0,0,0]
[null,null,null,null,null,null,null,null,null,null,null,0,0,0]
[null,null,null,null,null,null,null,null,null,null,null,0,0,0]
[null,null,null,null,null,null,null,null,null,null,null,0,0,0]
[null,null,null,null,null,null,null,null,null,null,null,0,0,0]
[null,null,null,null,null,null,null,null,null,null,null,0,0,0]
[null,null,null,null,null,null,null,null,null,null,null,0,0,0]
[null,null,null,null,null,null,null,null,null,null,null,0,0,0]
[null,null,null,null,null,null,null,null,null,null,null,0,0,0]
[null,null,null,null,null,null,null,null,null,null,null,0,0,{"$f":"MAX(L3377-M3377,0)","v":0}]
[null,null,null,null,null,null,null,null,null,null,null,0,0,0]
[null,null,null,null,null,null,null,null,null,null,null,0,0,0]
[null,null,null,null,null,null,null,null,null,null,null,0,0,0]
[null,null,null,null,null,null,null,null,null,null,null,0,0,0]
[null,null,null,null,null,null,null,null,null,null,null,0,0,0]
[null,null,null,null,null,null,null,null,null,null,null,0,0,0]
[null,null,null,null,null,null,null,null,null,null,null,0,0,0]
[null,null,null,null,null,null,null,null,null,null,null,0,0,0]
[null,null,null,null,null,null,null,null,null,null,null,0,0,0]
[null,null,null,null,null,null,null,null,null,null,null,0,0,0]
[null,null,null,null,null,null,null,null,null,null,null,0,0,0]
[null,null,null,null,null,null,null,null,null,null,null,0,0,0]
[null,null,null,null,null,null,null,null,null,null,null,0,0,0]
[null,null,null,null,null,null,null,null,null,null,null,0,0,0]
[null,null,null,null,null,null,null,null,null,null,null,0,0,0,null,null,null,null,null,null,null,null,null,null,null,null,{"$f":"L3392-SUM(F3392,J3392)","v":0}]
[null,null,null,null,null,null,null,null,null,null,null,0,0,0,null,null,null,null,null,null,null,null,null,null,null,null,0]
[null,null,null,null,null,null,null,null,null,null,null,0,0,0,null,null,null,null,null,null,null,null,null,null,null,null,0]
[null,null,null,null,null,null,null,null,null,null,null,0,0,0,null,null,null,null,null,null,null,null,null,null,null,null,0]
[null,null,null,null,null,null,null,null,null,null,null,0,0,0,null,null,null,null,null,null,null,null,null,null,null,null,0]
[null,null,null,null,null,null,null,null,null,null,null,0,0,0]
[null,null,null,null,null,null,null,null,null,null,null,0,0,0,null,null,null,null,null,null,null,null,null,null,null,null,{"$f":"L3398-SUM(F3398,J3398)","v":0}]
[null,null,null,null,null,null,null,null,null,null,null,0,0,0,null,null,null,null,null,null,null,null,null,null,null,null,0]
[null,null,null,null,null,null,null,null,null,null,null,0,0,0,null,null,null,null,null,null,null,null,null,null,null,null,0]
[null,null,null,null,null,null,null,null,null,null,null,0,0,0,null,null,null,null,null,null,null,null,null,null,null,null,0]
[null,null,null,null,null,null,null,null,null,null,null,0,0,0,null,null,null,null,null,null,null,null,null,null,null,null,0]
[null,null,null,null,null,null,null,null,null,null,null,0,0,0,null,null,null,null,null,null,null,null,null,null,null,null,0]
[null,null,null,null,null,null,null,null,null,null,null,0,0,0,null,null,null,null,null,null,null,null,null,null,null,null,0]
[null,null,null,null,null,null,null,null,null,null,null,0,0,0,null,null,null,null,null,null,null,null,null,null,null,null,0]
[null,null,null,null,null,null,null,null,null,null,null,0,0,0,null,null,null,null,null,null,null,null,null,null,null,null,0]
[null,null,null,null,null,null,null,null,null,null,null,0,0,0,null,null,null,null,null,null,null,null,null,null,null,null,0]
[null,null,null,null,null,null,null,null,null,null,null,0,0,0]
[null,null,null,null,null,null,null,null,null,null,null,0,0,0]
[null,null,null,null,null,null,null,null,null,null,null,0,0,0]
[null,null,null,null,null,null,null,null,null,null,null,0,0,0]
[null,null,null,null,null,null,null,null,null,null,null,0,0,0]
[null,null,null,null,null,null,null,null,null,null,null,0,0,0]
[null,null,null,null,null,null,null,null,null,null,null,0,0,0]
[null,null,null,null,null,null,null,null,null,null,null,0,0,0]
[null,null,null,null,null,null,null,null,null,null,null,0,0,0]
[null,null,null,null,null,null,null,null,null,null,null,0,0,0]
[null,null,null,null,null,null,null,null,null,null,null,0,0,0]
[null,null,null,null,null,null,null,null,null,null,null,0,0,0]
[null,null,null,null,null,null,null,null,null,null,null,0,0,0]
[null,null,null,null,null,null,null,null,null,null,null,0,0,0]
[null,null,null,null,null,null,null,null,null,null,null,0,0,0]
[null,null,null,null,null,null,null,null,null,null,null,{"$f":"SUM(D3423:K3423)","v":0},0,0]
[null,null,null,null,null,null,null,null,null,null,null,0,0,0]
[null,null,null,null,null,null,null,null,null,null,null,0,0,0]
[null,null,null,null,null,null,null,null,null,null,null,0,0,0]
[null,null,null,null,null,null,null,null,null,null,null,0,0,0]
[null,null,null,null,null,null,null,null,null,null,null,0,0,0]
[null,null,null,null,null,null,null,null,null,null,null,0,0,0]
[null,null,null,null,null,null,null,null,null,null,null,0,0,0]
[null,null,null,null,null,null,null,null,null,null,null,0,0,0]
[null,null,null,null,null,null,null,null,null,null,null,0,0,0]
[null,null,null,null,null,null,null,null,null,null,null,0,0,0]
[null,null,null,null,null,null,null,null,null,null,null,0,0,0]
[null,null,null,null,null,null,null,null,null,null,null,0,0,0]
[null,null,null,null,null,null,null,null,null,null,null,0,0,0]
[null,null,null,null,null,null,null,null,null,null,null,0,0,0]
[null,null,null,null,null,null,null,null,null,null,null,0,0,0]
[null,null,null,null,null,null,null,null,null,null,null,{"$f":"SUM(D3439:K3439)","v":0},0,0,null,null,null,null,null,null,null,null,null,null,null,null,{"$f":"L3439-SUM(F3439,J3439)","v":0}]
[null,null,null,null,null,null,null,null,null,null,null,{"$f":"SUM(D3440:K3440)","v":0},0,0,null,null,null,null,null,null,null,null,null,null,null,null,{"$f":"L3440-SUM(F3440,J3440)","v":0}]
[null,null,null,null,null,null,null,null,null,null,null,0,0,{"$f":"MAX(L3441-M3441,0)","v":0},null,null,null,null,null,null,null,null,null,null,null,null,0]
[null,null,null,null,null,null,null,null,null,null,null,0,0,0,null,null,null,null,null,null,null,null,null,null,null,null,0]
[null,null,null,null,null,null,null,null,null,null,null,0,0,0]
[null,null,null,null,null,null,null,null,null,null,null,0,0,0]
[null,null,null,null,null,null,null,null,null,null,null,0,0,0]
[null,null,null,null,null,null,null,null,null,null,null,0,0,0]
[null,null,null,null,null,null,null,null,null,null,null,0,0,0]
[null,null,null,null,null,null,null,null,null,null,null,0,0,0]
[null,null,null,null,null,null,null,null,null,null,null,0,0,0]
[null,null,null,null,null,null,null,null,null,null,null,0,0,0]
[null,null,null,null,null,null,null,null,null,null,null,0,0,0]
[null,null,null,null,null,null,null,null,null,null,null,0,0,0]
[null,null,null,null,null,null,null,null,null,null,null,0,0,0]
[null,null,null,null,null,null,null,null,null,null,null,0,0,0]
[null,null,null,null,null,null,null,null,null,null,null,0,0,0]
[null,null,null,null,null,null,null,null,null,null,null,0,0,0]
[null,null,null,null,null,null,null,null,null,null,null,0,0,0]
[null,null,null,null,null,null,null,null,null,null,null,0,0,0]
[null,null,null,null,null,null,null,null,null,null,null,0,0,0]
[null,null,null,null,null,null,null,null,null,null,null,0,0,0]
[null,null,null,null,null,null,null,null,null,null,null,0,0,0]
[null,null,null,null,null,null,null,null,null,null,null,0,0,0]
[null,null,null,null,null,null,null,null,null,null,null,0,0,0]
[null,null,null,null,null,null,null,null,null,null,null,0,0,0]
[null,null,null,null,null,null,null,null,null,null,null,0,0,0]
[null,null,null,null,null,null,null,null,null,null,null,0,0,0]
[null,null,null,null,null,null,null,null,null,null,null,0,0,0]
[null,null,null,null,null,null,null,null,null,null,null,0,0,0]
[null,null,null,null,null,null,null,null,null,null,null,0,0,0]
[null,null,null,null,null,null,null,null,null,null,null,0,0,0]
[null,null,null,null,null,null,null,null,null,null,null,0,0,0]
[null,null,null,null,null,null,null,null,null,null,null,0,0,0]
[null,null,null,null,null,null,null,null,null,null,null,0,0,0,null,null,null,null,null,null,null,null,null,null,null,null,{"$f":"L3473-SUM(F3473,J3473)","v":0}]
[null,null,null,null,null,null,null,null,null,null,null,0,0,0,null,null,null,null,null,null,null,null,null,null,null,null,0]
[null,null,null,null,null,null,null,null,null,null,null,0,0,0,null,null,null,null,null,null,null,null,null,null,null,null,0]
[null,null,null,null,null,null,null,null,null,null,null,0,0,0,null,null,null,null,null,null,null,null,null,null,null,null,0]
[null,null,null,null,null,null,null,null,null,null,null,0,0,0,null,null,null,null,null,null,null,null,null,null,null,null,0]
[null,null,null,null,null,null,null,null,null,null,null,0,0,0]
[null,null,null,null,null,null,null,null,null,null,null,0,0,0,null,null,null,null,null,null,null,null,null,null,null,null,{"$f":"L3479-SUM(F3479,J3479)","v":0}]
[null,null,null,null,null,null,null,null,null,null,null,0,0,0,null,null,null,null,null,null,null,null,null,null,null,null,0]
[null,null,null,null,null,null,null,null,null,null,null,0,0,0,null,null,null,null,null,null,null,null,null,null,null,null,0]
[null,null,null,null,null,null,null,null,null,null,null,0,0,0,null,null,null,null,null,null,null,null,null,null,null,null,0]
[null,null,null,null,null,null,null,null,null,null,null,0,0,0,null,null,null,null,null,null,null,null,null,null,null,null,0]
[null,null,null,null,null,null,null,null,null,null,null,0,0,0,null,null,null,null,null,null,null,null,null,null,null,null,0]
[null,null,null,null,null,null,null,null,null,null,null,0,0,0,null,null,null,null,null,null,null,null,null,null,null,null,0]
[null,null,null,null,null,null,null,null,null,null,null,0,0,0,null,null,null,null,null,null,null,null,null,null,null,null,0]
[null,null,null,null,null,null,null,null,null,null,null,0,0,0,null,null,null,null,null,null,null,null,null,null,null,null,0]
[null,null,null,null,null,null,null,null,null,null,null,0,0,0,null,null,null,null,null,null,null,null,null,null,null,null,0]
[null,null,null,null,null,null,null,null,null,null,null,0,0,0]
[null,null,null,null,null,null,null,null,null,null,null,0,0,0]
[null,null,null,null,null,null,null,null,null,null,null,0,0,0]
[null,null,null,null,null,null,null,null,null,null,null,0,0,0]
[null,null,null,null,null,null,null,null,null,null,null,0,0,0]
[null,null,null,null,null,null,null,null,null,null,null,0,0,0]
[null,null,null,null,null,null,null,null,null,null,null,0,0,0]
[null,null,null,null,null,null,null,null,null,null,null,0,0,0]
[null,null,null,null,null,null,null,null,null,null,null,0,0,0]
[null,null,null,null,null,null,null,null,null,null,null,0,0,0]
[null,null,null,null,null,null,null,null,null,null,null,0,0,0]
[null,null,null,null,null,null,null,null,null,null,null,0,0,0]
[null,null,null,null,null,null,null,null,null,null,null,0,0,0]
[null,null,null,null,null,null,null,null,null,null,null,0,0,0]
[null,null,null,null,null,null,null,null,null,null,null,0,0,0]
[null,null,null,null,null,null,null,null,null,null,null,{"$f":"SUM(D3504:K3504)","v":0},0,0]
[null,null,null,null,null,null,null,null,null,null,null,0,0,{"$f":"MAX(L3505-M3505,0)","v":0}]
[null,null,null,null,null,null,null,null,null,null,null,0,0,0]
[null,null,null,null,null,null,null,null,null,null,null,0,0,0]
[null,null,null,null,null,null,null,null,null,null,null,0,0,0]
[null,null,null,null,null,null,null,null,null,null,null,0,0,0]
[null,null,null,null,null,null,null,null,null,null,null,0,0,0]
[null,null,null,null,null,null,null,null,null,null,null,0,0,0]
[null,null,null,null,null,null,null,null,null,null,null,0,0,0]
[null,null,null,null,null,null,null,null,null,null,null,0,0,0]
[null,null,null,null,null,null,null,null,null,null,null,0,0,0]
[null,null,null,null,null,null,null,null,null,null,null,0,0,0]
[null,null,null,null,null,null,null,null,null,null,null,0,0,0]
[null,null,null,null,null,null,null,null,null,null,null,0,0,0]
[null,null,null,null,null,null,null,null,null,null,null,0,0,{"$f":"MAX(L3518-M3518,0)","v":0},null,null,null,null,null,null,null,null,null,null,null,null,0]
[null,null,null,null,null,null,null,null,null,null,null,null,null,null,null,null,null,null,null,null,null,null,null,null,null,null,0]
[null,"TOTAL INVESTMENT IN LISTED CORPORATES",null,{"$f":"SUM(D19:D3519)","v":0},0,0,0,0,0,0,0,0,null,{"$f":"SUM(N19:N3519)","v":0},null,null,null,null,null,null,null,null,null,null,null,null,0]

{"sheet":"C4","index":73,"n_rows":3520,"n_cols":14,"rows_kept":3520,"cut":false,"hidden":false,"merged":[[3519,1,3519,2],[2,1,2,13],[15,1,17,1],[15,3,15,4],[15,2,17,2],[6,2,6,3],[7,2,7,3]]}
[]
[]
[null,"FORM C4: INVESTMENT IN UNLISTED CORPORATES"]
[]
[]
[]
[null,"NAME OF REINSURER",{"$f":"Specifications!C5","v":0}]
[null,"YEAR ENDED",{"$f":"Specifications!C13","v":"00:00:00"}]
[]
[]
[]
[null,null,{"$f":"Specifications!$C$14","v":0}]
[null,"Total Assets",{"$f":"A0!D41","v":0}]
[null,"Concentration Limit",{"$f":"Checks!E38","v":0.05}]
[]
[null,"Corporate","Subsidiary","Term Deposits, Bonds and Debentures",null,"Loans","Strucutured notes and collateralised sercurities","Preference Shares","Common Shares","Receivables","Holding by related companies","Total","Concentration Limit","Over Concentration Limit"]
[null,null,null,"Expiring <=1 year","Expiring >1 year"]
[null,null,null,{"$f":"Specifications!$C$14","v":0},{"$f":"Specifications!$C$14","v":0},{"$f":"Specifications!$C$14","v":0},{"$f":"Specifications!$C$14","v":0},{"$f":"Specifications!$C$14","v":0},{"$f":"Specifications!$C$14","v":0},{"$f":"Specifications!$C$14","v":0},{"$f":"Specifications!$C$14","v":0},{"$f":"Specifications!$C$14","v":0},{"$f":"Specifications!$C$14","v":0},{"$f":"Specifications!$C$14","v":0}]
[null,null,null,null,null,null,null,null,null,null,null,{"$f":"SUM(D19:K19)","v":0},{"$f":"$C$14*$C$13","v":0},{"$f":"MAX(L19-M19,0)","v":0}]
[null,null,null,null,null,null,null,null,null,null,null,0,0,0]
[null,null,null,null,null,null,null,null,null,null,null,{"$f":"SUM(D21:K21)","v":0},{"$f":"$C$14*$C$13","v":0},{"$f":"MAX(L21-M21,0)","v":0}]
[null,null,null,null,null,null,null,null,null,null,null,0,0,0]
[null,null,null,null,null,null,null,null,null,null,null,0,0,0]
[null,null,null,null,null,null,null,null,null,null,null,0,0,0]
[null,null,null,null,null,null,null,null,null,null,null,0,0,0]
[null,null,null,null,null,null,null,null,null,null,null,0,0,0]
[null,null,null,null,null,null,null,null,null,null,null,0,0,0]
[null,null,null,null,null,null,null,null,null,null,null,0,0,0]
[null,null,null,null,null,null,null,null,null,null,null,0,0,0]
[null,null,null,null,null,null,null,null,null,null,null,0,0,0]
[null,null,null,null,null,null,null,null,null,null,null,0,0,0]
[null,null,null,null,null,null,null,null,null,null,null,0,0,0]
[null,null,null,null,null,null,null,null,null,null,null,0,0,0]
[null,null,null,null,null,null,null,null,null,null,null,0,0,0]
[null,null,null,null,null,null,null,null,null,null,null,0,0,0]
[null,null,null,null,null,null,null,null,null,null,null,0,0,0]
[null,null,null,null,null,null,null,null,null,null,null,0,0,0]
[null,null,null,null,null,null,null,null,null,null,null,0,0,0]
[null,null,null,null,null,null,null,null,null,null,null,0,0,0]
[null,null,null,null,null,null,null,null,null,null,null,{"$f":"SUM(D40:K40)","v":0},0,0]
[null,null,null,null,null,null,null,null,null,null,null,{"$f":"SUM(D41:K41)","v":0},0,0]
[null,null,null,null,null,null,null,null,null,null,null,0,0,0]
[null,null,null,null,null,null,null,null,null,null,null,0,0,0]
[null,null,null,null,null,null,null,null,null,null,null,0,0,0]
[null,null,null,null,null,null,null,null,null,null,null,0,0,0]
[null,null,null,null,null,null,null,null,null,null,null,0,0,0]
[null,null,null,null,null,null,null,null,null,null,null,0,0,0]
[null,null,null,null,null,null,null,null,null,null,null,0,0,0]
[null,null,null,null,null,null,null,null,null,null,null,0,0,0]
[null,null,null,null,null,null,null,null,null,null,null,0,0,0]
[null,null,null,null,null,null,null,null,null,null,null,0,0,0]
[null,null,null,null,null,null,null,null,null,null,null,0,0,0]
[null,null,null,null,null,null,null,null,null,null,null,0,0,0]
[null,null,null,null,null,null,null,null,null,null,null,0,0,0]
[null,null,null,null,null,null,null,null,null,null,null,0,0,0]
[null,null,null,null,null,null,null,null,null,null,null,0,0,0]
[null,null,null,null,null,null,null,null,null,null,null,0,0,0]
[null,null,null,null,null,null,null,null,null,null,null,0,0,0]
[null,null,null,null,null,null,null,null,null,null,null,0,0,0]
[null,null,null,null,null,null,null,null,null,null,null,0,0,0]
[null,null,null,null,null,null,null,null,null,null,null,0,0,0]
[null,null,null,null,null,null,null,null,null,null,null,0,0,0]
[null,null,null,null,null,null,null,null,null,null,null,0,0,0]
[null,null,null,null,null,null,null,null,null,null,null,0,0,0]
[null,null,null,null,null,null,null,null,null,null,null,0,0,0]
[null,null,null,null,null,null,null,null,null,null,null,0,0,0]
[null,null,null,null,null,null,null,null,null,null,null,0,0,0]
[null,null,null,null,null,null,null,null,null,null,null,0,0,0]
[null,null,null,null,null,null,null,null,null,null,null,0,0,0]
[null,null,null,null,null,null,null,null,null,null,null,0,0,0]
[null,null,null,null,null,null,null,null,null,null,null,0,0,0]
[null,null,null,null,null,null,null,null,null,null,null,0,0,0]
[null,null,null,null,null,null,null,null,null,null,null,0,0,0]
[null,null,null,null,null,null,null,null,null,null,null,0,0,0]
[null,null,null,null,null,null,null,null,null,null,null,0,0,0]
[null,null,null,null,null,null,null,null,null,null,null,0,0,0]
[null,null,null,null,null,null,null,null,null,null,null,0,0,0]
[null,null,null,null,null,null,null,null,null,null,null,0,0,0]
[null,null,null,null,null,null,null,null,null,null,null,0,0,0]
[null,null,null,null,null,null,null,null,null,null,null,0,0,0]
[null,null,null,null,null,null,null,null,null,null,null,0,0,0]
[null,null,null,null,null,null,null,null,null,null,null,0,0,0]
[null,null,null,null,null,null,null,null,null,null,null,0,0,0]
[null,null,null,null,null,null,null,null,null,null,null,0,0,0]
[null,null,null,null,null,null,null,null,null,null,null,0,0,0]
[null,null,null,null,null,null,null,null,null,null,null,0,0,0]
[null,null,null,null,null,null,null,null,null,null,null,0,0,0]
[null,null,null,null,null,null,null,null,null,null,null,0,0,0]
[null,null,null,null,null,null,null,null,null,null,null,0,0,0]
[null,null,null,null,null,null,null,null,null,null,null,0,0,0]
[null,null,null,null,null,null,null,null,null,null,null,0,0,0]
[null,null,null,null,null,null,null,null,null,null,null,0,0,0]
[null,null,null,null,null,null,null,null,null,null,null,0,0,{"$f":"MAX(L93-M93,0)","v":0}]
[null,null,null,null,null,null,null,null,null,null,null,0,0,0]
[null,null,null,null,null,null,null,null,null,null,null,0,0,0]
[null,null,null,null,null,null,null,null,null,null,null,0,0,0]
[null,null,null,null,null,null,null,null,null,null,null,0,0,0]
[null,null,null,null,null,null,null,null,null,null,null,0,0,0]
[null,null,null,null,null,null,null,null,null,null,null,0,0,0]
[null,null,null,null,null,null,null,null,null,null,null,0,0,0]
[null,null,null,null,null,null,null,null,null,null,null,0,0,0]
[null,null,null,null,null,null,null,null,null,null,null,0,0,0]
[null,null,null,null,null,null,null,null,null,null,null,0,0,0]
[null,null,null,null,null,null,null,null,null,null,null,0,0,0]
[null,null,null,null,null,null,null,null,null,null,null,{"$f":"SUM(D105:K105)","v":0},0,0]
[null,null,null,null,null,null,null,null,null,null,null,0,0,0]
[null,null,null,null,null,null,null,null,null,null,null,0,0,0]
[null,null,null,null,null,null,null,null,null,null,null,0,0,0]
[null,null,null,null,null,null,null,null,null,null,null,0,0,0]
[null,null,null,null,null,null,null,null,null,null,null,0,0,0]
[null,null,null,null,null,null,null,null,null,null,null,0,0,0]
[null,null,null,null,null,null,null,null,null,null,null,0,0,0]
[null,null,null,null,null,null,null,null,null,null,null,0,0,0]
[null,null,null,null,null,null,null,null,null,null,null,0,0,0]
[null,null,null,null,null,null,null,null,null,null,null,0,0,0]
[null,null,null,null,null,null,null,null,null,null,null,0,0,0]
[null,null,null,null,null,null,null,null,null,null,null,0,0,0]
[null,null,null,null,null,null,null,null,null,null,null,0,0,0]
[null,null,null,null,null,null,null,null,null,null,null,0,0,0]
[null,null,null,null,null,null,null,null,null,null,null,{"$f":"SUM(D120:K120)","v":0},0,0]
[null,null,null,null,null,null,null,null,null,null,null,{"$f":"SUM(D121:K121)","v":0},0,0]
[null,null,null,null,null,null,null,null,null,null,null,0,0,0]
[null,null,null,null,null,null,null,null,null,null,null,0,0,0]
[null,null,null,null,null,null,null,null,null,null,null,0,0,0]
[null,null,null,null,null,null,null,null,null,null,null,0,0,0]
[null,null,null,null,null,null,null,null,null,null,null,0,0,0]
[null,null,null,null,null,null,null,null,null,null,null,0,0,0]
[null,null,null,null,null,null,null,null,null,null,null,0,0,0]
[null,null,null,null,null,null,null,null,null,null,null,0,0,0]
[null,null,null,null,null,null,null,null,null,null,null,0,0,0]
[null,null,null,null,null,null,null,null,null,null,null,0,0,0]
[null,null,null,null,null,null,null,null,null,null,null,0,0,0]
[null,null,null,null,null,null,null,null,null,null,null,0,0,0]
[null,null,null,null,null,null,null,null,null,null,null,0,0,0]
[null,null,null,null,null,null,null,null,null,null,null,0,0,0]
[null,null,null,null,null,null,null,null,null,null,null,0,0,0]
[null,null,null,null,null,null,null,null,null,null,null,0,0,0]
[null,null,null,null,null,null,null,null,null,null,null,0,0,0]
[null,null,null,null,null,null,null,null,null,null,null,0,0,0]
[null,null,null,null,null,null,null,null,null,null,null,0,0,0]
[null,null,null,null,null,null,null,null,null,null,null,0,0,0]
[null,null,null,null,null,null,null,null,null,null,null,0,0,0]
[null,null,null,null,null,null,null,null,null,null,null,0,0,0]
[null,null,null,null,null,null,null,null,null,null,null,0,0,0]
[null,null,null,null,null,null,null,null,null,null,null,0,0,0]
[null,null,null,null,null,null,null,null,null,null,null,0,0,0]
[null,null,null,null,null,null,null,null,null,null,null,0,0,0]
[null,null,null,null,null,null,null,null,null,null,null,0,0,0]
[null,null,null,null,null,null,null,null,null,null,null,0,0,0]
[null,null,null,null,null,null,null,null,null,null,null,0,0,0]
[null,null,null,null,null,null,null,null,null,null,null,0,0,0]
[null,null,null,null,null,null,null,null,null,null,null,0,0,0]
[null,null,null,null,null,null,null,null,null,null,null,0,0,0]
[null,null,null,null,null,null,null,null,null,null,null,0,0,0]
[null,null,null,null,null,null,null,null,null,null,null,0,0,0]
[null,null,null,null,null,null,null,null,null,null,null,0,0,0]
[null,null,null,null,null,null,null,null,null,null,null,0,0,0]
[null,null,null,null,null,null,null,null,null,null,null,0,0,0]
[null,null,null,null,null,null,null,null,null,null,null,0,0,0]
[null,null,null,null,null,null,null,null,null,null,null,0,0,0]
[null,null,null,null,null,null,null,null,null,null,null,0,0,0]
[null,null,null,null,null,null,null,null,null,null,null,0,0,0]
[null,null,null,null,null,null,null,null,null,null,null,0,0,0]
[null,null,null,null,null,null,null,null,null,null,null,0,0,0]
[null,null,null,null,null,null,null,null,null,null,null,0,0,0]
[null,null,null,null,null,null,null,null,null,null,null,0,0,0]
[null,null,null,null,null,null,null,null,null,null,null,0,0,0]
[null,null,null,null,null,null,null,null,null,null,null,0,0,0]
[null,null,null,null,null,null,null,null,null,null,null,0,0,0]
[null,null,null,null,null,null,null,null,null,null,null,0,0,0]
[null,null,null,null,null,null,null,null,null,null,null,0,0,0]
[null,null,null,null,null,null,null,null,null,null,null,0,0,0]
[null,null,null,null,null,null,null,null,null,null,null,0,0,0]
[null,null,null,null,null,null,null,null,null,null,null,0,0,0]
[null,null,null,null,null,null,null,null,null,null,null,0,0,0]
[null,null,null,null,null,null,null,null,null,null,null,0,0,0]
[null,null,null,null,null,null,null,null,null,null,null,0,0,0]
[null,null,null,null,null,null,null,null,null,null,null,0,0,0]
[null,null,null,null,null,null,null,null,null,null,null,0,0,0]
[null,null,null,null,null,null,null,null,null,null,null,0,0,0]
[null,null,null,null,null,null,null,null,null,null,null,0,0,0]
[null,null,null,null,null,null,null,null,null,null,null,0,0,0]
[null,null,null,null,null,null,null,null,null,null,null,0,0,0]
[null,null,null,null,null,null,null,null,null,null,null,0,0,0]
[null,null,null,null,null,null,null,null,null,null,null,{"$f":"SUM(D185:K185)","v":0},0,0]
[null,null,null,null,null,null,null,null,null,null,null,0,0,0]
[null,null,null,null,null,null,null,null,null,null,null,0,0,0]
[null,null,null,null,null,null,null,null,null,null,null,0,0,0]
[null,null,null,null,null,null,null,null,null,null,null,0,0,0]
[null,null,null,null,null,null,null,null,null,null,null,0,0,0]
[null,null,null,null,null,null,null,null,null,null,null,0,0,0]
[null,null,null,null,null,null,null,null,null,null,null,0,0,0]
[null,null,null,null,null,null,null,null,null,null,null,0,0,0]
[null,null,null,null,null,null,null,null,null,null,null,0,0,0]
[null,null,null,null,null,null,null,null,null,null,null,0,0,0]
[null,null,null,null,null,null,null,null,null,null,null,0,0,0]
[null,null,null,null,null,null,null,null,null,null,null,0,0,0]
[null,null,null,null,null,null,null,null,null,null,null,0,0,0]
[null,null,null,null,null,null,null,null,null,null,null,0,0,0]
[null,null,null,null,null,null,null,null,null,null,null,0,0,0]
[null,null,null,null,null,null,null,null,null,null,null,{"$f":"SUM(D201:K201)","v":0},0,0]
[null,null,null,null,null,null,null,null,null,null,null,{"$f":"SUM(D202:K202)","v":0},0,0]
[null,null,null,null,null,null,null,null,null,null,null,0,0,0]
[null,null,null,null,null,null,null,null,null,null,null,0,0,0]
[null,null,null,null,null,null,null,null,null,null,null,0,0,0]
[null,null,null,null,null,null,null,null,null,null,null,0,0,0]
[null,null,null,null,null,null,null,null,null,null,null,0,0,0]
[null,null,null,null,null,null,null,null,null,null,null,0,0,0]
[null,null,null,null,null,null,null,null,null,null,null,0,0,0]
[null,null,null,null,null,null,null,null,null,null,null,0,0,0]
[null,null,null,null,null,null,null,null,null,null,null,0,0,0]
[null,null,null,null,null,null,null,null,null,null,null,0,0,0]
[null,null,null,null,null,null,null,null,null,null,null,0,0,0]
[null,null,null,null,null,null,null,null,null,null,null,0,0,0]
[null,null,null,null,null,null,null,null,null,null,null,0,0,0]
[null,null,null,null,null,null,null,null,null,null,null,0,0,0]
[null,null,null,null,null,null,null,null,null,null,null,0,0,0]
[null,null,null,null,null,null,null,null,null,null,null,0,0,0]
[null,null,null,null,null,null,null,null,null,null,null,0,0,0]
[null,null,null,null,null,null,null,null,null,null,null,0,0,0]
[null,null,null,null,null,null,null,null,null,null,null,0,0,0]
[null,null,null,null,null,null,null,null,null,null,null,0,0,0]
[null,null,null,null,null,null,null,null,null,null,null,0,0,0]
[null,null,null,null,null,null,null,null,null,null,null,0,0,0]
[null,null,null,null,null,null,null,null,null,null,null,0,0,0]
[null,null,null,null,null,null,null,null,null,null,null,0,{"$f":"$C$14*$C$13","v":0},0]
[null,null,null,null,null,null,null,null,null,null,null,0,0,0]
[null,null,null,null,null,null,null,null,null,null,null,0,0,0]
[null,null,null,null,null,null,null,null,null,null,null,0,0,0]
[null,null,null,null,null,null,null,null,null,null,null,0,0,0]
[null,null,null,null,null,null,null,null,null,null,null,0,0,0]
[null,null,null,null,null,null,null,null,null,null,null,0,0,0]
[null,null,null,null,null,null,null,null,null,null,null,0,0,0]
[null,null,null,null,null,null,null,null,null,null,null,0,0,0]
[null,null,null,null,null,null,null,null,null,null,null,0,0,0]
[null,null,null,null,null,null,null,null,null,null,null,0,0,0]
[null,null,null,null,null,null,null,null,null,null,null,0,0,0]
[null,null,null,null,null,null,null,null,null,null,null,0,0,0]
[null,null,null,null,null,null,null,null,null,null,null,0,0,0]
[null,null,null,null,null,null,null,null,null,null,null,0,0,0]
[null,null,null,null,null,null,null,null,null,null,null,0,0,0]
[null,null,null,null,null,null,null,null,null,null,null,0,0,0]
[null,null,null,null,null,null,null,null,null,null,null,0,0,0]
[null,null,null,null,null,null,null,null,null,null,null,0,0,0]
[null,null,null,null,null,null,null,null,null,null,null,0,0,0]
[null,null,null,null,null,null,null,null,null,null,null,0,0,0]
[null,null,null,null,null,null,null,null,null,null,null,0,0,0]
[null,null,null,null,null,null,null,null,null,null,null,0,0,0]
[null,null,null,null,null,null,null,null,null,null,null,0,0,0]
[null,null,null,null,null,null,null,null,null,null,null,0,0,0]
[null,null,null,null,null,null,null,null,null,null,null,0,0,0]
[null,null,null,null,null,null,null,null,null,null,null,0,0,0]
[null,null,null,null,null,null,null,null,null,null,null,0,0,0]
[null,null,null,null,null,null,null,null,null,null,null,0,0,0]
[null,null,null,null,null,null,null,null,null,null,null,0,0,0]
[null,null,null,null,null,null,null,null,null,null,null,0,0,0]
[null,null,null,null,null,null,null,null,null,null,null,0,0,0]
[null,null,null,null,null,null,null,null,null,null,null,0,0,0]
[null,null,null,null,null,null,null,null,null,null,null,0,0,0]
[null,null,null,null,null,null,null,null,null,null,null,0,0,0]
[null,null,null,null,null,null,null,null,null,null,null,0,0,0]
[null,null,null,null,null,null,null,null,null,null,null,0,0,0]
[null,null,null,null,null,null,null,null,null,null,null,0,0,0]
[null,null,null,null,null,null,null,null,null,null,null,0,0,0]
[null,null,null,null,null,null,null,null,null,null,null,0,0,0]
[null,null,null,null,null,null,null,null,null,null,null,{"$f":"SUM(D266:K266)","v":0},0,0]
[null,null,null,null,null,null,null,null,null,null,null,0,0,0]
[null,null,null,null,null,null,null,null,null,null,null,0,0,0]
[null,null,null,null,null,null,null,null,null,null,null,0,0,0]
[null,null,null,null,null,null,null,null,null,null,null,0,0,0]
[null,null,null,null,null,null,null,null,null,null,null,0,0,0]
[null,null,null,null,null,null,null,null,null,null,null,0,0,0]
[null,null,null,null,null,null,null,null,null,null,null,0,0,0]
[null,null,null,null,null,null,null,null,null,null,null,0,0,0]
[null,null,null,null,null,null,null,null,null,null,null,0,0,0]
[null,null,null,null,null,null,null,null,null,null,null,0,0,0]
[null,null,null,null,null,null,null,null,null,null,null,0,0,0]
[null,null,null,null,null,null,null,null,null,null,null,0,0,0]
[null,null,null,null,null,null,null,null,null,null,null,0,0,0]
[null,null,null,null,null,null,null,null,null,null,null,0,0,0]
[null,null,null,null,null,null,null,null,null,null,null,{"$f":"SUM(D281:K281)","v":0},0,0]
[null,null,null,null,null,null,null,null,null,null,null,{"$f":"SUM(D282:K282)","v":0},0,0]
[null,null,null,null,null,null,null,null,null,null,null,0,0,0]
[null,null,null,null,null,null,null,null,null,null,null,0,0,0]
[null,null,null,null,null,null,null,null,null,null,null,0,0,0]
[null,null,null,null,null,null,null,null,null,null,null,0,0,0]
[null,null,null,null,null,null,null,null,null,null,null,0,0,0]
[null,null,null,null,null,null,null,null,null,null,null,0,0,0]
[null,null,null,null,null,null,null,null,null,null,null,0,0,0]
[null,null,null,null,null,null,null,null,null,null,null,0,0,0]
[null,null,null,null,null,null,null,null,null,null,null,0,0,0]
[null,null,null,null,null,null,null,null,null,null,null,0,0,0]
[null,null,null,null,null,null,null,null,null,null,null,0,0,0]
[null,null,null,null,null,null,null,null,null,null,null,0,0,0]
[null,null,null,null,null,null,null,null,null,null,null,0,{"$f":"$C$14*$C$13","v":0},0]
[null,null,null,null,null,null,null,null,null,null,null,0,0,0]
[null,null,null,null,null,null,null,null,null,null,null,0,0,0]
[null,null,null,null,null,null,null,null,null,null,null,0,0,0]
[null,null,null,null,null,null,null,null,null,null,null,0,0,0]
[null,null,null,null,null,null,null,null,null,null,null,0,0,0]
[null,null,null,null,null,null,null,null,null,null,null,0,0,0]
[null,null,null,null,null,null,null,null,null,null,null,0,0,0]
[null,null,null,null,null,null,null,null,null,null,null,0,0,0]
[null,null,null,null,null,null,null,null,null,null,null,0,0,0]
[null,null,null,null,null,null,null,null,null,null,null,0,0,0]
[null,null,null,null,null,null,null,null,null,null,null,0,0,0]
[null,null,null,null,null,null,null,null,null,null,null,0,0,0]
[null,null,null,null,null,null,null,null,null,null,null,0,0,0]
[null,null,null,null,null,null,null,null,null,null,null,0,0,0]
[null,null,null,null,null,null,null,null,null,null,null,0,0,0]
[null,null,null,null,null,null,null,null,null,null,null,0,0,0]
[null,null,null,null,null,null,null,null,null,null,null,0,0,0]
[null,null,null,null,null,null,null,null,null,null,null,0,0,0]
[null,null,null,null,null,null,null,null,null,null,null,0,0,0]
[null,null,null,null,null,null,null,null,null,null,null,0,0,0]
[null,null,null,null,null,null,null,null,null,null,null,0,0,0]
[null,null,null,null,null,null,null,null,null,null,null,0,0,0]
[null,null,null,null,null,null,null,null,null,null,null,0,0,0]
[null,null,null,null,null,null,null,null,null,null,null,0,0,0]
[null,null,null,null,null,null,null,null,null,null,null,0,0,0]
[null,null,null,null,null,null,null,null,null,null,null,0,0,0]
[null,null,null,null,null,null,null,null,null,null,null,0,0,0]
[null,null,null,null,null,null,null,null,null,null,null,0,0,0]
[null,null,null,null,null,null,null,null,null,null,null,0,0,0]
[null,null,null,null,null,null,null,null,null,null,null,0,0,0]
[null,null,null,null,null,null,null,null,null,null,null,0,0,0]
[null,null,null,null,null,null,null,null,null,null,null,0,0,0]
[null,null,null,null,null,null,null,null,null,null,null,0,0,0]
[null,null,null,null,null,null,null,null,null,null,null,0,0,0]
[null,null,null,null,null,null,null,null,null,null,null,0,0,0]
[null,null,null,null,null,null,null,null,null,null,null,0,0,0]
[null,null,null,null,null,null,null,null,null,null,null,0,0,0]
[null,null,null,null,null,null,null,null,null,null,null,0,0,0]
[null,null,null,null,null,null,null,null,null,null,null,0,0,0]
[null,null,null,null,null,null,null,null,null,null,null,0,0,0]
[null,null,null,null,null,null,null,null,null,null,null,0,0,0]
[null,null,null,null,null,null,null,null,null,null,null,0,0,0]
[null,null,null,null,null,null,null,null,null,null,null,0,0,0]
[null,null,null,null,null,null,null,null,null,null,null,0,0,0]
[null,null,null,null,null,null,null,null,null,null,null,0,0,0]
[null,null,null,null,null,null,null,null,null,null,null,0,0,0]
[null,null,null,null,null,null,null,null,null,null,null,0,0,0]
[null,null,null,null,null,null,null,null,null,null,null,0,0,0]
[null,null,null,null,null,null,null,null,null,null,null,0,0,0]
[null,null,null,null,null,null,null,null,null,null,null,0,0,0]
[null,null,null,null,null,null,null,null,null,null,null,{"$f":"SUM(D346:K346)","v":0},0,0]
[null,null,null,null,null,null,null,null,null,null,null,0,0,0]
[null,null,null,null,null,null,null,null,null,null,null,0,0,{"$f":"MAX(L348-M348,0)","v":0}]
[null,null,null,null,null,null,null,null,null,null,null,0,0,0]
[null,null,null,null,null,null,null,null,null,null,null,0,0,0]
[null,null,null,null,null,null,null,null,null,null,null,0,0,0]
[null,null,null,null,null,null,null,null,null,null,null,0,0,0]
[null,null,null,null,null,null,null,null,null,null,null,0,0,0]
[null,null,null,null,null,null,null,null,null,null,null,0,0,0]
[null,null,null,null,null,null,null,null,null,null,null,0,0,0]
[null,null,null,null,null,null,null,null,null,null,null,0,0,0]
[null,null,null,null,null,null,null,null,null,null,null,0,0,0]
[null,null,null,null,null,null,null,null,null,null,null,0,0,0]
[null,null,null,null,null,null,null,null,null,null,null,0,0,0]
[null,null,null,null,null,null,null,null,null,null,null,0,0,0]
[null,null,null,null,null,null,null,null,null,null,null,0,0,0]
[null,null,null,null,null,null,null,null,null,null,null,{"$f":"SUM(D362:K362)","v":0},0,0]
[null,null,null,null,null,null,null,null,null,null,null,{"$f":"SUM(D363:K363)","v":0},0,0]
[null,null,null,null,null,null,null,null,null,null,null,0,0,0]
[null,null,null,null,null,null,null,null,null,null,null,0,0,0]
[null,null,null,null,null,null,null,null,null,null,null,0,0,0]
[null,null,null,null,null,null,null,null,null,null,null,0,0,0]
[null,null,null,null,null,null,null,null,null,null,null,0,0,0]
[null,null,null,null,null,null,null,null,null,null,null,0,0,0]
[null,null,null,null,null,null,null,null,null,null,null,0,0,0]
[null,null,null,null,null,null,null,null,null,null,null,0,0,0]
[null,null,null,null,null,null,null,null,null,null,null,0,0,0]
[null,null,null,null,null,null,null,null,null,null,null,0,0,0]
[null,null,null,null,null,null,null,null,null,null,null,0,0,0]
[null,null,null,null,null,null,null,null,null,null,null,0,0,0]
[null,null,null,null,null,null,null,null,null,null,null,0,0,0]
[null,null,null,null,null,null,null,null,null,null,null,0,0,0]
[null,null,null,null,null,null,null,null,null,null,null,0,0,0]
[null,null,null,null,null,null,null,null,null,null,null,0,0,0]
[null,null,null,null,null,null,null,null,null,null,null,0,0,0]
[null,null,null,null,null,null,null,null,null,null,null,0,0,0]
[null,null,null,null,null,null,null,null,null,null,null,0,0,0]
[null,null,null,null,null,null,null,null,null,null,null,0,0,0]
[null,null,null,null,null,null,null,null,null,null,null,0,0,0]
[null,null,null,null,null,null,null,null,null,null,null,0,0,0]
[null,null,null,null,null,null,null,null,null,null,null,0,0,0]
[null,null,null,null,null,null,null,null,null,null,null,0,0,0]
[null,null,null,null,null,null,null,null,null,null,null,0,0,0]
[null,null,null,null,null,null,null,null,null,null,null,0,0,0]
[null,null,null,null,null,null,null,null,null,null,null,0,0,0]
[null,null,null,null,null,null,null,null,null,null,null,0,0,0]
[null,null,null,null,null,null,null,null,null,null,null,0,0,0]
[null,null,null,null,null,null,null,null,null,null,null,0,0,0]
[null,null,null,null,null,null,null,null,null,null,null,0,0,0]
[null,null,null,null,null,null,null,null,null,null,null,0,0,0]
[null,null,null,null,null,null,null,null,null,null,null,0,0,0]
[null,null,null,null,null,null,null,null,null,null,null,0,0,0]
[null,null,null,null,null,null,null,null,null,null,null,0,0,0]
[null,null,null,null,null,null,null,null,null,null,null,0,0,0]
[null,null,null,null,null,null,null,null,null,null,null,0,0,0]
[null,null,null,null,null,null,null,null,null,null,null,0,0,0]
[null,null,null,null,null,null,null,null,null,null,null,0,0,0]
[null,null,null,null,null,null,null,null,null,null,null,0,0,0]
[null,null,null,null,null,null,null,null,null,null,null,0,0,0]
[null,null,null,null,null,null,null,null,null,null,null,0,0,0]
[null,null,null,null,null,null,null,null,null,null,null,0,0,0]
[null,null,null,null,null,null,null,null,null,null,null,0,0,0]
[null,null,null,null,null,null,null,null,null,null,null,0,0,0]
[null,null,null,null,null,null,null,null,null,null,null,0,0,0]
[null,null,null,null,null,null,null,null,null,null,null,0,0,0]
[null,null,null,null,null,null,null,null,null,null,null,0,0,0]
[null,null,null,null,null,null,null,null,null,null,null,0,0,{"$f":"MAX(L412-M412,0)","v":0}]
[null,null,null,null,null,null,null,null,null,null,null,0,0,0]
[null,null,null,null,null,null,null,null,null,null,null,0,0,0]
[null,null,null,null,null,null,null,null,null,null,null,0,0,0]
[null,null,null,null,null,null,null,null,null,null,null,0,0,0]
[null,null,null,null,null,null,null,null,null,null,null,0,0,0]
[null,null,null,null,null,null,null,null,null,null,null,0,0,0]
[null,null,null,null,null,null,null,null,null,null,null,0,0,0]
[null,null,null,null,null,null,null,null,null,null,null,0,0,0]
[null,null,null,null,null,null,null,null,null,null,null,0,0,0]
[null,null,null,null,null,null,null,null,null,null,null,0,0,0]
[null,null,null,null,null,null,null,null,null,null,null,0,0,0]
[null,null,null,null,null,null,null,null,null,null,null,0,0,0]
[null,null,null,null,null,null,null,null,null,null,null,0,0,0]
[null,null,null,null,null,null,null,null,null,null,null,0,0,0]
[null,null,null,null,null,null,null,null,null,null,null,{"$f":"SUM(D427:K427)","v":0},0,0]
[null,null,null,null,null,null,null,null,null,null,null,0,0,0]
[null,null,null,null,null,null,null,null,null,null,null,0,0,0]
[null,null,null,null,null,null,null,null,null,null,null,0,0,0]
[null,null,null,null,null,null,null,null,null,null,null,0,0,0]
[null,null,null,null,null,null,null,null,null,null,null,0,0,0]
[null,null,null,null,null,null,null,null,null,null,null,0,0,0]
[null,null,null,null,null,null,null,null,null,null,null,0,0,0]
[null,null,null,null,null,null,null,null,null,null,null,0,0,0]
[null,null,null,null,null,null,null,null,null,null,null,0,0,0]
[null,null,null,null,null,null,null,null,null,null,null,0,0,0]
[null,null,null,null,null,null,null,null,null,null,null,0,0,0]
[null,null,null,null,null,null,null,null,null,null,null,0,0,0]
[null,null,null,null,null,null,null,null,null,null,null,0,0,0]
[null,null,null,null,null,null,null,null,null,null,null,0,0,0]
[null,null,null,null,null,null,null,null,null,null,null,{"$f":"SUM(D442:K442)","v":0},0,0]
[null,null,null,null,null,null,null,null,null,null,null,{"$f":"SUM(D443:K443)","v":0},0,0]
[null,null,null,null,null,null,null,null,null,null,null,0,0,0]
[null,null,null,null,null,null,null,null,null,null,null,0,0,0]
[null,null,null,null,null,null,null,null,null,null,null,0,0,0]
[null,null,null,null,null,null,null,null,null,null,null,0,0,0]
[null,null,null,null,null,null,null,null,null,null,null,0,0,0]
[null,null,null,null,null,null,null,null,null,null,null,0,0,0]
[null,null,null,null,null,null,null,null,null,null,null,0,0,0]
[null,null,null,null,null,null,null,null,null,null,null,0,0,0]
[null,null,null,null,null,null,null,null,null,null,null,0,0,0]
[null,null,null,null,null,null,null,null,null,null,null,0,0,0]
[null,null,null,null,null,null,null,null,null,null,null,0,0,0]
[null,null,null,null,null,null,null,null,null,null,null,0,0,0]
[null,null,null,null,null,null,null,null,null,null,null,0,0,0]
[null,null,null,null,null,null,null,null,null,null,null,0,0,0]
[null,null,null,null,null,null,null,null,null,null,null,0,0,0]
[null,null,null,null,null,null,null,null,null,null,null,0,0,0]
[null,null,null,null,null,null,null,null,null,null,null,0,0,0]
[null,null,null,null,null,null,null,null,null,null,null,0,0,0]
[null,null,null,null,null,null,null,null,null,null,null,0,0,0]
[null,null,null,null,null,null,null,null,null,null,null,0,0,0]
[null,null,null,null,null,null,null,null,null,null,null,0,0,0]
[null,null,null,null,null,null,null,null,null,null,null,0,0,0]
[null,null,null,null,null,null,null,null,null,null,null,0,0,0]
[null,null,null,null,null,null,null,null,null,null,null,0,0,0]
[null,null,null,null,null,null,null,null,null,null,null,0,0,0]
[null,null,null,null,null,null,null,null,null,null,null,0,0,0]
[null,null,null,null,null,null,null,null,null,null,null,0,0,0]
[null,null,null,null,null,null,null,null,null,null,null,0,0,0]
[null,null,null,null,null,null,null,null,null,null,null,0,0,0]
[null,null,null,null,null,null,null,null,null,null,null,0,0,0]
[null,null,null,null,null,null,null,null,null,null,null,0,0,0]
[null,null,null,null,null,null,null,null,null,null,null,0,0,0]
[null,null,null,null,null,null,null,null,null,null,null,0,0,{"$f":"MAX(L476-M476,0)","v":0}]
[null,null,null,null,null,null,null,null,null,null,null,0,0,0]
[null,null,null,null,null,null,null,null,null,null,null,0,0,0]
[null,null,null,null,null,null,null,null,null,null,null,0,0,0]
[null,null,null,null,null,null,null,null,null,null,null,0,0,0]
[null,null,null,null,null,null,null,null,null,null,null,0,0,0]
[null,null,null,null,null,null,null,null,null,null,null,0,0,0]
[null,null,null,null,null,null,null,null,null,null,null,0,0,0]
[null,null,null,null,null,null,null,null,null,null,null,0,0,0]
[null,null,null,null,null,null,null,null,null,null,null,0,0,0]
[null,null,null,null,null,null,null,null,null,null,null,0,0,0]
[null,null,null,null,null,null,null,null,null,null,null,0,0,0]
[null,null,null,null,null,null,null,null,null,null,null,0,0,0]
[null,null,null,null,null,null,null,null,null,null,null,0,0,0]
[null,null,null,null,null,null,null,null,null,null,null,0,0,0]
[null,null,null,null,null,null,null,null,null,null,null,0,0,0]
[null,null,null,null,null,null,null,null,null,null,null,0,0,0]
[null,null,null,null,null,null,null,null,null,null,null,0,0,0]
[null,null,null,null,null,null,null,null,null,null,null,0,0,0]
[null,null,null,null,null,null,null,null,null,null,null,0,0,0]
[null,null,null,null,null,null,null,null,null,null,null,0,0,0]
[null,null,null,null,null,null,null,null,null,null,null,0,0,0]
[null,null,null,null,null,null,null,null,null,null,null,0,0,0]
[null,null,null,null,null,null,null,null,null,null,null,0,0,0]
[null,null,null,null,null,null,null,null,null,null,null,0,0,0]
[null,null,null,null,null,null,null,null,null,null,null,0,0,0]
[null,null,null,null,null,null,null,null,null,null,null,0,0,0]
[null,null,null,null,null,null,null,null,null,null,null,0,0,0]
[null,null,null,null,null,null,null,null,null,null,null,0,0,0]
[null,null,null,null,null,null,null,null,null,null,null,0,0,0]
[null,null,null,null,null,null,null,null,null,null,null,0,0,0]
[null,null,null,null,null,null,null,null,null,null,null,{"$f":"SUM(D507:K507)","v":0},0,0]
[null,null,null,null,null,null,null,null,null,null,null,0,0,0]
[null,null,null,null,null,null,null,null,null,null,null,0,0,0]
[null,null,null,null,null,null,null,null,null,null,null,0,0,0]
[null,null,null,null,null,null,null,null,null,null,null,0,0,0]
[null,null,null,null,null,null,null,null,null,null,null,0,0,0]
[null,null,null,null,null,null,null,null,null,null,null,0,0,0]
[null,null,null,null,null,null,null,null,null,null,null,0,0,0]
[null,null,null,null,null,null,null,null,null,null,null,0,0,0]
[null,null,null,null,null,null,null,null,null,null,null,0,0,0]
[null,null,null,null,null,null,null,null,null,null,null,0,0,0]
[null,null,null,null,null,null,null,null,null,null,null,0,0,0]
[null,null,null,null,null,null,null,null,null,null,null,0,0,0]
[null,null,null,null,null,null,null,null,null,null,null,0,0,0]
[null,null,null,null,null,null,null,null,null,null,null,0,0,0]
[null,null,null,null,null,null,null,null,null,null,null,0,0,0]
[null,null,null,null,null,null,null,null,null,null,null,{"$f":"SUM(D523:K523)","v":0},0,0]
[null,null,null,null,null,null,null,null,null,null,null,{"$f":"SUM(D524:K524)","v":0},0,0]
[null,null,null,null,null,null,null,null,null,null,null,0,0,0]
[null,null,null,null,null,null,null,null,null,null,null,0,0,0]
[null,null,null,null,null,null,null,null,null,null,null,0,0,0]
[null,null,null,null,null,null,null,null,null,null,null,0,0,0]
[null,null,null,null,null,null,null,null,null,null,null,0,0,0]
[null,null,null,null,null,null,null,null,null,null,null,0,0,0]
[null,null,null,null,null,null,null,null,null,null,null,0,0,0]
[null,null,null,null,null,null,null,null,null,null,null,0,0,0]
[null,null,null,null,null,null,null,null,null,null,null,0,0,0]
[null,null,null,null,null,null,null,null,null,null,null,0,0,0]
[null,null,null,null,null,null,null,null,null,null,null,0,0,0]
[null,null,null,null,null,null,null,null,null,null,null,0,0,0]
[null,null,null,null,null,null,null,null,null,null,null,0,0,0]
[null,null,null,null,null,null,null,null,null,null,null,0,0,0]
[null,null,null,null,null,null,null,null,null,null,null,0,0,0]
[null,null,null,null,null,null,null,null,null,null,null,0,0,0]
[null,null,null,null,null,null,null,null,null,null,null,0,0,0]
[null,null,null,null,null,null,null,null,null,null,null,0,0,0]
[null,null,null,null,null,null,null,null,null,null,null,0,0,0]
[null,null,null,null,null,null,null,null,null,null,null,0,0,0]
[null,null,null,null,null,null,null,null,null,null,null,0,0,0]
[null,null,null,null,null,null,null,null,null,null,null,0,0,0]
[null,null,null,null,null,null,null,null,null,null,null,0,0,0]
[null,null,null,null,null,null,null,null,null,null,null,0,0,0]
[null,null,null,null,null,null,null,null,null,null,null,0,0,0]
[null,null,null,null,null,null,null,null,null,null,null,0,{"$f":"$C$14*$C$13","v":0},0]
[null,null,null,null,null,null,null,null,null,null,null,0,0,0]
[null,null,null,null,null,null,null,null,null,null,null,0,0,0]
[null,null,null,null,null,null,null,null,null,null,null,0,0,0]
[null,null,null,null,null,null,null,null,null,null,null,0,0,0]
[null,null,null,null,null,null,null,null,null,null,null,0,0,0]
[null,null,null,null,null,null,null,null,null,null,null,0,0,0]
[null,null,null,null,null,null,null,null,null,null,null,0,0,0]
[null,null,null,null,null,null,null,null,null,null,null,0,0,0]
[null,null,null,null,null,null,null,null,null,null,null,0,0,0]
[null,null,null,null,null,null,null,null,null,null,null,0,0,0]
[null,null,null,null,null,null,null,null,null,null,null,0,0,0]
[null,null,null,null,null,null,null,null,null,null,null,0,0,0]
[null,null,null,null,null,null,null,null,null,null,null,0,0,0]
[null,null,null,null,null,null,null,null,null,null,null,0,0,0]
[null,null,null,null,null,null,null,null,null,null,null,0,0,0]
[null,null,null,null,null,null,null,null,null,null,null,0,0,0]
[null,null,null,null,null,null,null,null,null,null,null,0,0,0]
[null,null,null,null,null,null,null,null,null,null,null,0,0,0]
[null,null,null,null,null,null,null,null,null,null,null,0,0,0]
[null,null,null,null,null,null,null,null,null,null,null,0,0,0]
[null,null,null,null,null,null,null,null,null,null,null,0,0,0]
[null,null,null,null,null,null,null,null,null,null,null,0,0,0]
[null,null,null,null,null,null,null,null,null,null,null,0,0,0]
[null,null,null,null,null,null,null,null,null,null,null,0,0,0]
[null,null,null,null,null,null,null,null,null,null,null,0,0,0]
[null,null,null,null,null,null,null,null,null,null,null,0,0,0]
[null,null,null,null,null,null,null,null,null,null,null,0,0,0]
[null,null,null,null,null,null,null,null,null,null,null,0,0,0]
[null,null,null,null,null,null,null,null,null,null,null,0,0,0]
[null,null,null,null,null,null,null,null,null,null,null,0,0,0]
[null,null,null,null,null,null,null,null,null,null,null,0,0,0]
[null,null,null,null,null,null,null,null,null,null,null,0,0,0]
[null,null,null,null,null,null,null,null,null,null,null,0,0,0]
[null,null,null,null,null,null,null,null,null,null,null,0,0,0]
[null,null,null,null,null,null,null,null,null,null,null,0,0,0]
[null,null,null,null,null,null,null,null,null,null,null,0,0,0]
[null,null,null,null,null,null,null,null,null,null,null,0,0,0]
[null,null,null,null,null,null,null,null,null,null,null,{"$f":"SUM(D588:K588)","v":0},0,0]
[null,null,null,null,null,null,null,null,null,null,null,0,0,0]
[null,null,null,null,null,null,null,null,null,null,null,0,0,0]
[null,null,null,null,null,null,null,null,null,null,null,0,0,0]
[null,null,null,null,null,null,null,null,null,null,null,0,0,0]
[null,null,null,null,null,null,null,null,null,null,null,0,0,0]
[null,null,null,null,null,null,null,null,null,null,null,0,0,0]
[null,null,null,null,null,null,null,null,null,null,null,0,0,0]
[null,null,null,null,null,null,null,null,null,null,null,0,0,0]
[null,null,null,null,null,null,null,null,null,null,null,0,0,0]
[null,null,null,null,null,null,null,null,null,null,null,0,0,0]
[null,null,null,null,null,null,null,null,null,null,null,0,0,0]
[null,null,null,null,null,null,null,null,null,null,null,0,0,0]
[null,null,null,null,null,null,null,null,null,null,null,0,0,0]
[null,null,null,null,null,null,null,null,null,null,null,0,0,0]
[null,null,null,null,null,null,null,null,null,null,null,0,0,0]
[null,null,null,null,null,null,null,null,null,null,null,0,0,0]
[null,null,null,null,null,null,null,null,null,null,null,{"$f":"SUM(D605:K605)","v":0},{"$f":"$C$14*$C$13","v":0},{"$f":"MAX(L605-M605,0)","v":0}]
[null,null,null,null,null,null,null,null,null,null,null,0,0,0]
[null,null,null,null,null,null,null,null,null,null,null,0,0,0]
[null,null,null,null,null,null,null,null,null,null,null,0,0,0]
[null,null,null,null,null,null,null,null,null,null,null,0,0,0]
[null,null,null,null,null,null,null,null,null,null,null,0,0,0]
[null,null,null,null,null,null,null,null,null,null,null,0,0,0]
[null,null,null,null,null,null,null,null,null,null,null,0,0,0]
[null,null,null,null,null,null,null,null,null,null,null,0,0,0]
[null,null,null,null,null,null,null,null,null,null,null,0,0,0]
[null,null,null,null,null,null,null,null,null,null,null,0,0,0]
[null,null,null,null,null,null,null,null,null,null,null,0,0,0]
[null,null,null,null,null,null,null,null,null,null,null,0,0,0]
[null,null,null,null,null,null,null,null,null,null,null,0,0,0]
[null,null,null,null,null,null,null,null,null,null,null,0,0,0]
[null,null,null,null,null,null,null,null,null,null,null,0,0,0]
[null,null,null,null,null,null,null,null,null,null,null,0,0,0]
[null,null,null,null,null,null,null,null,null,null,null,0,0,0]
[null,null,null,null,null,null,null,null,null,null,null,0,0,0]
[null,null,null,null,null,null,null,null,null,null,null,0,0,0]
[null,null,null,null,null,null,null,null,null,null,null,0,0,0]
[null,null,null,null,null,null,null,null,null,null,null,0,0,0]
[null,null,null,null,null,null,null,null,null,null,null,0,0,0]
[null,null,null,null,null,null,null,null,null,null,null,0,0,0]
[null,null,null,null,null,null,null,null,null,null,null,0,0,0]
[null,null,null,null,null,null,null,null,null,null,null,0,0,{"$f":"MAX(L630-M630,0)","v":0}]
[null,null,null,null,null,null,null,null,null,null,null,0,0,0]
[null,null,null,null,null,null,null,null,null,null,null,0,0,0]
[null,null,null,null,null,null,null,null,null,null,null,0,0,0]
[null,null,null,null,null,null,null,null,null,null,null,0,0,0]
[null,null,null,null,null,null,null,null,null,null,null,0,0,0]
[null,null,null,null,null,null,null,null,null,null,null,0,0,0]
[null,null,null,null,null,null,null,null,null,null,null,0,0,0]
[null,null,null,null,null,null,null,null,null,null,null,0,0,0]
[null,null,null,null,null,null,null,null,null,null,null,0,0,0]
[null,null,null,null,null,null,null,null,null,null,null,0,0,0]
[null,null,null,null,null,null,null,null,null,null,null,0,0,0]
[null,null,null,null,null,null,null,null,null,null,null,0,0,0]
[null,null,null,null,null,null,null,null,null,null,null,0,0,0]
[null,null,null,null,null,null,null,null,null,null,null,0,0,0]
[null,null,null,null,null,null,null,null,null,null,null,0,0,0]
[null,null,null,null,null,null,null,null,null,null,null,0,0,0]
[null,null,null,null,null,null,null,null,null,null,null,0,0,0]
[null,null,null,null,null,null,null,null,null,null,null,0,0,0]
[null,null,null,null,null,null,null,null,null,null,null,0,0,0]
[null,null,null,null,null,null,null,null,null,null,null,0,0,0]
[null,null,null,null,null,null,null,null,null,null,null,0,0,0]
[null,null,null,null,null,null,null,null,null,null,null,0,0,0]
[null,null,null,null,null,null,null,null,null,null,null,0,0,0]
[null,null,null,null,null,null,null,null,null,null,null,0,0,0]
[null,null,null,null,null,null,null,null,null,null,null,0,0,0]
[null,null,null,null,null,null,null,null,null,null,null,0,0,0]
[null,null,null,null,null,null,null,null,null,null,null,0,0,0]
[null,null,null,null,null,null,null,null,null,null,null,0,0,0]
[null,null,null,null,null,null,null,null,null,null,null,0,0,0]
[null,null,null,null,null,null,null,null,null,null,null,0,0,0]
[null,null,null,null,null,null,null,null,null,null,null,0,0,0]
[null,null,null,null,null,null,null,null,null,null,null,0,0,0]
[null,null,null,null,null,null,null,null,null,null,null,0,0,0]
[null,null,null,null,null,null,null,null,null,null,null,0,0,0]
[null,null,null,null,null,null,null,null,null,null,null,0,0,0]
[null,null,null,null,null,null,null,null,null,null,null,0,0,0]
[null,null,null,null,null,null,null,null,null,null,null,0,0,0]
[null,null,null,null,null,null,null,null,null,null,null,{"$f":"SUM(D668:K668)","v":0},0,0]
[null,null,null,null,null,null,null,null,null,null,null,0,0,0]
[null,null,null,null,null,null,null,null,null,null,null,0,0,0]
[null,null,null,null,null,null,null,null,null,null,null,0,0,0]
[null,null,null,null,null,null,null,null,null,null,null,0,0,0]
[null,null,null,null,null,null,null,null,null,null,null,0,0,0]
[null,null,null,null,null,null,null,null,null,null,null,0,0,0]
[null,null,null,null,null,null,null,null,null,null,null,0,0,0]
[null,null,null,null,null,null,null,null,null,null,null,0,0,0]
[null,null,null,null,null,null,null,null,null,null,null,{"$f":"SUM(D677:K677)","v":0},0,0]
[null,null,null,null,null,null,null,null,null,null,null,{"$f":"SUM(D678:K678)","v":0},0,0]
[null,null,null,null,null,null,null,null,null,null,null,0,0,0]
[null,null,null,null,null,null,null,null,null,null,null,0,0,0]
[null,null,null,null,null,null,null,null,null,null,null,0,0,0]
[null,null,null,null,null,null,null,null,null,null,null,0,0,0]
[null,null,null,null,null,null,null,null,null,null,null,0,0,0]
[null,null,null,null,null,null,null,null,null,null,null,0,0,0]
[null,null,null,null,null,null,null,null,null,null,null,0,0,0]
[null,null,null,null,null,null,null,null,null,null,null,0,0,0]
[null,null,null,null,null,null,null,null,null,null,null,0,0,0]
[null,null,null,null,null,null,null,null,null,null,null,0,0,0]
[null,null,null,null,null,null,null,null,null,null,null,0,0,0]
[null,null,null,null,null,null,null,null,null,null,null,0,0,0]
[null,null,null,null,null,null,null,null,null,null,null,0,0,0]
[null,null,null,null,null,null,null,null,null,null,null,0,0,0]
[null,null,null,null,null,null,null,null,null,null,null,0,0,0]
[null,null,null,null,null,null,null,null,null,null,null,0,0,0]
[null,null,null,null,null,null,null,null,null,null,null,0,0,0]
[null,null,null,null,null,null,null,null,null,null,null,0,0,0]
[null,null,null,null,null,null,null,null,null,null,null,0,0,0]
[null,null,null,null,null,null,null,null,null,null,null,0,0,0]
[null,null,null,null,null,null,null,null,null,null,null,0,0,0]
[null,null,null,null,null,null,null,null,null,null,null,0,0,0]
[null,null,null,null,null,null,null,null,null,null,null,0,0,0]
[null,null,null,null,null,null,null,null,null,null,null,0,0,0]
[null,null,null,null,null,null,null,null,null,null,null,0,0,0]
[null,null,null,null,null,null,null,null,null,null,null,0,0,0]
[null,null,null,null,null,null,null,null,null,null,null,0,0,0]
[null,null,null,null,null,null,null,null,null,null,null,0,0,0]
[null,null,null,null,null,null,null,null,null,null,null,0,0,0]
[null,null,null,null,null,null,null,null,null,null,null,0,0,0]
[null,null,null,null,null,null,null,null,null,null,null,0,0,0]
[null,null,null,null,null,null,null,null,null,null,null,0,0,0]
[null,null,null,null,null,null,null,null,null,null,null,0,0,0]
[null,null,null,null,null,null,null,null,null,null,null,0,0,0]
[null,null,null,null,null,null,null,null,null,null,null,0,0,0]
[null,null,null,null,null,null,null,null,null,null,null,0,0,0]
[null,null,null,null,null,null,null,null,null,null,null,0,0,0]
[null,null,null,null,null,null,null,null,null,null,null,0,0,0]
[null,null,null,null,null,null,null,null,null,null,null,0,0,0]
[null,null,null,null,null,null,null,null,null,null,null,0,0,0]
[null,null,null,null,null,null,null,null,null,null,null,0,0,0]
[null,null,null,null,null,null,null,null,null,null,null,0,0,0]
[null,null,null,null,null,null,null,null,null,null,null,0,0,0]
[null,null,null,null,null,null,null,null,null,null,null,0,0,0]
[null,null,null,null,null,null,null,null,null,null,null,0,0,0]
[null,null,null,null,null,null,null,null,null,null,null,0,0,0]
[null,null,null,null,null,null,null,null,null,null,null,0,0,0]
[null,null,null,null,null,null,null,null,null,null,null,0,0,0]
[null,null,null,null,null,null,null,null,null,null,null,0,0,0]
[null,null,null,null,null,null,null,null,null,null,null,0,0,0]
[null,null,null,null,null,null,null,null,null,null,null,0,0,0]
[null,null,null,null,null,null,null,null,null,null,null,0,0,0]
[null,null,null,null,null,null,null,null,null,null,null,0,0,0]
[null,null,null,null,null,null,null,null,null,null,null,0,0,0]
[null,null,null,null,null,null,null,null,null,null,null,0,0,0]
[null,null,null,null,null,null,null,null,null,null,null,0,0,0]
[null,null,null,null,null,null,null,null,null,null,null,0,0,0]
[null,null,null,null,null,null,null,null,null,null,null,0,0,0]
[null,null,null,null,null,null,null,null,null,null,null,0,0,0]
[null,null,null,null,null,null,null,null,null,null,null,0,0,0]
[null,null,null,null,null,null,null,null,null,null,null,0,0,0]
[null,null,null,null,null,null,null,null,null,null,null,0,{"$f":"$C$14*$C$13","v":0},{"$f":"MAX(L740-M740,0)","v":0}]
[null,null,null,null,null,null,null,null,null,null,null,0,0,0]
[null,null,null,null,null,null,null,null,null,null,null,0,0,0]
[null,null,null,null,null,null,null,null,null,null,null,0,0,0]
[null,null,null,null,null,null,null,null,null,null,null,0,0,0]
[null,null,null,null,null,null,null,null,null,null,null,0,0,0]
[null,null,null,null,null,null,null,null,null,null,null,0,0,0]
[null,null,null,null,null,null,null,null,null,null,null,0,0,0]
[null,null,null,null,null,null,null,null,null,null,null,0,0,0]
[null,null,null,null,null,null,null,null,null,null,null,0,0,0]
[null,null,null,null,null,null,null,null,null,null,null,0,0,0]
[null,null,null,null,null,null,null,null,null,null,null,0,0,0]
[null,null,null,null,null,null,null,null,null,null,null,0,0,0]
[null,null,null,null,null,null,null,null,null,null,null,{"$f":"SUM(D753:K753)","v":0},0,0]
[null,null,null,null,null,null,null,null,null,null,null,{"$f":"SUM(D754:K754)","v":0},0,0]
[null,null,null,null,null,null,null,null,null,null,null,0,0,0]
[null,null,null,null,null,null,null,null,null,null,null,0,0,0]
[null,null,null,null,null,null,null,null,null,null,null,0,0,0]
[null,null,null,null,null,null,null,null,null,null,null,0,0,0]
[null,null,null,null,null,null,null,null,null,null,null,0,0,0]
[null,null,null,null,null,null,null,null,null,null,null,0,0,0]
[null,null,null,null,null,null,null,null,null,null,null,0,0,0]
[null,null,null,null,null,null,null,null,null,null,null,0,0,0]
[null,null,null,null,null,null,null,null,null,null,null,0,0,0]
[null,null,null,null,null,null,null,null,null,null,null,0,0,0]
[null,null,null,null,null,null,null,null,null,null,null,0,0,0]
[null,null,null,null,null,null,null,null,null,null,null,0,0,0]
[null,null,null,null,null,null,null,null,null,null,null,0,0,0]
[null,null,null,null,null,null,null,null,null,null,null,0,0,0]
[null,null,null,null,null,null,null,null,null,null,null,0,0,0]
[null,null,null,null,null,null,null,null,null,null,null,0,0,0]
[null,null,null,null,null,null,null,null,null,null,null,0,0,0]
[null,null,null,null,null,null,null,null,null,null,null,0,0,0]
[null,null,null,null,null,null,null,null,null,null,null,0,0,0]
[null,null,null,null,null,null,null,null,null,null,null,0,0,0]
[null,null,null,null,null,null,null,null,null,null,null,0,0,0]
[null,null,null,null,null,null,null,null,null,null,null,0,0,0]
[null,null,null,null,null,null,null,null,null,null,null,0,0,0]
[null,null,null,null,null,null,null,null,null,null,null,0,0,0]
[null,null,null,null,null,null,null,null,null,null,null,0,0,0]
[null,null,null,null,null,null,null,null,null,null,null,0,0,0]
[null,null,null,null,null,null,null,null,null,null,null,0,0,0]
[null,null,null,null,null,null,null,null,null,null,null,0,0,0]
[null,null,null,null,null,null,null,null,null,null,null,0,0,0]
[null,null,null,null,null,null,null,null,null,null,null,0,0,0]
[null,null,null,null,null,null,null,null,null,null,null,0,0,0]
[null,null,null,null,null,null,null,null,null,null,null,0,0,0]
[null,null,null,null,null,null,null,null,null,null,null,0,0,0]
[null,null,null,null,null,null,null,null,null,null,null,0,0,0]
[null,null,null,null,null,null,null,null,null,null,null,0,0,0]
[null,null,null,null,null,null,null,null,null,null,null,0,0,0]
[null,null,null,null,null,null,null,null,null,null,null,0,0,0]
[null,null,null,null,null,null,null,null,null,null,null,0,0,0]
[null,null,null,null,null,null,null,null,null,null,null,0,0,0]
[null,null,null,null,null,null,null,null,null,null,null,0,0,0]
[null,null,null,null,null,null,null,null,null,null,null,0,0,0]
[null,null,null,null,null,null,null,null,null,null,null,0,0,0]
[null,null,null,null,null,null,null,null,null,null,null,0,0,0]
[null,null,null,null,null,null,null,null,null,null,null,0,0,0]
[null,null,null,null,null,null,null,null,null,null,null,0,0,0]
[null,null,null,null,null,null,null,null,null,null,null,0,0,0]
[null,null,null,null,null,null,null,null,null,null,null,0,0,0]
[null,null,null,null,null,null,null,null,null,null,null,0,0,0]
[null,null,null,null,null,null,null,null,null,null,null,0,0,0]
[null,null,null,null,null,null,null,null,null,null,null,0,0,0]
[null,null,null,null,null,null,null,null,null,null,null,0,0,0]
[null,null,null,null,null,null,null,null,null,null,null,0,0,0]
[null,null,null,null,null,null,null,null,null,null,null,0,0,0]
[null,null,null,null,null,null,null,null,null,null,null,0,0,0]
[null,null,null,null,null,null,null,null,null,null,null,0,0,0]
[null,null,null,null,null,null,null,null,null,null,null,0,0,0]
[null,null,null,null,null,null,null,null,null,null,null,0,0,0]
[null,null,null,null,null,null,null,null,null,null,null,0,0,0]
[null,null,null,null,null,null,null,null,null,null,null,0,0,0]
[null,null,null,null,null,null,null,null,null,null,null,0,0,0]
[null,null,null,null,null,null,null,null,null,null,null,0,0,0]
[null,null,null,null,null,null,null,null,null,null,null,0,0,0]
[null,null,null,null,null,null,null,null,null,null,null,0,0,0]
[null,null,null,null,null,null,null,null,null,null,null,{"$f":"SUM(D818:K818)","v":0},0,0]
[null,null,null,null,null,null,null,null,null,null,null,0,0,0]
[null,null,null,null,null,null,null,null,null,null,null,0,0,0]
[null,null,null,null,null,null,null,null,null,null,null,0,0,0]
[null,null,null,null,null,null,null,null,null,null,null,0,0,0]
[null,null,null,null,null,null,null,null,null,null,null,0,0,0]
[null,null,null,null,null,null,null,null,null,null,null,0,0,0]
[null,null,null,null,null,null,null,null,null,null,null,0,0,0]
[null,null,null,null,null,null,null,null,null,null,null,0,0,0]
[null,null,null,null,null,null,null,null,null,null,null,0,0,0]
[null,null,null,null,null,null,null,null,null,null,null,0,0,0]
[null,null,null,null,null,null,null,null,null,null,null,0,0,0]
[null,null,null,null,null,null,null,null,null,null,null,0,0,0]
[null,null,null,null,null,null,null,null,null,null,null,0,0,0]
[null,null,null,null,null,null,null,null,null,null,null,0,0,0]
[null,null,null,null,null,null,null,null,null,null,null,0,0,0]
[null,null,null,null,null,null,null,null,null,null,null,{"$f":"SUM(D834:K834)","v":0},0,0]
[null,null,null,null,null,null,null,null,null,null,null,{"$f":"SUM(D835:K835)","v":0},0,0]
[null,null,null,null,null,null,null,null,null,null,null,0,0,0]
[null,null,null,null,null,null,null,null,null,null,null,0,0,0]
[null,null,null,null,null,null,null,null,null,null,null,0,0,0]
[null,null,null,null,null,null,null,null,null,null,null,0,0,0]
[null,null,null,null,null,null,null,null,null,null,null,0,0,0]
[null,null,null,null,null,null,null,null,null,null,null,0,0,0]
[null,null,null,null,null,null,null,null,null,null,null,0,0,0]
[null,null,null,null,null,null,null,null,null,null,null,0,0,0]
[null,null,null,null,null,null,null,null,null,null,null,0,0,0]
[null,null,null,null,null,null,null,null,null,null,null,0,0,0]
[null,null,null,null,null,null,null,null,null,null,null,0,0,0]
[null,null,null,null,null,null,null,null,null,null,null,0,0,0]
[null,null,null,null,null,null,null,null,null,null,null,0,0,0]
[null,null,null,null,null,null,null,null,null,null,null,0,0,0]
[null,null,null,null,null,null,null,null,null,null,null,0,0,0]
[null,null,null,null,null,null,null,null,null,null,null,0,0,0]
[null,null,null,null,null,null,null,null,null,null,null,0,0,0]
[null,null,null,null,null,null,null,null,null,null,null,0,0,0]
[null,null,null,null,null,null,null,null,null,null,null,0,0,0]
[null,null,null,null,null,null,null,null,null,null,null,0,0,0]
[null,null,null,null,null,null,null,null,null,null,null,0,0,0]
[null,null,null,null,null,null,null,null,null,null,null,0,0,0]
[null,null,null,null,null,null,null,null,null,null,null,0,0,0]
[null,null,null,null,null,null,null,null,null,null,null,0,0,0]
[null,null,null,null,null,null,null,null,null,null,null,0,0,0]
[null,null,null,null,null,null,null,null,null,null,null,0,0,0]
[null,null,null,null,null,null,null,null,null,null,null,0,0,0]
[null,null,null,null,null,null,null,null,null,null,null,0,0,0]
[null,null,null,null,null,null,null,null,null,null,null,0,0,0]
[null,null,null,null,null,null,null,null,null,null,null,0,0,0]
[null,null,null,null,null,null,null,null,null,null,null,0,0,0]
[null,null,null,null,null,null,null,null,null,null,null,0,0,0]
[null,null,null,null,null,null,null,null,null,null,null,0,0,0]
[null,null,null,null,null,null,null,null,null,null,null,0,0,0]
[null,null,null,null,null,null,null,null,null,null,null,0,0,0]
[null,null,null,null,null,null,null,null,null,null,null,0,0,0]
[null,null,null,null,null,null,null,null,null,null,null,0,0,0]
[null,null,null,null,null,null,null,null,null,null,null,0,0,0]
[null,null,null,null,null,null,null,null,null,null,null,0,0,0]
[null,null,null,null,null,null,null,null,null,null,null,0,0,0]
[null,null,null,null,null,null,null,null,null,null,null,0,0,0]
[null,null,null,null,null,null,null,null,null,null,null,0,0,0]
[null,null,null,null,null,null,null,null,null,null,null,0,0,0]
[null,null,null,null,null,null,null,null,null,null,null,0,0,0]
[null,null,null,null,null,null,null,null,null,null,null,0,0,0]
[null,null,null,null,null,null,null,null,null,null,null,0,0,0]
[null,null,null,null,null,null,null,null,null,null,null,0,0,0]
[null,null,null,null,null,null,null,null,null,null,null,0,0,0]
[null,null,null,null,null,null,null,null,null,null,null,0,0,0]
[null,null,null,null,null,null,null,null,null,null,null,0,0,0]
[null,null,null,null,null,null,null,null,null,null,null,0,0,0]
[null,null,null,null,null,null,null,null,null,null,null,0,0,0]
[null,null,null,null,null,null,null,null,null,null,null,0,0,0]
[null,null,null,null,null,null,null,null,null,null,null,0,0,0]
[null,null,null,null,null,null,null,null,null,null,null,0,0,0]
[null,null,null,null,null,null,null,null,null,null,null,0,0,0]
[null,null,null,null,null,null,null,null,null,null,null,0,0,0]
[null,null,null,null,null,null,null,null,null,null,null,0,0,0]
[null,null,null,null,null,null,null,null,null,null,null,0,0,0]
[null,null,null,null,null,null,null,null,null,null,null,0,0,0]
[null,null,null,null,null,null,null,null,null,null,null,0,0,0]
[null,null,null,null,null,null,null,null,null,null,null,0,0,0]
[null,null,null,null,null,null,null,null,null,null,null,0,0,0]
[null,null,null,null,null,null,null,null,null,null,null,{"$f":"SUM(D899:K899)","v":0},0,0]
[null,null,null,null,null,null,null,null,null,null,null,0,0,0]
[null,null,null,null,null,null,null,null,null,null,null,0,0,0]
[null,null,null,null,null,null,null,null,null,null,null,0,0,0]
[null,null,null,null,null,null,null,null,null,null,null,0,0,0]
[null,null,null,null,null,null,null,null,null,null,null,0,0,0]
[null,null,null,null,null,null,null,null,null,null,null,0,0,0]
[null,null,null,null,null,null,null,null,null,null,null,0,0,0]
[null,null,null,null,null,null,null,null,null,null,null,0,0,0]
[null,null,null,null,null,null,null,null,null,null,null,0,0,0]
[null,null,null,null,null,null,null,null,null,null,null,0,0,0]
[null,null,null,null,null,null,null,null,null,null,null,0,0,0]
[null,null,null,null,null,null,null,null,null,null,null,0,0,0]
[null,null,null,null,null,null,null,null,null,null,null,0,0,0]
[null,null,null,null,null,null,null,null,null,null,null,0,0,0]
[null,null,null,null,null,null,null,null,null,null,null,{"$f":"SUM(D914:K914)","v":0},0,0]
[null,null,null,null,null,null,null,null,null,null,null,{"$f":"SUM(D915:K915)","v":0},0,0]
[null,null,null,null,null,null,null,null,null,null,null,0,0,0]
[null,null,null,null,null,null,null,null,null,null,null,0,0,0]
[null,null,null,null,null,null,null,null,null,null,null,0,0,0]
[null,null,null,null,null,null,null,null,null,null,null,0,0,0]
[null,null,null,null,null,null,null,null,null,null,null,0,0,0]
[null,null,null,null,null,null,null,null,null,null,null,0,0,0]
[null,null,null,null,null,null,null,null,null,null,null,0,0,0]
[null,null,null,null,null,null,null,null,null,null,null,0,0,0]
[null,null,null,null,null,null,null,null,null,null,null,0,0,0]
[null,null,null,null,null,null,null,null,null,null,null,0,0,0]
[null,null,null,null,null,null,null,null,null,null,null,0,0,0]
[null,null,null,null,null,null,null,null,null,null,null,0,0,0]
[null,null,null,null,null,null,null,null,null,null,null,0,0,0]
[null,null,null,null,null,null,null,null,null,null,null,0,0,0]
[null,null,null,null,null,null,null,null,null,null,null,0,0,0]
[null,null,null,null,null,null,null,null,null,null,null,0,0,0]
[null,null,null,null,null,null,null,null,null,null,null,0,0,0]
[null,null,null,null,null,null,null,null,null,null,null,0,0,0]
[null,null,null,null,null,null,null,null,null,null,null,0,0,0]
[null,null,null,null,null,null,null,null,null,null,null,0,0,0]
[null,null,null,null,null,null,null,null,null,null,null,0,0,0]
[null,null,null,null,null,null,null,null,null,null,null,0,0,0]
[null,null,null,null,null,null,null,null,null,null,null,0,0,0]
[null,null,null,null,null,null,null,null,null,null,null,0,0,0]
[null,null,null,null,null,null,null,null,null,null,null,0,0,0]
[null,null,null,null,null,null,null,null,null,null,null,0,0,0]
[null,null,null,null,null,null,null,null,null,null,null,0,0,0]
[null,null,null,null,null,null,null,null,null,null,null,0,0,0]
[null,null,null,null,null,null,null,null,null,null,null,0,0,0]
[null,null,null,null,null,null,null,null,null,null,null,0,0,0]
[null,null,null,null,null,null,null,null,null,null,null,0,0,0]
[null,null,null,null,null,null,null,null,null,null,null,0,0,0]
[null,null,null,null,null,null,null,null,null,null,null,0,0,0]
[null,null,null,null,null,null,null,null,null,null,null,0,0,0]
[null,null,null,null,null,null,null,null,null,null,null,0,0,0]
[null,null,null,null,null,null,null,null,null,null,null,0,0,0]
[null,null,null,null,null,null,null,null,null,null,null,0,0,0]
[null,null,null,null,null,null,null,null,null,null,null,0,0,0]
[null,null,null,null,null,null,null,null,null,null,null,0,0,0]
[null,null,null,null,null,null,null,null,null,null,null,0,0,0]
[null,null,null,null,null,null,null,null,null,null,null,0,0,0]
[null,null,null,null,null,null,null,null,null,null,null,0,0,0]
[null,null,null,null,null,null,null,null,null,null,null,0,0,0]
[null,null,null,null,null,null,null,null,null,null,null,0,0,0]
[null,null,null,null,null,null,null,null,null,null,null,0,0,0]
[null,null,null,null,null,null,null,null,null,null,null,0,0,0]
[null,null,null,null,null,null,null,null,null,null,null,0,0,0]
[null,null,null,null,null,null,null,null,null,null,null,0,0,0]
[null,null,null,null,null,null,null,null,null,null,null,0,0,0]
[null,null,null,null,null,null,null,null,null,null,null,0,0,0]
[null,null,null,null,null,null,null,null,null,null,null,0,0,0]
[null,null,null,null,null,null,null,null,null,null,null,0,0,0]
[null,null,null,null,null,null,null,null,null,null,null,0,0,0]
[null,null,null,null,null,null,null,null,null,null,null,0,0,0]
[null,null,null,null,null,null,null,null,null,null,null,0,0,0]
[null,null,null,null,null,null,null,null,null,null,null,0,0,0]
[null,null,null,null,null,null,null,null,null,null,null,0,0,0]
[null,null,null,null,null,null,null,null,null,null,null,0,0,0]
[null,null,null,null,null,null,null,null,null,null,null,0,0,0]
[null,null,null,null,null,null,null,null,null,null,null,0,0,0]
[null,null,null,null,null,null,null,null,null,null,null,0,0,0]
[null,null,null,null,null,null,null,null,null,null,null,0,0,0]
[null,null,null,null,null,null,null,null,null,null,null,0,0,0]
[null,null,null,null,null,null,null,null,null,null,null,{"$f":"SUM(D979:K979)","v":0},0,0]
[null,null,null,null,null,null,null,null,null,null,null,0,0,0]
[null,null,null,null,null,null,null,null,null,null,null,0,0,0]
[null,null,null,null,null,null,null,null,null,null,null,0,0,0]
[null,null,null,null,null,null,null,null,null,null,null,0,0,0]
[null,null,null,null,null,null,null,null,null,null,null,0,0,0]
[null,null,null,null,null,null,null,null,null,null,null,0,0,0]
[null,null,null,null,null,null,null,null,null,null,null,0,0,0]
[null,null,null,null,null,null,null,null,null,null,null,0,0,0]
[null,null,null,null,null,null,null,null,null,null,null,0,0,0]
[null,null,null,null,null,null,null,null,null,null,null,0,0,0]
[null,null,null,null,null,null,null,null,null,null,null,0,0,0]
[null,null,null,null,null,null,null,null,null,null,null,0,0,0]
[null,null,null,null,null,null,null,null,null,null,null,0,0,0]
[null,null,null,null,null,null,null,null,null,null,null,0,0,0]
[null,null,null,null,null,null,null,null,null,null,null,0,0,0]
[null,null,null,null,null,null,null,null,null,null,null,{"$f":"SUM(D995:K995)","v":0},{"$f":"$C$14*$C$13","v":0},{"$f":"MAX(L995-M995,0)","v":0}]
[null,null,null,null,null,null,null,null,null,null,null,{"$f":"SUM(D996:K996)","v":0},0,0]
[null,null,null,null,null,null,null,null,null,null,null,0,0,0]
[null,null,null,null,null,null,null,null,null,null,null,0,0,0]
[null,null,null,null,null,null,null,null,null,null,null,0,0,0]
[null,null,null,null,null,null,null,null,null,null,null,0,0,0]
[null,null,null,null,null,null,null,null,null,null,null,0,0,0]
[null,null,null,null,null,null,null,null,null,null,null,0,0,0]
[null,null,null,null,null,null,null,null,null,null,null,0,0,0]
[null,null,null,null,null,null,null,null,null,null,null,0,0,0]
[null,null,null,null,null,null,null,null,null,null,null,0,0,0]
[null,null,null,null,null,null,null,null,null,null,null,0,0,0]
[null,null,null,null,null,null,null,null,null,null,null,0,0,0]
[null,null,null,null,null,null,null,null,null,null,null,0,0,0]
[null,null,null,null,null,null,null,null,null,null,null,0,0,0]
[null,null,null,null,null,null,null,null,null,null,null,0,0,0]
[null,null,null,null,null,null,null,null,null,null,null,0,0,0]
[null,null,null,null,null,null,null,null,null,null,null,0,0,0]
[null,null,null,null,null,null,null,null,null,null,null,0,0,0]
[null,null,null,null,null,null,null,null,null,null,null,0,0,0]
[null,null,null,null,null,null,null,null,null,null,null,0,0,0]
[null,null,null,null,null,null,null,null,null,null,null,0,0,0]
[null,null,null,null,null,null,null,null,null,null,null,0,0,0]
[null,null,null,null,null,null,null,null,null,null,null,0,0,0]
[null,null,null,null,null,null,null,null,null,null,null,0,0,0]
[null,null,null,null,null,null,null,null,null,null,null,0,0,0]
[null,null,null,null,null,null,null,null,null,null,null,0,0,0]
[null,null,null,null,null,null,null,null,null,null,null,0,0,0]
[null,null,null,null,null,null,null,null,null,null,null,0,0,0]
[null,null,null,null,null,null,null,null,null,null,null,0,0,0]
[null,null,null,null,null,null,null,null,null,null,null,0,0,0]
[null,null,null,null,null,null,null,null,null,null,null,0,0,0]
[null,null,null,null,null,null,null,null,null,null,null,0,0,0]
[null,null,null,null,null,null,null,null,null,null,null,0,0,0]
[null,null,null,null,null,null,null,null,null,null,null,0,0,0]
[null,null,null,null,null,null,null,null,null,null,null,0,0,0]
[null,null,null,null,null,null,null,null,null,null,null,0,0,0]
[null,null,null,null,null,null,null,null,null,null,null,0,0,0]
[null,null,null,null,null,null,null,null,null,null,null,0,0,0]
[null,null,null,null,null,null,null,null,null,null,null,0,0,0]
[null,null,null,null,null,null,null,null,null,null,null,0,0,0]
[null,null,null,null,null,null,null,null,null,null,null,0,0,0]
[null,null,null,null,null,null,null,null,null,null,null,0,0,0]
[null,null,null,null,null,null,null,null,null,null,null,0,0,0]
[null,null,null,null,null,null,null,null,null,null,null,0,0,0]
[null,null,null,null,null,null,null,null,null,null,null,0,0,0]
[null,null,null,null,null,null,null,null,null,null,null,0,0,0]
[null,null,null,null,null,null,null,null,null,null,null,0,0,0]
[null,null,null,null,null,null,null,null,null,null,null,0,0,0]
[null,null,null,null,null,null,null,null,null,null,null,0,0,0]
[null,null,null,null,null,null,null,null,null,null,null,0,0,0]
[null,null,null,null,null,null,null,null,null,null,null,0,0,0]
[null,null,null,null,null,null,null,null,null,null,null,0,0,0]
[null,null,null,null,null,null,null,null,null,null,null,0,0,0]
[null,null,null,null,null,null,null,null,null,null,null,0,0,0]
[null,null,null,null,null,null,null,null,null,null,null,0,0,0]
[null,null,null,null,null,null,null,null,null,null,null,0,0,0]
[null,null,null,null,null,null,null,null,null,null,null,0,0,0]
[null,null,null,null,null,null,null,null,null,null,null,0,0,0]
[null,null,null,null,null,null,null,null,null,null,null,0,0,0]
[null,null,null,null,null,null,null,null,null,null,null,0,0,0]
[null,null,null,null,null,null,null,null,null,null,null,0,0,0]
[null,null,null,null,null,null,null,null,null,null,null,0,0,0]
[null,null,null,null,null,null,null,null,null,null,null,0,0,0]
[null,null,null,null,null,null,null,null,null,null,null,0,0,0]
[null,null,null,null,null,null,null,null,null,null,null,{"$f":"SUM(D1060:K1060)","v":0},0,0]
[null,null,null,null,null,null,null,null,null,null,null,0,0,0]
[null,null,null,null,null,null,null,null,null,null,null,0,0,0]
[null,null,null,null,null,null,null,null,null,null,null,0,0,0]
[null,null,null,null,null,null,null,null,null,null,null,0,0,0]
[null,null,null,null,null,null,null,null,null,null,null,0,0,0]
[null,null,null,null,null,null,null,null,null,null,null,0,0,0]
[null,null,null,null,null,null,null,null,null,null,null,0,0,0]
[null,null,null,null,null,null,null,null,null,null,null,0,0,0]
[null,null,null,null,null,null,null,null,null,null,null,0,0,0]
[null,null,null,null,null,null,null,null,null,null,null,0,0,0]
[null,null,null,null,null,null,null,null,null,null,null,0,0,0]
[null,null,null,null,null,null,null,null,null,null,null,0,0,0]
[null,null,null,null,null,null,null,null,null,null,null,0,0,0]
[null,null,null,null,null,null,null,null,null,null,null,0,0,0]
[null,null,null,null,null,null,null,null,null,null,null,{"$f":"SUM(D1075:K1075)","v":0},0,0]
[null,null,null,null,null,null,null,null,null,null,null,{"$f":"SUM(D1076:K1076)","v":0},0,0]
[null,null,null,null,null,null,null,null,null,null,null,0,0,0]
[null,null,null,null,null,null,null,null,null,null,null,0,0,0]
[null,null,null,null,null,null,null,null,null,null,null,0,0,0]
[null,null,null,null,null,null,null,null,null,null,null,0,0,0]
[null,null,null,null,null,null,null,null,null,null,null,0,0,0]
[null,null,null,null,null,null,null,null,null,null,null,0,0,0]
[null,null,null,null,null,null,null,null,null,null,null,0,0,0]
[null,null,null,null,null,null,null,null,null,null,null,0,0,0]
[null,null,null,null,null,null,null,null,null,null,null,0,0,0]
[null,null,null,null,null,null,null,null,null,null,null,0,0,0]
[null,null,null,null,null,null,null,null,null,null,null,0,0,0]
[null,null,null,null,null,null,null,null,null,null,null,0,0,0]
[null,null,null,null,null,null,null,null,null,null,null,0,0,0]
[null,null,null,null,null,null,null,null,null,null,null,0,0,0]
[null,null,null,null,null,null,null,null,null,null,null,0,0,0]
[null,null,null,null,null,null,null,null,null,null,null,0,0,0]
[null,null,null,null,null,null,null,null,null,null,null,0,0,0]
[null,null,null,null,null,null,null,null,null,null,null,0,0,0]
[null,null,null,null,null,null,null,null,null,null,null,0,0,0]
[null,null,null,null,null,null,null,null,null,null,null,0,0,0]
[null,null,null,null,null,null,null,null,null,null,null,0,0,0]
[null,null,null,null,null,null,null,null,null,null,null,0,0,0]
[null,null,null,null,null,null,null,null,null,null,null,0,0,0]
[null,null,null,null,null,null,null,null,null,null,null,0,0,0]
[null,null,null,null,null,null,null,null,null,null,null,0,0,0]
[null,null,null,null,null,null,null,null,null,null,null,0,0,0]
[null,null,null,null,null,null,null,null,null,null,null,0,0,0]
[null,null,null,null,null,null,null,null,null,null,null,0,0,0]
[null,null,null,null,null,null,null,null,null,null,null,0,0,0]
[null,null,null,null,null,null,null,null,null,null,null,0,0,0]
[null,null,null,null,null,null,null,null,null,null,null,0,0,0]
[null,null,null,null,null,null,null,null,null,null,null,0,0,0]
[null,null,null,null,null,null,null,null,null,null,null,0,0,0]
[null,null,null,null,null,null,null,null,null,null,null,0,0,0]
[null,null,null,null,null,null,null,null,null,null,null,0,0,0]
[null,null,null,null,null,null,null,null,null,null,null,0,0,0]
[null,null,null,null,null,null,null,null,null,null,null,0,0,0]
[null,null,null,null,null,null,null,null,null,null,null,0,0,0]
[null,null,null,null,null,null,null,null,null,null,null,0,0,0]
[null,null,null,null,null,null,null,null,null,null,null,0,0,0]
[null,null,null,null,null,null,null,null,null,null,null,0,0,0]
[null,null,null,null,null,null,null,null,null,null,null,0,0,0]
[null,null,null,null,null,null,null,null,null,null,null,0,0,0]
[null,null,null,null,null,null,null,null,null,null,null,0,0,0]
[null,null,null,null,null,null,null,null,null,null,null,0,0,0]
[null,null,null,null,null,null,null,null,null,null,null,0,0,0]
[null,null,null,null,null,null,null,null,null,null,null,0,0,0]
[null,null,null,null,null,null,null,null,null,null,null,0,0,0]
[null,null,null,null,null,null,null,null,null,null,null,0,0,0]
[null,null,null,null,null,null,null,null,null,null,null,0,0,0]
[null,null,null,null,null,null,null,null,null,null,null,0,0,0]
[null,null,null,null,null,null,null,null,null,null,null,0,0,0]
[null,null,null,null,null,null,null,null,null,null,null,0,0,0]
[null,null,null,null,null,null,null,null,null,null,null,0,0,0]
[null,null,null,null,null,null,null,null,null,null,null,0,0,0]
[null,null,null,null,null,null,null,null,null,null,null,0,0,0]
[null,null,null,null,null,null,null,null,null,null,null,0,0,0]
[null,null,null,null,null,null,null,null,null,null,null,0,0,0]
[null,null,null,null,null,null,null,null,null,null,null,0,0,0]
[null,null,null,null,null,null,null,null,null,null,null,0,0,0]
[null,null,null,null,null,null,null,null,null,null,null,0,0,0]
[null,null,null,null,null,null,null,null,null,null,null,0,0,0]
[null,null,null,null,null,null,null,null,null,null,null,0,0,0]
[null,null,null,null,null,null,null,null,null,null,null,{"$f":"SUM(D1140:K1140)","v":0},0,0]
[null,null,null,null,null,null,null,null,null,null,null,0,0,0]
[null,null,null,null,null,null,null,null,null,null,null,0,0,0]
[null,null,null,null,null,null,null,null,null,null,null,0,0,0]
[null,null,null,null,null,null,null,null,null,null,null,0,0,0]
[null,null,null,null,null,null,null,null,null,null,null,0,0,0]
[null,null,null,null,null,null,null,null,null,null,null,0,0,0]
[null,null,null,null,null,null,null,null,null,null,null,0,0,0]
[null,null,null,null,null,null,null,null,null,null,null,0,0,0]
[null,null,null,null,null,null,null,null,null,null,null,0,0,0]
[null,null,null,null,null,null,null,null,null,null,null,0,0,0]
[null,null,null,null,null,null,null,null,null,null,null,0,0,0]
[null,null,null,null,null,null,null,null,null,null,null,0,0,0]
[null,null,null,null,null,null,null,null,null,null,null,0,0,0]
[null,null,null,null,null,null,null,null,null,null,null,0,0,0]
[null,null,null,null,null,null,null,null,null,null,null,0,0,0]
[null,null,null,null,null,null,null,null,null,null,null,{"$f":"SUM(D1156:K1156)","v":0},0,0]
[null,null,null,null,null,null,null,null,null,null,null,{"$f":"SUM(D1157:K1157)","v":0},0,0]
[null,null,null,null,null,null,null,null,null,null,null,0,0,0]
[null,null,null,null,null,null,null,null,null,null,null,0,0,0]
[null,null,null,null,null,null,null,null,null,null,null,0,0,0]
[null,null,null,null,null,null,null,null,null,null,null,0,0,0]
[null,null,null,null,null,null,null,null,null,null,null,0,0,0]
[null,null,null,null,null,null,null,null,null,null,null,0,0,0]
[null,null,null,null,null,null,null,null,null,null,null,0,0,0]
[null,null,null,null,null,null,null,null,null,null,null,0,0,0]
[null,null,null,null,null,null,null,null,null,null,null,0,0,0]
[null,null,null,null,null,null,null,null,null,null,null,0,0,0]
[null,null,null,null,null,null,null,null,null,null,null,0,0,0]
[null,null,null,null,null,null,null,null,null,null,null,0,0,0]
[null,null,null,null,null,null,null,null,null,null,null,0,0,0]
[null,null,null,null,null,null,null,null,null,null,null,0,0,0]
[null,null,null,null,null,null,null,null,null,null,null,0,0,0]
[null,null,null,null,null,null,null,null,null,null,null,0,0,0]
[null,null,null,null,null,null,null,null,null,null,null,0,0,0]
[null,null,null,null,null,null,null,null,null,null,null,0,0,0]
[null,null,null,null,null,null,null,null,null,null,null,0,0,0]
[null,null,null,null,null,null,null,null,null,null,null,0,0,0]
[null,null,null,null,null,null,null,null,null,null,null,0,0,0]
[null,null,null,null,null,null,null,null,null,null,null,0,0,0]
[null,null,null,null,null,null,null,null,null,null,null,0,0,0]
[null,null,null,null,null,null,null,null,null,null,null,0,0,0]
[null,null,null,null,null,null,null,null,null,null,null,0,0,0]
[null,null,null,null,null,null,null,null,null,null,null,0,0,0]
[null,null,null,null,null,null,null,null,null,null,null,0,0,0]
[null,null,null,null,null,null,null,null,null,null,null,0,0,0]
[null,null,null,null,null,null,null,null,null,null,null,0,0,0]
[null,null,null,null,null,null,null,null,null,null,null,0,0,0]
[null,null,null,null,null,null,null,null,null,null,null,0,0,0]
[null,null,null,null,null,null,null,null,null,null,null,0,0,0]
[null,null,null,null,null,null,null,null,null,null,null,0,0,0]
[null,null,null,null,null,null,null,null,null,null,null,0,0,0]
[null,null,null,null,null,null,null,null,null,null,null,0,0,0]
[null,null,null,null,null,null,null,null,null,null,null,0,0,0]
[null,null,null,null,null,null,null,null,null,null,null,0,0,0]
[null,null,null,null,null,null,null,null,null,null,null,0,0,0]
[null,null,null,null,null,null,null,null,null,null,null,0,0,0]
[null,null,null,null,null,null,null,null,null,null,null,0,0,0]
[null,null,null,null,null,null,null,null,null,null,null,0,0,0]
[null,null,null,null,null,null,null,null,null,null,null,0,0,0]
[null,null,null,null,null,null,null,null,null,null,null,0,0,0]
[null,null,null,null,null,null,null,null,null,null,null,0,0,0]
[null,null,null,null,null,null,null,null,null,null,null,0,0,0]
[null,null,null,null,null,null,null,null,null,null,null,0,0,0]
[null,null,null,null,null,null,null,null,null,null,null,0,0,0]
[null,null,null,null,null,null,null,null,null,null,null,0,0,0]
[null,null,null,null,null,null,null,null,null,null,null,0,0,0]
[null,null,null,null,null,null,null,null,null,null,null,0,0,0]
[null,null,null,null,null,null,null,null,null,null,null,0,0,0]
[null,null,null,null,null,null,null,null,null,null,null,0,0,0]
[null,null,null,null,null,null,null,null,null,null,null,0,0,0]
[null,null,null,null,null,null,null,null,null,null,null,0,0,0]
[null,null,null,null,null,null,null,null,null,null,null,0,0,0]
[null,null,null,null,null,null,null,null,null,null,null,0,0,0]
[null,null,null,null,null,null,null,null,null,null,null,0,0,0]
[null,null,null,null,null,null,null,null,null,null,null,0,0,0]
[null,null,null,null,null,null,null,null,null,null,null,0,0,0]
[null,null,null,null,null,null,null,null,null,null,null,0,0,0]
[null,null,null,null,null,null,null,null,null,null,null,0,0,0]
[null,null,null,null,null,null,null,null,null,null,null,0,0,0]
[null,null,null,null,null,null,null,null,null,null,null,0,0,0]
[null,null,null,null,null,null,null,null,null,null,null,{"$f":"SUM(D1221:K1221)","v":0},0,0]
[null,null,null,null,null,null,null,null,null,null,null,0,0,0]
[null,null,null,null,null,null,null,null,null,null,null,0,0,0]
[null,null,null,null,null,null,null,null,null,null,null,0,0,0]
[null,null,null,null,null,null,null,null,null,null,null,0,0,0]
[null,null,null,null,null,null,null,null,null,null,null,0,0,0]
[null,null,null,null,null,null,null,null,null,null,null,0,0,0]
[null,null,null,null,null,null,null,null,null,null,null,0,0,0]
[null,null,null,null,null,null,null,null,null,null,null,0,0,0]
[null,null,null,null,null,null,null,null,null,null,null,0,0,0]
[null,null,null,null,null,null,null,null,null,null,null,0,0,0]
[null,null,null,null,null,null,null,null,null,null,null,0,0,0]
[null,null,null,null,null,null,null,null,null,null,null,0,0,0]
[null,null,null,null,null,null,null,null,null,null,null,0,0,0]
[null,null,null,null,null,null,null,null,null,null,null,0,0,0]
[null,null,null,null,null,null,null,null,null,null,null,0,0,0]
[null,null,null,null,null,null,null,null,null,null,null,0,0,0]
[null,null,null,null,null,null,null,null,null,null,null,0,0,0]
[null,null,null,null,null,null,null,null,null,null,null,0,0,0]
[null,null,null,null,null,null,null,null,null,null,null,0,0,0]
[null,null,null,null,null,null,null,null,null,null,null,0,0,0]
[null,null,null,null,null,null,null,null,null,null,null,0,0,0]
[null,null,null,null,null,null,null,null,null,null,null,0,0,0]
[null,null,null,null,null,null,null,null,null,null,null,0,0,0]
[null,null,null,null,null,null,null,null,null,null,null,0,0,0]
[null,null,null,null,null,null,null,null,null,null,null,0,0,0]
[null,null,null,null,null,null,null,null,null,null,null,0,0,0]
[null,null,null,null,null,null,null,null,null,null,null,0,0,0]
[null,null,null,null,null,null,null,null,null,null,null,0,0,0]
[null,null,null,null,null,null,null,null,null,null,null,0,{"$f":"$C$14*$C$13","v":0},{"$f":"MAX(L1250-M1250,0)","v":0}]
[null,null,null,null,null,null,null,null,null,null,null,0,0,0]
[null,null,null,null,null,null,null,null,null,null,null,0,0,0]
[null,null,null,null,null,null,null,null,null,null,null,0,0,0]
[null,null,null,null,null,null,null,null,null,null,null,0,0,0]
[null,null,null,null,null,null,null,null,null,null,null,0,0,0]
[null,null,null,null,null,null,null,null,null,null,null,0,0,0]
[null,null,null,null,null,null,null,null,null,null,null,0,0,0]
[null,null,null,null,null,null,null,null,null,null,null,0,0,0]
[null,null,null,null,null,null,null,null,null,null,null,0,0,0]
[null,null,null,null,null,null,null,null,null,null,null,0,0,0]
[null,null,null,null,null,null,null,null,null,null,null,0,0,0]
[null,null,null,null,null,null,null,null,null,null,null,0,0,0]
[null,null,null,null,null,null,null,null,null,null,null,0,0,0]
[null,null,null,null,null,null,null,null,null,null,null,0,0,0]
[null,null,null,null,null,null,null,null,null,null,null,0,0,0]
[null,null,null,null,null,null,null,null,null,null,null,0,0,0]
[null,null,null,null,null,null,null,null,null,null,null,0,0,0]
[null,null,null,null,null,null,null,null,null,null,null,0,0,0]
[null,null,null,null,null,null,null,null,null,null,null,0,0,0]
[null,null,null,null,null,null,null,null,null,null,null,0,0,0]
[null,null,null,null,null,null,null,null,null,null,null,0,0,0]
[null,null,null,null,null,null,null,null,null,null,null,0,0,0]
[null,null,null,null,null,null,null,null,null,null,null,0,0,0]
[null,null,null,null,null,null,null,null,null,null,null,0,0,0]
[null,null,null,null,null,null,null,null,null,null,null,0,0,0]
[null,null,null,null,null,null,null,null,null,null,null,0,0,0]
[null,null,null,null,null,null,null,null,null,null,null,0,0,0]
[null,null,null,null,null,null,null,null,null,null,null,0,0,0]
[null,null,null,null,null,null,null,null,null,null,null,0,0,0]
[null,null,null,null,null,null,null,null,null,null,null,0,0,0]
[null,null,null,null,null,null,null,null,null,null,null,0,0,0]
[null,null,null,null,null,null,null,null,null,null,null,0,0,0]
[null,null,null,null,null,null,null,null,null,null,null,0,0,0]
[null,null,null,null,null,null,null,null,null,null,null,0,0,0]
[null,null,null,null,null,null,null,null,null,null,null,{"$f":"SUM(D1285:K1285)","v":0},0,0]
[null,null,null,null,null,null,null,null,null,null,null,0,0,0]
[null,null,null,null,null,null,null,null,null,null,null,0,0,0]
[null,null,null,null,null,null,null,null,null,null,null,0,0,0]
[null,null,null,null,null,null,null,null,null,null,null,0,0,0]
[null,null,null,null,null,null,null,null,null,null,null,0,0,0]
[null,null,null,null,null,null,null,null,null,null,null,0,0,0]
[null,null,null,null,null,null,null,null,null,null,null,0,0,0]
[null,null,null,null,null,null,null,null,null,null,null,0,0,0]
[null,null,null,null,null,null,null,null,null,null,null,0,0,0]
[null,null,null,null,null,null,null,null,null,null,null,0,0,0]
[null,null,null,null,null,null,null,null,null,null,null,0,0,0]
[null,null,null,null,null,null,null,null,null,null,null,0,0,0]
[null,null,null,null,null,null,null,null,null,null,null,0,0,0]
[null,null,null,null,null,null,null,null,null,null,null,0,0,0]
[null,null,null,null,null,null,null,null,null,null,null,0,0,0]
[null,null,null,null,null,null,null,null,null,null,null,0,0,0]
[null,null,null,null,null,null,null,null,null,null,null,0,0,0]
[null,null,null,null,null,null,null,null,null,null,null,0,0,0]
[null,null,null,null,null,null,null,null,null,null,null,0,0,0]
[null,null,null,null,null,null,null,null,null,null,null,0,0,0]
[null,null,null,null,null,null,null,null,null,null,null,0,0,0]
[null,null,null,null,null,null,null,null,null,null,null,0,0,0]
[null,null,null,null,null,null,null,null,null,null,null,0,0,0]
[null,null,null,null,null,null,null,null,null,null,null,0,0,0]
[null,null,null,null,null,null,null,null,null,null,null,0,0,0]
[null,null,null,null,null,null,null,null,null,null,null,0,0,0]
[null,null,null,null,null,null,null,null,null,null,null,0,0,0]
[null,null,null,null,null,null,null,null,null,null,null,0,0,0]
[null,null,null,null,null,null,null,null,null,null,null,0,0,{"$f":"MAX(L1314-M1314,0)","v":0}]
[null,null,null,null,null,null,null,null,null,null,null,0,0,0]
[null,null,null,null,null,null,null,null,null,null,null,0,0,0]
[null,null,null,null,null,null,null,null,null,null,null,0,0,0]
[null,null,null,null,null,null,null,null,null,null,null,{"$f":"SUM(D1318:K1318)","v":0},0,0]
[null,null,null,null,null,null,null,null,null,null,null,{"$f":"SUM(D1319:K1319)","v":0},0,0]
[null,null,null,null,null,null,null,null,null,null,null,0,0,0]
[null,null,null,null,null,null,null,null,null,null,null,0,0,0]
[null,null,null,null,null,null,null,null,null,null,null,0,0,0]
[null,null,null,null,null,null,null,null,null,null,null,0,0,0]
[null,null,null,null,null,null,null,null,null,null,null,0,0,0]
[null,null,null,null,null,null,null,null,null,null,null,0,0,0]
[null,null,null,null,null,null,null,null,null,null,null,0,0,0]
[null,null,null,null,null,null,null,null,null,null,null,0,0,0]
[null,null,null,null,null,null,null,null,null,null,null,0,0,0]
[null,null,null,null,null,null,null,null,null,null,null,0,0,0]
[null,null,null,null,null,null,null,null,null,null,null,0,0,0]
[null,null,null,null,null,null,null,null,null,null,null,0,0,0]
[null,null,null,null,null,null,null,null,null,null,null,0,0,0]
[null,null,null,null,null,null,null,null,null,null,null,0,0,0]
[null,null,null,null,null,null,null,null,null,null,null,0,0,0]
[null,null,null,null,null,null,null,null,null,null,null,0,0,0]
[null,null,null,null,null,null,null,null,null,null,null,0,0,0]
[null,null,null,null,null,null,null,null,null,null,null,0,0,0]
[null,null,null,null,null,null,null,null,null,null,null,0,0,0]
[null,null,null,null,null,null,null,null,null,null,null,0,0,0]
[null,null,null,null,null,null,null,null,null,null,null,0,0,0]
[null,null,null,null,null,null,null,null,null,null,null,0,0,0]
[null,null,null,null,null,null,null,null,null,null,null,0,0,0]
[null,null,null,null,null,null,null,null,null,null,null,0,0,0]
[null,null,null,null,null,null,null,null,null,null,null,0,0,0]
[null,null,null,null,null,null,null,null,null,null,null,0,0,0]
[null,null,null,null,null,null,null,null,null,null,null,0,0,0]
[null,null,null,null,null,null,null,null,null,null,null,0,0,0]
[null,null,null,null,null,null,null,null,null,null,null,0,0,0]
[null,null,null,null,null,null,null,null,null,null,null,0,0,0]
[null,null,null,null,null,null,null,null,null,null,null,0,0,0]
[null,null,null,null,null,null,null,null,null,null,null,0,0,0]
[null,null,null,null,null,null,null,null,null,null,null,0,0,0]
[null,null,null,null,null,null,null,null,null,null,null,0,0,0]
[null,null,null,null,null,null,null,null,null,null,null,0,0,0]
[null,null,null,null,null,null,null,null,null,null,null,0,0,0]
[null,null,null,null,null,null,null,null,null,null,null,0,0,0]
[null,null,null,null,null,null,null,null,null,null,null,0,0,0]
[null,null,null,null,null,null,null,null,null,null,null,0,0,0]
[null,null,null,null,null,null,null,null,null,null,null,0,0,0]
[null,null,null,null,null,null,null,null,null,null,null,0,0,0]
[null,null,null,null,null,null,null,null,null,null,null,0,0,0]
[null,null,null,null,null,null,null,null,null,null,null,0,0,0]
[null,null,null,null,null,null,null,null,null,null,null,0,0,0]
[null,null,null,null,null,null,null,null,null,null,null,0,0,0]
[null,null,null,null,null,null,null,null,null,null,null,0,0,0]
[null,null,null,null,null,null,null,null,null,null,null,0,0,0]
[null,null,null,null,null,null,null,null,null,null,null,0,0,0]
[null,null,null,null,null,null,null,null,null,null,null,0,0,0]
[null,null,null,null,null,null,null,null,null,null,null,0,0,0]
[null,null,null,null,null,null,null,null,null,null,null,0,0,0]
[null,null,null,null,null,null,null,null,null,null,null,0,0,0]
[null,null,null,null,null,null,null,null,null,null,null,0,0,0]
[null,null,null,null,null,null,null,null,null,null,null,0,0,0]
[null,null,null,null,null,null,null,null,null,null,null,0,0,0]
[null,null,null,null,null,null,null,null,null,null,null,0,0,0]
[null,null,null,null,null,null,null,null,null,null,null,0,0,0]
[null,null,null,null,null,null,null,null,null,null,null,0,0,0]
[null,null,null,null,null,null,null,null,null,null,null,0,0,{"$f":"MAX(L1378-M1378,0)","v":0}]
[null,null,null,null,null,null,null,null,null,null,null,0,0,0]
[null,null,null,null,null,null,null,null,null,null,null,0,0,0]
[null,null,null,null,null,null,null,null,null,null,null,0,0,0]
[null,null,null,null,null,null,null,null,null,null,null,0,0,0]
[null,null,null,null,null,null,null,null,null,null,null,{"$f":"SUM(D1383:K1383)","v":0},0,0]
[null,null,null,null,null,null,null,null,null,null,null,0,0,0]
[null,null,null,null,null,null,null,null,null,null,null,0,0,0]
[null,null,null,null,null,null,null,null,null,null,null,0,0,0]
[null,null,null,null,null,null,null,null,null,null,null,0,0,0]
[null,null,null,null,null,null,null,null,null,null,null,0,0,0]
[null,null,null,null,null,null,null,null,null,null,null,0,0,0]
[null,null,null,null,null,null,null,null,null,null,null,0,0,0]
[null,null,null,null,null,null,null,null,null,null,null,0,0,0]
[null,null,null,null,null,null,null,null,null,null,null,0,0,0]
[null,null,null,null,null,null,null,null,null,null,null,0,0,0]
[null,null,null,null,null,null,null,null,null,null,null,0,0,0]
[null,null,null,null,null,null,null,null,null,null,null,0,0,0]
[null,null,null,null,null,null,null,null,null,null,null,0,0,0]
[null,null,null,null,null,null,null,null,null,null,null,0,0,0]
[null,null,null,null,null,null,null,null,null,null,null,{"$f":"SUM(D1398:K1398)","v":0},0,0]
[null,null,null,null,null,null,null,null,null,null,null,{"$f":"SUM(D1399:K1399)","v":0},0,0]
[null,null,null,null,null,null,null,null,null,null,null,0,0,0]
[null,null,null,null,null,null,null,null,null,null,null,0,0,0]
[null,null,null,null,null,null,null,null,null,null,null,0,0,0]
[null,null,null,null,null,null,null,null,null,null,null,0,0,0]
[null,null,null,null,null,null,null,null,null,null,null,0,0,0]
[null,null,null,null,null,null,null,null,null,null,null,0,0,0]
[null,null,null,null,null,null,null,null,null,null,null,0,0,0]
[null,null,null,null,null,null,null,null,null,null,null,0,0,0]
[null,null,null,null,null,null,null,null,null,null,null,0,0,0]
[null,null,null,null,null,null,null,null,null,null,null,0,0,0]
[null,null,null,null,null,null,null,null,null,null,null,0,0,0]
[null,null,null,null,null,null,null,null,null,null,null,0,0,0]
[null,null,null,null,null,null,null,null,null,null,null,0,0,0]
[null,null,null,null,null,null,null,null,null,null,null,0,0,0]
[null,null,null,null,null,null,null,null,null,null,null,0,0,0]
[null,null,null,null,null,null,null,null,null,null,null,0,0,0]
[null,null,null,null,null,null,null,null,null,null,null,0,0,0]
[null,null,null,null,null,null,null,null,null,null,null,0,0,0]
[null,null,null,null,null,null,null,null,null,null,null,0,0,0]
[null,null,null,null,null,null,null,null,null,null,null,0,0,0]
[null,null,null,null,null,null,null,null,null,null,null,0,0,0]
[null,null,null,null,null,null,null,null,null,null,null,0,0,0]
[null,null,null,null,null,null,null,null,null,null,null,0,0,0]
[null,null,null,null,null,null,null,null,null,null,null,0,0,0]
[null,null,null,null,null,null,null,null,null,null,null,0,0,0]
[null,null,null,null,null,null,null,null,null,null,null,0,0,0]
[null,null,null,null,null,null,null,null,null,null,null,0,0,0]
[null,null,null,null,null,null,null,null,null,null,null,0,0,0]
[null,null,null,null,null,null,null,null,null,null,null,0,0,0]
[null,null,null,null,null,null,null,null,null,null,null,0,0,0]
[null,null,null,null,null,null,null,null,null,null,null,0,0,0]
[null,null,null,null,null,null,null,null,null,null,null,0,0,0]
[null,null,null,null,null,null,null,null,null,null,null,0,0,0]
[null,null,null,null,null,null,null,null,null,null,null,0,0,0]
[null,null,null,null,null,null,null,null,null,null,null,0,0,0]
[null,null,null,null,null,null,null,null,null,null,null,0,0,0]
[null,null,null,null,null,null,null,null,null,null,null,0,0,0]
[null,null,null,null,null,null,null,null,null,null,null,0,0,0]
[null,null,null,null,null,null,null,null,null,null,null,0,0,0]
[null,null,null,null,null,null,null,null,null,null,null,0,0,0]
[null,null,null,null,null,null,null,null,null,null,null,0,0,0]
[null,null,null,null,null,null,null,null,null,null,null,0,0,0]
[null,null,null,null,null,null,null,null,null,null,null,0,0,0]
[null,null,null,null,null,null,null,null,null,null,null,0,0,0]
[null,null,null,null,null,null,null,null,null,null,null,0,0,0]
[null,null,null,null,null,null,null,null,null,null,null,0,0,0]
[null,null,null,null,null,null,null,null,null,null,null,0,0,0]
[null,null,null,null,null,null,null,null,null,null,null,0,0,0]
[null,null,null,null,null,null,null,null,null,null,null,0,0,0]
[null,null,null,null,null,null,null,null,null,null,null,0,0,0]
[null,null,null,null,null,null,null,null,null,null,null,0,0,0]
[null,null,null,null,null,null,null,null,null,null,null,0,0,0]
[null,null,null,null,null,null,null,null,null,null,null,0,0,0]
[null,null,null,null,null,null,null,null,null,null,null,0,0,0]
[null,null,null,null,null,null,null,null,null,null,null,0,0,0]
[null,null,null,null,null,null,null,null,null,null,null,0,0,0]
[null,null,null,null,null,null,null,null,null,null,null,0,0,0]
[null,null,null,null,null,null,null,null,null,null,null,0,0,0]
[null,null,null,null,null,null,null,null,null,null,null,0,0,0]
[null,null,null,null,null,null,null,null,null,null,null,0,0,0]
[null,null,null,null,null,null,null,null,null,null,null,0,0,0]
[null,null,null,null,null,null,null,null,null,null,null,0,0,0]
[null,null,null,null,null,null,null,null,null,null,null,0,0,0]
[null,null,null,null,null,null,null,null,null,null,null,{"$f":"SUM(D1463:K1463)","v":0},0,0]
[null,null,null,null,null,null,null,null,null,null,null,0,0,0]
[null,null,null,null,null,null,null,null,null,null,null,0,0,0]
[null,null,null,null,null,null,null,null,null,null,null,0,0,0]
[null,null,null,null,null,null,null,null,null,null,null,0,0,0]
[null,null,null,null,null,null,null,null,null,null,null,0,0,0]
[null,null,null,null,null,null,null,null,null,null,null,0,0,0]
[null,null,null,null,null,null,null,null,null,null,null,0,0,0]
[null,null,null,null,null,null,null,null,null,null,null,0,0,0]
[null,null,null,null,null,null,null,null,null,null,null,0,0,0]
[null,null,null,null,null,null,null,null,null,null,null,0,0,0]
[null,null,null,null,null,null,null,null,null,null,null,0,0,0]
[null,null,null,null,null,null,null,null,null,null,null,0,0,0]
[null,null,null,null,null,null,null,null,null,null,null,0,0,0]
[null,null,null,null,null,null,null,null,null,null,null,0,0,0]
[null,null,null,null,null,null,null,null,null,null,null,0,0,0]
[null,null,null,null,null,null,null,null,null,null,null,{"$f":"SUM(D1479:K1479)","v":0},0,0]
[null,null,null,null,null,null,null,null,null,null,null,{"$f":"SUM(D1480:K1480)","v":0},0,0]
[null,null,null,null,null,null,null,null,null,null,null,0,0,0]
[null,null,null,null,null,null,null,null,null,null,null,0,0,0]
[null,null,null,null,null,null,null,null,null,null,null,0,0,0]
[null,null,null,null,null,null,null,null,null,null,null,0,0,0]
[null,null,null,null,null,null,null,null,null,null,null,0,0,0]
[null,null,null,null,null,null,null,null,null,null,null,0,0,0]
[null,null,null,null,null,null,null,null,null,null,null,0,0,0]
[null,null,null,null,null,null,null,null,null,null,null,0,0,0]
[null,null,null,null,null,null,null,null,null,null,null,0,0,0]
[null,null,null,null,null,null,null,null,null,null,null,0,0,0]
[null,null,null,null,null,null,null,null,null,null,null,0,0,0]
[null,null,null,null,null,null,null,null,null,null,null,0,0,0]
[null,null,null,null,null,null,null,null,null,null,null,0,0,0]
[null,null,null,null,null,null,null,null,null,null,null,0,0,0]
[null,null,null,null,null,null,null,null,null,null,null,0,0,0]
[null,null,null,null,null,null,null,null,null,null,null,0,0,0]
[null,null,null,null,null,null,null,null,null,null,null,0,0,0]
[null,null,null,null,null,null,null,null,null,null,null,0,0,0]
[null,null,null,null,null,null,null,null,null,null,null,0,0,0]
[null,null,null,null,null,null,null,null,null,null,null,0,0,0]
[null,null,null,null,null,null,null,null,null,null,null,0,0,0]
[null,null,null,null,null,null,null,null,null,null,null,0,0,0]
[null,null,null,null,null,null,null,null,null,null,null,0,0,0]
[null,null,null,null,null,null,null,null,null,null,null,0,0,0]
[null,null,null,null,null,null,null,null,null,null,null,0,{"$f":"$C$14*$C$13","v":0},0]
[null,null,null,null,null,null,null,null,null,null,null,0,0,0]
[null,null,null,null,null,null,null,null,null,null,null,0,0,0]
[null,null,null,null,null,null,null,null,null,null,null,0,0,0]
[null,null,null,null,null,null,null,null,null,null,null,0,0,0]
[null,null,null,null,null,null,null,null,null,null,null,0,0,0]
[null,null,null,null,null,null,null,null,null,null,null,0,0,0]
[null,null,null,null,null,null,null,null,null,null,null,0,0,0]
[null,null,null,null,null,null,null,null,null,null,null,0,0,0]
[null,null,null,null,null,null,null,null,null,null,null,0,0,0]
[null,null,null,null,null,null,null,null,null,null,null,0,0,0]
[null,null,null,null,null,null,null,null,null,null,null,0,0,0]
[null,null,null,null,null,null,null,null,null,null,null,0,0,0]
[null,null,null,null,null,null,null,null,null,null,null,0,0,0]
[null,null,null,null,null,null,null,null,null,null,null,0,0,0]
[null,null,null,null,null,null,null,null,null,null,null,0,0,0]
[null,null,null,null,null,null,null,null,null,null,null,0,0,0]
[null,null,null,null,null,null,null,null,null,null,null,0,0,0]
[null,null,null,null,null,null,null,null,null,null,null,0,0,0]
[null,null,null,null,null,null,null,null,null,null,null,0,0,0]
[null,null,null,null,null,null,null,null,null,null,null,0,0,0]
[null,null,null,null,null,null,null,null,null,null,null,0,0,0]
[null,null,null,null,null,null,null,null,null,null,null,0,0,0]
[null,null,null,null,null,null,null,null,null,null,null,0,0,0]
[null,null,null,null,null,null,null,null,null,null,null,0,0,0]
[null,null,null,null,null,null,null,null,null,null,null,0,0,0]
[null,null,null,null,null,null,null,null,null,null,null,0,0,0]
[null,null,null,null,null,null,null,null,null,null,null,0,0,0]
[null,null,null,null,null,null,null,null,null,null,null,0,0,0]
[null,null,null,null,null,null,null,null,null,null,null,0,0,0]
[null,null,null,null,null,null,null,null,null,null,null,0,0,0]
[null,null,null,null,null,null,null,null,null,null,null,0,0,0]
[null,null,null,null,null,null,null,null,null,null,null,0,0,0]
[null,null,null,null,null,null,null,null,null,null,null,0,0,0]
[null,null,null,null,null,null,null,null,null,null,null,0,0,0]
[null,null,null,null,null,null,null,null,null,null,null,0,0,0]
[null,null,null,null,null,null,null,null,null,null,null,0,0,0]
[null,null,null,null,null,null,null,null,null,null,null,0,0,0]
[null,null,null,null,null,null,null,null,null,null,null,0,0,0]
[null,null,null,null,null,null,null,null,null,null,null,{"$f":"SUM(D1544:K1544)","v":0},0,0]
[null,null,null,null,null,null,null,null,null,null,null,0,0,0]
[null,null,null,null,null,null,null,null,null,null,null,0,0,0]
[null,null,null,null,null,null,null,null,null,null,null,0,0,0]
[null,null,null,null,null,null,null,null,null,null,null,0,0,0]
[null,null,null,null,null,null,null,null,null,null,null,0,0,0]
[null,null,null,null,null,null,null,null,null,null,null,0,0,0]
[null,null,null,null,null,null,null,null,null,null,null,0,0,0]
[null,null,null,null,null,null,null,null,null,null,null,0,0,0]
[null,null,null,null,null,null,null,null,null,null,null,0,0,0]
[null,null,null,null,null,null,null,null,null,null,null,0,0,0]
[null,null,null,null,null,null,null,null,null,null,null,0,0,0]
[null,null,null,null,null,null,null,null,null,null,null,0,0,0]
[null,null,null,null,null,null,null,null,null,null,null,0,0,0]
[null,null,null,null,null,null,null,null,null,null,null,0,0,0]
[null,null,null,null,null,null,null,null,null,null,null,{"$f":"SUM(D1559:K1559)","v":0},0,0]
[null,null,null,null,null,null,null,null,null,null,null,{"$f":"SUM(D1560:K1560)","v":0},0,0]
[null,null,null,null,null,null,null,null,null,null,null,0,0,0]
[null,null,null,null,null,null,null,null,null,null,null,0,0,0]
[null,null,null,null,null,null,null,null,null,null,null,0,0,0]
[null,null,null,null,null,null,null,null,null,null,null,0,0,0]
[null,null,null,null,null,null,null,null,null,null,null,0,0,0]
[null,null,null,null,null,null,null,null,null,null,null,0,0,0]
[null,null,null,null,null,null,null,null,null,null,null,0,0,0]
[null,null,null,null,null,null,null,null,null,null,null,0,0,0]
[null,null,null,null,null,null,null,null,null,null,null,0,0,0]
[null,null,null,null,null,null,null,null,null,null,null,0,0,0]
[null,null,null,null,null,null,null,null,null,null,null,0,0,0]
[null,null,null,null,null,null,null,null,null,null,null,0,0,0]
[null,null,null,null,null,null,null,null,null,null,null,0,0,0]
[null,null,null,null,null,null,null,null,null,null,null,0,{"$f":"$C$14*$C$13","v":0},0]
[null,null,null,null,null,null,null,null,null,null,null,0,0,0]
[null,null,null,null,null,null,null,null,null,null,null,0,0,0]
[null,null,null,null,null,null,null,null,null,null,null,0,0,0]
[null,null,null,null,null,null,null,null,null,null,null,0,0,0]
[null,null,null,null,null,null,null,null,null,null,null,0,0,0]
[null,null,null,null,null,null,null,null,null,null,null,0,0,0]
[null,null,null,null,null,null,null,null,null,null,null,0,0,0]
[null,null,null,null,null,null,null,null,null,null,null,0,0,0]
[null,null,null,null,null,null,null,null,null,null,null,0,0,0]
[null,null,null,null,null,null,null,null,null,null,null,0,0,0]
[null,null,null,null,null,null,null,null,null,null,null,0,0,0]
[null,null,null,null,null,null,null,null,null,null,null,0,0,0]
[null,null,null,null,null,null,null,null,null,null,null,0,0,0]
[null,null,null,null,null,null,null,null,null,null,null,0,0,0]
[null,null,null,null,null,null,null,null,null,null,null,0,0,0]
[null,null,null,null,null,null,null,null,null,null,null,0,0,0]
[null,null,null,null,null,null,null,null,null,null,null,0,0,0]
[null,null,null,null,null,null,null,null,null,null,null,0,0,0]
[null,null,null,null,null,null,null,null,null,null,null,0,0,0]
[null,null,null,null,null,null,null,null,null,null,null,0,0,0]
[null,null,null,null,null,null,null,null,null,null,null,0,0,0]
[null,null,null,null,null,null,null,null,null,null,null,0,0,0]
[null,null,null,null,null,null,null,null,null,null,null,0,0,0]
[null,null,null,null,null,null,null,null,null,null,null,0,0,0]
[null,null,null,null,null,null,null,null,null,null,null,0,0,0]
[null,null,null,null,null,null,null,null,null,null,null,0,0,0]
[null,null,null,null,null,null,null,null,null,null,null,0,0,0]
[null,null,null,null,null,null,null,null,null,null,null,0,0,0]
[null,null,null,null,null,null,null,null,null,null,null,0,0,0]
[null,null,null,null,null,null,null,null,null,null,null,0,0,0]
[null,null,null,null,null,null,null,null,null,null,null,0,0,0]
[null,null,null,null,null,null,null,null,null,null,null,0,0,0]
[null,null,null,null,null,null,null,null,null,null,null,0,0,0]
[null,null,null,null,null,null,null,null,null,null,null,0,0,0]
[null,null,null,null,null,null,null,null,null,null,null,0,0,0]
[null,null,null,null,null,null,null,null,null,null,null,0,0,0]
[null,null,null,null,null,null,null,null,null,null,null,0,0,0]
[null,null,null,null,null,null,null,null,null,null,null,0,0,0]
[null,null,null,null,null,null,null,null,null,null,null,0,0,0]
[null,null,null,null,null,null,null,null,null,null,null,0,0,0]
[null,null,null,null,null,null,null,null,null,null,null,0,0,0]
[null,null,null,null,null,null,null,null,null,null,null,0,0,0]
[null,null,null,null,null,null,null,null,null,null,null,0,0,0]
[null,null,null,null,null,null,null,null,null,null,null,0,0,0]
[null,null,null,null,null,null,null,null,null,null,null,0,0,0]
[null,null,null,null,null,null,null,null,null,null,null,0,0,0]
[null,null,null,null,null,null,null,null,null,null,null,0,0,0]
[null,null,null,null,null,null,null,null,null,null,null,0,0,0]
[null,null,null,null,null,null,null,null,null,null,null,0,0,0]
[null,null,null,null,null,null,null,null,null,null,null,{"$f":"SUM(D1624:K1624)","v":0},0,0]
[null,null,null,null,null,null,null,null,null,null,null,0,0,0]
[null,null,null,null,null,null,null,null,null,null,null,0,0,0]
[null,null,null,null,null,null,null,null,null,null,null,0,0,0]
[null,null,null,null,null,null,null,null,null,null,null,0,0,0]
[null,null,null,null,null,null,null,null,null,null,null,0,0,0]
[null,null,null,null,null,null,null,null,null,null,null,0,0,0]
[null,null,null,null,null,null,null,null,null,null,null,0,0,0]
[null,null,null,null,null,null,null,null,null,null,null,0,0,0]
[null,null,null,null,null,null,null,null,null,null,null,0,0,{"$f":"MAX(L1633-M1633,0)","v":0}]
[null,null,null,null,null,null,null,null,null,null,null,0,0,0]
[null,null,null,null,null,null,null,null,null,null,null,0,0,0]
[null,null,null,null,null,null,null,null,null,null,null,0,0,0]
[null,null,null,null,null,null,null,null,null,null,null,0,0,0]
[null,null,null,null,null,null,null,null,null,null,null,0,0,0]
[null,null,null,null,null,null,null,null,null,null,null,0,0,0]
[null,null,null,null,null,null,null,null,null,null,null,{"$f":"SUM(D1640:K1640)","v":0},0,0]
[null,null,null,null,null,null,null,null,null,null,null,{"$f":"SUM(D1641:K1641)","v":0},0,0]
[null,null,null,null,null,null,null,null,null,null,null,0,0,0]
[null,null,null,null,null,null,null,null,null,null,null,0,0,0]
[null,null,null,null,null,null,null,null,null,null,null,0,0,0]
[null,null,null,null,null,null,null,null,null,null,null,0,0,0]
[null,null,null,null,null,null,null,null,null,null,null,0,0,0]
[null,null,null,null,null,null,null,null,null,null,null,0,0,0]
[null,null,null,null,null,null,null,null,null,null,null,0,0,0]
[null,null,null,null,null,null,null,null,null,null,null,0,0,0]
[null,null,null,null,null,null,null,null,null,null,null,0,0,0]
[null,null,null,null,null,null,null,null,null,null,null,0,0,0]
[null,null,null,null,null,null,null,null,null,null,null,0,0,0]
[null,null,null,null,null,null,null,null,null,null,null,0,0,0]
[null,null,null,null,null,null,null,null,null,null,null,0,0,0]
[null,null,null,null,null,null,null,null,null,null,null,0,0,0]
[null,null,null,null,null,null,null,null,null,null,null,0,0,0]
[null,null,null,null,null,null,null,null,null,null,null,0,0,0]
[null,null,null,null,null,null,null,null,null,null,null,0,0,0]
[null,null,null,null,null,null,null,null,null,null,null,0,0,0]
[null,null,null,null,null,null,null,null,null,null,null,0,0,0]
[null,null,null,null,null,null,null,null,null,null,null,0,0,0]
[null,null,null,null,null,null,null,null,null,null,null,0,0,0]
[null,null,null,null,null,null,null,null,null,null,null,0,0,0]
[null,null,null,null,null,null,null,null,null,null,null,0,0,0]
[null,null,null,null,null,null,null,null,null,null,null,0,0,0]
[null,null,null,null,null,null,null,null,null,null,null,0,0,0]
[null,null,null,null,null,null,null,null,null,null,null,0,0,0]
[null,null,null,null,null,null,null,null,null,null,null,0,0,0]
[null,null,null,null,null,null,null,null,null,null,null,0,0,0]
[null,null,null,null,null,null,null,null,null,null,null,0,0,0]
[null,null,null,null,null,null,null,null,null,null,null,0,0,0]
[null,null,null,null,null,null,null,null,null,null,null,0,0,0]
[null,null,null,null,null,null,null,null,null,null,null,0,0,0]
[null,null,null,null,null,null,null,null,null,null,null,0,0,0]
[null,null,null,null,null,null,null,null,null,null,null,0,0,0]
[null,null,null,null,null,null,null,null,null,null,null,0,0,0]
[null,null,null,null,null,null,null,null,null,null,null,0,0,0]
[null,null,null,null,null,null,null,null,null,null,null,0,0,0]
[null,null,null,null,null,null,null,null,null,null,null,0,0,0]
[null,null,null,null,null,null,null,null,null,null,null,0,0,0]
[null,null,null,null,null,null,null,null,null,null,null,0,0,0]
[null,null,null,null,null,null,null,null,null,null,null,0,0,0]
[null,null,null,null,null,null,null,null,null,null,null,0,0,0]
[null,null,null,null,null,null,null,null,null,null,null,0,0,0]
[null,null,null,null,null,null,null,null,null,null,null,0,0,0]
[null,null,null,null,null,null,null,null,null,null,null,0,0,0]
[null,null,null,null,null,null,null,null,null,null,null,0,0,0]
[null,null,null,null,null,null,null,null,null,null,null,0,0,0]
[null,null,null,null,null,null,null,null,null,null,null,0,0,0]
[null,null,null,null,null,null,null,null,null,null,null,0,0,0]
[null,null,null,null,null,null,null,null,null,null,null,0,0,0]
[null,null,null,null,null,null,null,null,null,null,null,0,0,0]
[null,null,null,null,null,null,null,null,null,null,null,0,0,0]
[null,null,null,null,null,null,null,null,null,null,null,0,0,0]
[null,null,null,null,null,null,null,null,null,null,null,0,0,0]
[null,null,null,null,null,null,null,null,null,null,null,0,0,0]
[null,null,null,null,null,null,null,null,null,null,null,0,0,{"$f":"MAX(L1697-M1697,0)","v":0}]
[null,null,null,null,null,null,null,null,null,null,null,0,0,0]
[null,null,null,null,null,null,null,null,null,null,null,0,0,0]
[null,null,null,null,null,null,null,null,null,null,null,0,0,0]
[null,null,null,null,null,null,null,null,null,null,null,0,0,0]
[null,null,null,null,null,null,null,null,null,null,null,0,0,0]
[null,null,null,null,null,null,null,null,null,null,null,0,0,0]
[null,null,null,null,null,null,null,null,null,null,null,0,0,0]
[null,null,null,null,null,null,null,null,null,null,null,{"$f":"SUM(D1705:K1705)","v":0},0,0]
[null,null,null,null,null,null,null,null,null,null,null,0,0,0]
[null,null,null,null,null,null,null,null,null,null,null,0,0,0]
[null,null,null,null,null,null,null,null,null,null,null,0,0,0]
[null,null,null,null,null,null,null,null,null,null,null,0,0,0]
[null,null,null,null,null,null,null,null,null,null,null,0,0,0]
[null,null,null,null,null,null,null,null,null,null,null,0,0,0]
[null,null,null,null,null,null,null,null,null,null,null,0,0,0]
[null,null,null,null,null,null,null,null,null,null,null,0,0,0]
[null,null,null,null,null,null,null,null,null,null,null,0,0,0]
[null,null,null,null,null,null,null,null,null,null,null,0,0,0]
[null,null,null,null,null,null,null,null,null,null,null,0,0,0]
[null,null,null,null,null,null,null,null,null,null,null,0,0,0]
[null,null,null,null,null,null,null,null,null,null,null,0,0,0]
[null,null,null,null,null,null,null,null,null,null,null,0,0,0]
[null,null,null,null,null,null,null,null,null,null,null,{"$f":"SUM(D1720:K1720)","v":0},0,0]
[null,null,null,null,null,null,null,null,null,null,null,{"$f":"SUM(D1721:K1721)","v":0},0,0]
[null,null,null,null,null,null,null,null,null,null,null,0,0,0]
[null,null,null,null,null,null,null,null,null,null,null,0,0,0]
[null,null,null,null,null,null,null,null,null,null,null,0,0,0]
[null,null,null,null,null,null,null,null,null,null,null,0,0,0]
[null,null,null,null,null,null,null,null,null,null,null,0,0,0]
[null,null,null,null,null,null,null,null,null,null,null,0,0,0]
[null,null,null,null,null,null,null,null,null,null,null,0,0,0]
[null,null,null,null,null,null,null,null,null,null,null,0,0,0]
[null,null,null,null,null,null,null,null,null,null,null,0,0,0]
[null,null,null,null,null,null,null,null,null,null,null,0,0,0]
[null,null,null,null,null,null,null,null,null,null,null,0,0,0]
[null,null,null,null,null,null,null,null,null,null,null,0,0,0]
[null,null,null,null,null,null,null,null,null,null,null,0,0,0]
[null,null,null,null,null,null,null,null,null,null,null,0,0,0]
[null,null,null,null,null,null,null,null,null,null,null,0,0,0]
[null,null,null,null,null,null,null,null,null,null,null,0,0,0]
[null,null,null,null,null,null,null,null,null,null,null,0,0,0]
[null,null,null,null,null,null,null,null,null,null,null,0,0,0]
[null,null,null,null,null,null,null,null,null,null,null,0,0,0]
[null,null,null,null,null,null,null,null,null,null,null,0,0,0]
[null,null,null,null,null,null,null,null,null,null,null,0,0,0]
[null,null,null,null,null,null,null,null,null,null,null,0,0,0]
[null,null,null,null,null,null,null,null,null,null,null,0,0,0]
[null,null,null,null,null,null,null,null,null,null,null,0,0,0]
[null,null,null,null,null,null,null,null,null,null,null,0,0,0]
[null,null,null,null,null,null,null,null,null,null,null,0,0,0]
[null,null,null,null,null,null,null,null,null,null,null,0,0,0]
[null,null,null,null,null,null,null,null,null,null,null,0,0,0]
[null,null,null,null,null,null,null,null,null,null,null,0,0,0]
[null,null,null,null,null,null,null,null,null,null,null,0,0,0]
[null,null,null,null,null,null,null,null,null,null,null,0,0,0]
[null,null,null,null,null,null,null,null,null,null,null,0,0,0]
[null,null,null,null,null,null,null,null,null,null,null,0,0,0]
[null,null,null,null,null,null,null,null,null,null,null,0,0,0]
[null,null,null,null,null,null,null,null,null,null,null,0,0,0]
[null,null,null,null,null,null,null,null,null,null,null,0,0,0]
[null,null,null,null,null,null,null,null,null,null,null,0,0,0]
[null,null,null,null,null,null,null,null,null,null,null,0,0,0]
[null,null,null,null,null,null,null,null,null,null,null,0,0,0]
[null,null,null,null,null,null,null,null,null,null,null,0,0,{"$f":"MAX(L1761-M1761,0)","v":0}]
[null,null,null,null,null,null,null,null,null,null,null,0,0,0]
[null,null,null,null,null,null,null,null,null,null,null,0,0,0]
[null,null,null,null,null,null,null,null,null,null,null,0,0,0]
[null,null,null,null,null,null,null,null,null,null,null,0,0,0]
[null,null,null,null,null,null,null,null,null,null,null,0,0,0]
[null,null,null,null,null,null,null,null,null,null,null,0,0,0]
[null,null,null,null,null,null,null,null,null,null,null,0,0,0]
[null,null,null,null,null,null,null,null,null,null,null,0,0,0]
[null,null,null,null,null,null,null,null,null,null,null,0,0,0]
[null,null,null,null,null,null,null,null,null,null,null,0,0,0]
[null,null,null,null,null,null,null,null,null,null,null,0,0,0]
[null,null,null,null,null,null,null,null,null,null,null,0,0,0]
[null,null,null,null,null,null,null,null,null,null,null,0,0,0]
[null,null,null,null,null,null,null,null,null,null,null,0,0,0]
[null,null,null,null,null,null,null,null,null,null,null,0,0,0]
[null,null,null,null,null,null,null,null,null,null,null,0,0,0]
[null,null,null,null,null,null,null,null,null,null,null,0,0,0]
[null,null,null,null,null,null,null,null,null,null,null,0,0,0]
[null,null,null,null,null,null,null,null,null,null,null,0,0,0]
[null,null,null,null,null,null,null,null,null,null,null,0,0,0]
[null,null,null,null,null,null,null,null,null,null,null,0,0,0]
[null,null,null,null,null,null,null,null,null,null,null,0,0,0]
[null,null,null,null,null,null,null,null,null,null,null,0,0,0]
[null,null,null,null,null,null,null,null,null,null,null,{"$f":"SUM(D1785:K1785)","v":0},0,0]
[null,null,null,null,null,null,null,null,null,null,null,0,0,0]
[null,null,null,null,null,null,null,null,null,null,null,0,0,0]
[null,null,null,null,null,null,null,null,null,null,null,0,0,0]
[null,null,null,null,null,null,null,null,null,null,null,0,0,0]
[null,null,null,null,null,null,null,null,null,null,null,0,0,0]
[null,null,null,null,null,null,null,null,null,null,null,0,0,0]
[null,null,null,null,null,null,null,null,null,null,null,0,0,0]
[null,null,null,null,null,null,null,null,null,null,null,0,0,0]
[null,null,null,null,null,null,null,null,null,null,null,0,0,0]
[null,null,null,null,null,null,null,null,null,null,null,0,0,0]
[null,null,null,null,null,null,null,null,null,null,null,0,0,0]
[null,null,null,null,null,null,null,null,null,null,null,0,0,0]
[null,null,null,null,null,null,null,null,null,null,null,0,0,0]
[null,null,null,null,null,null,null,null,null,null,null,0,0,0]
[null,null,null,null,null,null,null,null,null,null,null,0,0,0]
[null,null,null,null,null,null,null,null,null,null,null,{"$f":"SUM(D1801:K1801)","v":0},0,0]
[null,null,null,null,null,null,null,null,null,null,null,{"$f":"SUM(D1802:K1802)","v":0},0,0]
[null,null,null,null,null,null,null,null,null,null,null,0,0,0]
[null,null,null,null,null,null,null,null,null,null,null,0,0,0]
[null,null,null,null,null,null,null,null,null,null,null,0,0,0]
[null,null,null,null,null,null,null,null,null,null,null,0,0,0]
[null,null,null,null,null,null,null,null,null,null,null,0,0,0]
[null,null,null,null,null,null,null,null,null,null,null,0,0,0]
[null,null,null,null,null,null,null,null,null,null,null,0,0,0]
[null,null,null,null,null,null,null,null,null,null,null,0,0,0]
[null,null,null,null,null,null,null,null,null,null,null,0,0,0]
[null,null,null,null,null,null,null,null,null,null,null,0,0,0]
[null,null,null,null,null,null,null,null,null,null,null,0,0,0]
[null,null,null,null,null,null,null,null,null,null,null,0,0,0]
[null,null,null,null,null,null,null,null,null,null,null,0,0,0]
[null,null,null,null,null,null,null,null,null,null,null,0,0,0]
[null,null,null,null,null,null,null,null,null,null,null,0,0,0]
[null,null,null,null,null,null,null,null,null,null,null,0,0,0]
[null,null,null,null,null,null,null,null,null,null,null,0,0,0]
[null,null,null,null,null,null,null,null,null,null,null,0,0,0]
[null,null,null,null,null,null,null,null,null,null,null,0,0,0]
[null,null,null,null,null,null,null,null,null,null,null,0,0,0]
[null,null,null,null,null,null,null,null,null,null,null,0,0,0]
[null,null,null,null,null,null,null,null,null,null,null,0,0,0]
[null,null,null,null,null,null,null,null,null,null,null,0,0,0]
[null,null,null,null,null,null,null,null,null,null,null,0,0,0]
[null,null,null,null,null,null,null,null,null,null,null,0,0,0]
[null,null,null,null,null,null,null,null,null,null,null,0,0,0]
[null,null,null,null,null,null,null,null,null,null,null,0,{"$f":"$C$14*$C$13","v":0},0]
[null,null,null,null,null,null,null,null,null,null,null,0,0,0]
[null,null,null,null,null,null,null,null,null,null,null,0,0,0]
[null,null,null,null,null,null,null,null,null,null,null,0,0,0]
[null,null,null,null,null,null,null,null,null,null,null,0,0,0]
[null,null,null,null,null,null,null,null,null,null,null,0,0,0]
[null,null,null,null,null,null,null,null,null,null,null,0,0,0]
[null,null,null,null,null,null,null,null,null,null,null,0,0,0]
[null,null,null,null,null,null,null,null,null,null,null,0,0,0]
[null,null,null,null,null,null,null,null,null,null,null,0,0,0]
[null,null,null,null,null,null,null,null,null,null,null,0,0,0]
[null,null,null,null,null,null,null,null,null,null,null,0,0,0]
[null,null,null,null,null,null,null,null,null,null,null,0,0,0]
[null,null,null,null,null,null,null,null,null,null,null,0,0,0]
[null,null,null,null,null,null,null,null,null,null,null,0,0,0]
[null,null,null,null,null,null,null,null,null,null,null,0,0,0]
[null,null,null,null,null,null,null,null,null,null,null,0,0,0]
[null,null,null,null,null,null,null,null,null,null,null,0,0,0]
[null,null,null,null,null,null,null,null,null,null,null,0,0,0]
[null,null,null,null,null,null,null,null,null,null,null,0,0,0]
[null,null,null,null,null,null,null,null,null,null,null,0,0,0]
[null,null,null,null,null,null,null,null,null,null,null,0,0,0]
[null,null,null,null,null,null,null,null,null,null,null,0,0,0]
[null,null,null,null,null,null,null,null,null,null,null,0,0,0]
[null,null,null,null,null,null,null,null,null,null,null,0,0,0]
[null,null,null,null,null,null,null,null,null,null,null,0,0,0]
[null,null,null,null,null,null,null,null,null,null,null,0,0,0]
[null,null,null,null,null,null,null,null,null,null,null,0,0,0]
[null,null,null,null,null,null,null,null,null,null,null,0,0,0]
[null,null,null,null,null,null,null,null,null,null,null,0,0,0]
[null,null,null,null,null,null,null,null,null,null,null,0,0,0]
[null,null,null,null,null,null,null,null,null,null,null,0,0,0]
[null,null,null,null,null,null,null,null,null,null,null,0,0,0]
[null,null,null,null,null,null,null,null,null,null,null,0,0,0]
[null,null,null,null,null,null,null,null,null,null,null,0,0,0]
[null,null,null,null,null,null,null,null,null,null,null,0,0,0]
[null,null,null,null,null,null,null,null,null,null,null,0,0,0]
[null,null,null,null,null,null,null,null,null,null,null,{"$f":"SUM(D1866:K1866)","v":0},0,0]
[null,null,null,null,null,null,null,null,null,null,null,0,0,0]
[null,null,null,null,null,null,null,null,null,null,null,0,0,0]
[null,null,null,null,null,null,null,null,null,null,null,0,0,0]
[null,null,null,null,null,null,null,null,null,null,null,0,0,0]
[null,null,null,null,null,null,null,null,null,null,null,0,0,0]
[null,null,null,null,null,null,null,null,null,null,null,0,0,0]
[null,null,null,null,null,null,null,null,null,null,null,0,0,0]
[null,null,null,null,null,null,null,null,null,null,null,0,0,0]
[null,null,null,null,null,null,null,null,null,null,null,0,0,0]
[null,null,null,null,null,null,null,null,null,null,null,0,0,0]
[null,null,null,null,null,null,null,null,null,null,null,0,0,0]
[null,null,null,null,null,null,null,null,null,null,null,0,0,0]
[null,null,null,null,null,null,null,null,null,null,null,0,0,0]
[null,null,null,null,null,null,null,null,null,null,null,0,0,0]
[null,null,null,null,null,null,null,null,null,null,null,0,0,0]
[null,null,null,null,null,null,null,null,null,null,null,0,0,0]
[null,null,null,null,null,null,null,null,null,null,null,0,0,0]
[null,null,null,null,null,null,null,null,null,null,null,0,0,0]
[null,null,null,null,null,null,null,null,null,null,null,{"$f":"SUM(D1885:K1885)","v":0},0,0]
[null,null,null,null,null,null,null,null,null,null,null,0,0,0]
[null,null,null,null,null,null,null,null,null,null,null,0,0,0]
[null,null,null,null,null,null,null,null,null,null,null,0,0,0]
[null,null,null,null,null,null,null,null,null,null,null,0,0,0]
[null,null,null,null,null,null,null,null,null,null,null,0,0,0]
[null,null,null,null,null,null,null,null,null,null,null,0,0,0]
[null,null,null,null,null,null,null,null,null,null,null,0,0,0]
[null,null,null,null,null,null,null,null,null,null,null,0,0,0]
[null,null,null,null,null,null,null,null,null,null,null,0,0,0]
[null,null,null,null,null,null,null,null,null,null,null,0,0,0]
[null,null,null,null,null,null,null,null,null,null,null,0,0,0]
[null,null,null,null,null,null,null,null,null,null,null,0,0,0]
[null,null,null,null,null,null,null,null,null,null,null,0,0,0]
[null,null,null,null,null,null,null,null,null,null,null,0,0,0]
[null,null,null,null,null,null,null,null,null,null,null,{"$f":"SUM(D1900:K1900)","v":0},0,0]
[null,null,null,null,null,null,null,null,null,null,null,{"$f":"SUM(D1901:K1901)","v":0},0,0]
[null,null,null,null,null,null,null,null,null,null,null,0,0,0]
[null,null,null,null,null,null,null,null,null,null,null,0,0,0]
[null,null,null,null,null,null,null,null,null,null,null,0,0,0]
[null,null,null,null,null,null,null,null,null,null,null,0,0,0]
[null,null,null,null,null,null,null,null,null,null,null,0,0,0]
[null,null,null,null,null,null,null,null,null,null,null,0,0,0]
[null,null,null,null,null,null,null,null,null,null,null,0,0,0]
[null,null,null,null,null,null,null,null,null,null,null,0,0,0]
[null,null,null,null,null,null,null,null,null,null,null,0,0,0]
[null,null,null,null,null,null,null,null,null,null,null,0,0,0]
[null,null,null,null,null,null,null,null,null,null,null,0,0,0]
[null,null,null,null,null,null,null,null,null,null,null,0,0,0]
[null,null,null,null,null,null,null,null,null,null,null,0,0,0]
[null,null,null,null,null,null,null,null,null,null,null,0,0,0]
[null,null,null,null,null,null,null,null,null,null,null,0,0,0]
[null,null,null,null,null,null,null,null,null,null,null,0,0,0]
[null,null,null,null,null,null,null,null,null,null,null,0,0,0]
[null,null,null,null,null,null,null,null,null,null,null,0,0,0]
[null,null,null,null,null,null,null,null,null,null,null,0,0,0]
[null,null,null,null,null,null,null,null,null,null,null,0,0,0]
[null,null,null,null,null,null,null,null,null,null,null,0,0,0]
[null,null,null,null,null,null,null,null,null,null,null,0,0,0]
[null,null,null,null,null,null,null,null,null,null,null,0,0,0]
[null,null,null,null,null,null,null,null,null,null,null,0,0,0]
[null,null,null,null,null,null,null,null,null,null,null,0,0,0]
[null,null,null,null,null,null,null,null,null,null,null,0,0,0]
[null,null,null,null,null,null,null,null,null,null,null,0,0,0]
[null,null,null,null,null,null,null,null,null,null,null,0,0,0]
[null,null,null,null,null,null,null,null,null,null,null,0,0,0]
[null,null,null,null,null,null,null,null,null,null,null,0,0,0]
[null,null,null,null,null,null,null,null,null,null,null,0,0,0]
[null,null,null,null,null,null,null,null,null,null,null,0,0,0]
[null,null,null,null,null,null,null,null,null,null,null,0,0,0]
[null,null,null,null,null,null,null,null,null,null,null,0,0,0]
[null,null,null,null,null,null,null,null,null,null,null,0,0,0]
[null,null,null,null,null,null,null,null,null,null,null,0,0,0]
[null,null,null,null,null,null,null,null,null,null,null,0,0,0]
[null,null,null,null,null,null,null,null,null,null,null,0,0,0]
[null,null,null,null,null,null,null,null,null,null,null,0,0,0]
[null,null,null,null,null,null,null,null,null,null,null,0,0,0]
[null,null,null,null,null,null,null,null,null,null,null,0,0,0]
[null,null,null,null,null,null,null,null,null,null,null,0,0,0]
[null,null,null,null,null,null,null,null,null,null,null,0,0,0]
[null,null,null,null,null,null,null,null,null,null,null,0,0,0]
[null,null,null,null,null,null,null,null,null,null,null,0,0,0]
[null,null,null,null,null,null,null,null,null,null,null,0,0,0]
[null,null,null,null,null,null,null,null,null,null,null,0,0,0]
[null,null,null,null,null,null,null,null,null,null,null,0,0,0]
[null,null,null,null,null,null,null,null,null,null,null,0,0,0]
[null,null,null,null,null,null,null,null,null,null,null,0,0,0]
[null,null,null,null,null,null,null,null,null,null,null,0,0,0]
[null,null,null,null,null,null,null,null,null,null,null,0,0,0]
[null,null,null,null,null,null,null,null,null,null,null,0,0,0]
[null,null,null,null,null,null,null,null,null,null,null,0,0,0]
[null,null,null,null,null,null,null,null,null,null,null,0,0,0]
[null,null,null,null,null,null,null,null,null,null,null,0,0,0]
[null,null,null,null,null,null,null,null,null,null,null,0,0,0]
[null,null,null,null,null,null,null,null,null,null,null,0,0,0]
[null,null,null,null,null,null,null,null,null,null,null,0,0,0]
[null,null,null,null,null,null,null,null,null,null,null,0,0,0]
[null,null,null,null,null,null,null,null,null,null,null,0,0,0]
[null,null,null,null,null,null,null,null,null,null,null,0,0,0]
[null,null,null,null,null,null,null,null,null,null,null,0,0,0]
[null,null,null,null,null,null,null,null,null,null,null,{"$f":"SUM(D1965:K1965)","v":0},0,0]
[null,null,null,null,null,null,null,null,null,null,null,0,0,0]
[null,null,null,null,null,null,null,null,null,null,null,0,0,0]
[null,null,null,null,null,null,null,null,null,null,null,0,0,0]
[null,null,null,null,null,null,null,null,null,null,null,0,0,0]
[null,null,null,null,null,null,null,null,null,null,null,0,0,0]
[null,null,null,null,null,null,null,null,null,null,null,0,0,0]
[null,null,null,null,null,null,null,null,null,null,null,0,0,0]
[null,null,null,null,null,null,null,null,null,null,null,0,0,0]
[null,null,null,null,null,null,null,null,null,null,null,0,0,0]
[null,null,null,null,null,null,null,null,null,null,null,0,0,0]
[null,null,null,null,null,null,null,null,null,null,null,0,0,0]
[null,null,null,null,null,null,null,null,null,null,null,0,0,0]
[null,null,null,null,null,null,null,null,null,null,null,0,0,0]
[null,null,null,null,null,null,null,null,null,null,null,0,0,0]
[null,null,null,null,null,null,null,null,null,null,null,0,0,0]
[null,null,null,null,null,null,null,null,null,null,null,{"$f":"SUM(D1981:K1981)","v":0},0,0]
[null,null,null,null,null,null,null,null,null,null,null,{"$f":"SUM(D1982:K1982)","v":0},0,0]
[null,null,null,null,null,null,null,null,null,null,null,0,0,0]
[null,null,null,null,null,null,null,null,null,null,null,0,0,0]
[null,null,null,null,null,null,null,null,null,null,null,0,0,0]
[null,null,null,null,null,null,null,null,null,null,null,0,0,0]
[null,null,null,null,null,null,null,null,null,null,null,0,0,0]
[null,null,null,null,null,null,null,null,null,null,null,0,0,0]
[null,null,null,null,null,null,null,null,null,null,null,0,0,0]
[null,null,null,null,null,null,null,null,null,null,null,0,0,0]
[null,null,null,null,null,null,null,null,null,null,null,0,0,0]
[null,null,null,null,null,null,null,null,null,null,null,0,0,0]
[null,null,null,null,null,null,null,null,null,null,null,{"$f":"SUM(D1993:K1993)","v":0},{"$f":"$C$14*$C$13","v":0},{"$f":"MAX(L1993-M1993,0)","v":0}]
[null,null,null,null,null,null,null,null,null,null,null,0,0,0]
[null,null,null,null,null,null,null,null,null,null,null,0,0,0]
[null,null,null,null,null,null,null,null,null,null,null,0,0,0]
[null,null,null,null,null,null,null,null,null,null,null,0,0,0]
[null,null,null,null,null,null,null,null,null,null,null,0,0,0]
[null,null,null,null,null,null,null,null,null,null,null,0,0,0]
[null,null,null,null,null,null,null,null,null,null,null,0,0,0]
[null,null,null,null,null,null,null,null,null,null,null,0,0,0]
[null,null,null,null,null,null,null,null,null,null,null,0,0,0]
[null,null,null,null,null,null,null,null,null,null,null,0,0,0]
[null,null,null,null,null,null,null,null,null,null,null,0,0,0]
[null,null,null,null,null,null,null,null,null,null,null,0,0,0]
[null,null,null,null,null,null,null,null,null,null,null,0,0,0]
[null,null,null,null,null,null,null,null,null,null,null,0,0,0]
[null,null,null,null,null,null,null,null,null,null,null,0,0,0]
[null,null,null,null,null,null,null,null,null,null,null,0,0,0]
[null,null,null,null,null,null,null,null,null,null,null,0,0,0]
[null,null,null,null,null,null,null,null,null,null,null,0,0,0]
[null,null,null,null,null,null,null,null,null,null,null,0,0,0]
[null,null,null,null,null,null,null,null,null,null,null,0,0,0]
[null,null,null,null,null,null,null,null,null,null,null,0,0,0]
[null,null,null,null,null,null,null,null,null,null,null,0,0,0]
[null,null,null,null,null,null,null,null,null,null,null,0,0,0]
[null,null,null,null,null,null,null,null,null,null,null,0,0,0]
[null,null,null,null,null,null,null,null,null,null,null,0,0,0]
[null,null,null,null,null,null,null,null,null,null,null,0,0,0]
[null,null,null,null,null,null,null,null,null,null,null,0,0,0]
[null,null,null,null,null,null,null,null,null,null,null,0,0,0]
[null,null,null,null,null,null,null,null,null,null,null,0,0,0]
[null,null,null,null,null,null,null,null,null,null,null,0,0,0]
[null,null,null,null,null,null,null,null,null,null,null,0,0,0]
[null,null,null,null,null,null,null,null,null,null,null,0,0,0]
[null,null,null,null,null,null,null,null,null,null,null,0,0,0]
[null,null,null,null,null,null,null,null,null,null,null,0,0,0]
[null,null,null,null,null,null,null,null,null,null,null,0,0,0]
[null,null,null,null,null,null,null,null,null,null,null,0,0,0]
[null,null,null,null,null,null,null,null,null,null,null,0,0,0]
[null,null,null,null,null,null,null,null,null,null,null,0,0,0]
[null,null,null,null,null,null,null,null,null,null,null,0,0,0]
[null,null,null,null,null,null,null,null,null,null,null,0,0,0]
[null,null,null,null,null,null,null,null,null,null,null,0,0,0]
[null,null,null,null,null,null,null,null,null,null,null,0,0,0]
[null,null,null,null,null,null,null,null,null,null,null,0,0,0]
[null,null,null,null,null,null,null,null,null,null,null,0,0,0]
[null,null,null,null,null,null,null,null,null,null,null,0,0,0]
[null,null,null,null,null,null,null,null,null,null,null,0,0,0]
[null,null,null,null,null,null,null,null,null,null,null,0,0,0]
[null,null,null,null,null,null,null,null,null,null,null,0,0,0]
[null,null,null,null,null,null,null,null,null,null,null,0,0,0]
[null,null,null,null,null,null,null,null,null,null,null,0,0,0]
[null,null,null,null,null,null,null,null,null,null,null,0,0,0]
[null,null,null,null,null,null,null,null,null,null,null,0,0,0]
[null,null,null,null,null,null,null,null,null,null,null,0,0,0]
[null,null,null,null,null,null,null,null,null,null,null,0,0,0]
[null,null,null,null,null,null,null,null,null,null,null,0,0,0]
[null,null,null,null,null,null,null,null,null,null,null,0,0,0]
[null,null,null,null,null,null,null,null,null,null,null,0,0,0]
[null,null,null,null,null,null,null,null,null,null,null,0,0,0]
[null,null,null,null,null,null,null,null,null,null,null,{"$f":"SUM(D2052:K2052)","v":0},0,0]
[null,null,null,null,null,null,null,null,null,null,null,{"$f":"SUM(D2053:K2053)","v":0},0,0]
[null,null,null,null,null,null,null,null,null,null,null,0,0,0]
[null,null,null,null,null,null,null,null,null,null,null,0,0,0]
[null,null,null,null,null,null,null,null,null,null,null,0,0,0]
[null,null,null,null,null,null,null,null,null,null,null,0,0,0]
[null,null,null,null,null,null,null,null,null,null,null,0,0,0]
[null,null,null,null,null,null,null,null,null,null,null,0,0,0]
[null,null,null,null,null,null,null,null,null,null,null,0,0,0]
[null,null,null,null,null,null,null,null,null,null,null,0,0,0]
[null,null,null,null,null,null,null,null,null,null,null,0,{"$f":"$C$14*$C$13","v":0},0]
[null,null,null,null,null,null,null,null,null,null,null,0,0,0]
[null,null,null,null,null,null,null,null,null,null,null,0,0,0]
[null,null,null,null,null,null,null,null,null,null,null,0,0,0]
[null,null,null,null,null,null,null,null,null,null,null,0,0,0]
[null,null,null,null,null,null,null,null,null,null,null,0,0,0]
[null,null,null,null,null,null,null,null,null,null,null,0,0,0]
[null,null,null,null,null,null,null,null,null,null,null,0,0,0]
[null,null,null,null,null,null,null,null,null,null,null,0,0,0]
[null,null,null,null,null,null,null,null,null,null,null,0,0,0]
[null,null,null,null,null,null,null,null,null,null,null,0,0,0]
[null,null,null,null,null,null,null,null,null,null,null,0,0,0]
[null,null,null,null,null,null,null,null,null,null,null,0,0,0]
[null,null,null,null,null,null,null,null,null,null,null,0,0,0]
[null,null,null,null,null,null,null,null,null,null,null,0,0,0]
[null,null,null,null,null,null,null,null,null,null,null,0,0,0]
[null,null,null,null,null,null,null,null,null,null,null,0,0,0]
[null,null,null,null,null,null,null,null,null,null,null,0,0,0]
[null,null,null,null,null,null,null,null,null,null,null,0,0,0]
[null,null,null,null,null,null,null,null,null,null,null,0,0,0]
[null,null,null,null,null,null,null,null,null,null,null,0,0,0]
[null,null,null,null,null,null,null,null,null,null,null,0,0,0]
[null,null,null,null,null,null,null,null,null,null,null,0,0,0]
[null,null,null,null,null,null,null,null,null,null,null,0,0,0]
[null,null,null,null,null,null,null,null,null,null,null,0,0,0]
[null,null,null,null,null,null,null,null,null,null,null,0,0,0]
[null,null,null,null,null,null,null,null,null,null,null,0,0,0]
[null,null,null,null,null,null,null,null,null,null,null,0,0,0]
[null,null,null,null,null,null,null,null,null,null,null,0,0,0]
[null,null,null,null,null,null,null,null,null,null,null,0,0,0]
[null,null,null,null,null,null,null,null,null,null,null,0,0,0]
[null,null,null,null,null,null,null,null,null,null,null,0,0,0]
[null,null,null,null,null,null,null,null,null,null,null,0,0,0]
[null,null,null,null,null,null,null,null,null,null,null,0,0,0]
[null,null,null,null,null,null,null,null,null,null,null,0,0,0]
[null,null,null,null,null,null,null,null,null,null,null,0,0,0]
[null,null,null,null,null,null,null,null,null,null,null,0,0,0]
[null,null,null,null,null,null,null,null,null,null,null,0,0,0]
[null,null,null,null,null,null,null,null,null,null,null,0,0,0]
[null,null,null,null,null,null,null,null,null,null,null,0,0,0]
[null,null,null,null,null,null,null,null,null,null,null,0,0,0]
[null,null,null,null,null,null,null,null,null,null,null,0,0,0]
[null,null,null,null,null,null,null,null,null,null,null,0,0,0]
[null,null,null,null,null,null,null,null,null,null,null,0,0,0]
[null,null,null,null,null,null,null,null,null,null,null,0,0,0]
[null,null,null,null,null,null,null,null,null,null,null,0,0,0]
[null,null,null,null,null,null,null,null,null,null,null,0,0,0]
[null,null,null,null,null,null,null,null,null,null,null,0,0,0]
[null,null,null,null,null,null,null,null,null,null,null,0,0,0]
[null,null,null,null,null,null,null,null,null,null,null,0,0,0]
[null,null,null,null,null,null,null,null,null,null,null,0,0,0]
[null,null,null,null,null,null,null,null,null,null,null,0,0,0]
[null,null,null,null,null,null,null,null,null,null,null,0,0,0]
[null,null,null,null,null,null,null,null,null,null,null,0,0,0]
[null,null,null,null,null,null,null,null,null,null,null,0,0,0]
[null,null,null,null,null,null,null,null,null,null,null,{"$f":"SUM(D2117:K2117)","v":0},0,0]
[null,null,null,null,null,null,null,null,null,null,null,0,0,0]
[null,null,null,null,null,null,null,null,null,null,null,0,0,0]
[null,null,null,null,null,null,null,null,null,null,null,0,0,0]
[null,null,null,null,null,null,null,null,null,null,null,0,0,0]
[null,null,null,null,null,null,null,null,null,null,null,0,0,0]
[null,null,null,null,null,null,null,null,null,null,null,0,0,0]
[null,null,null,null,null,null,null,null,null,null,null,0,0,0]
[null,null,null,null,null,null,null,null,null,null,null,0,0,0]
[null,null,null,null,null,null,null,null,null,null,null,0,0,0]
[null,null,null,null,null,null,null,null,null,null,null,0,0,0]
[null,null,null,null,null,null,null,null,null,null,null,0,0,0]
[null,null,null,null,null,null,null,null,null,null,null,0,0,0]
[null,null,null,null,null,null,null,null,null,null,null,0,0,0]
[null,null,null,null,null,null,null,null,null,null,null,0,0,0]
[null,null,null,null,null,null,null,null,null,null,null,0,0,0]
[null,null,null,null,null,null,null,null,null,null,null,{"$f":"SUM(D2133:K2133)","v":0},0,0]
[null,null,null,null,null,null,null,null,null,null,null,{"$f":"SUM(D2134:K2134)","v":0},0,0]
[null,null,null,null,null,null,null,null,null,null,null,0,0,0]
[null,null,null,null,null,null,null,null,null,null,null,0,0,0]
[null,null,null,null,null,null,null,null,null,null,null,0,0,0]
[null,null,null,null,null,null,null,null,null,null,null,0,0,0]
[null,null,null,null,null,null,null,null,null,null,null,0,0,0]
[null,null,null,null,null,null,null,null,null,null,null,0,0,0]
[null,null,null,null,null,null,null,null,null,null,null,0,0,0]
[null,null,null,null,null,null,null,null,null,null,null,0,0,0]
[null,null,null,null,null,null,null,null,null,null,null,0,0,0]
[null,null,null,null,null,null,null,null,null,null,null,0,0,0]
[null,null,null,null,null,null,null,null,null,null,null,0,0,0]
[null,null,null,null,null,null,null,null,null,null,null,0,0,0]
[null,null,null,null,null,null,null,null,null,null,null,0,0,0]
[null,null,null,null,null,null,null,null,null,null,null,0,0,0]
[null,null,null,null,null,null,null,null,null,null,null,0,0,0]
[null,null,null,null,null,null,null,null,null,null,null,0,0,0]
[null,null,null,null,null,null,null,null,null,null,null,0,0,0]
[null,null,null,null,null,null,null,null,null,null,null,0,0,0]
[null,null,null,null,null,null,null,null,null,null,null,0,0,0]
[null,null,null,null,null,null,null,null,null,null,null,0,0,0]
[null,null,null,null,null,null,null,null,null,null,null,0,0,0]
[null,null,null,null,null,null,null,null,null,null,null,0,0,0]
[null,null,null,null,null,null,null,null,null,null,null,0,0,0]
[null,null,null,null,null,null,null,null,null,null,null,0,0,0]
[null,null,null,null,null,null,null,null,null,null,null,0,0,0]
[null,null,null,null,null,null,null,null,null,null,null,0,0,0]
[null,null,null,null,null,null,null,null,null,null,null,0,0,0]
[null,null,null,null,null,null,null,null,null,null,null,0,0,0]
[null,null,null,null,null,null,null,null,null,null,null,0,0,0]
[null,null,null,null,null,null,null,null,null,null,null,0,0,0]
[null,null,null,null,null,null,null,null,null,null,null,0,0,0]
[null,null,null,null,null,null,null,null,null,null,null,0,0,0]
[null,null,null,null,null,null,null,null,null,null,null,0,0,0]
[null,null,null,null,null,null,null,null,null,null,null,0,0,0]
[null,null,null,null,null,null,null,null,null,null,null,0,0,0]
[null,null,null,null,null,null,null,null,null,null,null,0,0,0]
[null,null,null,null,null,null,null,null,null,null,null,0,0,0]
[null,null,null,null,null,null,null,null,null,null,null,0,0,0]
[null,null,null,null,null,null,null,null,null,null,null,0,0,0]
[null,null,null,null,null,null,null,null,null,null,null,0,0,0]
[null,null,null,null,null,null,null,null,null,null,null,0,0,0]
[null,null,null,null,null,null,null,null,null,null,null,0,0,0]
[null,null,null,null,null,null,null,null,null,null,null,0,0,0]
[null,null,null,null,null,null,null,null,null,null,null,0,0,0]
[null,null,null,null,null,null,null,null,null,null,null,0,0,0]
[null,null,null,null,null,null,null,null,null,null,null,0,0,0]
[null,null,null,null,null,null,null,null,null,null,null,0,0,0]
[null,null,null,null,null,null,null,null,null,null,null,0,0,0]
[null,null,null,null,null,null,null,null,null,null,null,0,0,0]
[null,null,null,null,null,null,null,null,null,null,null,0,0,0]
[null,null,null,null,null,null,null,null,null,null,null,0,0,0]
[null,null,null,null,null,null,null,null,null,null,null,0,0,0]
[null,null,null,null,null,null,null,null,null,null,null,0,0,0]
[null,null,null,null,null,null,null,null,null,null,null,0,0,0]
[null,null,null,null,null,null,null,null,null,null,null,0,0,0]
[null,null,null,null,null,null,null,null,null,null,null,0,0,0]
[null,null,null,null,null,null,null,null,null,null,null,0,0,0]
[null,null,null,null,null,null,null,null,null,null,null,0,0,0]
[null,null,null,null,null,null,null,null,null,null,null,0,0,0]
[null,null,null,null,null,null,null,null,null,null,null,0,0,0]
[null,null,null,null,null,null,null,null,null,null,null,0,0,0]
[null,null,null,null,null,null,null,null,null,null,null,0,0,0]
[null,null,null,null,null,null,null,null,null,null,null,0,0,0]
[null,null,null,null,null,null,null,null,null,null,null,{"$f":"SUM(D2198:K2198)","v":0},0,0]
[null,null,null,null,null,null,null,null,null,null,null,0,0,0]
[null,null,null,null,null,null,null,null,null,null,null,0,0,0]
[null,null,null,null,null,null,null,null,null,null,null,0,0,0]
[null,null,null,null,null,null,null,null,null,null,null,0,0,0]
[null,null,null,null,null,null,null,null,null,null,null,0,0,0]
[null,null,null,null,null,null,null,null,null,null,null,0,0,0]
[null,null,null,null,null,null,null,null,null,null,null,0,0,0]
[null,null,null,null,null,null,null,null,null,null,null,0,0,0]
[null,null,null,null,null,null,null,null,null,null,null,0,0,0]
[null,null,null,null,null,null,null,null,null,null,null,0,0,0]
[null,null,null,null,null,null,null,null,null,null,null,0,0,0]
[null,null,null,null,null,null,null,null,null,null,null,0,0,0]
[null,null,null,null,null,null,null,null,null,null,null,0,0,0]
[null,null,null,null,null,null,null,null,null,null,null,0,0,0]
[null,null,null,null,null,null,null,null,null,null,null,{"$f":"SUM(D2213:K2213)","v":0},0,0]
[null,null,null,null,null,null,null,null,null,null,null,{"$f":"SUM(D2214:K2214)","v":0},0,0]
[null,null,null,null,null,null,null,null,null,null,null,0,0,0]
[null,null,null,null,null,null,null,null,null,null,null,0,0,0]
[null,null,null,null,null,null,null,null,null,null,null,0,0,0]
[null,null,null,null,null,null,null,null,null,null,null,0,0,0]
[null,null,null,null,null,null,null,null,null,null,null,0,0,0]
[null,null,null,null,null,null,null,null,null,null,null,0,0,0]
[null,null,null,null,null,null,null,null,null,null,null,0,0,0]
[null,null,null,null,null,null,null,null,null,null,null,0,0,0]
[null,null,null,null,null,null,null,null,null,null,null,0,0,0]
[null,null,null,null,null,null,null,null,null,null,null,0,0,0]
[null,null,null,null,null,null,null,null,null,null,null,0,0,0]
[null,null,null,null,null,null,null,null,null,null,null,0,0,0]
[null,null,null,null,null,null,null,null,null,null,null,0,0,0]
[null,null,null,null,null,null,null,null,null,null,null,0,0,0]
[null,null,null,null,null,null,null,null,null,null,null,0,0,0]
[null,null,null,null,null,null,null,null,null,null,null,0,0,0]
[null,null,null,null,null,null,null,null,null,null,null,0,0,0]
[null,null,null,null,null,null,null,null,null,null,null,0,0,0]
[null,null,null,null,null,null,null,null,null,null,null,0,0,0]
[null,null,null,null,null,null,null,null,null,null,null,0,0,0]
[null,null,null,null,null,null,null,null,null,null,null,0,0,0]
[null,null,null,null,null,null,null,null,null,null,null,0,0,0]
[null,null,null,null,null,null,null,null,null,null,null,0,0,0]
[null,null,null,null,null,null,null,null,null,null,null,0,0,0]
[null,null,null,null,null,null,null,null,null,null,null,0,0,0]
[null,null,null,null,null,null,null,null,null,null,null,0,0,0]
[null,null,null,null,null,null,null,null,null,null,null,0,0,0]
[null,null,null,null,null,null,null,null,null,null,null,0,0,0]
[null,null,null,null,null,null,null,null,null,null,null,0,0,0]
[null,null,null,null,null,null,null,null,null,null,null,0,0,0]
[null,null,null,null,null,null,null,null,null,null,null,0,0,0]
[null,null,null,null,null,null,null,null,null,null,null,0,0,0]
[null,null,null,null,null,null,null,null,null,null,null,0,0,0]
[null,null,null,null,null,null,null,null,null,null,null,0,0,{"$f":"MAX(L2248-M2248,0)","v":0}]
[null,null,null,null,null,null,null,null,null,null,null,0,0,0]
[null,null,null,null,null,null,null,null,null,null,null,0,0,0]
[null,null,null,null,null,null,null,null,null,null,null,0,0,0]
[null,null,null,null,null,null,null,null,null,null,null,0,0,0]
[null,null,null,null,null,null,null,null,null,null,null,0,0,0]
[null,null,null,null,null,null,null,null,null,null,null,0,0,0]
[null,null,null,null,null,null,null,null,null,null,null,0,0,0]
[null,null,null,null,null,null,null,null,null,null,null,0,0,0]
[null,null,null,null,null,null,null,null,null,null,null,0,0,0]
[null,null,null,null,null,null,null,null,null,null,null,0,0,0]
[null,null,null,null,null,null,null,null,null,null,null,0,0,0]
[null,null,null,null,null,null,null,null,null,null,null,0,0,0]
[null,null,null,null,null,null,null,null,null,null,null,0,0,0]
[null,null,null,null,null,null,null,null,null,null,null,0,0,0]
[null,null,null,null,null,null,null,null,null,null,null,0,0,0]
[null,null,null,null,null,null,null,null,null,null,null,0,0,0]
[null,null,null,null,null,null,null,null,null,null,null,0,0,0]
[null,null,null,null,null,null,null,null,null,null,null,0,0,0]
[null,null,null,null,null,null,null,null,null,null,null,0,0,0]
[null,null,null,null,null,null,null,null,null,null,null,0,0,0]
[null,null,null,null,null,null,null,null,null,null,null,0,0,0]
[null,null,null,null,null,null,null,null,null,null,null,0,0,0]
[null,null,null,null,null,null,null,null,null,null,null,0,0,0]
[null,null,null,null,null,null,null,null,null,null,null,0,0,0]
[null,null,null,null,null,null,null,null,null,null,null,0,0,0]
[null,null,null,null,null,null,null,null,null,null,null,0,0,0]
[null,null,null,null,null,null,null,null,null,null,null,0,0,0]
[null,null,null,null,null,null,null,null,null,null,null,0,0,0]
[null,null,null,null,null,null,null,null,null,null,null,0,0,0]
[null,null,null,null,null,null,null,null,null,null,null,{"$f":"SUM(D2278:K2278)","v":0},0,0]
[null,null,null,null,null,null,null,null,null,null,null,0,0,0]
[null,null,null,null,null,null,null,null,null,null,null,0,0,0]
[null,null,null,null,null,null,null,null,null,null,null,0,0,0]
[null,null,null,null,null,null,null,null,null,null,null,0,0,0]
[null,null,null,null,null,null,null,null,null,null,null,0,0,0]
[null,null,null,null,null,null,null,null,null,null,null,0,0,0]
[null,null,null,null,null,null,null,null,null,null,null,0,0,0]
[null,null,null,null,null,null,null,null,null,null,null,0,0,0]
[null,null,null,null,null,null,null,null,null,null,null,0,0,0]
[null,null,null,null,null,null,null,null,null,null,null,0,0,0]
[null,null,null,null,null,null,null,null,null,null,null,0,0,0]
[null,null,null,null,null,null,null,null,null,null,null,0,0,0]
[null,null,null,null,null,null,null,null,null,null,null,0,0,0]
[null,null,null,null,null,null,null,null,null,null,null,0,0,0]
[null,null,null,null,null,null,null,null,null,null,null,0,0,0]
[null,null,null,null,null,null,null,null,null,null,null,{"$f":"SUM(D2294:K2294)","v":0},0,0]
[null,null,null,null,null,null,null,null,null,null,null,{"$f":"SUM(D2295:K2295)","v":0},0,0]
[null,null,null,null,null,null,null,null,null,null,null,0,0,0]
[null,null,null,null,null,null,null,null,null,null,null,0,0,0]
[null,null,null,null,null,null,null,null,null,null,null,0,0,0]
[null,null,null,null,null,null,null,null,null,null,null,0,0,0]
[null,null,null,null,null,null,null,null,null,null,null,0,0,0]
[null,null,null,null,null,null,null,null,null,null,null,0,0,0]
[null,null,null,null,null,null,null,null,null,null,null,0,0,0]
[null,null,null,null,null,null,null,null,null,null,null,0,0,0]
[null,null,null,null,null,null,null,null,null,null,null,0,0,0]
[null,null,null,null,null,null,null,null,null,null,null,0,0,0]
[null,null,null,null,null,null,null,null,null,null,null,0,0,0]
[null,null,null,null,null,null,null,null,null,null,null,0,0,0]
[null,null,null,null,null,null,null,null,null,null,null,0,0,0]
[null,null,null,null,null,null,null,null,null,null,null,0,0,0]
[null,null,null,null,null,null,null,null,null,null,null,0,0,0]
[null,null,null,null,null,null,null,null,null,null,null,0,0,0]
[null,null,null,null,null,null,null,null,null,null,null,0,0,0]
[null,null,null,null,null,null,null,null,null,null,null,0,0,0]
[null,null,null,null,null,null,null,null,null,null,null,0,0,0]
[null,null,null,null,null,null,null,null,null,null,null,0,0,0]
[null,null,null,null,null,null,null,null,null,null,null,0,0,0]
[null,null,null,null,null,null,null,null,null,null,null,0,{"$f":"$C$14*$C$13","v":0},0]
[null,null,null,null,null,null,null,null,null,null,null,0,0,0]
[null,null,null,null,null,null,null,null,null,null,null,0,0,0]
[null,null,null,null,null,null,null,null,null,null,null,0,0,0]
[null,null,null,null,null,null,null,null,null,null,null,0,0,0]
[null,null,null,null,null,null,null,null,null,null,null,0,0,0]
[null,null,null,null,null,null,null,null,null,null,null,0,0,0]
[null,null,null,null,null,null,null,null,null,null,null,0,0,0]
[null,null,null,null,null,null,null,null,null,null,null,0,0,0]
[null,null,null,null,null,null,null,null,null,null,null,0,0,0]
[null,null,null,null,null,null,null,null,null,null,null,0,0,0]
[null,null,null,null,null,null,null,null,null,null,null,0,0,0]
[null,null,null,null,null,null,null,null,null,null,null,0,0,0]
[null,null,null,null,null,null,null,null,null,null,null,0,0,0]
[null,null,null,null,null,null,null,null,null,null,null,0,0,0]
[null,null,null,null,null,null,null,null,null,null,null,0,0,0]
[null,null,null,null,null,null,null,null,null,null,null,0,0,0]
[null,null,null,null,null,null,null,null,null,null,null,0,0,0]
[null,null,null,null,null,null,null,null,null,null,null,0,0,0]
[null,null,null,null,null,null,null,null,null,null,null,0,0,0]
[null,null,null,null,null,null,null,null,null,null,null,0,0,0]
[null,null,null,null,null,null,null,null,null,null,null,0,0,0]
[null,null,null,null,null,null,null,null,null,null,null,0,0,0]
[null,null,null,null,null,null,null,null,null,null,null,0,0,0]
[null,null,null,null,null,null,null,null,null,null,null,0,0,0]
[null,null,null,null,null,null,null,null,null,null,null,0,0,0]
[null,null,null,null,null,null,null,null,null,null,null,0,0,0]
[null,null,null,null,null,null,null,null,null,null,null,0,0,0]
[null,null,null,null,null,null,null,null,null,null,null,0,0,0]
[null,null,null,null,null,null,null,null,null,null,null,0,0,0]
[null,null,null,null,null,null,null,null,null,null,null,0,0,0]
[null,null,null,null,null,null,null,null,null,null,null,0,0,0]
[null,null,null,null,null,null,null,null,null,null,null,0,0,0]
[null,null,null,null,null,null,null,null,null,null,null,0,0,0]
[null,null,null,null,null,null,null,null,null,null,null,0,0,0]
[null,null,null,null,null,null,null,null,null,null,null,0,0,0]
[null,null,null,null,null,null,null,null,null,null,null,0,0,0]
[null,null,null,null,null,null,null,null,null,null,null,0,0,0]
[null,null,null,null,null,null,null,null,null,null,null,0,0,0]
[null,null,null,null,null,null,null,null,null,null,null,0,0,0]
[null,null,null,null,null,null,null,null,null,null,null,0,0,0]
[null,null,null,null,null,null,null,null,null,null,null,0,0,0]
[null,null,null,null,null,null,null,null,null,null,null,{"$f":"SUM(D2359:K2359)","v":0},0,0]
[null,null,null,null,null,null,null,null,null,null,null,0,0,0]
[null,null,null,null,null,null,null,null,null,null,null,0,0,0]
[null,null,null,null,null,null,null,null,null,null,null,0,0,0]
[null,null,null,null,null,null,null,null,null,null,null,0,0,0]
[null,null,null,null,null,null,null,null,null,null,null,0,0,0]
[null,null,null,null,null,null,null,null,null,null,null,0,0,0]
[null,null,null,null,null,null,null,null,null,null,null,0,0,0]
[null,null,null,null,null,null,null,null,null,null,null,0,0,0]
[null,null,null,null,null,null,null,null,null,null,null,0,0,0]
[null,null,null,null,null,null,null,null,null,null,null,0,0,0]
[null,null,null,null,null,null,null,null,null,null,null,0,0,0]
[null,null,null,null,null,null,null,null,null,null,null,0,0,0]
[null,null,null,null,null,null,null,null,null,null,null,0,0,0]
[null,null,null,null,null,null,null,null,null,null,null,0,0,0]
[null,null,null,null,null,null,null,null,null,null,null,0,0,0]
[null,null,null,null,null,null,null,null,null,null,null,0,0,0]
[null,null,null,null,null,null,null,null,null,null,null,0,0,0]
[null,null,null,null,null,null,null,null,null,null,null,0,0,0]
[null,null,null,null,null,null,null,null,null,null,null,0,0,0]
[null,null,null,null,null,null,null,null,null,null,null,0,0,0]
[null,null,null,null,null,null,null,null,null,null,null,0,0,0]
[null,null,null,null,null,null,null,null,null,null,null,0,{"$f":"$C$14*$C$13","v":0},0]
[null,null,null,null,null,null,null,null,null,null,null,0,0,0]
[null,null,null,null,null,null,null,null,null,null,null,0,0,0]
[null,null,null,null,null,null,null,null,null,null,null,0,0,0]
[null,null,null,null,null,null,null,null,null,null,null,0,0,0]
[null,null,null,null,null,null,null,null,null,null,null,0,0,0]
[null,null,null,null,null,null,null,null,null,null,null,0,0,0]
[null,null,null,null,null,null,null,null,null,null,null,0,0,0]
[null,null,null,null,null,null,null,null,null,null,null,0,0,0]
[null,null,null,null,null,null,null,null,null,null,null,0,0,0]
[null,null,null,null,null,null,null,null,null,null,null,0,0,0]
[null,null,null,null,null,null,null,null,null,null,null,0,0,0]
[null,null,null,null,null,null,null,null,null,null,null,0,0,0]
[null,null,null,null,null,null,null,null,null,null,null,0,0,0]
[null,null,null,null,null,null,null,null,null,null,null,0,0,0]
[null,null,null,null,null,null,null,null,null,null,null,0,0,0]
[null,null,null,null,null,null,null,null,null,null,null,0,0,0]
[null,null,null,null,null,null,null,null,null,null,null,0,0,0]
[null,null,null,null,null,null,null,null,null,null,null,0,0,0]
[null,null,null,null,null,null,null,null,null,null,null,0,0,0]
[null,null,null,null,null,null,null,null,null,null,null,0,0,0]
[null,null,null,null,null,null,null,null,null,null,null,0,0,0]
[null,null,null,null,null,null,null,null,null,null,null,0,0,0]
[null,null,null,null,null,null,null,null,null,null,null,0,0,0]
[null,null,null,null,null,null,null,null,null,null,null,0,0,0]
[null,null,null,null,null,null,null,null,null,null,null,0,0,0]
[null,null,null,null,null,null,null,null,null,null,null,0,0,0]
[null,null,null,null,null,null,null,null,null,null,null,0,0,0]
[null,null,null,null,null,null,null,null,null,null,null,0,0,0]
[null,null,null,null,null,null,null,null,null,null,null,0,0,0]
[null,null,null,null,null,null,null,null,null,null,null,0,0,0]
[null,null,null,null,null,null,null,null,null,null,null,0,0,0]
[null,null,null,null,null,null,null,null,null,null,null,0,0,0]
[null,null,null,null,null,null,null,null,null,null,null,0,0,0]
[null,null,null,null,null,null,null,null,null,null,null,0,0,0]
[null,null,null,null,null,null,null,null,null,null,null,0,0,0]
[null,null,null,null,null,null,null,null,null,null,null,0,0,0]
[null,null,null,null,null,null,null,null,null,null,null,0,0,0]
[null,null,null,null,null,null,null,null,null,null,null,0,0,0]
[null,null,null,null,null,null,null,null,null,null,null,0,0,0]
[null,null,null,null,null,null,null,null,null,null,null,0,0,0]
[null,null,null,null,null,null,null,null,null,null,null,0,0,0]
[null,null,null,null,null,null,null,null,null,null,null,{"$f":"SUM(D2423:K2423)","v":0},0,0]
[null,null,null,null,null,null,null,null,null,null,null,0,0,0]
[null,null,null,null,null,null,null,null,null,null,null,0,0,0]
[null,null,null,null,null,null,null,null,null,null,null,0,0,0]
[null,null,null,null,null,null,null,null,null,null,null,0,0,0]
[null,null,null,null,null,null,null,null,null,null,null,0,0,0]
[null,null,null,null,null,null,null,null,null,null,null,0,0,0]
[null,null,null,null,null,null,null,null,null,null,null,0,0,0]
[null,null,null,null,null,null,null,null,null,null,null,0,0,0]
[null,null,null,null,null,null,null,null,null,null,null,0,0,0]
[null,null,null,null,null,null,null,null,null,null,null,0,0,0]
[null,null,null,null,null,null,null,null,null,null,null,0,0,0]
[null,null,null,null,null,null,null,null,null,null,null,0,0,0]
[null,null,null,null,null,null,null,null,null,null,null,0,0,0]
[null,null,null,null,null,null,null,null,null,null,null,0,0,0]
[null,null,null,null,null,null,null,null,null,null,null,0,0,0]
[null,null,null,null,null,null,null,null,null,null,null,0,0,0]
[null,null,null,null,null,null,null,null,null,null,null,0,0,0]
[null,null,null,null,null,null,null,null,null,null,null,0,0,0]
[null,null,null,null,null,null,null,null,null,null,null,0,0,0]
[null,null,null,null,null,null,null,null,null,null,null,0,0,0]
[null,null,null,null,null,null,null,null,null,null,null,0,0,0]
[null,null,null,null,null,null,null,null,null,null,null,0,0,0]
[null,null,null,null,null,null,null,null,null,null,null,0,0,0]
[null,null,null,null,null,null,null,null,null,null,null,0,0,0]
[null,null,null,null,null,null,null,null,null,null,null,0,0,0]
[null,null,null,null,null,null,null,null,null,null,null,0,0,0]
[null,null,null,null,null,null,null,null,null,null,null,0,0,0]
[null,null,null,null,null,null,null,null,null,null,null,0,0,0]
[null,null,null,null,null,null,null,null,null,null,null,0,0,0]
[null,null,null,null,null,null,null,null,null,null,null,0,0,0]
[null,null,null,null,null,null,null,null,null,null,null,0,0,0]
[null,null,null,null,null,null,null,null,null,null,null,0,0,0]
[null,null,null,null,null,null,null,null,null,null,null,{"$f":"SUM(D2456:K2456)","v":0},0,0]
[null,null,null,null,null,null,null,null,null,null,null,{"$f":"SUM(D2457:K2457)","v":0},0,0]
[null,null,null,null,null,null,null,null,null,null,null,0,0,0]
[null,null,null,null,null,null,null,null,null,null,null,0,0,0]
[null,null,null,null,null,null,null,null,null,null,null,0,0,0]
[null,null,null,null,null,null,null,null,null,null,null,0,0,0]
[null,null,null,null,null,null,null,null,null,null,null,0,0,0]
[null,null,null,null,null,null,null,null,null,null,null,0,0,0]
[null,null,null,null,null,null,null,null,null,null,null,0,0,0]
[null,null,null,null,null,null,null,null,null,null,null,0,0,0]
[null,null,null,null,null,null,null,null,null,null,null,0,0,0]
[null,null,null,null,null,null,null,null,null,null,null,0,0,0]
[null,null,null,null,null,null,null,null,null,null,null,0,0,0]
[null,null,null,null,null,null,null,null,null,null,null,0,0,0]
[null,null,null,null,null,null,null,null,null,null,null,0,0,0]
[null,null,null,null,null,null,null,null,null,null,null,0,0,0]
[null,null,null,null,null,null,null,null,null,null,null,0,0,0]
[null,null,null,null,null,null,null,null,null,null,null,0,0,0]
[null,null,null,null,null,null,null,null,null,null,null,0,0,0]
[null,null,null,null,null,null,null,null,null,null,null,0,0,0]
[null,null,null,null,null,null,null,null,null,null,null,0,0,0]
[null,null,null,null,null,null,null,null,null,null,null,0,0,0]
[null,null,null,null,null,null,null,null,null,null,null,0,0,0]
[null,null,null,null,null,null,null,null,null,null,null,0,0,0]
[null,null,null,null,null,null,null,null,null,null,null,0,0,0]
[null,null,null,null,null,null,null,null,null,null,null,0,0,0]
[null,null,null,null,null,null,null,null,null,null,null,0,0,0]
[null,null,null,null,null,null,null,null,null,null,null,0,0,0]
[null,null,null,null,null,null,null,null,null,null,null,0,0,0]
[null,null,null,null,null,null,null,null,null,null,null,0,0,0]
[null,null,null,null,null,null,null,null,null,null,null,0,0,0]
[null,null,null,null,null,null,null,null,null,null,null,0,0,0]
[null,null,null,null,null,null,null,null,null,null,null,0,0,0]
[null,null,null,null,null,null,null,null,null,null,null,0,0,0]
[null,null,null,null,null,null,null,null,null,null,null,0,0,0]
[null,null,null,null,null,null,null,null,null,null,null,0,0,0]
[null,null,null,null,null,null,null,null,null,null,null,0,0,0]
[null,null,null,null,null,null,null,null,null,null,null,0,0,0]
[null,null,null,null,null,null,null,null,null,null,null,0,0,0]
[null,null,null,null,null,null,null,null,null,null,null,0,0,0]
[null,null,null,null,null,null,null,null,null,null,null,0,0,0]
[null,null,null,null,null,null,null,null,null,null,null,0,0,0]
[null,null,null,null,null,null,null,null,null,null,null,0,0,0]
[null,null,null,null,null,null,null,null,null,null,null,0,0,0]
[null,null,null,null,null,null,null,null,null,null,null,0,0,0]
[null,null,null,null,null,null,null,null,null,null,null,0,0,0]
[null,null,null,null,null,null,null,null,null,null,null,0,{"$f":"$C$14*$C$13","v":0},0]
[null,null,null,null,null,null,null,null,null,null,null,0,0,0]
[null,null,null,null,null,null,null,null,null,null,null,0,0,0]
[null,null,null,null,null,null,null,null,null,null,null,0,0,0]
[null,null,null,null,null,null,null,null,null,null,null,0,0,0]
[null,null,null,null,null,null,null,null,null,null,null,0,0,0]
[null,null,null,null,null,null,null,null,null,null,null,0,0,0]
[null,null,null,null,null,null,null,null,null,null,null,0,0,0]
[null,null,null,null,null,null,null,null,null,null,null,0,0,0]
[null,null,null,null,null,null,null,null,null,null,null,0,0,0]
[null,null,null,null,null,null,null,null,null,null,null,0,0,0]
[null,null,null,null,null,null,null,null,null,null,null,0,0,0]
[null,null,null,null,null,null,null,null,null,null,null,0,0,0]
[null,null,null,null,null,null,null,null,null,null,null,0,0,0]
[null,null,null,null,null,null,null,null,null,null,null,0,0,0]
[null,null,null,null,null,null,null,null,null,null,null,0,0,0]
[null,null,null,null,null,null,null,null,null,null,null,0,0,0]
[null,null,null,null,null,null,null,null,null,null,null,0,0,0]
[null,null,null,null,null,null,null,null,null,null,null,0,0,0]
[null,null,null,null,null,null,null,null,null,null,null,0,0,0]
[null,null,null,null,null,null,null,null,null,null,null,0,0,0]
[null,null,null,null,null,null,null,null,null,null,null,0,0,0]
[null,null,null,null,null,null,null,null,null,null,null,0,0,0]
[null,null,null,null,null,null,null,null,null,null,null,0,0,0]
[null,null,null,null,null,null,null,null,null,null,null,0,0,0]
[null,null,null,null,null,null,null,null,null,null,null,0,0,0]
[null,null,null,null,null,null,null,null,null,null,null,0,0,{"$f":"MAX(L2528-M2528,0)","v":0}]
[null,null,null,null,null,null,null,null,null,null,null,0,0,0]
[null,null,null,null,null,null,null,null,null,null,null,0,0,0]
[null,null,null,null,null,null,null,null,null,null,null,0,0,0]
[null,null,null,null,null,null,null,null,null,null,null,0,0,0]
[null,null,null,null,null,null,null,null,null,null,null,0,0,0]
[null,null,null,null,null,null,null,null,null,null,null,0,0,0]
[null,null,null,null,null,null,null,null,null,null,null,0,0,0]
[null,null,null,null,null,null,null,null,null,null,null,0,0,0]
[null,null,null,null,null,null,null,null,null,null,null,0,0,0]
[null,null,null,null,null,null,null,null,null,null,null,0,0,0]
[null,null,null,null,null,null,null,null,null,null,null,0,0,0]
[null,null,null,null,null,null,null,null,null,null,null,0,0,0]
[null,null,null,null,null,null,null,null,null,null,null,0,0,0]
[null,null,null,null,null,null,null,null,null,null,null,0,0,0]
[null,null,null,null,null,null,null,null,null,null,null,0,0,0]
[null,null,null,null,null,null,null,null,null,null,null,0,0,0]
[null,null,null,null,null,null,null,null,null,null,null,0,0,0]
[null,null,null,null,null,null,null,null,null,null,null,{"$f":"SUM(D2546:K2546)","v":0},0,0]
[null,null,null,null,null,null,null,null,null,null,null,0,0,0]
[null,null,null,null,null,null,null,null,null,null,null,0,0,0]
[null,null,null,null,null,null,null,null,null,null,null,0,0,0]
[null,null,null,null,null,null,null,null,null,null,null,0,0,0]
[null,null,null,null,null,null,null,null,null,null,null,0,0,0]
[null,null,null,null,null,null,null,null,null,null,null,0,0,0]
[null,null,null,null,null,null,null,null,null,null,null,0,0,0]
[null,null,null,null,null,null,null,null,null,null,null,0,0,0]
[null,null,null,null,null,null,null,null,null,null,null,0,0,0]
[null,null,null,null,null,null,null,null,null,null,null,0,0,0]
[null,null,null,null,null,null,null,null,null,null,null,0,0,0]
[null,null,null,null,null,null,null,null,null,null,null,0,0,0]
[null,null,null,null,null,null,null,null,null,null,null,0,0,0]
[null,null,null,null,null,null,null,null,null,null,null,0,0,0]
[null,null,null,null,null,null,null,null,null,null,null,{"$f":"SUM(D2561:K2561)","v":0},0,0]
[null,null,null,null,null,null,null,null,null,null,null,{"$f":"SUM(D2562:K2562)","v":0},0,0]
[null,null,null,null,null,null,null,null,null,null,null,0,0,0]
[null,null,null,null,null,null,null,null,null,null,null,0,0,0]
[null,null,null,null,null,null,null,null,null,null,null,0,0,0]
[null,null,null,null,null,null,null,null,null,null,null,0,0,0]
[null,null,null,null,null,null,null,null,null,null,null,0,0,0]
[null,null,null,null,null,null,null,null,null,null,null,0,0,0]
[null,null,null,null,null,null,null,null,null,null,null,0,0,0]
[null,null,null,null,null,null,null,null,null,null,null,0,0,0]
[null,null,null,null,null,null,null,null,null,null,null,0,{"$f":"$C$14*$C$13","v":0},0]
[null,null,null,null,null,null,null,null,null,null,null,0,0,0]
[null,null,null,null,null,null,null,null,null,null,null,0,0,0]
[null,null,null,null,null,null,null,null,null,null,null,0,0,0]
[null,null,null,null,null,null,null,null,null,null,null,0,0,0]
[null,null,null,null,null,null,null,null,null,null,null,0,0,0]
[null,null,null,null,null,null,null,null,null,null,null,0,0,0]
[null,null,null,null,null,null,null,null,null,null,null,0,0,0]
[null,null,null,null,null,null,null,null,null,null,null,0,0,0]
[null,null,null,null,null,null,null,null,null,null,null,0,0,0]
[null,null,null,null,null,null,null,null,null,null,null,0,0,0]
[null,null,null,null,null,null,null,null,null,null,null,0,0,0]
[null,null,null,null,null,null,null,null,null,null,null,0,0,0]
[null,null,null,null,null,null,null,null,null,null,null,0,0,0]
[null,null,null,null,null,null,null,null,null,null,null,0,0,0]
[null,null,null,null,null,null,null,null,null,null,null,0,0,0]
[null,null,null,null,null,null,null,null,null,null,null,0,0,0]
[null,null,null,null,null,null,null,null,null,null,null,0,0,0]
[null,null,null,null,null,null,null,null,null,null,null,0,0,0]
[null,null,null,null,null,null,null,null,null,null,null,0,0,0]
[null,null,null,null,null,null,null,null,null,null,null,0,0,0]
[null,null,null,null,null,null,null,null,null,null,null,0,0,0]
[null,null,null,null,null,null,null,null,null,null,null,0,0,0]
[null,null,null,null,null,null,null,null,null,null,null,0,0,0]
[null,null,null,null,null,null,null,null,null,null,null,0,0,0]
[null,null,null,null,null,null,null,null,null,null,null,0,0,0]
[null,null,null,null,null,null,null,null,null,null,null,0,0,0]
[null,null,null,null,null,null,null,null,null,null,null,0,0,0]
[null,null,null,null,null,null,null,null,null,null,null,0,0,0]
[null,null,null,null,null,null,null,null,null,null,null,0,0,0]
[null,null,null,null,null,null,null,null,null,null,null,0,0,0]
[null,null,null,null,null,null,null,null,null,null,null,0,0,0]
[null,null,null,null,null,null,null,null,null,null,null,0,0,0]
[null,null,null,null,null,null,null,null,null,null,null,0,0,0]
[null,null,null,null,null,null,null,null,null,null,null,0,0,0]
[null,null,null,null,null,null,null,null,null,null,null,0,0,0]
[null,null,null,null,null,null,null,null,null,null,null,0,0,0]
[null,null,null,null,null,null,null,null,null,null,null,0,0,0]
[null,null,null,null,null,null,null,null,null,null,null,0,0,0]
[null,null,null,null,null,null,null,null,null,null,null,0,0,0]
[null,null,null,null,null,null,null,null,null,null,null,0,0,0]
[null,null,null,null,null,null,null,null,null,null,null,0,0,0]
[null,null,null,null,null,null,null,null,null,null,null,0,0,0]
[null,null,null,null,null,null,null,null,null,null,null,0,0,0]
[null,null,null,null,null,null,null,null,null,null,null,0,0,0]
[null,null,null,null,null,null,null,null,null,null,null,0,0,0]
[null,null,null,null,null,null,null,null,null,null,null,0,0,0]
[null,null,null,null,null,null,null,null,null,null,null,0,0,0]
[null,null,null,null,null,null,null,null,null,null,null,0,0,0]
[null,null,null,null,null,null,null,null,null,null,null,0,0,0]
[null,null,null,null,null,null,null,null,null,null,null,0,0,0]
[null,null,null,null,null,null,null,null,null,null,null,0,0,0]
[null,null,null,null,null,null,null,null,null,null,null,0,0,0]
[null,null,null,null,null,null,null,null,null,null,null,0,0,0]
[null,null,null,null,null,null,null,null,null,null,null,0,0,0]
[null,null,null,null,null,null,null,null,null,null,null,{"$f":"SUM(D2626:K2626)","v":0},0,0]
[null,null,null,null,null,null,null,null,null,null,null,0,0,0]
[null,null,null,null,null,null,null,null,null,null,null,0,0,0]
[null,null,null,null,null,null,null,null,null,null,null,0,0,0]
[null,null,null,null,null,null,null,null,null,null,null,0,0,0]
[null,null,null,null,null,null,null,null,null,null,null,0,0,0]
[null,null,null,null,null,null,null,null,null,null,null,0,0,0]
[null,null,null,null,null,null,null,null,null,null,null,0,0,0]
[null,null,null,null,null,null,null,null,null,null,null,0,0,0]
[null,null,null,null,null,null,null,null,null,null,null,0,0,0]
[null,null,null,null,null,null,null,null,null,null,null,0,0,0]
[null,null,null,null,null,null,null,null,null,null,null,0,0,0]
[null,null,null,null,null,null,null,null,null,null,null,0,0,0]
[null,null,null,null,null,null,null,null,null,null,null,0,0,0]
[null,null,null,null,null,null,null,null,null,null,null,0,0,0]
[null,null,null,null,null,null,null,null,null,null,null,0,0,0]
[null,null,null,null,null,null,null,null,null,null,null,{"$f":"SUM(D2642:K2642)","v":0},0,0]
[null,null,null,null,null,null,null,null,null,null,null,{"$f":"SUM(D2643:K2643)","v":0},0,0]
[null,null,null,null,null,null,null,null,null,null,null,0,0,0]
[null,null,null,null,null,null,null,null,null,null,null,0,0,0]
[null,null,null,null,null,null,null,null,null,null,null,0,0,0]
[null,null,null,null,null,null,null,null,null,null,null,0,0,0]
[null,null,null,null,null,null,null,null,null,null,null,0,0,0]
[null,null,null,null,null,null,null,null,null,null,null,0,0,0]
[null,null,null,null,null,null,null,null,null,null,null,0,0,0]
[null,null,null,null,null,null,null,null,null,null,null,0,0,0]
[null,null,null,null,null,null,null,null,null,null,null,0,0,0]
[null,null,null,null,null,null,null,null,null,null,null,0,0,0]
[null,null,null,null,null,null,null,null,null,null,null,0,0,0]
[null,null,null,null,null,null,null,null,null,null,null,0,0,0]
[null,null,null,null,null,null,null,null,null,null,null,0,0,0]
[null,null,null,null,null,null,null,null,null,null,null,0,0,0]
[null,null,null,null,null,null,null,null,null,null,null,0,0,0]
[null,null,null,null,null,null,null,null,null,null,null,0,0,0]
[null,null,null,null,null,null,null,null,null,null,null,0,0,0]
[null,null,null,null,null,null,null,null,null,null,null,0,0,0]
[null,null,null,null,null,null,null,null,null,null,null,0,0,0]
[null,null,null,null,null,null,null,null,null,null,null,0,0,0]
[null,null,null,null,null,null,null,null,null,null,null,0,0,0]
[null,null,null,null,null,null,null,null,null,null,null,0,0,0]
[null,null,null,null,null,null,null,null,null,null,null,0,0,0]
[null,null,null,null,null,null,null,null,null,null,null,0,0,0]
[null,null,null,null,null,null,null,null,null,null,null,0,0,0]
[null,null,null,null,null,null,null,null,null,null,null,0,0,0]
[null,null,null,null,null,null,null,null,null,null,null,0,0,0]
[null,null,null,null,null,null,null,null,null,null,null,0,0,0]
[null,null,null,null,null,null,null,null,null,null,null,0,0,0]
[null,null,null,null,null,null,null,null,null,null,null,0,0,0]
[null,null,null,null,null,null,null,null,null,null,null,0,0,0]
[null,null,null,null,null,null,null,null,null,null,null,0,0,0]
[null,null,null,null,null,null,null,null,null,null,null,0,0,0]
[null,null,null,null,null,null,null,null,null,null,null,0,0,0]
[null,null,null,null,null,null,null,null,null,null,null,0,0,0]
[null,null,null,null,null,null,null,null,null,null,null,0,0,0]
[null,null,null,null,null,null,null,null,null,null,null,0,0,0]
[null,null,null,null,null,null,null,null,null,null,null,0,0,0]
[null,null,null,null,null,null,null,null,null,null,null,0,0,0]
[null,null,null,null,null,null,null,null,null,null,null,0,0,0]
[null,null,null,null,null,null,null,null,null,null,null,0,0,0]
[null,null,null,null,null,null,null,null,null,null,null,0,0,0]
[null,null,null,null,null,null,null,null,null,null,null,0,0,0]
[null,null,null,null,null,null,null,null,null,null,null,0,0,0]
[null,null,null,null,null,null,null,null,null,null,null,0,0,0]
[null,null,null,null,null,null,null,null,null,null,null,0,0,0]
[null,null,null,null,null,null,null,null,null,null,null,0,0,0]
[null,null,null,null,null,null,null,null,null,null,null,0,0,0]
[null,null,null,null,null,null,null,null,null,null,null,0,0,0]
[null,null,null,null,null,null,null,null,null,null,null,0,0,0]
[null,null,null,null,null,null,null,null,null,null,null,0,0,0]
[null,null,null,null,null,null,null,null,null,null,null,0,0,0]
[null,null,null,null,null,null,null,null,null,null,null,0,0,0]
[null,null,null,null,null,null,null,null,null,null,null,0,0,0]
[null,null,null,null,null,null,null,null,null,null,null,0,0,0]
[null,null,null,null,null,null,null,null,null,null,null,0,0,0]
[null,null,null,null,null,null,null,null,null,null,null,0,0,0]
[null,null,null,null,null,null,null,null,null,null,null,0,0,0]
[null,null,null,null,null,null,null,null,null,null,null,0,0,0]
[null,null,null,null,null,null,null,null,null,null,null,0,0,0]
[null,null,null,null,null,null,null,null,null,null,null,0,0,0]
[null,null,null,null,null,null,null,null,null,null,null,0,0,0]
[null,null,null,null,null,null,null,null,null,null,null,0,0,0]
[null,null,null,null,null,null,null,null,null,null,null,{"$f":"SUM(D2707:K2707)","v":0},0,0]
[null,null,null,null,null,null,null,null,null,null,null,0,0,0]
[null,null,null,null,null,null,null,null,null,null,null,0,0,0]
[null,null,null,null,null,null,null,null,null,null,null,0,0,0]
[null,null,null,null,null,null,null,null,null,null,null,0,0,0]
[null,null,null,null,null,null,null,null,null,null,null,0,0,0]
[null,null,null,null,null,null,null,null,null,null,null,0,0,0]
[null,null,null,null,null,null,null,null,null,null,null,0,0,0]
[null,null,null,null,null,null,null,null,null,null,null,0,0,0]
[null,null,null,null,null,null,null,null,null,null,null,0,0,0]
[null,null,null,null,null,null,null,null,null,null,null,0,0,0]
[null,null,null,null,null,null,null,null,null,null,null,0,0,0]
[null,null,null,null,null,null,null,null,null,null,null,0,0,0]
[null,null,null,null,null,null,null,null,null,null,null,0,0,0]
[null,null,null,null,null,null,null,null,null,null,null,0,0,0]
[null,null,null,null,null,null,null,null,null,null,null,{"$f":"SUM(D2722:K2722)","v":0},0,0]
[null,null,null,null,null,null,null,null,null,null,null,{"$f":"SUM(D2723:K2723)","v":0},0,0]
[null,null,null,null,null,null,null,null,null,null,null,0,0,0]
[null,null,null,null,null,null,null,null,null,null,null,0,0,0]
[null,null,null,null,null,null,null,null,null,null,null,0,0,0]
[null,null,null,null,null,null,null,null,null,null,null,0,0,0]
[null,null,null,null,null,null,null,null,null,null,null,0,0,0]
[null,null,null,null,null,null,null,null,null,null,null,0,0,0]
[null,null,null,null,null,null,null,null,null,null,null,0,0,0]
[null,null,null,null,null,null,null,null,null,null,null,0,0,0]
[null,null,null,null,null,null,null,null,null,null,null,0,0,0]
[null,null,null,null,null,null,null,null,null,null,null,0,0,0]
[null,null,null,null,null,null,null,null,null,null,null,0,0,0]
[null,null,null,null,null,null,null,null,null,null,null,0,0,0]
[null,null,null,null,null,null,null,null,null,null,null,0,0,0]
[null,null,null,null,null,null,null,null,null,null,null,0,0,0]
[null,null,null,null,null,null,null,null,null,null,null,0,0,0]
[null,null,null,null,null,null,null,null,null,null,null,0,0,0]
[null,null,null,null,null,null,null,null,null,null,null,0,0,0]
[null,null,null,null,null,null,null,null,null,null,null,0,0,0]
[null,null,null,null,null,null,null,null,null,null,null,0,0,0]
[null,null,null,null,null,null,null,null,null,null,null,0,0,0]
[null,null,null,null,null,null,null,null,null,null,null,0,0,0]
[null,null,null,null,null,null,null,null,null,null,null,0,0,0]
[null,null,null,null,null,null,null,null,null,null,null,0,0,0]
[null,null,null,null,null,null,null,null,null,null,null,0,0,0]
[null,null,null,null,null,null,null,null,null,null,null,0,0,0]
[null,null,null,null,null,null,null,null,null,null,null,0,0,0]
[null,null,null,null,null,null,null,null,null,null,null,0,0,0]
[null,null,null,null,null,null,null,null,null,null,null,0,0,0]
[null,null,null,null,null,null,null,null,null,null,null,0,0,0]
[null,null,null,null,null,null,null,null,null,null,null,0,0,0]
[null,null,null,null,null,null,null,null,null,null,null,0,0,0]
[null,null,null,null,null,null,null,null,null,null,null,0,0,0]
[null,null,null,null,null,null,null,null,null,null,null,0,0,0]
[null,null,null,null,null,null,null,null,null,null,null,0,0,0]
[null,null,null,null,null,null,null,null,null,null,null,0,0,0]
[null,null,null,null,null,null,null,null,null,null,null,0,0,0]
[null,null,null,null,null,null,null,null,null,null,null,0,0,0]
[null,null,null,null,null,null,null,null,null,null,null,0,0,0]
[null,null,null,null,null,null,null,null,null,null,null,0,0,0]
[null,null,null,null,null,null,null,null,null,null,null,0,0,0]
[null,null,null,null,null,null,null,null,null,null,null,0,0,0]
[null,null,null,null,null,null,null,null,null,null,null,0,0,0]
[null,null,null,null,null,null,null,null,null,null,null,0,0,0]
[null,null,null,null,null,null,null,null,null,null,null,0,0,0]
[null,null,null,null,null,null,null,null,null,null,null,0,0,0]
[null,null,null,null,null,null,null,null,null,null,null,0,0,0]
[null,null,null,null,null,null,null,null,null,null,null,0,0,0]
[null,null,null,null,null,null,null,null,null,null,null,0,0,0]
[null,null,null,null,null,null,null,null,null,null,null,0,0,0]
[null,null,null,null,null,null,null,null,null,null,null,0,0,0]
[null,null,null,null,null,null,null,null,null,null,null,0,0,0]
[null,null,null,null,null,null,null,null,null,null,null,0,0,0]
[null,null,null,null,null,null,null,null,null,null,null,0,0,0]
[null,null,null,null,null,null,null,null,null,null,null,0,0,0]
[null,null,null,null,null,null,null,null,null,null,null,0,0,0]
[null,null,null,null,null,null,null,null,null,null,null,0,0,0]
[null,null,null,null,null,null,null,null,null,null,null,0,0,0]
[null,null,null,null,null,null,null,null,null,null,null,0,0,0]
[null,null,null,null,null,null,null,null,null,null,null,0,0,0]
[null,null,null,null,null,null,null,null,null,null,null,0,0,{"$f":"MAX(L2783-M2783,0)","v":0}]
[null,null,null,null,null,null,null,null,null,null,null,0,0,0]
[null,null,null,null,null,null,null,null,null,null,null,0,0,0]
[null,null,null,null,null,null,null,null,null,null,null,0,0,0]
[null,null,null,null,null,null,null,null,null,null,null,{"$f":"SUM(D2787:K2787)","v":0},0,0]
[null,null,null,null,null,null,null,null,null,null,null,0,0,0]
[null,null,null,null,null,null,null,null,null,null,null,0,0,0]
[null,null,null,null,null,null,null,null,null,null,null,0,0,0]
[null,null,null,null,null,null,null,null,null,null,null,0,0,0]
[null,null,null,null,null,null,null,null,null,null,null,0,0,0]
[null,null,null,null,null,null,null,null,null,null,null,0,0,0]
[null,null,null,null,null,null,null,null,null,null,null,0,0,0]
[null,null,null,null,null,null,null,null,null,null,null,0,0,0]
[null,null,null,null,null,null,null,null,null,null,null,0,0,0]
[null,null,null,null,null,null,null,null,null,null,null,0,0,0]
[null,null,null,null,null,null,null,null,null,null,null,0,0,0]
[null,null,null,null,null,null,null,null,null,null,null,0,0,0]
[null,null,null,null,null,null,null,null,null,null,null,0,0,0]
[null,null,null,null,null,null,null,null,null,null,null,0,0,0]
[null,null,null,null,null,null,null,null,null,null,null,0,0,0]
[null,null,null,null,null,null,null,null,null,null,null,{"$f":"SUM(D2803:K2803)","v":0},0,0]
[null,null,null,null,null,null,null,null,null,null,null,{"$f":"SUM(D2804:K2804)","v":0},0,0]
[null,null,null,null,null,null,null,null,null,null,null,0,0,0]
[null,null,null,null,null,null,null,null,null,null,null,0,0,0]
[null,null,null,null,null,null,null,null,null,null,null,0,0,0]
[null,null,null,null,null,null,null,null,null,null,null,0,0,0]
[null,null,null,null,null,null,null,null,null,null,null,0,0,0]
[null,null,null,null,null,null,null,null,null,null,null,0,0,0]
[null,null,null,null,null,null,null,null,null,null,null,0,0,0]
[null,null,null,null,null,null,null,null,null,null,null,0,0,0]
[null,null,null,null,null,null,null,null,null,null,null,0,0,0]
[null,null,null,null,null,null,null,null,null,null,null,0,0,0]
[null,null,null,null,null,null,null,null,null,null,null,0,0,0]
[null,null,null,null,null,null,null,null,null,null,null,0,0,0]
[null,null,null,null,null,null,null,null,null,null,null,0,0,0]
[null,null,null,null,null,null,null,null,null,null,null,0,0,0]
[null,null,null,null,null,null,null,null,null,null,null,0,0,0]
[null,null,null,null,null,null,null,null,null,null,null,0,0,0]
[null,null,null,null,null,null,null,null,null,null,null,0,0,0]
[null,null,null,null,null,null,null,null,null,null,null,0,0,0]
[null,null,null,null,null,null,null,null,null,null,null,0,0,0]
[null,null,null,null,null,null,null,null,null,null,null,0,0,0]
[null,null,null,null,null,null,null,null,null,null,null,0,0,0]
[null,null,null,null,null,null,null,null,null,null,null,0,{"$f":"$C$14*$C$13","v":0},0]
[null,null,null,null,null,null,null,null,null,null,null,0,0,0]
[null,null,null,null,null,null,null,null,null,null,null,0,0,0]
[null,null,null,null,null,null,null,null,null,null,null,0,0,0]
[null,null,null,null,null,null,null,null,null,null,null,0,0,0]
[null,null,null,null,null,null,null,null,null,null,null,0,0,0]
[null,null,null,null,null,null,null,null,null,null,null,0,0,0]
[null,null,null,null,null,null,null,null,null,null,null,0,0,0]
[null,null,null,null,null,null,null,null,null,null,null,0,0,0]
[null,null,null,null,null,null,null,null,null,null,null,0,0,0]
[null,null,null,null,null,null,null,null,null,null,null,0,0,0]
[null,null,null,null,null,null,null,null,null,null,null,0,0,0]
[null,null,null,null,null,null,null,null,null,null,null,0,0,0]
[null,null,null,null,null,null,null,null,null,null,null,0,0,0]
[null,null,null,null,null,null,null,null,null,null,null,0,0,0]
[null,null,null,null,null,null,null,null,null,null,null,0,0,0]
[null,null,null,null,null,null,null,null,null,null,null,0,0,0]
[null,null,null,null,null,null,null,null,null,null,null,0,0,0]
[null,null,null,null,null,null,null,null,null,null,null,0,0,0]
[null,null,null,null,null,null,null,null,null,null,null,0,0,0]
[null,null,null,null,null,null,null,null,null,null,null,0,0,0]
[null,null,null,null,null,null,null,null,null,null,null,0,0,0]
[null,null,null,null,null,null,null,null,null,null,null,0,0,0]
[null,null,null,null,null,null,null,null,null,null,null,0,0,0]
[null,null,null,null,null,null,null,null,null,null,null,0,0,0]
[null,null,null,null,null,null,null,null,null,null,null,0,0,0]
[null,null,null,null,null,null,null,null,null,null,null,0,0,0]
[null,null,null,null,null,null,null,null,null,null,null,0,0,0]
[null,null,null,null,null,null,null,null,null,null,null,0,0,0]
[null,null,null,null,null,null,null,null,null,null,null,0,0,0]
[null,null,null,null,null,null,null,null,null,null,null,0,0,0]
[null,null,null,null,null,null,null,null,null,null,null,0,0,0]
[null,null,null,null,null,null,null,null,null,null,null,0,0,0]
[null,null,null,null,null,null,null,null,null,null,null,0,0,0]
[null,null,null,null,null,null,null,null,null,null,null,0,0,0]
[null,null,null,null,null,null,null,null,null,null,null,0,0,0]
[null,null,null,null,null,null,null,null,null,null,null,0,0,0]
[null,null,null,null,null,null,null,null,null,null,null,0,0,0]
[null,null,null,null,null,null,null,null,null,null,null,0,0,0]
[null,null,null,null,null,null,null,null,null,null,null,0,0,0]
[null,null,null,null,null,null,null,null,null,null,null,0,0,0]
[null,null,null,null,null,null,null,null,null,null,null,0,0,0]
[null,null,null,null,null,null,null,null,null,null,null,{"$f":"SUM(D2868:K2868)","v":0},0,0]
[null,null,null,null,null,null,null,null,null,null,null,0,0,0]
[null,null,null,null,null,null,null,null,null,null,null,0,0,0]
[null,null,null,null,null,null,null,null,null,null,null,0,0,0]
[null,null,null,null,null,null,null,null,null,null,null,0,0,0]
[null,null,null,null,null,null,null,null,null,null,null,0,0,0]
[null,null,null,null,null,null,null,null,null,null,null,0,0,0]
[null,null,null,null,null,null,null,null,null,null,null,0,0,0]
[null,null,null,null,null,null,null,null,null,null,null,0,0,0]
[null,null,null,null,null,null,null,null,null,null,null,0,0,0]
[null,null,null,null,null,null,null,null,null,null,null,0,0,0]
[null,null,null,null,null,null,null,null,null,null,null,0,0,0]
[null,null,null,null,null,null,null,null,null,null,null,0,0,0]
[null,null,null,null,null,null,null,null,null,null,null,0,0,0]
[null,null,null,null,null,null,null,null,null,null,null,0,0,0]
[null,null,null,null,null,null,null,null,null,null,null,0,0,0]
[null,null,null,null,null,null,null,null,null,null,null,0,0,0]
[null,null,null,null,null,null,null,null,null,null,null,{"$f":"SUM(D2885:K2885)","v":0},{"$f":"$C$14*$C$13","v":0},{"$f":"MAX(L2885-M2885,0)","v":0}]
[null,null,null,null,null,null,null,null,null,null,null,0,0,0]
[null,null,null,null,null,null,null,null,null,null,null,0,0,0]
[null,null,null,null,null,null,null,null,null,null,null,0,0,0]
[null,null,null,null,null,null,null,null,null,null,null,0,0,0]
[null,null,null,null,null,null,null,null,null,null,null,0,0,0]
[null,null,null,null,null,null,null,null,null,null,null,0,0,0]
[null,null,null,null,null,null,null,null,null,null,null,0,0,0]
[null,null,null,null,null,null,null,null,null,null,null,0,0,0]
[null,null,null,null,null,null,null,null,null,null,null,0,0,0]
[null,null,null,null,null,null,null,null,null,null,null,0,0,0]
[null,null,null,null,null,null,null,null,null,null,null,0,0,0]
[null,null,null,null,null,null,null,null,null,null,null,0,0,0]
[null,null,null,null,null,null,null,null,null,null,null,0,0,0]
[null,null,null,null,null,null,null,null,null,null,null,0,0,0]
[null,null,null,null,null,null,null,null,null,null,null,0,0,0]
[null,null,null,null,null,null,null,null,null,null,null,0,0,0]
[null,null,null,null,null,null,null,null,null,null,null,0,0,0]
[null,null,null,null,null,null,null,null,null,null,null,0,0,0]
[null,null,null,null,null,null,null,null,null,null,null,0,0,0]
[null,null,null,null,null,null,null,null,null,null,null,0,0,0]
[null,null,null,null,null,null,null,null,null,null,null,0,0,0]
[null,null,null,null,null,null,null,null,null,null,null,0,0,0]
[null,null,null,null,null,null,null,null,null,null,null,0,0,0]
[null,null,null,null,null,null,null,null,null,null,null,0,0,0]
[null,null,null,null,null,null,null,null,null,null,null,0,0,0]
[null,null,null,null,null,null,null,null,null,null,null,0,0,0]
[null,null,null,null,null,null,null,null,null,null,null,0,0,0]
[null,null,null,null,null,null,null,null,null,null,null,0,0,0]
[null,null,null,null,null,null,null,null,null,null,null,0,0,0]
[null,null,null,null,null,null,null,null,null,null,null,0,0,0]
[null,null,null,null,null,null,null,null,null,null,null,0,0,0]
[null,null,null,null,null,null,null,null,null,null,null,0,0,0]
[null,null,null,null,null,null,null,null,null,null,null,{"$f":"SUM(D2918:K2918)","v":0},0,0]
[null,null,null,null,null,null,null,null,null,null,null,0,0,0]
[null,null,null,null,null,null,null,null,null,null,null,0,0,0]
[null,null,null,null,null,null,null,null,null,null,null,0,0,0]
[null,null,null,null,null,null,null,null,null,null,null,0,0,0]
[null,null,null,null,null,null,null,null,null,null,null,0,0,0]
[null,null,null,null,null,null,null,null,null,null,null,0,0,0]
[null,null,null,null,null,null,null,null,null,null,null,0,0,0]
[null,null,null,null,null,null,null,null,null,null,null,0,0,0]
[null,null,null,null,null,null,null,null,null,null,null,0,0,0]
[null,null,null,null,null,null,null,null,null,null,null,0,0,0]
[null,null,null,null,null,null,null,null,null,null,null,0,0,0]
[null,null,null,null,null,null,null,null,null,null,null,0,0,0]
[null,null,null,null,null,null,null,null,null,null,null,0,0,0]
[null,null,null,null,null,null,null,null,null,null,null,{"$f":"SUM(D2932:K2932)","v":0},0,{"$f":"MAX(L2932-M2932,0)","v":0}]
[null,null,null,null,null,null,null,null,null,null,null,0,0,0]
[null,null,null,null,null,null,null,null,null,null,null,0,0,0]
[null,null,null,null,null,null,null,null,null,null,null,0,0,0]
[null,null,null,null,null,null,null,null,null,null,null,0,0,0]
[null,null,null,null,null,null,null,null,null,null,null,0,0,0]
[null,null,null,null,null,null,null,null,null,null,null,0,0,0]
[null,null,null,null,null,null,null,null,null,null,null,0,0,0]
[null,null,null,null,null,null,null,null,null,null,null,0,0,0]
[null,null,null,null,null,null,null,null,null,null,null,0,0,0]
[null,null,null,null,null,null,null,null,null,null,null,0,0,0]
[null,null,null,null,null,null,null,null,null,null,null,0,0,0]
[null,null,null,null,null,null,null,null,null,null,null,0,0,0]
[null,null,null,null,null,null,null,null,null,null,null,0,0,0]
[null,null,null,null,null,null,null,null,null,null,null,0,0,0]
[null,null,null,null,null,null,null,null,null,null,null,0,0,0]
[null,null,null,null,null,null,null,null,null,null,null,0,0,0]
[null,null,null,null,null,null,null,null,null,null,null,{"$f":"SUM(D2949:K2949)","v":0},0,{"$f":"MAX(L2949-M2949,0)","v":0}]
[null,null,null,null,null,null,null,null,null,null,null,0,0,0]
[null,null,null,null,null,null,null,null,null,null,null,0,0,0]
[null,null,null,null,null,null,null,null,null,null,null,0,0,0]
[null,null,null,null,null,null,null,null,null,null,null,0,0,0]
[null,null,null,null,null,null,null,null,null,null,null,0,0,0]
[null,null,null,null,null,null,null,null,null,null,null,0,0,0]
[null,null,null,null,null,null,null,null,null,null,null,0,0,0]
[null,null,null,null,null,null,null,null,null,null,null,0,0,0]
[null,null,null,null,null,null,null,null,null,null,null,0,0,0]
[null,null,null,null,null,null,null,null,null,null,null,0,0,0]
[null,null,null,null,null,null,null,null,null,null,null,0,0,0]
[null,null,null,null,null,null,null,null,null,null,null,0,0,0]
[null,null,null,null,null,null,null,null,null,null,null,0,0,0]
[null,null,null,null,null,null,null,null,null,null,null,0,0,0]
[null,null,null,null,null,null,null,null,null,null,null,0,0,0]
[null,null,null,null,null,null,null,null,null,null,null,{"$f":"SUM(D2965:K2965)","v":0},0,0]
[null,null,null,null,null,null,null,null,null,null,null,{"$f":"SUM(D2966:K2966)","v":0},0,0]
[null,null,null,null,null,null,null,null,null,null,null,0,0,0]
[null,null,null,null,null,null,null,null,null,null,null,0,0,0]
[null,null,null,null,null,null,null,null,null,null,null,0,0,0]
[null,null,null,null,null,null,null,null,null,null,null,0,0,0]
[null,null,null,null,null,null,null,null,null,null,null,0,0,0]
[null,null,null,null,null,null,null,null,null,null,null,0,0,0]
[null,null,null,null,null,null,null,null,null,null,null,0,0,0]
[null,null,null,null,null,null,null,null,null,null,null,0,0,0]
[null,null,null,null,null,null,null,null,null,null,null,0,0,0]
[null,null,null,null,null,null,null,null,null,null,null,0,0,0]
[null,null,null,null,null,null,null,null,null,null,null,0,0,0]
[null,null,null,null,null,null,null,null,null,null,null,0,0,0]
[null,null,null,null,null,null,null,null,null,null,null,0,0,0]
[null,null,null,null,null,null,null,null,null,null,null,0,0,0]
[null,null,null,null,null,null,null,null,null,null,null,0,0,0]
[null,null,null,null,null,null,null,null,null,null,null,0,0,0]
[null,null,null,null,null,null,null,null,null,null,null,0,0,0]
[null,null,null,null,null,null,null,null,null,null,null,0,0,0]
[null,null,null,null,null,null,null,null,null,null,null,0,0,0]
[null,null,null,null,null,null,null,null,null,null,null,0,0,0]
[null,null,null,null,null,null,null,null,null,null,null,0,0,0]
[null,null,null,null,null,null,null,null,null,null,null,0,0,0]
[null,null,null,null,null,null,null,null,null,null,null,0,0,0]
[null,null,null,null,null,null,null,null,null,null,null,0,0,0]
[null,null,null,null,null,null,null,null,null,null,null,0,0,0]
[null,null,null,null,null,null,null,null,null,null,null,0,0,0]
[null,null,null,null,null,null,null,null,null,null,null,0,0,0]
[null,null,null,null,null,null,null,null,null,null,null,0,0,0]
[null,null,null,null,null,null,null,null,null,null,null,0,0,0]
[null,null,null,null,null,null,null,null,null,null,null,0,0,0]
[null,null,null,null,null,null,null,null,null,null,null,0,0,0]
[null,null,null,null,null,null,null,null,null,null,null,0,0,0]
[null,null,null,null,null,null,null,null,null,null,null,0,0,0]
[null,null,null,null,null,null,null,null,null,null,null,0,0,0]
[null,null,null,null,null,null,null,null,null,null,null,0,0,0]
[null,null,null,null,null,null,null,null,null,null,null,0,0,0]
[null,null,null,null,null,null,null,null,null,null,null,0,0,0]
[null,null,null,null,null,null,null,null,null,null,null,0,0,0]
[null,null,null,null,null,null,null,null,null,null,null,0,0,0]
[null,null,null,null,null,null,null,null,null,null,null,0,0,0]
[null,null,null,null,null,null,null,null,null,null,null,0,0,0]
[null,null,null,null,null,null,null,null,null,null,null,0,0,0]
[null,null,null,null,null,null,null,null,null,null,null,0,0,0]
[null,null,null,null,null,null,null,null,null,null,null,0,0,0]
[null,null,null,null,null,null,null,null,null,null,null,0,0,0]
[null,null,null,null,null,null,null,null,null,null,null,0,0,0]
[null,null,null,null,null,null,null,null,null,null,null,0,0,{"$f":"MAX(L3013-M3013,0)","v":0}]
[null,null,null,null,null,null,null,null,null,null,null,0,0,0]
[null,null,null,null,null,null,null,null,null,null,null,0,0,0]
[null,null,null,null,null,null,null,null,null,null,null,0,0,0]
[null,null,null,null,null,null,null,null,null,null,null,0,0,0]
[null,null,null,null,null,null,null,null,null,null,null,0,0,0]
[null,null,null,null,null,null,null,null,null,null,null,0,0,0]
[null,null,null,null,null,null,null,null,null,null,null,0,0,0]
[null,null,null,null,null,null,null,null,null,null,null,0,0,0]
[null,null,null,null,null,null,null,null,null,null,null,0,0,0]
[null,null,null,null,null,null,null,null,null,null,null,0,0,0]
[null,null,null,null,null,null,null,null,null,null,null,0,0,0]
[null,null,null,null,null,null,null,null,null,null,null,0,0,0]
[null,null,null,null,null,null,null,null,null,null,null,0,0,0]
[null,null,null,null,null,null,null,null,null,null,null,0,0,0]
[null,null,null,null,null,null,null,null,null,null,null,0,0,0]
[null,null,null,null,null,null,null,null,null,null,null,0,0,0]
[null,null,null,null,null,null,null,null,null,null,null,{"$f":"SUM(D3030:K3030)","v":0},0,0]
[null,null,null,null,null,null,null,null,null,null,null,0,0,0]
[null,null,null,null,null,null,null,null,null,null,null,0,0,0]
[null,null,null,null,null,null,null,null,null,null,null,0,0,0]
[null,null,null,null,null,null,null,null,null,null,null,0,0,0]
[null,null,null,null,null,null,null,null,null,null,null,0,0,0]
[null,null,null,null,null,null,null,null,null,null,null,0,0,0]
[null,null,null,null,null,null,null,null,null,null,null,0,0,0]
[null,null,null,null,null,null,null,null,null,null,null,0,0,0]
[null,null,null,null,null,null,null,null,null,null,null,0,0,0]
[null,null,null,null,null,null,null,null,null,null,null,0,0,0]
[null,null,null,null,null,null,null,null,null,null,null,0,0,0]
[null,null,null,null,null,null,null,null,null,null,null,0,0,0]
[null,null,null,null,null,null,null,null,null,null,null,0,0,0]
[null,null,null,null,null,null,null,null,null,null,null,0,0,0]
[null,null,null,null,null,null,null,null,null,null,null,{"$f":"SUM(D3045:K3045)","v":0},0,0]
[null,null,null,null,null,null,null,null,null,null,null,{"$f":"SUM(D3046:K3046)","v":0},0,0]
[null,null,null,null,null,null,null,null,null,null,null,0,0,0]
[null,null,null,null,null,null,null,null,null,null,null,0,0,0]
[null,null,null,null,null,null,null,null,null,null,null,0,0,0]
[null,null,null,null,null,null,null,null,null,null,null,0,0,0]
[null,null,null,null,null,null,null,null,null,null,null,0,0,0]
[null,null,null,null,null,null,null,null,null,null,null,0,0,0]
[null,null,null,null,null,null,null,null,null,null,null,0,0,0]
[null,null,null,null,null,null,null,null,null,null,null,0,0,0]
[null,null,null,null,null,null,null,null,null,null,null,0,0,0]
[null,null,null,null,null,null,null,null,null,null,null,0,0,0]
[null,null,null,null,null,null,null,null,null,null,null,0,0,0]
[null,null,null,null,null,null,null,null,null,null,null,0,0,0]
[null,null,null,null,null,null,null,null,null,null,null,0,0,0]
[null,null,null,null,null,null,null,null,null,null,null,0,0,0]
[null,null,null,null,null,null,null,null,null,null,null,0,0,0]
[null,null,null,null,null,null,null,null,null,null,null,0,0,0]
[null,null,null,null,null,null,null,null,null,null,null,0,0,0]
[null,null,null,null,null,null,null,null,null,null,null,0,0,0]
[null,null,null,null,null,null,null,null,null,null,null,0,0,0]
[null,null,null,null,null,null,null,null,null,null,null,0,0,0]
[null,null,null,null,null,null,null,null,null,null,null,0,0,0]
[null,null,null,null,null,null,null,null,null,null,null,0,0,0]
[null,null,null,null,null,null,null,null,null,null,null,0,0,0]
[null,null,null,null,null,null,null,null,null,null,null,0,0,0]
[null,null,null,null,null,null,null,null,null,null,null,0,0,0]
[null,null,null,null,null,null,null,null,null,null,null,0,0,0]
[null,null,null,null,null,null,null,null,null,null,null,0,0,0]
[null,null,null,null,null,null,null,null,null,null,null,0,0,0]
[null,null,null,null,null,null,null,null,null,null,null,0,0,0]
[null,null,null,null,null,null,null,null,null,null,null,0,0,0]
[null,null,null,null,null,null,null,null,null,null,null,0,0,0]
[null,null,null,null,null,null,null,null,null,null,null,0,0,0]
[null,null,null,null,null,null,null,null,null,null,null,0,0,0]
[null,null,null,null,null,null,null,null,null,null,null,0,0,0]
[null,null,null,null,null,null,null,null,null,null,null,0,0,0]
[null,null,null,null,null,null,null,null,null,null,null,0,0,0]
[null,null,null,null,null,null,null,null,null,null,null,0,0,0]
[null,null,null,null,null,null,null,null,null,null,null,0,0,0]
[null,null,null,null,null,null,null,null,null,null,null,0,0,0]
[null,null,null,null,null,null,null,null,null,null,null,0,0,0]
[null,null,null,null,null,null,null,null,null,null,null,0,0,0]
[null,null,null,null,null,null,null,null,null,null,null,0,0,0]
[null,null,null,null,null,null,null,null,null,null,null,0,0,0]
[null,null,null,null,null,null,null,null,null,null,null,0,0,0]
[null,null,null,null,null,null,null,null,null,null,null,0,0,0]
[null,null,null,null,null,null,null,null,null,null,null,0,0,0]
[null,null,null,null,null,null,null,null,null,null,null,0,0,0]
[null,null,null,null,null,null,null,null,null,null,null,0,0,0]
[null,null,null,null,null,null,null,null,null,null,null,0,0,0]
[null,null,null,null,null,null,null,null,null,null,null,0,0,0]
[null,null,null,null,null,null,null,null,null,null,null,0,0,0]
[null,null,null,null,null,null,null,null,null,null,null,0,0,0]
[null,null,null,null,null,null,null,null,null,null,null,0,0,0]
[null,null,null,null,null,null,null,null,null,null,null,0,0,0]
[null,null,null,null,null,null,null,null,null,null,null,0,0,0]
[null,null,null,null,null,null,null,null,null,null,null,0,0,0]
[null,null,null,null,null,null,null,null,null,null,null,0,0,0]
[null,null,null,null,null,null,null,null,null,null,null,0,0,0]
[null,null,null,null,null,null,null,null,null,null,null,0,0,0]
[null,null,null,null,null,null,null,null,null,null,null,0,0,0]
[null,null,null,null,null,null,null,null,null,null,null,0,0,0]
[null,null,null,null,null,null,null,null,null,null,null,0,0,0]
[null,null,null,null,null,null,null,null,null,null,null,0,0,0]
[null,null,null,null,null,null,null,null,null,null,null,{"$f":"SUM(D3110:K3110)","v":0},0,0]
[null,null,null,null,null,null,null,null,null,null,null,0,0,0]
[null,null,null,null,null,null,null,null,null,null,null,0,0,0]
[null,null,null,null,null,null,null,null,null,null,null,0,0,0]
[null,null,null,null,null,null,null,null,null,null,null,0,0,0]
[null,null,null,null,null,null,null,null,null,null,null,0,0,0]
[null,null,null,null,null,null,null,null,null,null,null,0,0,0]
[null,null,null,null,null,null,null,null,null,null,null,0,0,0]
[null,null,null,null,null,null,null,null,null,null,null,0,0,0]
[null,null,null,null,null,null,null,null,null,null,null,0,0,0]
[null,null,null,null,null,null,null,null,null,null,null,0,0,0]
[null,null,null,null,null,null,null,null,null,null,null,0,0,0]
[null,null,null,null,null,null,null,null,null,null,null,0,0,0]
[null,null,null,null,null,null,null,null,null,null,null,0,0,0]
[null,null,null,null,null,null,null,null,null,null,null,0,0,0]
[null,null,null,null,null,null,null,null,null,null,null,0,0,0]
[null,null,null,null,null,null,null,null,null,null,null,{"$f":"SUM(D3126:K3126)","v":0},0,0]
[null,null,null,null,null,null,null,null,null,null,null,{"$f":"SUM(D3127:K3127)","v":0},0,0]
[null,null,null,null,null,null,null,null,null,null,null,0,0,0]
[null,null,null,null,null,null,null,null,null,null,null,0,0,0]
[null,null,null,null,null,null,null,null,null,null,null,0,0,0]
[null,null,null,null,null,null,null,null,null,null,null,0,0,0]
[null,null,null,null,null,null,null,null,null,null,null,0,0,0]
[null,null,null,null,null,null,null,null,null,null,null,0,0,0]
[null,null,null,null,null,null,null,null,null,null,null,0,0,0]
[null,null,null,null,null,null,null,null,null,null,null,0,0,0]
[null,null,null,null,null,null,null,null,null,null,null,0,0,0]
[null,null,null,null,null,null,null,null,null,null,null,0,{"$f":"$C$14*$C$13","v":0},0]
[null,null,null,null,null,null,null,null,null,null,null,0,0,0]
[null,null,null,null,null,null,null,null,null,null,null,0,0,0]
[null,null,null,null,null,null,null,null,null,null,null,0,0,0]
[null,null,null,null,null,null,null,null,null,null,null,0,0,0]
[null,null,null,null,null,null,null,null,null,null,null,0,0,0]
[null,null,null,null,null,null,null,null,null,null,null,0,0,0]
[null,null,null,null,null,null,null,null,null,null,null,0,0,0]
[null,null,null,null,null,null,null,null,null,null,null,0,0,0]
[null,null,null,null,null,null,null,null,null,null,null,0,0,0]
[null,null,null,null,null,null,null,null,null,null,null,0,0,0]
[null,null,null,null,null,null,null,null,null,null,null,0,0,0]
[null,null,null,null,null,null,null,null,null,null,null,0,0,0]
[null,null,null,null,null,null,null,null,null,null,null,0,0,0]
[null,null,null,null,null,null,null,null,null,null,null,0,0,0]
[null,null,null,null,null,null,null,null,null,null,null,0,0,0]
[null,null,null,null,null,null,null,null,null,null,null,0,0,0]
[null,null,null,null,null,null,null,null,null,null,null,0,0,0]
[null,null,null,null,null,null,null,null,null,null,null,0,0,0]
[null,null,null,null,null,null,null,null,null,null,null,0,0,0]
[null,null,null,null,null,null,null,null,null,null,null,0,0,0]
[null,null,null,null,null,null,null,null,null,null,null,0,0,0]
[null,null,null,null,null,null,null,null,null,null,null,0,0,0]
[null,null,null,null,null,null,null,null,null,null,null,0,0,0]
[null,null,null,null,null,null,null,null,null,null,null,0,0,0]
[null,null,null,null,null,null,null,null,null,null,null,0,0,0]
[null,null,null,null,null,null,null,null,null,null,null,0,0,0]
[null,null,null,null,null,null,null,null,null,null,null,0,0,0]
[null,null,null,null,null,null,null,null,null,null,null,0,0,0]
[null,null,null,null,null,null,null,null,null,null,null,0,0,0]
[null,null,null,null,null,null,null,null,null,null,null,0,0,0]
[null,null,null,null,null,null,null,null,null,null,null,0,0,0]
[null,null,null,null,null,null,null,null,null,null,null,0,0,0]
[null,null,null,null,null,null,null,null,null,null,null,0,0,0]
[null,null,null,null,null,null,null,null,null,null,null,0,0,0]
[null,null,null,null,null,null,null,null,null,null,null,0,0,0]
[null,null,null,null,null,null,null,null,null,null,null,0,0,0]
[null,null,null,null,null,null,null,null,null,null,null,0,0,{"$f":"MAX(L3174-M3174,0)","v":0}]
[null,null,null,null,null,null,null,null,null,null,null,0,0,0]
[null,null,null,null,null,null,null,null,null,null,null,0,0,0]
[null,null,null,null,null,null,null,null,null,null,null,0,0,0]
[null,null,null,null,null,null,null,null,null,null,null,0,0,0]
[null,null,null,null,null,null,null,null,null,null,null,0,0,0]
[null,null,null,null,null,null,null,null,null,null,null,0,0,0]
[null,null,null,null,null,null,null,null,null,null,null,0,0,0]
[null,null,null,null,null,null,null,null,null,null,null,0,0,0]
[null,null,null,null,null,null,null,null,null,null,null,0,0,0]
[null,null,null,null,null,null,null,null,null,null,null,0,0,0]
[null,null,null,null,null,null,null,null,null,null,null,0,0,0]
[null,null,null,null,null,null,null,null,null,null,null,0,0,0]
[null,null,null,null,null,null,null,null,null,null,null,0,0,0]
[null,null,null,null,null,null,null,null,null,null,null,0,0,0]
[null,null,null,null,null,null,null,null,null,null,null,0,0,0]
[null,null,null,null,null,null,null,null,null,null,null,0,0,0]
[null,null,null,null,null,null,null,null,null,null,null,{"$f":"SUM(D3191:K3191)","v":0},0,0]
[null,null,null,null,null,null,null,null,null,null,null,0,0,0]
[null,null,null,null,null,null,null,null,null,null,null,0,0,0]
[null,null,null,null,null,null,null,null,null,null,null,0,0,0]
[null,null,null,null,null,null,null,null,null,null,null,0,0,0]
[null,null,null,null,null,null,null,null,null,null,null,0,0,0]
[null,null,null,null,null,null,null,null,null,null,null,0,0,0]
[null,null,null,null,null,null,null,null,null,null,null,0,0,0]
[null,null,null,null,null,null,null,null,null,null,null,0,0,0]
[null,null,null,null,null,null,null,null,null,null,null,0,0,0]
[null,null,null,null,null,null,null,null,null,null,null,0,0,0]
[null,null,null,null,null,null,null,null,null,null,null,0,0,0]
[null,null,null,null,null,null,null,null,null,null,null,0,0,0]
[null,null,null,null,null,null,null,null,null,null,null,0,0,0]
[null,null,null,null,null,null,null,null,null,null,null,0,0,0]
[null,null,null,null,null,null,null,null,null,null,null,{"$f":"SUM(D3206:K3206)","v":0},{"$f":"$C$14*$C$13","v":0},0]
[null,null,null,null,null,null,null,null,null,null,null,{"$f":"SUM(D3207:K3207)","v":0},0,0]
[null,null,null,null,null,null,null,null,null,null,null,0,0,0]
[null,null,null,null,null,null,null,null,null,null,null,0,0,0]
[null,null,null,null,null,null,null,null,null,null,null,0,0,0]
[null,null,null,null,null,null,null,null,null,null,null,0,0,0]
[null,null,null,null,null,null,null,null,null,null,null,0,0,0]
[null,null,null,null,null,null,null,null,null,null,null,0,0,0]
[null,null,null,null,null,null,null,null,null,null,null,0,0,0]
[null,null,null,null,null,null,null,null,null,null,null,0,0,0]
[null,null,null,null,null,null,null,null,null,null,null,0,0,0]
[null,null,null,null,null,null,null,null,null,null,null,0,0,0]
[null,null,null,null,null,null,null,null,null,null,null,0,0,0]
[null,null,null,null,null,null,null,null,null,null,null,0,0,0]
[null,null,null,null,null,null,null,null,null,null,null,0,0,0]
[null,null,null,null,null,null,null,null,null,null,null,0,0,0]
[null,null,null,null,null,null,null,null,null,null,null,0,0,0]
[null,null,null,null,null,null,null,null,null,null,null,0,0,0]
[null,null,null,null,null,null,null,null,null,null,null,0,0,0]
[null,null,null,null,null,null,null,null,null,null,null,0,0,0]
[null,null,null,null,null,null,null,null,null,null,null,0,0,0]
[null,null,null,null,null,null,null,null,null,null,null,0,0,0]
[null,null,null,null,null,null,null,null,null,null,null,0,0,0]
[null,null,null,null,null,null,null,null,null,null,null,0,0,0]
[null,null,null,null,null,null,null,null,null,null,null,0,0,0]
[null,null,null,null,null,null,null,null,null,null,null,0,0,0]
[null,null,null,null,null,null,null,null,null,null,null,0,0,0]
[null,null,null,null,null,null,null,null,null,null,null,0,0,0]
[null,null,null,null,null,null,null,null,null,null,null,0,0,0]
[null,null,null,null,null,null,null,null,null,null,null,0,0,0]
[null,null,null,null,null,null,null,null,null,null,null,0,0,0]
[null,null,null,null,null,null,null,null,null,null,null,0,0,0]
[null,null,null,null,null,null,null,null,null,null,null,0,0,{"$f":"MAX(L3238-M3238,0)","v":0}]
[null,null,null,null,null,null,null,null,null,null,null,0,0,0]
[null,null,null,null,null,null,null,null,null,null,null,0,0,0]
[null,null,null,null,null,null,null,null,null,null,null,0,0,0]
[null,null,null,null,null,null,null,null,null,null,null,0,0,0]
[null,null,null,null,null,null,null,null,null,null,null,0,0,0]
[null,null,null,null,null,null,null,null,null,null,null,0,0,0]
[null,null,null,null,null,null,null,null,null,null,null,0,0,0]
[null,null,null,null,null,null,null,null,null,null,null,0,0,0]
[null,null,null,null,null,null,null,null,null,null,null,0,0,0]
[null,null,null,null,null,null,null,null,null,null,null,0,0,0]
[null,null,null,null,null,null,null,null,null,null,null,0,0,0]
[null,null,null,null,null,null,null,null,null,null,null,0,0,0]
[null,null,null,null,null,null,null,null,null,null,null,0,0,0]
[null,null,null,null,null,null,null,null,null,null,null,0,0,0]
[null,null,null,null,null,null,null,null,null,null,null,0,0,0]
[null,null,null,null,null,null,null,null,null,null,null,0,0,0]
[null,null,null,null,null,null,null,null,null,null,null,0,0,0]
[null,null,null,null,null,null,null,null,null,null,null,0,0,0]
[null,null,null,null,null,null,null,null,null,null,null,0,0,0]
[null,null,null,null,null,null,null,null,null,null,null,0,0,0]
[null,null,null,null,null,null,null,null,null,null,null,0,0,0]
[null,null,null,null,null,null,null,null,null,null,null,0,0,0]
[null,null,null,null,null,null,null,null,null,null,null,0,0,0]
[null,null,null,null,null,null,null,null,null,null,null,0,0,0]
[null,null,null,null,null,null,null,null,null,null,null,0,0,0]
[null,null,null,null,null,null,null,null,null,null,null,0,0,0]
[null,null,null,null,null,null,null,null,null,null,null,0,0,0]
[null,null,null,null,null,null,null,null,null,null,null,0,0,0]
[null,null,null,null,null,null,null,null,null,null,null,0,0,0]
[null,null,null,null,null,null,null,null,null,null,null,0,0,0]
[null,null,null,null,null,null,null,null,null,null,null,0,0,0]
[null,null,null,null,null,null,null,null,null,null,null,0,0,0]
[null,null,null,null,null,null,null,null,null,null,null,{"$f":"SUM(D3271:K3271)","v":0},0,0]
[null,null,null,null,null,null,null,null,null,null,null,0,0,0]
[null,null,null,null,null,null,null,null,null,null,null,0,0,0]
[null,null,null,null,null,null,null,null,null,null,null,0,0,0]
[null,null,null,null,null,null,null,null,null,null,null,0,0,0]
[null,null,null,null,null,null,null,null,null,null,null,0,0,0]
[null,null,null,null,null,null,null,null,null,null,null,0,0,0]
[null,null,null,null,null,null,null,null,null,null,null,0,0,0]
[null,null,null,null,null,null,null,null,null,null,null,0,0,0]
[null,null,null,null,null,null,null,null,null,null,null,0,0,0]
[null,null,null,null,null,null,null,null,null,null,null,0,0,0]
[null,null,null,null,null,null,null,null,null,null,null,0,0,0]
[null,null,null,null,null,null,null,null,null,null,null,0,0,0]
[null,null,null,null,null,null,null,null,null,null,null,0,0,0]
[null,null,null,null,null,null,null,null,null,null,null,0,0,0]
[null,null,null,null,null,null,null,null,null,null,null,0,0,0]
[null,null,null,null,null,null,null,null,null,null,null,{"$f":"SUM(D3287:K3287)","v":0},0,0]
[null,null,null,null,null,null,null,null,null,null,null,{"$f":"SUM(D3288:K3288)","v":0},0,0]
[null,null,null,null,null,null,null,null,null,null,null,0,0,0]
[null,null,null,null,null,null,null,null,null,null,null,0,0,0]
[null,null,null,null,null,null,null,null,null,null,null,0,0,0]
[null,null,null,null,null,null,null,null,null,null,null,0,0,0]
[null,null,null,null,null,null,null,null,null,null,null,0,0,0]
[null,null,null,null,null,null,null,null,null,null,null,0,0,0]
[null,null,null,null,null,null,null,null,null,null,null,0,0,0]
[null,null,null,null,null,null,null,null,null,null,null,0,0,0]
[null,null,null,null,null,null,null,null,null,null,null,0,0,0]
[null,null,null,null,null,null,null,null,null,null,null,0,0,0]
[null,null,null,null,null,null,null,null,null,null,null,0,0,0]
[null,null,null,null,null,null,null,null,null,null,null,0,0,0]
[null,null,null,null,null,null,null,null,null,null,null,0,0,0]
[null,null,null,null,null,null,null,null,null,null,null,0,0,{"$f":"MAX(L3302-M3302,0)","v":0}]
[null,null,null,null,null,null,null,null,null,null,null,0,0,0]
[null,null,null,null,null,null,null,null,null,null,null,0,0,0]
[null,null,null,null,null,null,null,null,null,null,null,0,0,0]
[null,null,null,null,null,null,null,null,null,null,null,0,0,0]
[null,null,null,null,null,null,null,null,null,null,null,0,0,0]
[null,null,null,null,null,null,null,null,null,null,null,0,0,0]
[null,null,null,null,null,null,null,null,null,null,null,0,0,0]
[null,null,null,null,null,null,null,null,null,null,null,0,0,0]
[null,null,null,null,null,null,null,null,null,null,null,0,0,0]
[null,null,null,null,null,null,null,null,null,null,null,0,0,0]
[null,null,null,null,null,null,null,null,null,null,null,0,0,0]
[null,null,null,null,null,null,null,null,null,null,null,0,0,0]
[null,null,null,null,null,null,null,null,null,null,null,0,0,0]
[null,null,null,null,null,null,null,null,null,null,null,0,0,0]
[null,null,null,null,null,null,null,null,null,null,null,0,0,0]
[null,null,null,null,null,null,null,null,null,null,null,0,0,0]
[null,null,null,null,null,null,null,null,null,null,null,0,0,0]
[null,null,null,null,null,null,null,null,null,null,null,0,0,0]
[null,null,null,null,null,null,null,null,null,null,null,0,0,0]
[null,null,null,null,null,null,null,null,null,null,null,0,0,0]
[null,null,null,null,null,null,null,null,null,null,null,0,0,0]
[null,null,null,null,null,null,null,null,null,null,null,0,0,0]
[null,null,null,null,null,null,null,null,null,null,null,0,0,0]
[null,null,null,null,null,null,null,null,null,null,null,0,0,0]
[null,null,null,null,null,null,null,null,null,null,null,0,0,0]
[null,null,null,null,null,null,null,null,null,null,null,0,0,0]
[null,null,null,null,null,null,null,null,null,null,null,0,0,0]
[null,null,null,null,null,null,null,null,null,null,null,0,0,0]
[null,null,null,null,null,null,null,null,null,null,null,0,0,0]
[null,null,null,null,null,null,null,null,null,null,null,0,0,0]
[null,null,null,null,null,null,null,null,null,null,null,0,0,0]
[null,null,null,null,null,null,null,null,null,null,null,0,0,0]
[null,null,null,null,null,null,null,null,null,null,null,0,0,0]
[null,null,null,null,null,null,null,null,null,null,null,0,0,0]
[null,null,null,null,null,null,null,null,null,null,null,0,0,0]
[null,null,null,null,null,null,null,null,null,null,null,0,0,0]
[null,null,null,null,null,null,null,null,null,null,null,0,0,0]
[null,null,null,null,null,null,null,null,null,null,null,0,0,0]
[null,null,null,null,null,null,null,null,null,null,null,0,0,0]
[null,null,null,null,null,null,null,null,null,null,null,0,0,0]
[null,null,null,null,null,null,null,null,null,null,null,0,0,0]
[null,null,null,null,null,null,null,null,null,null,null,0,0,0]
[null,null,null,null,null,null,null,null,null,null,null,0,0,0]
[null,null,null,null,null,null,null,null,null,null,null,0,0,0]
[null,null,null,null,null,null,null,null,null,null,null,0,0,0]
[null,null,null,null,null,null,null,null,null,null,null,0,0,0]
[null,null,null,null,null,null,null,null,null,null,null,0,0,0]
[null,null,null,null,null,null,null,null,null,null,null,0,0,0]
[null,null,null,null,null,null,null,null,null,null,null,0,0,0]
[null,null,null,null,null,null,null,null,null,null,null,{"$f":"SUM(D3352:K3352)","v":0},0,0]
[null,null,null,null,null,null,null,null,null,null,null,0,0,0]
[null,null,null,null,null,null,null,null,null,null,null,0,0,0]
[null,null,null,null,null,null,null,null,null,null,null,0,0,0]
[null,null,null,null,null,null,null,null,null,null,null,0,0,0]
[null,null,null,null,null,null,null,null,null,null,null,0,0,0]
[null,null,null,null,null,null,null,null,null,null,null,0,0,0]
[null,null,null,null,null,null,null,null,null,null,null,0,0,0]
[null,null,null,null,null,null,null,null,null,null,null,0,0,0]
[null,null,null,null,null,null,null,null,null,null,null,0,0,0]
[null,null,null,null,null,null,null,null,null,null,null,0,0,0]
[null,null,null,null,null,null,null,null,null,null,null,0,0,0]
[null,null,null,null,null,null,null,null,null,null,null,0,0,0]
[null,null,null,null,null,null,null,null,null,null,null,0,0,0]
[null,null,null,null,null,null,null,null,null,null,null,0,0,{"$f":"MAX(L3366-M3366,0)","v":0}]
[null,null,null,null,null,null,null,null,null,null,null,{"$f":"SUM(D3367:K3367)","v":0},0,0]
[null,null,null,null,null,null,null,null,null,null,null,{"$f":"SUM(D3368:K3368)","v":0},0,0]
[null,null,null,null,null,null,null,null,null,null,null,0,0,0]
[null,null,null,null,null,null,null,null,null,null,null,0,0,0]
[null,null,null,null,null,null,null,null,null,null,null,0,0,0]
[null,null,null,null,null,null,null,null,null,null,null,0,0,0]
[null,null,null,null,null,null,null,null,null,null,null,0,0,0]
[null,null,null,null,null,null,null,null,null,null,null,0,0,0]
[null,null,null,null,null,null,null,null,null,null,null,0,0,0]
[null,null,null,null,null,null,null,null,null,null,null,0,0,0]
[null,null,null,null,null,null,null,null,null,null,null,0,0,0]
[null,null,null,null,null,null,null,null,null,null,null,0,0,0]
[null,null,null,null,null,null,null,null,null,null,null,0,0,0]
[null,null,null,null,null,null,null,null,null,null,null,0,0,0]
[null,null,null,null,null,null,null,null,null,null,null,0,0,0]
[null,null,null,null,null,null,null,null,null,null,null,0,0,0]
[null,null,null,null,null,null,null,null,null,null,null,0,0,0]
[null,null,null,null,null,null,null,null,null,null,null,0,0,0]
[null,null,null,null,null,null,null,null,null,null,null,0,0,0]
[null,null,null,null,null,null,null,null,null,null,null,0,0,0]
[null,null,null,null,null,null,null,null,null,null,null,0,0,0]
[null,null,null,null,null,null,null,null,null,null,null,0,0,0]
[null,null,null,null,null,null,null,null,null,null,null,0,0,0]
[null,null,null,null,null,null,null,null,null,null,null,0,0,0]
[null,null,null,null,null,null,null,null,null,null,null,0,0,0]
[null,null,null,null,null,null,null,null,null,null,null,0,0,0]
[null,null,null,null,null,null,null,null,null,null,null,0,0,0]
[null,null,null,null,null,null,null,null,null,null,null,0,0,0]
[null,null,null,null,null,null,null,null,null,null,null,0,0,0]
[null,null,null,null,null,null,null,null,null,null,null,0,0,0]
[null,null,null,null,null,null,null,null,null,null,null,0,0,0]
[null,null,null,null,null,null,null,null,null,null,null,0,0,0]
[null,null,null,null,null,null,null,null,null,null,null,0,0,0]
[null,null,null,null,null,null,null,null,null,null,null,0,0,0]
[null,null,null,null,null,null,null,null,null,null,null,0,0,0]
[null,null,null,null,null,null,null,null,null,null,null,0,0,0]
[null,null,null,null,null,null,null,null,null,null,null,0,0,0]
[null,null,null,null,null,null,null,null,null,null,null,0,0,0]
[null,null,null,null,null,null,null,null,null,null,null,0,0,0]
[null,null,null,null,null,null,null,null,null,null,null,0,0,0]
[null,null,null,null,null,null,null,null,null,null,null,0,0,0]
[null,null,null,null,null,null,null,null,null,null,null,0,0,0]
[null,null,null,null,null,null,null,null,null,null,null,0,0,0]
[null,null,null,null,null,null,null,null,null,null,null,0,0,0]
[null,null,null,null,null,null,null,null,null,null,null,0,0,0]
[null,null,null,null,null,null,null,null,null,null,null,0,0,0]
[null,null,null,null,null,null,null,null,null,null,null,0,0,0]
[null,null,null,null,null,null,null,null,null,null,null,0,0,0]
[null,null,null,null,null,null,null,null,null,null,null,0,0,0]
[null,null,null,null,null,null,null,null,null,null,null,0,0,0]
[null,null,null,null,null,null,null,null,null,null,null,0,0,0]
[null,null,null,null,null,null,null,null,null,null,null,0,0,0]
[null,null,null,null,null,null,null,null,null,null,null,0,0,0]
[null,null,null,null,null,null,null,null,null,null,null,0,0,0]
[null,null,null,null,null,null,null,null,null,null,null,0,0,0]
[null,null,null,null,null,null,null,null,null,null,null,0,0,0]
[null,null,null,null,null,null,null,null,null,null,null,0,0,0]
[null,null,null,null,null,null,null,null,null,null,null,0,0,0]
[null,null,null,null,null,null,null,null,null,null,null,0,0,0]
[null,null,null,null,null,null,null,null,null,null,null,0,0,0]
[null,null,null,null,null,null,null,null,null,null,null,0,0,0]
[null,null,null,null,null,null,null,null,null,null,null,0,0,0]
[null,null,null,null,null,null,null,null,null,null,null,0,0,0]
[null,null,null,null,null,null,null,null,null,null,null,0,0,0]
[null,null,null,null,null,null,null,null,null,null,null,0,0,0]
[null,null,null,null,null,null,null,null,null,null,null,{"$f":"SUM(D3432:K3432)","v":0},0,0]
[null,null,null,null,null,null,null,null,null,null,null,0,0,0]
[null,null,null,null,null,null,null,null,null,null,null,0,0,0]
[null,null,null,null,null,null,null,null,null,null,null,0,0,0]
[null,null,null,null,null,null,null,null,null,null,null,0,0,0]
[null,null,null,null,null,null,null,null,null,null,null,0,0,0]
[null,null,null,null,null,null,null,null,null,null,null,0,0,0]
[null,null,null,null,null,null,null,null,null,null,null,0,0,0]
[null,null,null,null,null,null,null,null,null,null,null,0,0,0]
[null,null,null,null,null,null,null,null,null,null,null,0,0,0]
[null,null,null,null,null,null,null,null,null,null,null,0,0,0]
[null,null,null,null,null,null,null,null,null,null,null,0,0,0]
[null,null,null,null,null,null,null,null,null,null,null,0,0,0]
[null,null,null,null,null,null,null,null,null,null,null,0,0,0]
[null,null,null,null,null,null,null,null,null,null,null,0,0,0]
[null,null,null,null,null,null,null,null,null,null,null,0,0,0]
[null,null,null,null,null,null,null,null,null,null,null,{"$f":"SUM(D3448:K3448)","v":0},0,0]
[null,null,null,null,null,null,null,null,null,null,null,{"$f":"SUM(D3449:K3449)","v":0},0,0]
[null,null,null,null,null,null,null,null,null,null,null,0,0,0]
[null,null,null,null,null,null,null,null,null,null,null,0,0,0]
[null,null,null,null,null,null,null,null,null,null,null,0,0,0]
[null,null,null,null,null,null,null,null,null,null,null,0,0,0]
[null,null,null,null,null,null,null,null,null,null,null,0,0,0]
[null,null,null,null,null,null,null,null,null,null,null,0,0,0]
[null,null,null,null,null,null,null,null,null,null,null,0,0,0]
[null,null,null,null,null,null,null,null,null,null,null,0,0,0]
[null,null,null,null,null,null,null,null,null,null,null,0,0,0]
[null,null,null,null,null,null,null,null,null,null,null,0,0,0]
[null,null,null,null,null,null,null,null,null,null,null,0,0,0]
[null,null,null,null,null,null,null,null,null,null,null,0,{"$f":"$C$14*$C$13","v":0},0]
[null,null,null,null,null,null,null,null,null,null,null,0,0,0]
[null,null,null,null,null,null,null,null,null,null,null,0,0,0]
[null,null,null,null,null,null,null,null,null,null,null,0,0,0]
[null,null,null,null,null,null,null,null,null,null,null,0,0,0]
[null,null,null,null,null,null,null,null,null,null,null,0,0,0]
[null,null,null,null,null,null,null,null,null,null,null,0,0,0]
[null,null,null,null,null,null,null,null,null,null,null,0,0,0]
[null,null,null,null,null,null,null,null,null,null,null,0,0,0]
[null,null,null,null,null,null,null,null,null,null,null,0,0,0]
[null,null,null,null,null,null,null,null,null,null,null,0,0,0]
[null,null,null,null,null,null,null,null,null,null,null,0,0,0]
[null,null,null,null,null,null,null,null,null,null,null,0,0,0]
[null,null,null,null,null,null,null,null,null,null,null,0,0,0]
[null,null,null,null,null,null,null,null,null,null,null,0,0,0]
[null,null,null,null,null,null,null,null,null,null,null,0,0,0]
[null,null,null,null,null,null,null,null,null,null,null,0,0,0]
[null,null,null,null,null,null,null,null,null,null,null,0,0,0]
[null,null,null,null,null,null,null,null,null,null,null,0,0,0]
[null,null,null,null,null,null,null,null,null,null,null,0,0,0]
[null,null,null,null,null,null,null,null,null,null,null,0,0,0]
[null,null,null,null,null,null,null,null,null,null,null,0,0,0]
[null,null,null,null,null,null,null,null,null,null,null,0,0,0]
[null,null,null,null,null,null,null,null,null,null,null,0,0,0]
[null,null,null,null,null,null,null,null,null,null,null,0,0,0]
[null,null,null,null,null,null,null,null,null,null,null,0,0,0]
[null,null,null,null,null,null,null,null,null,null,null,0,0,0]
[null,null,null,null,null,null,null,null,null,null,null,0,0,0]
[null,null,null,null,null,null,null,null,null,null,null,0,0,0]
[null,null,null,null,null,null,null,null,null,null,null,0,0,0]
[null,null,null,null,null,null,null,null,null,null,null,0,0,0]
[null,null,null,null,null,null,null,null,null,null,null,0,0,0]
[null,null,null,null,null,null,null,null,null,null,null,0,0,0]
[null,null,null,null,null,null,null,null,null,null,null,0,0,0]
[null,null,null,null,null,null,null,null,null,null,null,0,0,0]
[null,null,null,null,null,null,null,null,null,null,null,0,0,0]
[null,null,null,null,null,null,null,null,null,null,null,0,0,0]
[null,null,null,null,null,null,null,null,null,null,null,0,0,0]
[null,null,null,null,null,null,null,null,null,null,null,0,0,0]
[null,null,null,null,null,null,null,null,null,null,null,0,0,0]
[null,null,null,null,null,null,null,null,null,null,null,0,0,0]
[null,null,null,null,null,null,null,null,null,null,null,0,0,0]
[null,null,null,null,null,null,null,null,null,null,null,0,0,0]
[null,null,null,null,null,null,null,null,null,null,null,0,0,0]
[null,null,null,null,null,null,null,null,null,null,null,0,0,0]
[null,null,null,null,null,null,null,null,null,null,null,0,0,0]
[null,null,null,null,null,null,null,null,null,null,null,0,0,0]
[null,null,null,null,null,null,null,null,null,null,null,0,0,0]
[null,null,null,null,null,null,null,null,null,null,null,0,0,0]
[null,null,null,null,null,null,null,null,null,null,null,0,0,0]
[null,null,null,null,null,null,null,null,null,null,null,0,0,0]
[null,null,null,null,null,null,null,null,null,null,null,0,0,0]
[null,null,null,null,null,null,null,null,null,null,null,{"$f":"SUM(D3513:K3513)","v":0},0,0]
[null,null,null,null,null,null,null,null,null,null,null,0,0,0]
[null,null,null,null,null,null,null,null,null,null,null,0,0,0]
[null,null,null,null,null,null,null,null,null,null,null,0,0,0]
[null,null,null,null,null,null,null,null,null,null,null,0,0,0]
[null,null,null,null,null,null,null,null,null,null,null,0,0,0]
[]
[null,"TOTAL INVESTMENT IN UNLISTED COPORATES",null,{"$f":"SUM(D19:D3519)","v":0},0,0,0,0,0,0,0,0,null,{"$f":"SUM(N19:N3519)","v":0}]

{"sheet":"C5","index":74,"n_rows":102,"n_cols":8,"rows_kept":102,"cut":false,"hidden":false,"merged":[[2,1,2,7],[17,1,18,1],[6,2,6,3],[7,2,7,3]]}
[]
[]
[null,"FORM C5: INVESTMENT IN PROPERTY"]
[]
[]
[]
[null,"NAME OF REINSURER",{"$f":"Specifications!C5","v":0}]
[null,"YEAR ENDED",{"$f":"Specifications!C13","v":"00:00:00"}]
[]
[]
[]
[]
[null,null,{"$f":"Specifications!$C$14","v":0}]
[null,"Total Assets",{"$f":"A0!D41","v":0}]
[null,"Concentration Limit",{"$f":"Checks!E39","v":0.1}]
[]
[]
[null,"Property","Investment Properties","Freehold Land and Building","Holding by related companies","Total","Concentration Limit","Over Concentration Limit"]
[null,null,{"$f":"Specifications!$C$14","v":0},{"$f":"Specifications!$C$14","v":0},{"$f":"Specifications!$C$14","v":0},{"$f":"Specifications!$C$14","v":0},{"$f":"Specifications!$C$14","v":0},{"$f":"Specifications!$C$14","v":0}]
[null,null,null,null,null,{"$f":"SUM(C20:E20)","v":0},{"$f":"$C$15*$C$14","v":0},{"$f":"MAX(F20-G20,0)","v":0}]
[null,null,null,null,null,{"$f":"SUM(C21:E21)","v":0},0,{"$f":"MAX(F21-G21,0)","v":0}]
[null,null,null,null,null,0,0,0]
[null,null,null,null,null,0,0,0]
[null,null,null,null,null,0,0,0]
[null,null,null,null,null,0,0,0]
[null,null,null,null,null,0,0,0]
[null,null,null,null,null,0,0,0]
[null,null,null,null,null,0,0,0]
[null,null,null,null,null,0,0,0]
[null,null,null,null,null,0,0,0]
[null,null,null,null,null,0,0,0]
[null,null,null,null,null,0,0,0]
[null,null,null,null,null,0,0,0]
[null,null,null,null,null,0,0,0]
[null,null,null,null,null,0,0,0]
[null,null,null,null,null,0,0,0]
[null,null,null,null,null,0,0,0]
[null,null,null,null,null,0,0,0]
[null,null,null,null,null,0,0,0]
[null,null,null,null,null,0,0,0]
[null,null,null,null,null,0,0,0]
[null,null,null,null,null,0,0,0]
[null,null,null,null,null,0,0,0]
[null,null,null,null,null,0,0,0]
[null,null,null,null,null,0,0,0]
[null,null,null,null,null,0,0,0]
[null,null,null,null,null,0,0,0]
[null,null,null,null,null,0,0,0]
[null,null,null,null,null,0,0,0]
[null,null,null,null,null,0,0,0]
[null,null,null,null,null,0,0,0]
[null,null,null,null,null,0,0,0]
[null,null,null,null,null,0,0,0]
[null,null,null,null,null,0,0,0]
[null,null,null,null,null,0,0,0]
[null,null,null,null,null,0,0,0]
[null,null,null,null,null,0,0,0]
[null,null,null,null,null,0,0,0]
[null,null,null,null,null,0,0,0]
[null,null,null,null,null,0,0,0]
[null,null,null,null,null,{"$f":"SUM(C61:E61)","v":0},0,{"$f":"MAX(F61-G61,0)","v":0}]
[null,null,null,null,null,0,0,0]
[null,null,null,null,null,0,0,0]
[null,null,null,null,null,0,0,0]
[null,null,null,null,null,0,0,0]
[null,null,null,null,null,0,0,0]
[null,null,null,null,null,0,0,0]
[null,null,null,null,null,0,0,0]
[null,null,null,null,null,{"$f":"SUM(C69:E69)","v":0},0,{"$f":"MAX(F69-G69,0)","v":0}]
[null,null,null,null,null,0,0,0]
[null,null,null,null,null,0,0,0]
[null,null,null,null,null,0,0,0]
[null,null,null,null,null,0,0,0]
[null,null,null,null,null,0,0,0]
[null,null,null,null,null,0,0,0]
[null,null,null,null,null,0,0,0]
[null,null,null,null,null,0,0,0]
[null,null,null,null,null,0,0,0]
[null,null,null,null,null,0,0,0]
[null,null,null,null,null,0,0,0]
[null,null,null,null,null,0,0,0]
[null,null,null,null,null,0,0,0]
[null,null,null,null,null,0,0,0]
[null,null,null,null,null,0,0,0]
[null,null,null,null,null,0,0,0]
[null,null,null,null,null,0,0,0]
[null,null,null,null,null,0,0,0]
[null,null,null,null,null,0,0,0]
[null,null,null,null,null,0,0,0]
[null,null,null,null,null,0,0,0]
[null,null,null,null,null,0,0,0]
[null,null,null,null,null,0,0,0]
[null,null,null,null,null,0,0,0]
[null,null,null,null,null,0,0,0]
[null,null,null,null,null,0,0,0]
[null,null,null,null,null,0,0,0]
[null,null,null,null,null,0,0,0]
[null,null,null,null,null,0,0,0]
[null,null,null,null,null,0,0,0]
[null,null,null,null,null,0,0,0]
[]
[null,"TOTAL INVESTMENT IN PROPERTY",{"$f":"SUM(C20:C101)","v":0},{"$f":"SUM(D20:D101)","v":0},{"$f":"SUM(E20:E101)","v":0},{"$f":"SUM(F20:F101)","v":0},null,{"$f":"SUM(H20:H101)","v":0}]

{"sheet":"Subsidiary asset capital ratio","index":75,"n_rows":76,"n_cols":13,"rows_kept":76,"cut":false,"hidden":true,"merged":[[1,5,3,5],[1,6,3,6],[75,5,75,6],[1,7,1,9]]}
[]
[null,null,"Total Subsidiary",{"$f":"'A4'!K14","v":0},null,null,"Capital factors","Check"]
[null,null,null,null,null,null,null,"Value","Investment risk","Concentration risk"]
[null,null,"Total Listed Subsidiary above concentration Limit",{"$f":"SUMIFS('C3'!$AA$19:$AA$3520,'C3'!$C$19:$C$3520,\"Yes\", 'C3'!$N$19:$N$3520, \">0\")","v":0},null,null,null,{"$f":"Specifications!$C$14","v":0},{"$f":"Specifications!$C$14","v":0},{"$f":"Specifications!$C$14","v":0}]
[null,null,"Total Unlisted Subsidiary above concentration Limit",{"$f":"SUMIFS('C4'!#REF!, 'C4'!C19:C3520, \"Yes\", 'C4'!$N$19:$N$3520, \">0\")","v":{"$error":"#REF!"}},null,"Freehold Land and Building ",0.08,{"$f":"'A1'!O15","v":0},{"$f":"H5*G5","v":0},{"$f":"'A1'!Q15","v":0}]
[null,null,null,null,null,"Goodwill",1,{"$f":"A0!H8","v":0},{"$f":"H6*G6","v":0},{"$f":"A0!J8","v":0}]
[null,null,"Total Subsidiary above concentration Limit",{"$f":"D4+D5","v":{"$error":"#REF!"}},null,"Other Intangible Assets",1,{"$f":"A0!H9","v":0},{"$f":"H7*G7","v":0},{"$f":"A0!J9","v":0}]
[null,null,null,null,null,"Investment Property",0.15,{"$f":"A0!H12","v":0},{"$f":"H8*G8","v":0},{"$f":"A0!J12","v":0}]
[null,null,"Ratio",{"$f":"D7/D2","v":{"$error":"#REF!"}}]
[null,null,null,null,null,"Financial Investments"]
[]
[null,null,null,null,null,"Government Obligations","0%",null,{"$f":"H12*G12","v":0}]
[null,null,null,null,null,"Investment in subsidiaries, associates and joint ventures (Excluding Loans and Receivables from subsidiaries, associates and joint ventures)",0.17,{"$f":"A0!H11","v":0},{"$f":"H13*G13","v":0},{"$f":"'C6'!E19","v":0},null,{"$f":"H13/M13","v":{"$error":"#DIV/0!"}},{"$f":"I13+J13","v":0}]
[]
[null,null,null,null,null,"Listed Investments "]
[null,null,null,null,null,"Preference shares",0.1,{"$f":"SUMIFS('A6'!$L$10582:O10713, 'A6'!$C$10582:G10713, F16, 'A6'!$D$10582:H10713, \"Listed\")","v":{"$error":"#VALUE!"}},{"$f":"H16*G16","v":{"$error":"#VALUE!"}},{"$f":"SUMIFS('C3'!$F$19:$F$3518,'C3'!$N$19:$N$3518, \">0\")","v":0}]
[null,null,null,null,null,"Common shares",0.15,{"$f":"SUMIFS('A6'!$L$10582:O10713, 'A6'!$C$10582:G10713, F17, 'A6'!$D$10582:H10713, \"Listed\")","v":{"$error":"#VALUE!"}},{"$error":"#VALUE!"}]
[null,null,null,null,null,"Collective Investment Vehicles",0.15,{"$f":"SUMIFS('A6'!$L$17601:P17728,'A6'!$C$17601:G17728,F18,'A6'!$D$17601:H17728, \"Listed\")","v":0},0]
[null,null,null,null,null,"Structured notes and collateralised securities",0.08,{"$f":"SUMIFS('A6'!$O$7069:S7206,'A6'!$D$7069:H7206, \"Listed\")","v":0},0]
[null,null,null,null,null,"Commodities",0.15,{"$f":"SUMIFS('A6'!$L$17601:P17728,'A6'!$C$17601:G17728,F20,'A6'!$D$17601:H17728, \"Listed\")","v":0},0]
[null,null,null,null,null,"Derivative assets",0.15,null,0]
[null,null,null,null,null,"Expiring or redeemable in one year or less"]
[null,null,null,null,null,"   Corporate Bonds",0.04,null,{"$f":"H23*G23","v":0}]
[null,null,null,null,null,"   Corporate Debentures",0.06,null,{"$f":"H24*G24","v":0}]
[null,null,null,null,null,"Expiring or redeemable in more than one year"]
[null,null,null,null,null,"   Corporate Bonds",0.06,null,{"$f":"H26*G26","v":0}]
[null,null,null,null,null,"   Corporate Debentures",0.1,null,{"$f":"H27*G27","v":0}]
[]
[null,null,null,null,null,"Unlisted Investments"]
[null,null,null,null,null,"Preference shares",0.15,{"$f":"SUMIFS('A6'!$L$10582:O10713, 'A6'!$C$10582:G10713, F30, 'A6'!$D$10582:H10713, \"Unlisted\")","v":{"$error":"#VALUE!"}},{"$f":"H30*G30","v":{"$error":"#VALUE!"}}]
[null,null,null,null,null,"Common shares",0.17,{"$f":"SUMIFS('A6'!$L$10582:O10713, 'A6'!$C$10582:G10713, F31, 'A6'!$D$10582:H10713, \"Unlisted\")","v":{"$error":"#VALUE!"}},{"$error":"#VALUE!"}]
[null,null,null,null,null,"Collective Investment Vehicles",0.17,{"$f":"SUMIFS('A6'!$L$17601:P17728,'A6'!$C$17601:G17728,F32,'A6'!$D$17601:H17728, \"Unlisted\")","v":0},0]
[null,null,null,null,null,"Structured notes and collateralised securities",0.12,{"$f":"SUMIFS('A6'!$O$7069:S7206,'A6'!$D$7069:H7206, \"Unlisted\")","v":0},0]
[null,null,null,null,null,"Commodities",0.17,{"$f":"SUMIFS('A6'!$L$17601:P17728,'A6'!$C$17601:G17728,F34,'A6'!$D$17601:H17728, \"Unlisted\")","v":0},0]
[null,null,null,null,null,"Derivative assets",0.17,null,0]
[null,null,null,null,null,"Expiring or redeemable in one year or less"]
[null,null,null,null,null,"   Corporate Bonds",0.04,null,{"$f":"H37*G37","v":0}]
[null,null,null,null,null,"   Corporate Debentures",0.08,null,{"$f":"H38*G38","v":0}]
[null,null,null,null,null,"Expiring or redeemable in more than one year"]
[null,null,null,null,null,"   Corporate Bonds",0.08,null,{"$f":"H40*G40","v":0}]
[null,null,null,null,null,"   Corporate Debentures",1,null,{"$f":"H41*G41","v":0}]
[]
[]
[null,null,null,null,null,"Loans"]
[null,null,null,null,null,"Residential Mortgage ",0.04,{"$f":"SUMIFS('A6'!$J$14092:N14193,'A6'!$B$14092:F14193,F45)","v":0},{"$f":"H45*G45","v":0}]
[null,null,null,null,null,"Commercial Mortgage ",0.08,{"$f":"SUMIFS('A6'!$J$14092:N14193,'A6'!$B$14092:F14193,F46)","v":0},0]
[null,null,null,null,null,"Other Secured Loans",0.08,{"$f":"SUMIFS('A6'!$J$14092:N14193,'A6'!$B$14092:F14193,F47)","v":0},0]
[null,null,null,null,null,"Unsecured Loans ",1,{"$f":"SUMIFS('A6'!$J$14092:N14193,'A6'!$B$14092:F14193,F48)","v":0},0]
[null,null,null,null,null,"Loans to Corporations",0.08,{"$f":"SUMIFS('A6'!$J$14092:N14193,'A6'!$B$14092:F14193,F49)","v":0},0]
[null,null,null,null,null,"Loans to subsidiaries, associates and joint ventures",1,{"$f":"SUMIFS('A6'!$J$14092:N14193,'A6'!$B$14092:F14193,F50)","v":0},0]
[null,null,null,null,null,"Loans to Directors, agents and their associates",1,{"$f":"SUMIFS('A6'!$J$14092:N14193,'A6'!$B$14092:F14193,F51)","v":0},0]
[]
[null,null,null,null,null,"Investment Income Due and Accrued ",0.02,null,{"$f":"H53*G53","v":0}]
[]
[null,null,null,null,null,"Receivables"]
[null,null,null,null,null,"Up to 6 months"]
[null,null,null,null,null,"   Subsidiaries, associates and joint ventures",0.1,{"$f":"'A9'!G4","v":0},{"$f":"H57*G57","v":0}]
[null,null,null,null,null,"   Insurers ",0.02,{"$f":"'A10'!H5","v":0},{"$f":"H58*G58","v":0}]
[null,null,null,null,null,"   Corporations",0.04,{"$f":"'A9'!G5","v":0},{"$f":"H59*G59","v":0}]
[null,null,null,null,null,"   Reinsurers",0.02,{"$f":"'IR4'!K15","v":"Pass"},{"$f":"H60*G60","v":{"$error":"#VALUE!"}}]
[null,null,null,null,null,"Above 6 months but less than 1 year"]
[null,null,null,null,null,"   Subsidiaries, associates and joint ventures",0.15,{"$f":"'A9'!H4","v":0},{"$f":"H62*G62","v":0}]
[null,null,null,null,null,"   Insurers ",0.04,{"$f":"'A10'!I5","v":0},0]
[null,null,null,null,null,"   Corporations",0.1,{"$f":"'A9'!H5","v":0},0]
[null,null,null,null,null,"   Reinsurers",0.04,{"$f":"'IR4'!L15","v":0},0]
[null,null,null,null,null,"One year or more",null,null,0]
[null,null,null,null,null,"   Subsidiaries, associates and joint ventures",1,{"$f":"'A9'!I4+'A9'!J4","v":0},0]
[null,null,null,null,null,"   Insurers ",0.1,{"$f":"'A10'!J5+'A10'!K5","v":0},0]
[null,null,null,null,null,"   Corporations",1,{"$f":"'A9'!I5+'A9'!J5","v":0},0]
[null,null,null,null,null,"   Reinsurers",1,{"$f":"'IR4'!M15+'IR4'!N15","v":0},0]
[]
[null,null,null,null,null,"Cash and deposits","0%",null,{"$f":"H72*G72","v":0}]
[]
[null,null,null,null,null,"Other Assets ",{"$f":"HYPERLINK(\"#'C9'!A1\",\"C9\")","v":"C9"},{"$f":"A0!H29","v":0},{"$f":"'C9'!G20","v":0}]
[]
[null,null,null,null,null,"TOTAL ASSETS",null,{"$f":"SUM(H5:H75)","v":{"$error":"#VALUE!"}},{"$f":"SUM(I5:I72)","v":{"$error":"#VALUE!"}}]

{"sheet":"C6","index":76,"n_rows":19,"n_cols":5,"rows_kept":19,"cut":false,"hidden":false,"merged":[[2,1,2,4],[16,1,17,1],[6,2,6,3],[7,2,7,3]]}
[]
[]
[null,"FORM C6: INVESTMENT IN RELATED COMPANIES"]
[]
[]
[]
[null,"NAME OF REINSURER",{"$f":"Specifications!C5","v":0}]
[null,"YEAR ENDED",{"$f":"Specifications!C13","v":"00:00:00"}]
[]
[]
[]
[null,null,{"$f":"Specifications!$C$14","v":0}]
[null,"Total Assets",{"$f":"A0!D41","v":0}]
[null,"Concentration Limit",{"$f":"Checks!E40","v":0.1}]
[]
[]
[null,null,"Total","Concentration Limit","Over Concentration Limit"]
[null,null,{"$f":"Specifications!$C$14","v":0},{"$f":"Specifications!$C$14","v":0},{"$f":"Specifications!$C$14","v":0}]
[null,"Total Investment in Related Companies",{"$f":"A0!D20+'A9'!D13","v":0},{"$f":"C14*C13","v":0},{"$f":"MAX(C19-D19,0)","v":0}]

{"sheet":"C7","index":77,"n_rows":102,"n_cols":7,"rows_kept":102,"cut":false,"hidden":false,"merged":[[2,1,2,6],[17,1,18,1],[6,2,6,3],[7,2,7,3]]}
[]
[]
[null,"FORM C7: INVESTMENT IN LISTED COMMODITIES"]
[]
[]
[]
[null,"NAME OF REINSURER",{"$f":"Specifications!C5","v":0}]
[null,"YEAR ENDED",{"$f":"Specifications!C13","v":"00:00:00"}]
[]
[]
[]
[]
[null,null,{"$f":"Specifications!$C$14","v":0}]
[null,"Total Assets",{"$f":"A0!D41","v":0}]
[null,"Concentration Limit",{"$f":"Checks!E41","v":0.1}]
[]
[]
[null,"Commodity","Holding by Insurer","Holding by related companies","Total","Concentration Limit","Over Concentration Limit"]
[null,null,{"$f":"Specifications!$C$14","v":0},{"$f":"Specifications!$C$14","v":0},{"$f":"Specifications!$C$14","v":0},{"$f":"Specifications!$C$14","v":0},{"$f":"Specifications!$C$14","v":0}]
[null,null,null,null,{"$f":"SUM(C20:D20)","v":0},{"$f":"$C$15*$C$14","v":0},{"$f":"MAX(E20-F20,0)","v":0}]
[null,null,null,null,{"$f":"SUM(C21:D21)","v":0},{"$f":"$C$15*$C$14","v":0},{"$f":"MAX(E21-F21,0)","v":0}]
[null,null,null,null,0,0,0]
[null,null,null,null,0,{"$f":"$C$15*$C$14","v":0},0]
[null,null,null,null,0,0,0]
[null,null,null,null,0,0,0]
[null,null,null,null,0,0,0]
[null,null,null,null,0,0,0]
[null,null,null,null,0,0,0]
[null,null,null,null,0,0,0]
[null,null,null,null,0,0,0]
[null,null,null,null,0,0,0]
[null,null,null,null,0,0,0]
[null,null,null,null,0,0,0]
[null,null,null,null,0,0,0]
[null,null,null,null,0,0,0]
[null,null,null,null,0,0,0]
[null,null,null,null,0,0,0]
[null,null,null,null,0,0,0]
[null,null,null,null,0,0,0]
[null,null,null,null,0,0,0]
[null,null,null,null,0,0,0]
[null,null,null,null,0,0,0]
[null,null,null,null,0,0,0]
[null,null,null,null,0,0,0]
[null,null,null,null,0,0,0]
[null,null,null,null,0,0,0]
[null,null,null,null,0,0,0]
[null,null,null,null,0,0,0]
[null,null,null,null,0,0,0]
[null,null,null,null,0,0,0]
[null,null,null,null,0,0,0]
[null,null,null,null,0,0,0]
[null,null,null,null,0,0,0]
[null,null,null,null,0,0,0]
[null,null,null,null,{"$f":"SUM(C55:D55)","v":0},{"$f":"$C$15*$C$14","v":0},0]
[null,null,null,null,0,0,0]
[null,null,null,null,0,0,0]
[null,null,null,null,0,0,0]
[null,null,null,null,0,0,0]
[null,null,null,null,0,0,0]
[null,null,null,null,0,0,0]
[null,null,null,null,0,0,0]
[null,null,null,null,0,0,0]
[null,null,null,null,0,0,0]
[null,null,null,null,0,0,0]
[null,null,null,null,0,0,0]
[null,null,null,null,{"$f":"SUM(C67:D67)","v":0},0,{"$f":"MAX(E67-F67,0)","v":0}]
[null,null,null,null,0,0,0]
[null,null,null,null,0,0,0]
[null,null,null,null,0,0,0]
[null,null,null,null,0,0,0]
[null,null,null,null,0,0,0]
[null,null,null,null,0,0,0]
[null,null,null,null,0,0,0]
[null,null,null,null,0,0,0]
[null,null,null,null,0,0,0]
[null,null,null,null,0,0,0]
[null,null,null,null,0,0,0]
[null,null,null,null,0,0,0]
[null,null,null,null,0,0,0]
[null,null,null,null,0,0,0]
[null,null,null,null,0,0,0]
[null,null,null,null,0,0,0]
[null,null,null,null,0,0,0]
[null,null,null,null,0,0,0]
[null,null,null,null,0,0,0]
[null,null,null,null,0,0,0]
[null,null,null,null,0,0,0]
[null,null,null,null,0,0,0]
[null,null,null,null,0,0,0]
[null,null,null,null,0,0,0]
[null,null,null,null,0,0,0]
[null,null,null,null,0,0,0]
[null,null,null,null,0,0,0]
[null,null,null,null,0,0,0]
[null,null,null,null,0,0,0]
[null,null,null,null,0,0,0]
[null,null,null,null,0,0,0]
[null,null,null,null,0,0,0]
[null,null,null,null,0,0,0]
[]
[null,"TOTAL INVESTMENT IN COMMODITIES",{"$f":"SUM(C20:C100)","v":0},{"$f":"SUM(D20:D100)","v":0},{"$f":"SUM(E20:E100)","v":0},null,{"$f":"SUM(G20:G100)","v":0}]

{"sheet":"C8","index":78,"n_rows":102,"n_cols":7,"rows_kept":102,"cut":false,"hidden":false,"merged":[[2,1,2,6],[17,1,18,1],[6,2,6,3],[7,2,7,3]]}
[]
[]
[null,"FORM C8: INVESTMENT IN UNLISTED COMMODITIES"]
[]
[]
[]
[null,"NAME OF REINSURER",{"$f":"Specifications!C5","v":0}]
[null,"YEAR ENDED",{"$f":"Specifications!C13","v":"00:00:00"}]
[]
[]
[]
[]
[null,null,{"$f":"Specifications!$C$14","v":0}]
[null,"Total Assets",{"$f":"A0!D41","v":0}]
[null,"Concentration Limit",{"$f":"Checks!E42","v":0.05}]
[]
[]
[null,"Commodity","Holding by Insurer","Holding by related companies","Total","Concentration Limit","Over Concentration Limit"]
[null,null,{"$f":"Specifications!$C$14","v":0},{"$f":"Specifications!$C$14","v":0},{"$f":"Specifications!$C$14","v":0},{"$f":"Specifications!$C$14","v":0},{"$f":"Specifications!$C$14","v":0}]
[null,null,null,null,{"$f":"SUM(C20:D20)","v":0},{"$f":"$C$15*$C$14","v":0},{"$f":"MAX(E20-F20,0)","v":0}]
[null,null,null,null,{"$f":"SUM(C21:D21)","v":0},{"$f":"$C$15*$C$14","v":0},{"$f":"MAX(E21-F21,0)","v":0}]
[null,null,null,null,0,0,0]
[null,null,null,null,0,0,0]
[null,null,null,null,0,0,0]
[null,null,null,null,0,0,0]
[null,null,null,null,0,0,0]
[null,null,null,null,0,0,0]
[null,null,null,null,0,0,0]
[null,null,null,null,0,0,{"$f":"MAX(E29-F29,0)","v":0}]
[null,null,null,null,0,0,0]
[null,null,null,null,0,0,0]
[null,null,null,null,0,0,0]
[null,null,null,null,0,0,0]
[null,null,null,null,0,0,0]
[null,null,null,null,0,0,0]
[null,null,null,null,0,0,0]
[null,null,null,null,0,0,0]
[null,null,null,null,0,0,0]
[null,null,null,null,0,0,0]
[null,null,null,null,0,0,0]
[null,null,null,null,0,0,0]
[null,null,null,null,0,0,0]
[null,null,null,null,0,0,0]
[null,null,null,null,0,0,0]
[null,null,null,null,0,0,0]
[null,null,null,null,0,0,0]
[null,null,null,null,0,0,0]
[null,null,null,null,0,0,0]
[null,null,null,null,0,0,0]
[null,null,null,null,0,0,0]
[null,null,null,null,0,0,0]
[null,null,null,null,0,0,0]
[null,null,null,null,0,0,0]
[null,null,null,null,{"$f":"SUM(C54:D54)","v":0},{"$f":"$C$15*$C$14","v":0},0]
[null,null,null,null,0,0,0]
[null,null,null,null,0,0,0]
[null,null,null,null,0,0,0]
[null,null,null,null,0,0,0]
[null,null,null,null,0,0,0]
[null,null,null,null,0,0,0]
[null,null,null,null,0,0,0]
[null,null,null,null,0,0,0]
[null,null,null,null,0,0,0]
[null,null,null,null,0,0,0]
[null,null,null,null,0,0,0]
[null,null,null,null,0,0,0]
[null,null,null,null,0,0,0]
[null,null,null,null,0,0,0]
[null,null,null,null,0,0,0]
[null,null,null,null,0,0,0]
[null,null,null,null,{"$f":"SUM(C71:D71)","v":0},0,{"$f":"MAX(E71-F71,0)","v":0}]
[null,null,null,null,0,0,0]
[null,null,null,null,0,0,0]
[null,null,null,null,0,0,0]
[null,null,null,null,0,0,0]
[null,null,null,null,0,0,0]
[null,null,null,null,0,0,0]
[null,null,null,null,0,0,0]
[null,null,null,null,0,0,0]
[null,null,null,null,0,0,0]
[null,null,null,null,0,0,0]
[null,null,null,null,0,0,0]
[null,null,null,null,0,0,0]
[null,null,null,null,0,0,0]
[null,null,null,null,0,0,0]
[null,null,null,null,0,0,0]
[null,null,null,null,0,0,0]
[null,null,null,null,0,0,0]
[null,null,null,null,0,0,0]
[null,null,null,null,0,0,0]
[null,null,null,null,0,0,0]
[null,null,null,null,0,0,0]
[null,null,null,null,{"$f":"SUM(C93:D93)","v":0},0,{"$f":"MAX(E93-F93,0)","v":0}]
[null,null,null,null,0,0,0]
[null,null,null,null,0,0,0]
[null,null,null,null,0,0,0]
[null,null,null,null,0,0,0]
[null,null,null,null,0,0,0]
[null,null,null,null,0,0,0]
[null,null,null,null,0,0,0]
[]
[null,"TOTAL INVESTMENT IN COMMODITIES",{"$f":"SUM(C20:C100)","v":0},{"$f":"SUM(D20:D100)","v":0},{"$f":"SUM(E20:E100)","v":0},null,{"$f":"SUM(G20:G100)","v":0}]

{"sheet":"C9","index":79,"n_rows":38,"n_cols":3,"rows_kept":38,"cut":false,"hidden":false,"merged":[[2,1,2,2]]}
[]
[]
[null,"FORM C9: OTHER ASSETS"]
[]
[]
[]
[null,"NAME OF REINSURER",{"$f":"Specifications!C5","v":0}]
[null,"YEAR ENDED",{"$f":"Specifications!C13","v":"00:00:00"}]
[]
[]
[]
[null,"Concentration Limit",0.01]
[]
[null,null,{"$f":"Specifications!$C$14","v":0}]
[null,"Total Assets",{"$f":"A0!D41","v":0}]
[]
[null,"CONCENTRATION LIMIT"]
[]
[null,{"$f":" C12*100 &\"% of Total Assets (Concentration Limit)\"","v":"1% of Total Assets (Concentration Limit)"},{"$f":"$C$12*C15","v":0}]
[null,"Other Assets"]
[]
[null,{"$f":"\"Lesser of Other Assets and\" &\" \"& TEXT(C12,\"##%\")&\" \"& \"of Total Assets\"","v":"Lesser of Other Assets and 1% of Total Assets"},{"$f":"MIN(C19:C20)","v":0}]
[null,{"$f":"\"35% of Lesser of Other Assets and\"&\" \"& TEXT(C12,\"##%\")&\" \"& \"of Total Assets\"","v":"35% of Lesser of Other Assets and 1% of Total Assets"},{"$f":"C22*0.35","v":0}]
[]
[null,{"$f":"\"EXCESS OF OTHER ASSETS OVER\"&\" \" &TEXT(C12,\"##%\")&\" \" &\"TOTAL ASSETS\"","v":"EXCESS OF OTHER ASSETS OVER 1% TOTAL ASSETS"}]
[]
[null,{"$f":"\"Excess of Other Assets over\"&\" \"&TEXT(C12,\"##%\")&\" \"& \"of total assets\"","v":"Excess of Other Assets over 1% of total assets"},{"$f":"MAX(0, C20-C19)","v":0}]
[null,"Capital required",{"$f":"C27","v":0}]
[]
[]
[null,"Note: "]
[null,"Capital required for \"Other Assets\" is equal to 35% of the lesser of –"]
[null,"(i) Other Assets; or"]
[null,"(ii) 1% of Total Assets"]
[null,"And"]
[null,"Any excess of \"Other Assets\" over 1% of total assets"]
[]
[null,"Other Assets in this form refer to the assets not listed in Rule ‎1 of the General Insurance Business Solvency Rules 2024"]

{"sheet":"C10","index":80,"n_rows":18,"n_cols":3,"rows_kept":18,"cut":false,"hidden":false,"merged":[[2,1,2,2],[10,1,11,1]]}
[]
[]
[null,"FORM C10: CATASTROPHE RISK"]
[]
[]
[]
[null,"NAME OF REINSURER",{"$f":"Specifications!C5","v":0}]
[null,"YEAR ENDED",{"$f":"Specifications!C13","v":"00:00:00"}]
[]
[]
[null,"Preceding Year",{"$f":"YEAR(Specifications!C13)*1-1","v":1899}]
[null,null,{"$f":"Specifications!$C$14","v":0}]
[null,"Gross Insurance Premiums"]
[null,"Reinsurance Premium Ceded"]
[]
[null,"Net Written Premium for catastrophe risk calculation",{"$f":"C13-C14","v":0}]
[]
[null,"Catastrophe Risk",{"$f":"C16*0.05","v":0}]

{"sheet":"C11","index":81,"n_rows":252,"n_cols":14,"rows_kept":252,"cut":false,"hidden":false,"merged":[[2,1,2,13],[35,5,35,12],[35,13,36,13],[38,1,38,4],[39,1,39,4],[6,2,6,5],[7,2,7,5],[40,1,40,4],[251,1,251,4],[21,2,21,4],[22,1,23,1],[25,1,26,1],[28,1,29,1]]}
[]
[]
[null,"FORM C11: CAPITAL CHARGE ON REINSURANCE CEDED"]
[]
[]
[]
[null,"NAME OF REINSURER",{"$f":"Specifications!C5","v":0}]
[null,"YEAR ENDED",{"$f":"Specifications!C13","v":"00:00:00"}]
[]
[]
[null,"Summary: "]
[]
[null,"Rating",null,null,null,"Motor","Accident & Health","Engineering","Liability","Property","Transportation","Guarantee","Miscellaneous","Total"]
[null,1,null,null,null,{"$f":"SUMIFS($F$43:$F$252, $E$43:$E$252, $B14)","v":0},{"$f":"SUMIFS($G$43:$G$252, $E$43:$E$252, $B14)","v":0},{"$f":"SUMIFS($H$43:$H$252, $E$43:$E$252, $B14)","v":0},{"$f":"SUMIFS($I$43:$I$252, $E$43:$E$252, $B14)","v":0},{"$f":"SUMIFS($J$43:$J$252, $E$43:$E$252, $B14)","v":0},{"$f":"SUMIFS($K$43:$K$252, $E$43:$E$252, $B14)","v":0},{"$f":"SUMIFS($L$43:$L$252, $E$43:$E$252, $B14)","v":0},{"$f":"SUMIFS($M$43:$M$252, $E$43:$E$252, $B14)","v":0},{"$f":"SUM(F14:M14)","v":0}]
[null,2,null,null,null,{"$f":"SUMIFS($F$43:$F$252, $E$43:$E$252, $B15)","v":0},{"$f":"SUMIFS($G$43:$G$252, $E$43:$E$252, $B15)","v":0},{"$f":"SUMIFS($H$43:$H$252, $E$43:$E$252, $B15)","v":0},{"$f":"SUMIFS($I$43:$I$252, $E$43:$E$252, $B15)","v":0},{"$f":"SUMIFS($J$43:$J$252, $E$43:$E$252, $B15)","v":0},{"$f":"SUMIFS($K$43:$K$252, $E$43:$E$252, $B15)","v":0},{"$f":"SUMIFS($L$43:$L$252, $E$43:$E$252, $B15)","v":0},{"$f":"SUMIFS($M$43:$M$252, $E$43:$E$252, $B15)","v":0},{"$f":"SUM(F15:M15)","v":0}]
[null,3,null,null,null,{"$f":"SUMIFS($F$43:$F$252, $E$43:$E$252, $B16)","v":0},{"$f":"SUMIFS($G$43:$G$252, $E$43:$E$252, $B16)","v":0},{"$f":"SUMIFS($H$43:$H$252, $E$43:$E$252, $B16)","v":0},{"$f":"SUMIFS($I$43:$I$252, $E$43:$E$252, $B16)","v":0},{"$f":"SUMIFS($J$43:$J$252, $E$43:$E$252, $B16)","v":0},{"$f":"SUMIFS($K$43:$K$252, $E$43:$E$252, $B16)","v":0},{"$f":"SUMIFS($L$43:$L$252, $E$43:$E$252, $B16)","v":0},{"$f":"SUMIFS($M$43:$M$252, $E$43:$E$252, $B16)","v":0},{"$f":"SUM(F16:M16)","v":0}]
[]
[]
[]
[null,"Capital Charge:"]
[]
[null,"Rating","Capital charge"]
[null,"     Rating 1","Below 50%",null,0,0,0,0,0,0,0,0,0,{"$f":"SUM(F23:M23)","v":0}]
[null,null,"Above 50%",null,0.1,{"$f":"IF(F41<0.5, 0, (F41-0.5)/F41*F14*0.1)","v":0},0,0,0,0,0,0,0,{"$f":"SUM(F24:M24)","v":0}]
[]
[null,"     Rating 2","Below 50%",null,0.15,{"$f":"IFERROR(MIN(0.5, F41)/F41*F15*0.15, 0)","v":0},0,0,0,0,0,0,0,{"$f":"SUM(F26:M26)","v":0}]
[null,null,"Above 50%",null,0.25,{"$f":"IF(F41<0.5, 0, (F41-0.5)/F41*F15*0.25)","v":0},0,0,0,0,0,0,0,{"$f":"SUM(F27:M27)","v":0}]
[]
[null,"     Rating 3","Below 50%",null,1,{"$f":"IFERROR(MIN(0.5, F41)/F41*F16, 0)","v":0},0,0,0,0,0,0,0,{"$f":"SUM(F29:M29)","v":0}]
[null,null,"Above 50%",null,1,{"$f":"IF(F41<0.5, 0, (F41-0.5)/F41*F16)","v":0},0,0,0,0,0,0,0,{"$f":"SUM(F30:M30)","v":0}]
[]
[]
[null,"TOTAL CAPITAL CHARGE ON REINSURANCE CEDED",null,null,null,{"$f":"SUM(F23:F30)","v":0},{"$f":"SUM(G23:G30)","v":0},0,0,0,0,0,0,0]
[]
[]
[null,null,null,null,null,"Classes",null,null,null,null,null,null,null,"Total"]
[null,null,null,null,null,"Motor","Accident & Health","Engineering","Liability","Property","Transportation","Guarantee","Miscellaneous"]
[null,null,null,null,null,{"$f":"Specifications!$C$14","v":0},{"$f":"Specifications!$C$14","v":0},{"$f":"Specifications!$C$14","v":0},{"$f":"Specifications!$C$14","v":0},{"$f":"Specifications!$C$14","v":0},{"$f":"Specifications!$C$14","v":0},{"$f":"Specifications!$C$14","v":0},{"$f":"Specifications!$C$14","v":0},{"$f":"Specifications!$C$14","v":0}]
[null,"Gross Premium",null,null,null,null,null,null,null,null,null,null,null,{"$f":"SUM(F39:M39)","v":0}]
[null,"Reinsurance Ceded",null,null,null,null,null,null,null,null,null,null,null,{"$f":"SUM(F40:M40)","v":0}]
[null,"Ceding Ratio",null,null,null,{"$f":"IF(ISBLANK(F39),0,F40/F39)","v":0},{"$f":"IF(ISBLANK(G39),0,G40/G39)","v":0},0,0,0,0,0,0,{"$f":"IF(N39=0,0,N40/N39)","v":0}]
[null,"Reinsurer","Agency","Rating","Rate",{"$f":"Specifications!$C$14","v":0},{"$f":"Specifications!$C$14","v":0},{"$f":"Specifications!$C$14","v":0},{"$f":"Specifications!$C$14","v":0},{"$f":"Specifications!$C$14","v":0},{"$f":"Specifications!$C$14","v":0},{"$f":"Specifications!$C$14","v":0},{"$f":"Specifications!$C$14","v":0},{"$f":"Specifications!$C$14","v":0}]
[null,null,null,null,{"$f":"IFERROR(INDEX(Dev!H:H, MATCH(C43&D43, Dev!G:G,0)), 0)","v":0},null,null,null,null,null,null,null,null,{"$f":"F43+G43+H43+I43+J43+K43+L43+M43","v":0}]
[null,null,null,null,{"$f":"IFERROR(INDEX(Dev!H:H, MATCH(C44&D44, Dev!G:G,0)), 0)","v":0},null,null,null,null,null,null,null,null,0]
[null,null,null,null,{"$f":"IFERROR(INDEX(Dev!H:H, MATCH(C45&D45, Dev!G:G,0)), 0)","v":0},null,null,null,null,null,null,null,null,0]
[null,null,null,null,{"$f":"IFERROR(INDEX(Dev!H:H, MATCH(C46&D46, Dev!G:G,0)), 0)","v":0},null,null,null,null,null,null,null,null,0]
[null,null,null,null,{"$f":"IFERROR(INDEX(Dev!H:H, MATCH(C47&D47, Dev!G:G,0)), 0)","v":0},null,null,null,null,null,null,null,null,0]
[null,null,null,null,{"$f":"IFERROR(INDEX(Dev!H:H, MATCH(C48&D48, Dev!G:G,0)), 0)","v":0},null,null,null,null,null,null,null,null,0]
[null,null,null,null,{"$f":"IFERROR(INDEX(Dev!H:H, MATCH(C49&D49, Dev!G:G,0)), 0)","v":0},null,null,null,null,null,null,null,null,0]
[null,null,null,null,{"$f":"IFERROR(INDEX(Dev!H:H, MATCH(C50&D50, Dev!G:G,0)), 0)","v":0},null,null,null,null,null,null,null,null,0]
[null,null,null,null,{"$f":"IFERROR(INDEX(Dev!H:H, MATCH(C51&D51, Dev!G:G,0)), 0)","v":0},null,null,null,null,null,null,null,null,0]
[null,null,null,null,{"$f":"IFERROR(INDEX(Dev!H:H, MATCH(C52&D52, Dev!G:G,0)), 0)","v":0},null,null,null,null,null,null,null,null,0]
[null,null,null,null,{"$f":"IFERROR(INDEX(Dev!H:H, MATCH(C53&D53, Dev!G:G,0)), 0)","v":0},null,null,null,null,null,null,null,null,0]
[null,null,null,null,{"$f":"IFERROR(INDEX(Dev!H:H, MATCH(C54&D54, Dev!G:G,0)), 0)","v":0},null,null,null,null,null,null,null,null,0]
[null,null,null,null,{"$f":"IFERROR(INDEX(Dev!H:H, MATCH(C55&D55, Dev!G:G,0)), 0)","v":0},null,null,null,null,null,null,null,null,0]
[null,null,null,null,{"$f":"IFERROR(INDEX(Dev!H:H, MATCH(C56&D56, Dev!G:G,0)), 0)","v":0},null,null,null,null,null,null,null,null,0]
[null,null,null,null,{"$f":"IFERROR(INDEX(Dev!H:H, MATCH(C57&D57, Dev!G:G,0)), 0)","v":0},null,null,null,null,null,null,null,null,0]
[null,null,null,null,{"$f":"IFERROR(INDEX(Dev!H:H, MATCH(C58&D58, Dev!G:G,0)), 0)","v":0},null,null,null,null,null,null,null,null,0]
[null,null,null,null,{"$f":"IFERROR(INDEX(Dev!H:H, MATCH(C59&D59, Dev!G:G,0)), 0)","v":0},null,null,null,null,null,null,null,null,0]
[null,null,null,null,{"$f":"IFERROR(INDEX(Dev!H:H, MATCH(C60&D60, Dev!G:G,0)), 0)","v":0},null,null,null,null,null,null,null,null,0]
[null,null,null,null,{"$f":"IFERROR(INDEX(Dev!H:H, MATCH(C61&D61, Dev!G:G,0)), 0)","v":0},null,null,null,null,null,null,null,null,0]
[null,null,null,null,{"$f":"IFERROR(INDEX(Dev!H:H, MATCH(C62&D62, Dev!G:G,0)), 0)","v":0},null,null,null,null,null,null,null,null,0]
[null,null,null,null,{"$f":"IFERROR(INDEX(Dev!H:H, MATCH(C63&D63, Dev!G:G,0)), 0)","v":0},null,null,null,null,null,null,null,null,0]
[null,null,null,null,{"$f":"IFERROR(INDEX(Dev!H:H, MATCH(C64&D64, Dev!G:G,0)), 0)","v":0},null,null,null,null,null,null,null,null,0]
[null,null,null,null,{"$f":"IFERROR(INDEX(Dev!H:H, MATCH(C65&D65, Dev!G:G,0)), 0)","v":0},null,null,null,null,null,null,null,null,0]
[null,null,null,null,{"$f":"IFERROR(INDEX(Dev!H:H, MATCH(C66&D66, Dev!G:G,0)), 0)","v":0},null,null,null,null,null,null,null,null,0]
[null,null,null,null,{"$f":"IFERROR(INDEX(Dev!H:H, MATCH(C67&D67, Dev!G:G,0)), 0)","v":0},null,null,null,null,null,null,null,null,0]
[null,null,null,null,{"$f":"IFERROR(INDEX(Dev!H:H, MATCH(C68&D68, Dev!G:G,0)), 0)","v":0},null,null,null,null,null,null,null,null,0]
[null,null,null,null,{"$f":"IFERROR(INDEX(Dev!H:H, MATCH(C69&D69, Dev!G:G,0)), 0)","v":0},null,null,null,null,null,null,null,null,0]
[null,null,null,null,{"$f":"IFERROR(INDEX(Dev!H:H, MATCH(C70&D70, Dev!G:G,0)), 0)","v":0},null,null,null,null,null,null,null,null,0]
[null,null,null,null,{"$f":"IFERROR(INDEX(Dev!H:H, MATCH(C71&D71, Dev!G:G,0)), 0)","v":0},null,null,null,null,null,null,null,null,0]
[null,null,null,null,{"$f":"IFERROR(INDEX(Dev!H:H, MATCH(C72&D72, Dev!G:G,0)), 0)","v":0},null,null,null,null,null,null,null,null,0]
[null,null,null,null,{"$f":"IFERROR(INDEX(Dev!H:H, MATCH(C73&D73, Dev!G:G,0)), 0)","v":0},null,null,null,null,null,null,null,null,0]
[null,null,null,null,{"$f":"IFERROR(INDEX(Dev!H:H, MATCH(C74&D74, Dev!G:G,0)), 0)","v":0},null,null,null,null,null,null,null,null,0]
[null,null,null,null,{"$f":"IFERROR(INDEX(Dev!H:H, MATCH(C75&D75, Dev!G:G,0)), 0)","v":0},null,null,null,null,null,null,null,null,0]
[null,null,null,null,{"$f":"IFERROR(INDEX(Dev!H:H, MATCH(C76&D76, Dev!G:G,0)), 0)","v":0},null,null,null,null,null,null,null,null,0]
[null,null,null,null,{"$f":"IFERROR(INDEX(Dev!H:H, MATCH(C77&D77, Dev!G:G,0)), 0)","v":0},null,null,null,null,null,null,null,null,0]
[null,null,null,null,{"$f":"IFERROR(INDEX(Dev!H:H, MATCH(C78&D78, Dev!G:G,0)), 0)","v":0},null,null,null,null,null,null,null,null,0]
[null,null,null,null,{"$f":"IFERROR(INDEX(Dev!H:H, MATCH(C79&D79, Dev!G:G,0)), 0)","v":0},null,null,null,null,null,null,null,null,0]
[null,null,null,null,{"$f":"IFERROR(INDEX(Dev!H:H, MATCH(C80&D80, Dev!G:G,0)), 0)","v":0},null,null,null,null,null,null,null,null,0]
[null,null,null,null,{"$f":"IFERROR(INDEX(Dev!H:H, MATCH(C81&D81, Dev!G:G,0)), 0)","v":0},null,null,null,null,null,null,null,null,0]
[null,null,null,null,{"$f":"IFERROR(INDEX(Dev!H:H, MATCH(C82&D82, Dev!G:G,0)), 0)","v":0},null,null,null,null,null,null,null,null,0]
[null,null,null,null,{"$f":"IFERROR(INDEX(Dev!H:H, MATCH(C83&D83, Dev!G:G,0)), 0)","v":0},null,null,null,null,null,null,null,null,0]
[null,null,null,null,{"$f":"IFERROR(INDEX(Dev!H:H, MATCH(C84&D84, Dev!G:G,0)), 0)","v":0},null,null,null,null,null,null,null,null,0]
[null,null,null,null,{"$f":"IFERROR(INDEX(Dev!H:H, MATCH(C85&D85, Dev!G:G,0)), 0)","v":0},null,null,null,null,null,null,null,null,0]
[null,null,null,null,{"$f":"IFERROR(INDEX(Dev!H:H, MATCH(C86&D86, Dev!G:G,0)), 0)","v":0},null,null,null,null,null,null,null,null,0]
[null,null,null,null,{"$f":"IFERROR(INDEX(Dev!H:H, MATCH(C87&D87, Dev!G:G,0)), 0)","v":0},null,null,null,null,null,null,null,null,0]
[null,null,null,null,{"$f":"IFERROR(INDEX(Dev!H:H, MATCH(C88&D88, Dev!G:G,0)), 0)","v":0},null,null,null,null,null,null,null,null,0]
[null,null,null,null,{"$f":"IFERROR(INDEX(Dev!H:H, MATCH(C89&D89, Dev!G:G,0)), 0)","v":0},null,null,null,null,null,null,null,null,0]
[null,null,null,null,{"$f":"IFERROR(INDEX(Dev!H:H, MATCH(C90&D90, Dev!G:G,0)), 0)","v":0},null,null,null,null,null,null,null,null,0]
[null,null,null,null,{"$f":"IFERROR(INDEX(Dev!H:H, MATCH(C91&D91, Dev!G:G,0)), 0)","v":0},null,null,null,null,null,null,null,null,0]
[null,null,null,null,{"$f":"IFERROR(INDEX(Dev!H:H, MATCH(C92&D92, Dev!G:G,0)), 0)","v":0},null,null,null,null,null,null,null,null,0]
[null,null,null,null,{"$f":"IFERROR(INDEX(Dev!H:H, MATCH(C93&D93, Dev!G:G,0)), 0)","v":0},null,null,null,null,null,null,null,null,0]
[null,null,null,null,{"$f":"IFERROR(INDEX(Dev!H:H, MATCH(C94&D94, Dev!G:G,0)), 0)","v":0},null,null,null,null,null,null,null,null,0]
[null,null,null,null,{"$f":"IFERROR(INDEX(Dev!H:H, MATCH(C95&D95, Dev!G:G,0)), 0)","v":0},null,null,null,null,null,null,null,null,0]
[null,null,null,null,{"$f":"IFERROR(INDEX(Dev!H:H, MATCH(C96&D96, Dev!G:G,0)), 0)","v":0},null,null,null,null,null,null,null,null,0]
[null,null,null,null,{"$f":"IFERROR(INDEX(Dev!H:H, MATCH(C97&D97, Dev!G:G,0)), 0)","v":0},null,null,null,null,null,null,null,null,0]
[null,null,null,null,{"$f":"IFERROR(INDEX(Dev!H:H, MATCH(C98&D98, Dev!G:G,0)), 0)","v":0},null,null,null,null,null,null,null,null,0]
[null,null,null,null,{"$f":"IFERROR(INDEX(Dev!H:H, MATCH(C99&D99, Dev!G:G,0)), 0)","v":0},null,null,null,null,null,null,null,null,0]
[null,null,null,null,{"$f":"IFERROR(INDEX(Dev!H:H, MATCH(C100&D100, Dev!G:G,0)), 0)","v":0},null,null,null,null,null,null,null,null,0]
[null,null,null,null,{"$f":"IFERROR(INDEX(Dev!H:H, MATCH(C101&D101, Dev!G:G,0)), 0)","v":0},null,null,null,null,null,null,null,null,0]
[null,null,null,null,{"$f":"IFERROR(INDEX(Dev!H:H, MATCH(C102&D102, Dev!G:G,0)), 0)","v":0},null,null,null,null,null,null,null,null,0]
[null,null,null,null,{"$f":"IFERROR(INDEX(Dev!H:H, MATCH(C103&D103, Dev!G:G,0)), 0)","v":0},null,null,null,null,null,null,null,null,0]
[null,null,null,null,{"$f":"IFERROR(INDEX(Dev!H:H, MATCH(C104&D104, Dev!G:G,0)), 0)","v":0},null,null,null,null,null,null,null,null,0]
[null,null,null,null,{"$f":"IFERROR(INDEX(Dev!H:H, MATCH(C105&D105, Dev!G:G,0)), 0)","v":0},null,null,null,null,null,null,null,null,0]
[null,null,null,null,{"$f":"IFERROR(INDEX(Dev!H:H, MATCH(C106&D106, Dev!G:G,0)), 0)","v":0},null,null,null,null,null,null,null,null,0]
[null,null,null,null,{"$f":"IFERROR(INDEX(Dev!H:H, MATCH(C107&D107, Dev!G:G,0)), 0)","v":0},null,null,null,null,null,null,null,null,{"$f":"F107+G107+H107+I107+J107+K107+L107+M107","v":0}]
[null,null,null,null,{"$f":"IFERROR(INDEX(Dev!H:H, MATCH(C108&D108, Dev!G:G,0)), 0)","v":0},null,null,null,null,null,null,null,null,0]
[null,null,null,null,{"$f":"IFERROR(INDEX(Dev!H:H, MATCH(C109&D109, Dev!G:G,0)), 0)","v":0},null,null,null,null,null,null,null,null,0]
[null,null,null,null,{"$f":"IFERROR(INDEX(Dev!H:H, MATCH(C110&D110, Dev!G:G,0)), 0)","v":0},null,null,null,null,null,null,null,null,0]
[null,null,null,null,{"$f":"IFERROR(INDEX(Dev!H:H, MATCH(C111&D111, Dev!G:G,0)), 0)","v":0},null,null,null,null,null,null,null,null,0]
[null,null,null,null,{"$f":"IFERROR(INDEX(Dev!H:H, MATCH(C112&D112, Dev!G:G,0)), 0)","v":0},null,null,null,null,null,null,null,null,0]
[null,null,null,null,{"$f":"IFERROR(INDEX(Dev!H:H, MATCH(C113&D113, Dev!G:G,0)), 0)","v":0},null,null,null,null,null,null,null,null,0]
[null,null,null,null,{"$f":"IFERROR(INDEX(Dev!H:H, MATCH(C114&D114, Dev!G:G,0)), 0)","v":0},null,null,null,null,null,null,null,null,0]
[null,null,null,null,{"$f":"IFERROR(INDEX(Dev!H:H, MATCH(C115&D115, Dev!G:G,0)), 0)","v":0},null,null,null,null,null,null,null,null,0]
[null,null,null,null,{"$f":"IFERROR(INDEX(Dev!H:H, MATCH(C116&D116, Dev!G:G,0)), 0)","v":0},null,null,null,null,null,null,null,null,0]
[null,null,null,null,{"$f":"IFERROR(INDEX(Dev!H:H, MATCH(C117&D117, Dev!G:G,0)), 0)","v":0},null,null,null,null,null,null,null,null,0]
[null,null,null,null,{"$f":"IFERROR(INDEX(Dev!H:H, MATCH(C118&D118, Dev!G:G,0)), 0)","v":0},null,null,null,null,null,null,null,null,0]
[null,null,null,null,{"$f":"IFERROR(INDEX(Dev!H:H, MATCH(C119&D119, Dev!G:G,0)), 0)","v":0},null,null,null,null,null,null,null,null,0]
[null,null,null,null,{"$f":"IFERROR(INDEX(Dev!H:H, MATCH(C120&D120, Dev!G:G,0)), 0)","v":0},null,null,null,null,null,null,null,null,0]
[null,null,null,null,{"$f":"IFERROR(INDEX(Dev!H:H, MATCH(C121&D121, Dev!G:G,0)), 0)","v":0},null,null,null,null,null,null,null,null,0]
[null,null,null,null,{"$f":"IFERROR(INDEX(Dev!H:H, MATCH(C122&D122, Dev!G:G,0)), 0)","v":0},null,null,null,null,null,null,null,null,0]
[null,null,null,null,{"$f":"IFERROR(INDEX(Dev!H:H, MATCH(C123&D123, Dev!G:G,0)), 0)","v":0},null,null,null,null,null,null,null,null,0]
[null,null,null,null,{"$f":"IFERROR(INDEX(Dev!H:H, MATCH(C124&D124, Dev!G:G,0)), 0)","v":0},null,null,null,null,null,null,null,null,0]
[null,null,null,null,{"$f":"IFERROR(INDEX(Dev!H:H, MATCH(C125&D125, Dev!G:G,0)), 0)","v":0},null,null,null,null,null,null,null,null,0]
[null,null,null,null,{"$f":"IFERROR(INDEX(Dev!H:H, MATCH(C126&D126, Dev!G:G,0)), 0)","v":0},null,null,null,null,null,null,null,null,0]
[null,null,null,null,{"$f":"IFERROR(INDEX(Dev!H:H, MATCH(C127&D127, Dev!G:G,0)), 0)","v":0},null,null,null,null,null,null,null,null,0]
[null,null,null,null,{"$f":"IFERROR(INDEX(Dev!H:H, MATCH(C128&D128, Dev!G:G,0)), 0)","v":0},null,null,null,null,null,null,null,null,0]
[null,null,null,null,{"$f":"IFERROR(INDEX(Dev!H:H, MATCH(C129&D129, Dev!G:G,0)), 0)","v":0},null,null,null,null,null,null,null,null,0]
[null,null,null,null,{"$f":"IFERROR(INDEX(Dev!H:H, MATCH(C130&D130, Dev!G:G,0)), 0)","v":0},null,null,null,null,null,null,null,null,0]
[null,null,null,null,{"$f":"IFERROR(INDEX(Dev!H:H, MATCH(C131&D131, Dev!G:G,0)), 0)","v":0},null,null,null,null,null,null,null,null,0]
[null,null,null,null,{"$f":"IFERROR(INDEX(Dev!H:H, MATCH(C132&D132, Dev!G:G,0)), 0)","v":0},null,null,null,null,null,null,null,null,0]
[null,null,null,null,{"$f":"IFERROR(INDEX(Dev!H:H, MATCH(C133&D133, Dev!G:G,0)), 0)","v":0},null,null,null,null,null,null,null,null,0]
[null,null,null,null,{"$f":"IFERROR(INDEX(Dev!H:H, MATCH(C134&D134, Dev!G:G,0)), 0)","v":0},null,null,null,null,null,null,null,null,0]
[null,null,null,null,{"$f":"IFERROR(INDEX(Dev!H:H, MATCH(C135&D135, Dev!G:G,0)), 0)","v":0},null,null,null,null,null,null,null,null,0]
[null,null,null,null,{"$f":"IFERROR(INDEX(Dev!H:H, MATCH(C136&D136, Dev!G:G,0)), 0)","v":0},null,null,null,null,null,null,null,null,0]
[null,null,null,null,{"$f":"IFERROR(INDEX(Dev!H:H, MATCH(C137&D137, Dev!G:G,0)), 0)","v":0},null,null,null,null,null,null,null,null,0]
[null,null,null,null,{"$f":"IFERROR(INDEX(Dev!H:H, MATCH(C138&D138, Dev!G:G,0)), 0)","v":0},null,null,null,null,null,null,null,null,0]
[null,null,null,null,{"$f":"IFERROR(INDEX(Dev!H:H, MATCH(C139&D139, Dev!G:G,0)), 0)","v":0},null,null,null,null,null,null,null,null,0]
[null,null,null,null,{"$f":"IFERROR(INDEX(Dev!H:H, MATCH(C140&D140, Dev!G:G,0)), 0)","v":0},null,null,null,null,null,null,null,null,0]
[null,null,null,null,{"$f":"IFERROR(INDEX(Dev!H:H, MATCH(C141&D141, Dev!G:G,0)), 0)","v":0},null,null,null,null,null,null,null,null,0]
[null,null,null,null,{"$f":"IFERROR(INDEX(Dev!H:H, MATCH(C142&D142, Dev!G:G,0)), 0)","v":0},null,null,null,null,null,null,null,null,0]
[null,null,null,null,{"$f":"IFERROR(INDEX(Dev!H:H, MATCH(C143&D143, Dev!G:G,0)), 0)","v":0},null,null,null,null,null,null,null,null,0]
[null,null,null,null,{"$f":"IFERROR(INDEX(Dev!H:H, MATCH(C144&D144, Dev!G:G,0)), 0)","v":0},null,null,null,null,null,null,null,null,0]
[null,null,null,null,{"$f":"IFERROR(INDEX(Dev!H:H, MATCH(C145&D145, Dev!G:G,0)), 0)","v":0},null,null,null,null,null,null,null,null,0]
[null,null,null,null,{"$f":"IFERROR(INDEX(Dev!H:H, MATCH(C146&D146, Dev!G:G,0)), 0)","v":0},null,null,null,null,null,null,null,null,0]
[null,null,null,null,{"$f":"IFERROR(INDEX(Dev!H:H, MATCH(C147&D147, Dev!G:G,0)), 0)","v":0},null,null,null,null,null,null,null,null,0]
[null,null,null,null,{"$f":"IFERROR(INDEX(Dev!H:H, MATCH(C148&D148, Dev!G:G,0)), 0)","v":0},null,null,null,null,null,null,null,null,0]
[null,null,null,null,{"$f":"IFERROR(INDEX(Dev!H:H, MATCH(C149&D149, Dev!G:G,0)), 0)","v":0},null,null,null,null,null,null,null,null,0]
[null,null,null,null,{"$f":"IFERROR(INDEX(Dev!H:H, MATCH(C150&D150, Dev!G:G,0)), 0)","v":0},null,null,null,null,null,null,null,null,0]
[null,null,null,null,{"$f":"IFERROR(INDEX(Dev!H:H, MATCH(C151&D151, Dev!G:G,0)), 0)","v":0},null,null,null,null,null,null,null,null,0]
[null,null,null,null,{"$f":"IFERROR(INDEX(Dev!H:H, MATCH(C152&D152, Dev!G:G,0)), 0)","v":0},null,null,null,null,null,null,null,null,0]
[null,null,null,null,{"$f":"IFERROR(INDEX(Dev!H:H, MATCH(C153&D153, Dev!G:G,0)), 0)","v":0},null,null,null,null,null,null,null,null,0]
[null,null,null,null,{"$f":"IFERROR(INDEX(Dev!H:H, MATCH(C154&D154, Dev!G:G,0)), 0)","v":0},null,null,null,null,null,null,null,null,0]
[null,null,null,null,{"$f":"IFERROR(INDEX(Dev!H:H, MATCH(C155&D155, Dev!G:G,0)), 0)","v":0},null,null,null,null,null,null,null,null,0]
[null,null,null,null,{"$f":"IFERROR(INDEX(Dev!H:H, MATCH(C156&D156, Dev!G:G,0)), 0)","v":0},null,null,null,null,null,null,null,null,0]
[null,null,null,null,{"$f":"IFERROR(INDEX(Dev!H:H, MATCH(C157&D157, Dev!G:G,0)), 0)","v":0},null,null,null,null,null,null,null,null,0]
[null,null,null,null,{"$f":"IFERROR(INDEX(Dev!H:H, MATCH(C158&D158, Dev!G:G,0)), 0)","v":0},null,null,null,null,null,null,null,null,0]
[null,null,null,null,{"$f":"IFERROR(INDEX(Dev!H:H, MATCH(C159&D159, Dev!G:G,0)), 0)","v":0},null,null,null,null,null,null,null,null,0]
[null,null,null,null,{"$f":"IFERROR(INDEX(Dev!H:H, MATCH(C160&D160, Dev!G:G,0)), 0)","v":0},null,null,null,null,null,null,null,null,0]
[null,null,null,null,{"$f":"IFERROR(INDEX(Dev!H:H, MATCH(C161&D161, Dev!G:G,0)), 0)","v":0},null,null,null,null,null,null,null,null,0]
[null,null,null,null,{"$f":"IFERROR(INDEX(Dev!H:H, MATCH(C162&D162, Dev!G:G,0)), 0)","v":0},null,null,null,null,null,null,null,null,0]
[null,null,null,null,{"$f":"IFERROR(INDEX(Dev!H:H, MATCH(C163&D163, Dev!G:G,0)), 0)","v":0},null,null,null,null,null,null,null,null,0]
[null,null,null,null,{"$f":"IFERROR(INDEX(Dev!H:H, MATCH(C164&D164, Dev!G:G,0)), 0)","v":0},null,null,null,null,null,null,null,null,0]
[null,null,null,null,{"$f":"IFERROR(INDEX(Dev!H:H, MATCH(C165&D165, Dev!G:G,0)), 0)","v":0},null,null,null,null,null,null,null,null,0]
[null,null,null,null,{"$f":"IFERROR(INDEX(Dev!H:H, MATCH(C166&D166, Dev!G:G,0)), 0)","v":0},null,null,null,null,null,null,null,null,0]
[null,null,null,null,{"$f":"IFERROR(INDEX(Dev!H:H, MATCH(C167&D167, Dev!G:G,0)), 0)","v":0},null,null,null,null,null,null,null,null,0]
[null,null,null,null,{"$f":"IFERROR(INDEX(Dev!H:H, MATCH(C168&D168, Dev!G:G,0)), 0)","v":0},null,null,null,null,null,null,null,null,0]
[null,null,null,null,{"$f":"IFERROR(INDEX(Dev!H:H, MATCH(C169&D169, Dev!G:G,0)), 0)","v":0},null,null,null,null,null,null,null,null,0]
[null,null,null,null,{"$f":"IFERROR(INDEX(Dev!H:H, MATCH(C170&D170, Dev!G:G,0)), 0)","v":0},null,null,null,null,null,null,null,null,0]
[null,null,null,null,{"$f":"IFERROR(INDEX(Dev!H:H, MATCH(C171&D171, Dev!G:G,0)), 0)","v":0},null,null,null,null,null,null,null,null,{"$f":"F171+G171+H171+I171+J171+K171+L171+M171","v":0}]
[null,null,null,null,{"$f":"IFERROR(INDEX(Dev!H:H, MATCH(C172&D172, Dev!G:G,0)), 0)","v":0},null,null,null,null,null,null,null,null,0]
[null,null,null,null,{"$f":"IFERROR(INDEX(Dev!H:H, MATCH(C173&D173, Dev!G:G,0)), 0)","v":0},null,null,null,null,null,null,null,null,0]
[null,null,null,null,{"$f":"IFERROR(INDEX(Dev!H:H, MATCH(C174&D174, Dev!G:G,0)), 0)","v":0},null,null,null,null,null,null,null,null,0]
[null,null,null,null,{"$f":"IFERROR(INDEX(Dev!H:H, MATCH(C175&D175, Dev!G:G,0)), 0)","v":0},null,null,null,null,null,null,null,null,0]
[null,null,null,null,{"$f":"IFERROR(INDEX(Dev!H:H, MATCH(C176&D176, Dev!G:G,0)), 0)","v":0},null,null,null,null,null,null,null,null,0]
[null,null,null,null,{"$f":"IFERROR(INDEX(Dev!H:H, MATCH(C177&D177, Dev!G:G,0)), 0)","v":0},null,null,null,null,null,null,null,null,0]
[null,null,null,null,{"$f":"IFERROR(INDEX(Dev!H:H, MATCH(C178&D178, Dev!G:G,0)), 0)","v":0},null,null,null,null,null,null,null,null,0]
[null,null,null,null,{"$f":"IFERROR(INDEX(Dev!H:H, MATCH(C179&D179, Dev!G:G,0)), 0)","v":0},null,null,null,null,null,null,null,null,0]
[null,null,null,null,{"$f":"IFERROR(INDEX(Dev!H:H, MATCH(C180&D180, Dev!G:G,0)), 0)","v":0},null,null,null,null,null,null,null,null,0]
[null,null,null,null,{"$f":"IFERROR(INDEX(Dev!H:H, MATCH(C181&D181, Dev!G:G,0)), 0)","v":0},null,null,null,null,null,null,null,null,0]
[null,null,null,null,{"$f":"IFERROR(INDEX(Dev!H:H, MATCH(C182&D182, Dev!G:G,0)), 0)","v":0},null,null,null,null,null,null,null,null,0]
[null,null,null,null,{"$f":"IFERROR(INDEX(Dev!H:H, MATCH(C183&D183, Dev!G:G,0)), 0)","v":0},null,null,null,null,null,null,null,null,0]
[null,null,null,null,{"$f":"IFERROR(INDEX(Dev!H:H, MATCH(C184&D184, Dev!G:G,0)), 0)","v":0},null,null,null,null,null,null,null,null,0]
[null,null,null,null,{"$f":"IFERROR(INDEX(Dev!H:H, MATCH(C185&D185, Dev!G:G,0)), 0)","v":0},null,null,null,null,null,null,null,null,0]
[null,null,null,null,{"$f":"IFERROR(INDEX(Dev!H:H, MATCH(C186&D186, Dev!G:G,0)), 0)","v":0},null,null,null,null,null,null,null,null,0]
[null,null,null,null,{"$f":"IFERROR(INDEX(Dev!H:H, MATCH(C187&D187, Dev!G:G,0)), 0)","v":0},null,null,null,null,null,null,null,null,0]
[null,null,null,null,{"$f":"IFERROR(INDEX(Dev!H:H, MATCH(C188&D188, Dev!G:G,0)), 0)","v":0},null,null,null,null,null,null,null,null,0]
[null,null,null,null,{"$f":"IFERROR(INDEX(Dev!H:H, MATCH(C189&D189, Dev!G:G,0)), 0)","v":0},null,null,null,null,null,null,null,null,0]
[null,null,null,null,{"$f":"IFERROR(INDEX(Dev!H:H, MATCH(C190&D190, Dev!G:G,0)), 0)","v":0},null,null,null,null,null,null,null,null,0]
[null,null,null,null,{"$f":"IFERROR(INDEX(Dev!H:H, MATCH(C191&D191, Dev!G:G,0)), 0)","v":0},null,null,null,null,null,null,null,null,0]
[null,null,null,null,{"$f":"IFERROR(INDEX(Dev!H:H, MATCH(C192&D192, Dev!G:G,0)), 0)","v":0},null,null,null,null,null,null,null,null,0]
[null,null,null,null,{"$f":"IFERROR(INDEX(Dev!H:H, MATCH(C193&D193, Dev!G:G,0)), 0)","v":0},null,null,null,null,null,null,null,null,0]
[null,null,null,null,{"$f":"IFERROR(INDEX(Dev!H:H, MATCH(C194&D194, Dev!G:G,0)), 0)","v":0},null,null,null,null,null,null,null,null,0]
[null,null,null,null,{"$f":"IFERROR(INDEX(Dev!H:H, MATCH(C195&D195, Dev!G:G,0)), 0)","v":0},null,null,null,null,null,null,null,null,0]
[null,null,null,null,{"$f":"IFERROR(INDEX(Dev!H:H, MATCH(C196&D196, Dev!G:G,0)), 0)","v":0},null,null,null,null,null,null,null,null,0]
[null,null,null,null,{"$f":"IFERROR(INDEX(Dev!H:H, MATCH(C197&D197, Dev!G:G,0)), 0)","v":0},null,null,null,null,null,null,null,null,0]
[null,null,null,null,{"$f":"IFERROR(INDEX(Dev!H:H, MATCH(C198&D198, Dev!G:G,0)), 0)","v":0},null,null,null,null,null,null,null,null,0]
[null,null,null,null,{"$f":"IFERROR(INDEX(Dev!H:H, MATCH(C199&D199, Dev!G:G,0)), 0)","v":0},null,null,null,null,null,null,null,null,0]
[null,null,null,null,{"$f":"IFERROR(INDEX(Dev!H:H, MATCH(C200&D200, Dev!G:G,0)), 0)","v":0},null,null,null,null,null,null,null,null,0]
[null,null,null,null,{"$f":"IFERROR(INDEX(Dev!H:H, MATCH(C201&D201, Dev!G:G,0)), 0)","v":0},null,null,null,null,null,null,null,null,0]
[null,null,null,null,{"$f":"IFERROR(INDEX(Dev!H:H, MATCH(C202&D202, Dev!G:G,0)), 0)","v":0},null,null,null,null,null,null,null,null,0]
[null,null,null,null,{"$f":"IFERROR(INDEX(Dev!H:H, MATCH(C203&D203, Dev!G:G,0)), 0)","v":0},null,null,null,null,null,null,null,null,0]
[null,null,null,null,{"$f":"IFERROR(INDEX(Dev!H:H, MATCH(C204&D204, Dev!G:G,0)), 0)","v":0},null,null,null,null,null,null,null,null,0]
[null,null,null,null,{"$f":"IFERROR(INDEX(Dev!H:H, MATCH(C205&D205, Dev!G:G,0)), 0)","v":0},null,null,null,null,null,null,null,null,0]
[null,null,null,null,{"$f":"IFERROR(INDEX(Dev!H:H, MATCH(C206&D206, Dev!G:G,0)), 0)","v":0},null,null,null,null,null,null,null,null,0]
[null,null,null,null,{"$f":"IFERROR(INDEX(Dev!H:H, MATCH(C207&D207, Dev!G:G,0)), 0)","v":0},null,null,null,null,null,null,null,null,0]
[null,null,null,null,{"$f":"IFERROR(INDEX(Dev!H:H, MATCH(C208&D208, Dev!G:G,0)), 0)","v":0},null,null,null,null,null,null,null,null,0]
[null,null,null,null,{"$f":"IFERROR(INDEX(Dev!H:H, MATCH(C209&D209, Dev!G:G,0)), 0)","v":0},null,null,null,null,null,null,null,null,0]
[null,null,null,null,{"$f":"IFERROR(INDEX(Dev!H:H, MATCH(C210&D210, Dev!G:G,0)), 0)","v":0},null,null,null,null,null,null,null,null,0]
[null,null,null,null,{"$f":"IFERROR(INDEX(Dev!H:H, MATCH(C211&D211, Dev!G:G,0)), 0)","v":0},null,null,null,null,null,null,null,null,0]
[null,null,null,null,{"$f":"IFERROR(INDEX(Dev!H:H, MATCH(C212&D212, Dev!G:G,0)), 0)","v":0},null,null,null,null,null,null,null,null,0]
[null,null,null,null,{"$f":"IFERROR(INDEX(Dev!H:H, MATCH(C213&D213, Dev!G:G,0)), 0)","v":0},null,null,null,null,null,null,null,null,0]
[null,null,null,null,{"$f":"IFERROR(INDEX(Dev!H:H, MATCH(C214&D214, Dev!G:G,0)), 0)","v":0},null,null,null,null,null,null,null,null,0]
[null,null,null,null,{"$f":"IFERROR(INDEX(Dev!H:H, MATCH(C215&D215, Dev!G:G,0)), 0)","v":0},null,null,null,null,null,null,null,null,0]
[null,null,null,null,{"$f":"IFERROR(INDEX(Dev!H:H, MATCH(C216&D216, Dev!G:G,0)), 0)","v":0},null,null,null,null,null,null,null,null,0]
[null,null,null,null,{"$f":"IFERROR(INDEX(Dev!H:H, MATCH(C217&D217, Dev!G:G,0)), 0)","v":0},null,null,null,null,null,null,null,null,0]
[null,null,null,null,{"$f":"IFERROR(INDEX(Dev!H:H, MATCH(C218&D218, Dev!G:G,0)), 0)","v":0},null,null,null,null,null,null,null,null,0]
[null,null,null,null,{"$f":"IFERROR(INDEX(Dev!H:H, MATCH(C219&D219, Dev!G:G,0)), 0)","v":0},null,null,null,null,null,null,null,null,0]
[null,null,null,null,{"$f":"IFERROR(INDEX(Dev!H:H, MATCH(C220&D220, Dev!G:G,0)), 0)","v":0},null,null,null,null,null,null,null,null,0]
[null,null,null,null,{"$f":"IFERROR(INDEX(Dev!H:H, MATCH(C221&D221, Dev!G:G,0)), 0)","v":0},null,null,null,null,null,null,null,null,0]
[null,null,null,null,{"$f":"IFERROR(INDEX(Dev!H:H, MATCH(C222&D222, Dev!G:G,0)), 0)","v":0},null,null,null,null,null,null,null,null,0]
[null,null,null,null,{"$f":"IFERROR(INDEX(Dev!H:H, MATCH(C223&D223, Dev!G:G,0)), 0)","v":0},null,null,null,null,null,null,null,null,0]
[null,null,null,null,{"$f":"IFERROR(INDEX(Dev!H:H, MATCH(C224&D224, Dev!G:G,0)), 0)","v":0},null,null,null,null,null,null,null,null,0]
[null,null,null,null,{"$f":"IFERROR(INDEX(Dev!H:H, MATCH(C225&D225, Dev!G:G,0)), 0)","v":0},null,null,null,null,null,null,null,null,0]
[null,null,null,null,{"$f":"IFERROR(INDEX(Dev!H:H, MATCH(C226&D226, Dev!G:G,0)), 0)","v":0},null,null,null,null,null,null,null,null,0]
[null,null,null,null,{"$f":"IFERROR(INDEX(Dev!H:H, MATCH(C227&D227, Dev!G:G,0)), 0)","v":0},null,null,null,null,null,null,null,null,0]
[null,null,null,null,{"$f":"IFERROR(INDEX(Dev!H:H, MATCH(C228&D228, Dev!G:G,0)), 0)","v":0},null,null,null,null,null,null,null,null,0]
[null,null,null,null,{"$f":"IFERROR(INDEX(Dev!H:H, MATCH(C229&D229, Dev!G:G,0)), 0)","v":0},null,null,null,null,null,null,null,null,0]
[null,null,null,null,{"$f":"IFERROR(INDEX(Dev!H:H, MATCH(C230&D230, Dev!G:G,0)), 0)","v":0},null,null,null,null,null,null,null,null,0]
[null,null,null,null,{"$f":"IFERROR(INDEX(Dev!H:H, MATCH(C231&D231, Dev!G:G,0)), 0)","v":0},null,null,null,null,null,null,null,null,0]
[null,null,null,null,{"$f":"IFERROR(INDEX(Dev!H:H, MATCH(C232&D232, Dev!G:G,0)), 0)","v":0},null,null,null,null,null,null,null,null,0]
[null,null,null,null,{"$f":"IFERROR(INDEX(Dev!H:H, MATCH(C233&D233, Dev!G:G,0)), 0)","v":0},null,null,null,null,null,null,null,null,0]
[null,null,null,null,{"$f":"IFERROR(INDEX(Dev!H:H, MATCH(C234&D234, Dev!G:G,0)), 0)","v":0},null,null,null,null,null,null,null,null,0]
[null,null,null,null,{"$f":"IFERROR(INDEX(Dev!H:H, MATCH(C235&D235, Dev!G:G,0)), 0)","v":0},null,null,null,null,null,null,null,null,{"$f":"F235+G235+H235+I235+J235+K235+L235+M235","v":0}]
[null,null,null,null,{"$f":"IFERROR(INDEX(Dev!H:H, MATCH(C236&D236, Dev!G:G,0)), 0)","v":0},null,null,null,null,null,null,null,null,0]
[null,null,null,null,{"$f":"IFERROR(INDEX(Dev!H:H, MATCH(C237&D237, Dev!G:G,0)), 0)","v":0},null,null,null,null,null,null,null,null,0]
[null,null,null,null,{"$f":"IFERROR(INDEX(Dev!H:H, MATCH(C238&D238, Dev!G:G,0)), 0)","v":0},null,null,null,null,null,null,null,null,0]
[null,null,null,null,{"$f":"IFERROR(INDEX(Dev!H:H, MATCH(C239&D239, Dev!G:G,0)), 0)","v":0},null,null,null,null,null,null,null,null,0]
[null,null,null,null,{"$f":"IFERROR(INDEX(Dev!H:H, MATCH(C240&D240, Dev!G:G,0)), 0)","v":0},null,null,null,null,null,null,null,null,0]
[null,null,null,null,{"$f":"IFERROR(INDEX(Dev!H:H, MATCH(C241&D241, Dev!G:G,0)), 0)","v":0},null,null,null,null,null,null,null,null,0]
[null,null,null,null,{"$f":"IFERROR(INDEX(Dev!H:H, MATCH(C242&D242, Dev!G:G,0)), 0)","v":0},null,null,null,null,null,null,null,null,0]
[null,null,null,null,{"$f":"IFERROR(INDEX(Dev!H:H, MATCH(C243&D243, Dev!G:G,0)), 0)","v":0},null,null,null,null,null,null,null,null,0]
[null,null,null,null,{"$f":"IFERROR(INDEX(Dev!H:H, MATCH(C244&D244, Dev!G:G,0)), 0)","v":0},null,null,null,null,null,null,null,null,0]
[null,null,null,null,{"$f":"IFERROR(INDEX(Dev!H:H, MATCH(C245&D245, Dev!G:G,0)), 0)","v":0},null,null,null,null,null,null,null,null,0]
[null,null,null,null,{"$f":"IFERROR(INDEX(Dev!H:H, MATCH(C246&D246, Dev!G:G,0)), 0)","v":0},null,null,null,null,null,null,null,null,0]
[null,null,null,null,{"$f":"IFERROR(INDEX(Dev!H:H, MATCH(C247&D247, Dev!G:G,0)), 0)","v":0},null,null,null,null,null,null,null,null,0]
[null,null,null,null,{"$f":"IFERROR(INDEX(Dev!H:H, MATCH(C248&D248, Dev!G:G,0)), 0)","v":0},null,null,null,null,null,null,null,null,0]
[null,null,null,null,{"$f":"IFERROR(INDEX(Dev!H:H, MATCH(C249&D249, Dev!G:G,0)), 0)","v":0},null,null,null,null,null,null,null,null,0]
[null,null,null,null,{"$f":"IFERROR(INDEX(Dev!H:H, MATCH(C250&D250, Dev!G:G,0)), 0)","v":0},null,null,null,null,null,null,null,null,0]
[]
[null,"TOTAL",null,null,null,{"$f":"SUM(F43:F251)","v":0},0,0,0,0,0,0,0,0]

{"sheet":"C12","index":82,"n_rows":37,"n_cols":16,"rows_kept":37,"cut":false,"hidden":false,"merged":[[2,2,2,15],[27,2,27,9],[33,2,33,9],[6,2,6,3],[10,2,10,9],[16,2,16,9],[22,2,22,9]]}
[]
[]
[null,null,"FORM C12: EXCESS CAPITAL REQUIRED OVER TOTAL ASSET VALUE"]
[]
[]
[]
[null,null,"Term Deposits, Bonds and Debentures",null,"Loans","Strucutured notes and collateralised sercurities","Preference Shares","Common Shares","Receivables","Holding by related companies",null,"Commodities",null,"Subsidiaries",null,"Total "]
[null,null,"Expiring <=1 year","Expiring >1 year"]
[null,null,{"$f":"Specifications!$C$14","v":0},{"$f":"Specifications!$C$14","v":0},{"$f":"Specifications!$C$14","v":0},{"$f":"Specifications!$C$14","v":0},{"$f":"Specifications!$C$14","v":0},{"$f":"Specifications!$C$14","v":0},{"$f":"Specifications!$C$14","v":0},{"$f":"Specifications!$C$14","v":0},null,{"$f":"Specifications!$C$14","v":0},null,{"$f":"Specifications!$C$14","v":0},null,"Rs."]
[]
[null,null,"Capital required for Concentration Limit"]
[null,"Listed",{"$f":"SUMIFS('C3'!$N$19:$N$3519, 'C3'!D$19:D$3519, \">0\")","v":0},{"$f":"SUMIFS('C3'!$N$19:$N$3519, 'C3'!E$19:E$3519, \">0\")","v":0},{"$f":"SUMIFS('C3'!$N$19:$N$3519, 'C3'!F$19:F$3519, \">0\")","v":0},{"$f":"SUMIFS('C3'!$N$19:$N$3519, 'C3'!G$19:G$3519, \">0\")","v":0},{"$f":"SUMIFS('C3'!$N$19:$N$3519, 'C3'!H$19:H$3519, \">0\")","v":0},{"$f":"SUMIFS('C3'!$N$19:$N$3519, 'C3'!I$19:I$3519, \">0\")","v":0},{"$f":"SUMIFS('C3'!$N$19:$N$3519, 'C3'!J$19:J$3519, \">0\")","v":0},{"$f":"SUMIFS('C3'!$N$19:$N$3519, 'C3'!K$19:K$3519, \">0\")","v":0},null,{"$f":"SUM('C8'!$G$20:$G$101)","v":0},null,null,null,{"$f":"C12+D12+E12+F12+G12+H12+I12+J12+L12","v":0}]
[null,"Unlisted",{"$f":"SUMIFS('C4'!$N$19:$N$3519, 'C4'!D$19:D$3519,\">0\")","v":0},{"$f":"SUMIFS('C4'!$N$19:$N$3519, 'C4'!E$19:E$3519,\">0\")","v":0},{"$f":"SUMIFS('C4'!$N$19:$N$3519, 'C4'!F$19:F$3519,\">0\")","v":0},{"$f":"SUMIFS('C4'!$N$19:$N$3519, 'C4'!G$19:G$3519,\">0\")","v":0},{"$f":"SUMIFS('C4'!$N$19:$N$3519, 'C4'!H$19:H$3519,\">0\")","v":0},{"$f":"SUMIFS('C4'!$N$19:$N$3519, 'C4'!I$19:I$3519,\">0\")","v":0},{"$f":"SUMIFS('C4'!$N$19:$N$3519, 'C4'!J$19:J$3519,\">0\")","v":0},{"$f":"SUMIFS('C4'!$N$19:$N$3519, 'C4'!K$19:K$3519,\">0\")","v":0},null,{"$f":"SUM('C7'!$G$20:$G$101)","v":0},null,null,null,{"$f":"C13+D13+E13+F13+G13+H13+I13+J13+L13","v":0}]
[null,"Total",{"$f":"SUM(C12:C13)","v":0},{"$f":"SUM(D12:D13)","v":0},{"$f":"SUM(E12:E13)","v":0},{"$f":"SUM(F12:F13)","v":0},0,0,0,{"$f":"SUM(J12:J13)","v":0},null,{"$f":"SUM(L12:L13)","v":0},null,{"$f":"'C6'!E19","v":0},null,{"$f":"C14+D14+E14+F14+G14+H14+I14+J14+L14+N14","v":0}]
[]
[]
[null,null,"Capital required for Investment Risk"]
[null,"Listed",null,null,null,{"$f":"'C2'!E27","v":0},{"$f":"'C2'!E24","v":0},{"$f":"'C2'!E25","v":0},null,null,null,{"$f":"'C2'!E28","v":0},null,null,null,{"$f":"C18+D18+F18+G18+H18+L18","v":0}]
[null,"Unlisted",null,null,null,{"$f":"'C2'!E35","v":0},{"$f":"'C2'!E32","v":0},{"$f":"'C2'!E33","v":0},null,null,null,{"$f":"'C2'!E36","v":0},null,null,null,{"$f":"C19+D19+F19+G19+H19+L19","v":0}]
[null,"Total",{"$f":"'C2'!E41+'C2'!E42","v":0},{"$f":"'C2'!E44+'C2'!E45","v":0},{"$f":"SUM('C2'!E50:E56)","v":0},{"$f":"SUM(F18:F19)","v":0},{"$f":"SUM(G18:G19)","v":0},0,{"$f":"SUM('C2'!E62:E64)","v":0},null,null,{"$f":"SUM(L18:L19)","v":0},null,{"$f":"'C2'!E21","v":0},null,{"$f":"C20+D20+F20+E20+G20+H20+I20+L20+N20","v":0}]
[]
[]
[null,null,"Total Capital required for Investment and Concentration Limit"]
[null,"Listed",null,null,null,{"$f":"F12+F18","v":0},0,0,null,{"$f":"J12","v":0},null,{"$f":"L12+L18","v":0},null,null,null,{"$f":"C24+D24+F24+G24+H24+J24+L24","v":0}]
[null,"Unlisted",null,null,null,0,0,0,null,{"$f":"J13","v":0},null,{"$f":"L13+L19","v":0},null,null,null,{"$f":"C25+D25+F25+G25+H25+J25+L25","v":0}]
[null,"Total",{"$f":"C14+C20","v":0},{"$f":"D14+D20","v":0},{"$f":"E14+E20","v":0},{"$f":"F24+F25","v":0},0,{"$f":"H24+H25","v":0},0,0,null,{"$f":"L24+L25","v":0},null,{"$f":"N14+N20","v":0},null,{"$f":"C26+D26+F26+E26+G26+H26+I26+J26+L26+N26","v":0}]
[]
[null,null,"Total Asset Value"]
[null,"Listed",null,null,null,{"$f":"'C2'!D27","v":0},{"$f":"'C2'!D24","v":0},{"$f":"'C2'!D25","v":0},null,null,null,{"$f":"'C2'!D28","v":0},null,null,null,{"$f":"F29+G29+H29+L29","v":0}]
[null,"Unlisted",null,null,null,{"$f":"'C2'!D35","v":0},{"$f":"'C2'!D32","v":0},{"$f":"'C2'!D33","v":0},null,null,null,{"$f":"'C2'!D36","v":0},null,null,null,{"$f":"F30+G30+H30+L30","v":0}]
[null,"Total",{"$f":"'C2'!D41+'C2'!D42","v":0},{"$f":"'C2'!D44+'C2'!D45","v":0},{"$f":"SUM('C2'!D50:D56)","v":0},{"$f":"SUM(F29:F30)","v":0},{"$f":"SUM(G29:G30)","v":0},{"$f":"SUM(H29:H30)","v":0},{"$f":"SUM('C2'!D62:D64)","v":0},null,null,{"$f":"SUM(L29:L30)","v":0},null,{"$f":"'C2'!D21","v":0},null,{"$f":"C31+D31+F31+E31+G31+H31+I31+L31+N31","v":0}]
[]
[]
[null,null,"Excess capital required over total asset value"]
[null,"Listed",null,null,null,{"$f":"MAX(0, F24-F29)","v":0},{"$f":"MAX(0, G24-G29)","v":0},{"$f":"MAX(0, H24-H29)","v":0},null,{"$f":"J24","v":0},null,{"$f":"MAX(0, L24-L29)","v":0},null,null,null,{"$f":"F35+G35+H35+J35+L35","v":0}]
[null,"Unlisted",null,null,null,{"$f":"MAX(0, F25-F30)","v":0},0,0,null,{"$f":"J25","v":0},null,{"$f":"MAX(0, L25-L30)","v":0},null,null,null,{"$f":"F36+G36+H36+J36+L36","v":0}]
[null,"Total",{"$f":"MAX(0, C26-C31)","v":0},{"$f":"MAX(0, D26-D31)","v":0},{"$f":"MAX(0, E26-E31)","v":0},null,null,null,{"$f":"MAX(0, I26-I31)","v":0},null,null,null,null,{"$f":"MAX(0, N26-N31)","v":0},null,{"$f":"C37+D37+E37+I37+N37","v":0}]

{"sheet":"Reporting >>>","index":83,"n_rows":0,"n_cols":0,"rows_kept":0,"cut":false,"hidden":false,"merged":[]}

{"sheet":"R1","index":84,"n_rows":190,"n_cols":10,"rows_kept":190,"cut":false,"hidden":false,"merged":[[150,2,150,9],[164,2,164,9],[178,2,178,9],[2,1,2,9],[133,2,133,9],[12,2,12,9],[26,2,26,9],[40,2,40,9],[116,2,116,9],[56,2,56,9],[70,2,70,9],[84,2,84,9],[6,2,6,3],[7,2,7,3]]}
[]
[]
[null,"FORM R1: QUARTERLY RETURNS FOR DIRECT BUSINESS - POLICIES, PREMIUMS AND CLAIMS"]
[]
[]
[]
[null,"NAME OF REINSURER",{"$f":"Specifications!C5","v":0}]
[null,"YEAR ENDED",{"$f":"Specifications!C13","v":"00:00:00"}]
[]
[]
[null,"NUMBER OF POLICIES WRITTEN"]
[]
[null,null,"Personal Lines"]
[null,null,{"$f":"YEAR(Specifications!$C$13) - 1 & \" Q1\"","v":"1899 Q1"},{"$f":"YEAR(Specifications!$C$13) - 1 & \" Q2\"","v":"1899 Q2"},{"$f":"YEAR(Specifications!$C$13) - 1 & \" Q3\"","v":"1899 Q3"},{"$f":"YEAR(Specifications!$C$13) - 1 & \" Q4\"","v":"1899 Q4"},{"$f":"YEAR(Specifications!$C$13) & \" Q1\"","v":"1900 Q1"},{"$f":"YEAR(Specifications!$C$13) & \" Q2\"","v":"1900 Q2"},{"$f":"YEAR(Specifications!$C$13) & \" Q3\"","v":"1900 Q3"},{"$f":"YEAR(Specifications!$C$13) & \" Q4\"","v":"1900 Q4"}]
[null,"Motor"]
[null,"Accident and Health"]
[null,"Engineering"]
[null,"Liability"]
[null,"Property"]
[null,"Transport"]
[null,"Guarantee"]
[null,"Miscellaneous"]
[]
[null,"Total Number of Policies",{"$f":"SUM(C15:C22)","v":0},0,0,0,0,0,0,0]
[]
[]
[null,null,"Commercial Lines"]
[null,null,{"$f":"YEAR(Specifications!$C$13) - 1 & \" Q1\"","v":"1899 Q1"},{"$f":"YEAR(Specifications!$C$13) - 1 & \" Q2\"","v":"1899 Q2"},{"$f":"YEAR(Specifications!$C$13) - 1 & \" Q3\"","v":"1899 Q3"},{"$f":"YEAR(Specifications!$C$13) - 1 & \" Q4\"","v":"1899 Q4"},{"$f":"YEAR(Specifications!$C$13) & \" Q1\"","v":"1900 Q1"},{"$f":"YEAR(Specifications!$C$13) & \" Q2\"","v":"1900 Q2"},{"$f":"YEAR(Specifications!$C$13) & \" Q3\"","v":"1900 Q3"},{"$f":"YEAR(Specifications!$C$13) & \" Q4\"","v":"1900 Q4"}]
[null,"Motor"]
[null,"Accident and Health"]
[null,"Engineering"]
[null,"Liability"]
[null,"Property"]
[null,"Transport"]
[null,"Guarantee"]
[null,"Miscellaneous"]
[]
[null,"Total Number of Policies",{"$f":"SUM(C29:C36)","v":0},0,0,0,0,0,0,0]
[]
[]
[null,null,"Total"]
[null,null,{"$f":"YEAR(Specifications!$C$13) - 1 & \" Q1\"","v":"1899 Q1"},{"$f":"YEAR(Specifications!$C$13) - 1 & \" Q2\"","v":"1899 Q2"},{"$f":"YEAR(Specifications!$C$13) - 1 & \" Q3\"","v":"1899 Q3"},{"$f":"YEAR(Specifications!$C$13) - 1 & \" Q4\"","v":"1899 Q4"},{"$f":"YEAR(Specifications!$C$13) & \" Q1\"","v":"1900 Q1"},{"$f":"YEAR(Specifications!$C$13) & \" Q2\"","v":"1900 Q2"},{"$f":"YEAR(Specifications!$C$13) & \" Q3\"","v":"1900 Q3"},{"$f":"YEAR(Specifications!$C$13) & \" Q4\"","v":"1900 Q4"}]
[null,"Motor",{"$f":"C15+C29","v":0},0,0,0,0,0,0,0]
[null,"Accident and Health",0,0,0,0,0,0,0,0]
[null,"Engineering",0,0,0,0,0,0,0,0]
[null,"Liability",0,0,0,0,0,0,0,0]
[null,"Property",0,0,0,0,0,0,0,0]
[null,"Transport",0,0,0,0,0,0,0,0]
[null,"Guarantee",0,0,0,0,0,0,0,0]
[null,"Miscellaneous",0,0,0,0,0,0,0,0]
[]
[null,"Total Number of Policies",{"$f":"SUM(C43:C50)","v":0},0,0,0,0,0,0,0]
[]
[]
[null,"NUMBER OF CLAIMS PAID"]
[]
[null,null,"Personal Lines"]
[null,null,{"$f":"YEAR(Specifications!$C$13) - 1 & \" Q1\"","v":"1899 Q1"},{"$f":"YEAR(Specifications!$C$13) - 1 & \" Q2\"","v":"1899 Q2"},{"$f":"YEAR(Specifications!$C$13) - 1 & \" Q3\"","v":"1899 Q3"},{"$f":"YEAR(Specifications!$C$13) - 1 & \" Q4\"","v":"1899 Q4"},{"$f":"YEAR(Specifications!$C$13) & \" Q1\"","v":"1900 Q1"},{"$f":"YEAR(Specifications!$C$13) & \" Q2\"","v":"1900 Q2"},{"$f":"YEAR(Specifications!$C$13) & \" Q3\"","v":"1900 Q3"},{"$f":"YEAR(Specifications!$C$13) & \" Q4\"","v":"1900 Q4"}]
[null,"Motor"]
[null,"Accident and Health"]
[null,"Engineering"]
[null,"Liability"]
[null,"Property"]
[null,"Transport"]
[null,"Guarantee"]
[null,"Miscellaneous"]
[]
[null,"Total Number of Claims",{"$f":"SUM(C59:C66)","v":0},0,0,0,0,0,0,0]
[]
[]
[null,null,"Commercial Lines"]
[null,null,{"$f":"YEAR(Specifications!$C$13) - 1 & \" Q1\"","v":"1899 Q1"},{"$f":"YEAR(Specifications!$C$13) - 1 & \" Q2\"","v":"1899 Q2"},{"$f":"YEAR(Specifications!$C$13) - 1 & \" Q3\"","v":"1899 Q3"},{"$f":"YEAR(Specifications!$C$13) - 1 & \" Q4\"","v":"1899 Q4"},{"$f":"YEAR(Specifications!$C$13) & \" Q1\"","v":"1900 Q1"},{"$f":"YEAR(Specifications!$C$13) & \" Q2\"","v":"1900 Q2"},{"$f":"YEAR(Specifications!$C$13) & \" Q3\"","v":"1900 Q3"},{"$f":"YEAR(Specifications!$C$13) & \" Q4\"","v":"1900 Q4"}]
[null,"Motor"]
[null,"Accident and Health"]
[null,"Engineering"]
[null,"Liability"]
[null,"Property"]
[null,"Transport"]
[null,"Guarantee"]
[null,"Miscellaneous"]
[]
[null,"Total Number of Claims",{"$f":"SUM(C73:C80)","v":0},0,0,0,0,0,0,0]
[]
[]
[null,null,"Total"]
[null,null,{"$f":"YEAR(Specifications!$C$13) - 1 & \" Q1\"","v":"1899 Q1"},{"$f":"YEAR(Specifications!$C$13) - 1 & \" Q2\"","v":"1899 Q2"},{"$f":"YEAR(Specifications!$C$13) - 1 & \" Q3\"","v":"1899 Q3"},{"$f":"YEAR(Specifications!$C$13) - 1 & \" Q4\"","v":"1899 Q4"},{"$f":"YEAR(Specifications!$C$13) & \" Q1\"","v":"1900 Q1"},{"$f":"YEAR(Specifications!$C$13) & \" Q2\"","v":"1900 Q2"},{"$f":"YEAR(Specifications!$C$13) & \" Q3\"","v":"1900 Q3"},{"$f":"YEAR(Specifications!$C$13) & \" Q4\"","v":"1900 Q4"}]
[null,"Motor",{"$f":"C59+C73","v":0},0,0,0,0,0,0,0]
[null,"Accident and Health",{"$f":"C60+C74","v":0},0,0,0,0,0,0,0]
[null,"Engineering",{"$f":"C61+C75","v":0},0,0,0,0,0,0,0]
[null,"Liability",{"$f":"C62+C76","v":0},0,0,0,0,0,0,0]
[null,"Property",{"$f":"C63+C77","v":0},0,0,0,0,0,0,0]
[null,"Transport",{"$f":"C64+C78","v":0},0,0,0,0,0,0,0]
[null,"Guarantee",{"$f":"C65+C79","v":0},0,0,0,0,0,0,0]
[null,"Miscellaneous",{"$f":"C66+C80","v":0},0,0,0,0,0,0,0]
[]
[null,"Total Number of Claims",{"$f":"SUM(C87:C94)","v":0},0,0,0,0,0,0,0]
[]
[]
[null,"EXPOSURE"]
[]
[null,null,{"$f":"YEAR(Specifications!$C$13) - 1 & \" Q1\"","v":"1899 Q1"},{"$f":"YEAR(Specifications!$C$13) - 1 & \" Q2\"","v":"1899 Q2"},{"$f":"YEAR(Specifications!$C$13) - 1 & \" Q3\"","v":"1899 Q3"},{"$f":"YEAR(Specifications!$C$13) - 1 & \" Q4\"","v":"1899 Q4"},{"$f":"YEAR(Specifications!$C$13) & \" Q1\"","v":"1900 Q1"},{"$f":"YEAR(Specifications!$C$13) & \" Q2\"","v":"1900 Q2"},{"$f":"YEAR(Specifications!$C$13) & \" Q3\"","v":"1900 Q3"},{"$f":"YEAR(Specifications!$C$13) & \" Q4\"","v":"1900 Q4"}]
[null,"Motor"]
[null,"Accident and Health"]
[null,"Engineering"]
[null,"Liability"]
[null,"Property"]
[null,"Transport"]
[null,"Guarantee"]
[null,"Miscellaneous"]
[]
[null,"Total Exposure",{"$f":"SUM(C102:C109)","v":0},0,0,0,0,0,0,0]
[]
[]
[null,"GROSS WRITTEN PREMIUM"]
[]
[]
[null,null,{"$f":" \"GROSS WRITTEN PREMIUM (\" &Specifications!$C$14 &\")\"","v":"GROSS WRITTEN PREMIUM ()"}]
[null,null,{"$f":"YEAR(Specifications!$C$13) - 1 & \" Q1\"","v":"1899 Q1"},{"$f":"YEAR(Specifications!$C$13) - 1 & \" Q2\"","v":"1899 Q2"},{"$f":"YEAR(Specifications!$C$13) - 1 & \" Q3\"","v":"1899 Q3"},{"$f":"YEAR(Specifications!$C$13) - 1 & \" Q4\"","v":"1899 Q4"},{"$f":"YEAR(Specifications!$C$13) & \" Q1\"","v":"1900 Q1"},{"$f":"YEAR(Specifications!$C$13) & \" Q2\"","v":"1900 Q2"},{"$f":"YEAR(Specifications!$C$13) & \" Q3\"","v":"1900 Q3"},{"$f":"YEAR(Specifications!$C$13) & \" Q4\"","v":"1900 Q4"}]
[null,"Motor"]
[null,"Accident and Health"]
[null,"Engineering"]
[null,"Liability"]
[null,"Property"]
[null,"Transport"]
[null,"Guarantee"]
[null,"Miscellaneous"]
[]
[null,"Total Gross Written Premium",{"$f":"SUM(C119:C126)","v":0},{"$f":"SUM(D119:D126)","v":0},{"$f":"SUM(E119:E126)","v":0},0,0,0,0,{"$f":"SUM(J119:J126)","v":0}]
[]
[]
[null,"CLAIMS PAID"]
[]
[]
[null,null,{"$f":" \"Total Gross Claims (\" &Specifications!$C$14 &\")\"","v":"Total Gross Claims ()"}]
[null,null,{"$f":"YEAR(Specifications!$C$13) - 1 & \" Q1\"","v":"1899 Q1"},{"$f":"YEAR(Specifications!$C$13) - 1 & \" Q2\"","v":"1899 Q2"},{"$f":"YEAR(Specifications!$C$13) - 1 & \" Q3\"","v":"1899 Q3"},{"$f":"YEAR(Specifications!$C$13) - 1 & \" Q4\"","v":"1899 Q4"},{"$f":"YEAR(Specifications!$C$13) & \" Q1\"","v":"1900 Q1"},{"$f":"YEAR(Specifications!$C$13) & \" Q2\"","v":"1900 Q2"},{"$f":"YEAR(Specifications!$C$13) & \" Q3\"","v":"1900 Q3"},{"$f":"YEAR(Specifications!$C$13) & \" Q4\"","v":"1900 Q4"}]
[null,"Motor"]
[null,"Accident and Health"]
[null,"Engineering"]
[null,"Liability"]
[null,"Property"]
[null,"Transport"]
[null,"Guarantee"]
[null,"Miscellaneous"]
[]
[null,"Total Gross Claims",{"$f":"SUM(C136:C143)","v":0},{"$f":"SUM(D136:D143)","v":0},{"$f":"SUM(E136:E143)","v":0},0,0,0,0,{"$f":"SUM(J136:J143)","v":0}]
[]
[]
[null,"TECHNICAL RESERVES"]
[]
[]
[null,null,{"$f":" \"Incurred But Not Reported (\" &Specifications!$C$14 &\")\"","v":"Incurred But Not Reported ()"}]
[null,null,{"$f":"YEAR(Specifications!$C$13) - 1 & \" Q1\"","v":"1899 Q1"},{"$f":"YEAR(Specifications!$C$13) - 1 & \" Q2\"","v":"1899 Q2"},{"$f":"YEAR(Specifications!$C$13) - 1 & \" Q3\"","v":"1899 Q3"},{"$f":"YEAR(Specifications!$C$13) - 1 & \" Q4\"","v":"1899 Q4"},{"$f":"YEAR(Specifications!$C$13) & \" Q1\"","v":"1900 Q1"},{"$f":"YEAR(Specifications!$C$13) & \" Q2\"","v":"1900 Q2"},{"$f":"YEAR(Specifications!$C$13) & \" Q3\"","v":"1900 Q3"},{"$f":"YEAR(Specifications!$C$13) & \" Q4\"","v":"1900 Q4"}]
[null,"Motor"]
[null,"Accident and Health"]
[null,"Engineering"]
[null,"Liability"]
[null,"Property"]
[null,"Transport"]
[null,"Guarantee"]
[null,"Miscellaneous"]
[]
[null,"Total Incurred But Not Reported",{"$f":"SUM(C153:C160)","v":0},0,0,0,0,0,0,0]
[]
[]
[null,null,{"$f":" \"Outstanding Claims Reserve (\" &Specifications!$C$14 &\")\"","v":"Outstanding Claims Reserve ()"}]
[null,null,{"$f":"YEAR(Specifications!$C$13) - 1 & \" Q1\"","v":"1899 Q1"},{"$f":"YEAR(Specifications!$C$13) - 1 & \" Q2\"","v":"1899 Q2"},{"$f":"YEAR(Specifications!$C$13) - 1 & \" Q3\"","v":"1899 Q3"},{"$f":"YEAR(Specifications!$C$13) - 1 & \" Q4\"","v":"1899 Q4"},{"$f":"YEAR(Specifications!$C$13) & \" Q1\"","v":"1900 Q1"},{"$f":"YEAR(Specifications!$C$13) & \" Q2\"","v":"1900 Q2"},{"$f":"YEAR(Specifications!$C$13) & \" Q3\"","v":"1900 Q3"},{"$f":"YEAR(Specifications!$C$13) & \" Q4\"","v":"1900 Q4"}]
[null,"Motor"]
[null,"Accident and Health"]
[null,"Engineering"]
[null,"Liability"]
[null,"Property"]
[null,"Transport"]
[null,"Guarantee"]
[null,"Miscellaneous"]
[]
[null,"Total Outstanding Claims Reserve",{"$f":"SUM(C167:C174)","v":0},0,0,0,0,0,0,0]
[]
[]
[null,null,{"$f":" \"Unearned Premium Reserve (\" &Specifications!$C$14 &\")\"","v":"Unearned Premium Reserve ()"}]
[null,null,{"$f":"YEAR(Specifications!$C$13) - 1 & \" Q1\"","v":"1899 Q1"},{"$f":"YEAR(Specifications!$C$13) - 1 & \" Q2\"","v":"1899 Q2"},{"$f":"YEAR(Specifications!$C$13) - 1 & \" Q3\"","v":"1899 Q3"},{"$f":"YEAR(Specifications!$C$13) - 1 & \" Q4\"","v":"1899 Q4"},{"$f":"YEAR(Specifications!$C$13) & \" Q1\"","v":"1900 Q1"},{"$f":"YEAR(Specifications!$C$13) & \" Q2\"","v":"1900 Q2"},{"$f":"YEAR(Specifications!$C$13) & \" Q3\"","v":"1900 Q3"},{"$f":"YEAR(Specifications!$C$13) & \" Q4\"","v":"1900 Q4"}]
[null,"Motor"]
[null,"Accident and Health"]
[null,"Engineering"]
[null,"Liability"]
[null,"Property"]
[null,"Transport"]
[null,"Guarantee"]
[null,"Miscellaneous"]
[]
[null,"Total Unearned Premium Reserve",{"$f":"SUM(C181:C188)","v":0},0,0,0,0,0,0,0]

{"sheet":"R2","index":85,"n_rows":23,"n_cols":4,"rows_kept":23,"cut":false,"hidden":false,"merged":[[2,1,2,3],[6,2,6,3]]}
[]
[]
[null,"FORM R2: COMMISSIONS"]
[]
[]
[]
[null,"NAME OF REINSURER",{"$f":"Specifications!C5","v":0}]
[null,"YEAR ENDED",{"$f":"Specifications!C13","v":"00:00:00"},{"$f":"Specifications!C13 - IF(MOD(YEAR(Specifications!C13),4)=0, 366, 365)","v":-366}]
[]
[]
[]
[null,null,"Current Year","Previous Year"]
[null,null,{"$f":"Specifications!$C$14","v":0},{"$f":"Specifications!$C$14","v":0}]
[null,"Motor"]
[null,"Accident &\nHealth"]
[null,"Engineering"]
[null,"Liability"]
[null,"Property"]
[null,"Transport"]
[null,"Guarantee"]
[null,"Miscellaneous"]
[]
[null,"TOTAL COMMISSIONS",{"$f":"SUM(C14:C21)","v":0},{"$f":"SUM(D14:D21)","v":0}]

{"sheet":"R3","index":86,"n_rows":41,"n_cols":6,"rows_kept":41,"cut":false,"hidden":false,"merged":[[2,1,2,5],[6,2,6,3],[7,2,7,3]]}
[]
[]
[null,"FORM R3: FINANCIAL RATIOS"]
[]
[]
[]
[null,"NAME OF REINSURER",{"$f":"Specifications!C5","v":0}]
[null,"YEAR ENDED",{"$f":"Specifications!C13","v":"00:00:00"}]
[]
[]
[null,null,"Current \nYear (CY)","CY-1","CY-2","CY-3"]
[]
[null,"BALANCE SHEET SUMMARY"]
[null,"Assets",{"$f":"A0!D41","v":0},{"$f":"A0!E41","v":0}]
[null,"Liabilities",{"$f":"L0!D43","v":0},{"$f":"L0!E43","v":0}]
[null,"Equity",{"$f":"L0!D22","v":0},{"$f":"L0!E22","v":0}]
[]
[null,"PROFITABILITY"]
[null,"Insurance Service Result",{"$f":"PL0!D24","v":0},{"$f":"PL0!E24","v":0}]
[null,"Net profit after tax",{"$f":"PL0!D43","v":0},{"$f":"PL0!E43","v":0}]
[null,"Cash flows - Premiums received for Insurance Contracts",{"$f":"'IR11'!C17+'IR11'!D17","v":0}]
[null,"Insurance Revenue",{"$f":"PL0!D12","v":0},{"$f":"PL0!E12","v":0}]
[null,"Insurance Service Expenses",{"$f":"PL0!D16","v":0},{"$f":"PL0!E16","v":0}]
[null,"Allocation of Reinsurance Premiums",{"$f":"'I5'!C14","v":0}]
[null,"Amount Recoverable from Insurance Cashflows",{"$f":"'I5'!C16","v":0}]
[]
[null,"Gross Written Premium",{"$f":"SUM('R1'!G128:J128)","v":0},{"$f":"SUM('R1'!C128:F128)","v":0}]
[null,"Change in Gross Writings",{"$f":"D27-C27","v":0},{"$f":"E27-D27","v":0},0]
[null,"Gross Claims Paid",{"$f":"SUM('R1'!G145:J145)","v":0},{"$f":"SUM('R1'!C145:F145)","v":0}]
[null,"Gross Loss ratio",{"$f":"IFERROR(C29/C27, 0)","v":0},{"$f":"IFERROR(D29/D27, 0)","v":0}]
[null,"Insurance Combined ratio",{"$f":"IFERROR((C23)/(C22), 0)","v":0}]
[null,"Reinsurance Combined ratio",{"$f":"IFERROR(C25/C24,0)","v":0}]
[null,"Underwriting margin on revenues",{"$f":"IFERROR(I0!D31/I0!D15,0)","v":0}]
[null,"Underwriting margin on liabilities",{"$f":"IFERROR(I0!D23/L0!D26,0)","v":0}]
[]
[null,"OTHER RATIOS"]
[null,"Equity as a % of liabilities",{"$f":"IFERROR(C16/C15, 0)","v":0},{"$f":"IFERROR(D16/D15, 0)","v":0}]
[null,"Debt to Equity",{"$f":"IFERROR(C15/C16, 0)","v":0},{"$f":"IFERROR(D15/D16, 0)","v":0}]
[null,"Return on Equity",{"$f":"IFERROR(C20/L0!D22, 0)","v":0},{"$f":"IFERROR(D20/L0!E22, 0)","v":0}]
[null,"Profit Margin",{"$f":"IFERROR(C19/C22, 0)","v":0},{"$f":"IFERROR(D19/D22, 0)","v":0}]
[null,"Capital Available as a % of Minimum Capital Required ",{"$f":"C0!D67","v":0},{"$f":"C0!E67","v":0}]

{"sheet":"R4","index":87,"n_rows":68,"n_cols":15,"rows_kept":68,"cut":false,"hidden":false,"merged":[[2,1,2,14],[12,1,13,1],[12,2,13,2],[12,3,13,3],[12,4,12,7],[12,8,13,8],[12,9,12,10],[12,11,13,11],[12,12,12,14],[6,2,6,3],[7,2,7,3]]}
[]
[]
[null,"FORM R4: SUMMARY OF REINSURANCE CONTRACTS HELD"]
[]
[]
[]
[null,"NAME OF REINSURER",{"$f":"Specifications!C5","v":0}]
[null,"YEAR ENDED",{"$f":"Specifications!C13","v":"00:00:00"}]
[]
[]
[]
[]
[null,"Name of Reinsurer","Business Covered","Type of contract","Net Expenses from \nReinsurance Contracts Held",null,null,null,"Assets for Remaining Coverage","Assets for Incurred Claims",null,"Reinsurance Contract Held Balances\nTotal\n","Receivables"]
[null,null,null,null,"Allocation of Reinsurance Premiums","Amounts Recoverable from Reinsurers for Incurred Claims","Effect of changes in non-performance risk of reinsurers","Total\n",null,"Under PAA","Not under PAA",null,"Reinsurance Receivable","Reinsurance Payable","Net Receivable"]
[null,null,null,null,{"$f":"Specifications!$C$14","v":0},{"$f":"Specifications!$C$14","v":0},{"$f":"Specifications!$C$14","v":0},{"$f":"Specifications!$C$14","v":0},{"$f":"Specifications!$C$14","v":0},{"$f":"Specifications!$C$14","v":0},{"$f":"Specifications!$C$14","v":0},{"$f":"Specifications!$C$14","v":0},{"$f":"Specifications!$C$14","v":0},{"$f":"Specifications!$C$14","v":0},{"$f":"Specifications!$C$14","v":0}]
[null,null,null,null,null,null,null,{"$f":"SUM(E16:G16)","v":0},null,null,null,{"$f":"SUM(I16:K16)","v":0},null,null,{"$f":"M16-N16","v":0}]
[null,null,null,null,null,null,null,{"$f":"SUM(E17:G17)","v":0},null,null,null,{"$f":"SUM(I17:K17)","v":0},null,null,{"$f":"M17-N17","v":0}]
[null,null,null,null,null,null,null,0,null,null,null,0,null,null,0]
[null,null,null,null,null,null,null,0,null,null,null,0,null,null,0]
[null,null,null,null,null,null,null,0,null,null,null,0,null,null,0]
[null,null,null,null,null,null,null,0,null,null,null,0,null,null,0]
[null,null,null,null,null,null,null,0,null,null,null,0,null,null,0]
[null,null,null,null,null,null,null,0,null,null,null,0,null,null,0]
[null,null,null,null,null,null,null,0,null,null,null,0,null,null,0]
[null,null,null,null,null,null,null,0,null,null,null,0,null,null,0]
[null,null,null,null,null,null,null,0,null,null,null,0,null,null,0]
[null,null,null,null,null,null,null,0,null,null,null,0,null,null,0]
[null,null,null,null,null,null,null,0,null,null,null,0,null,null,0]
[null,null,null,null,null,null,null,0,null,null,null,0,null,null,0]
[null,null,null,null,null,null,null,0,null,null,null,0,null,null,0]
[null,null,null,null,null,null,null,0,null,null,null,0,null,null,0]
[null,null,null,null,null,null,null,0,null,null,null,0,null,null,0]
[null,null,null,null,null,null,null,0,null,null,null,0,null,null,0]
[null,null,null,null,null,null,null,0,null,null,null,0,null,null,0]
[null,null,null,null,null,null,null,0,null,null,null,0,null,null,0]
[null,null,null,null,null,null,null,0,null,null,null,0,null,null,0]
[null,null,null,null,null,null,null,0,null,null,null,0,null,null,0]
[null,null,null,null,null,null,null,0,null,null,null,0,null,null,0]
[null,null,null,null,null,null,null,0,null,null,null,0,null,null,0]
[null,null,null,null,null,null,null,0,null,null,null,0,null,null,0]
[null,null,null,null,null,null,null,0,null,null,null,0,null,null,0]
[null,null,null,null,null,null,null,0,null,null,null,0,null,null,0]
[null,null,null,null,null,null,null,0,null,null,null,0,null,null,0]
[null,null,null,null,null,null,null,0,null,null,null,0,null,null,0]
[null,null,null,null,null,null,null,0,null,null,null,0,null,null,0]
[null,null,null,null,null,null,null,0,null,null,null,0,null,null,0]
[null,null,null,null,null,null,null,0,null,null,null,0,null,null,0]
[null,null,null,null,null,null,null,0,null,null,null,0,null,null,0]
[null,null,null,null,null,null,null,0,null,null,null,0,null,null,0]
[null,null,null,null,null,null,null,0,null,null,null,0,null,null,0]
[null,null,null,null,null,null,null,0,null,null,null,0,null,null,0]
[null,null,null,null,null,null,null,0,null,null,null,0,null,null,0]
[null,null,null,null,null,null,null,0,null,null,null,0,null,null,0]
[null,null,null,null,null,null,null,0,null,null,null,0,null,null,0]
[null,null,null,null,null,null,null,0,null,null,null,0,null,null,0]
[null,null,null,null,null,null,null,0,null,null,null,0,null,null,0]
[null,null,null,null,null,null,null,0,null,null,null,0,null,null,0]
[null,null,null,null,null,null,null,{"$f":"SUM(E58:G58)","v":0},null,null,null,0,null,null,0]
[null,null,null,null,null,null,null,0,null,null,null,0,null,null,0]
[null,null,null,null,null,null,null,0,null,null,null,0,null,null,0]
[null,null,null,null,null,null,null,0,null,null,null,0,null,null,0]
[null,null,null,null,null,null,null,0,null,null,null,0,null,null,0]
[null,null,null,null,null,null,null,0,null,null,null,0,null,null,0]
[null,null,null,null,null,null,null,0,null,null,null,0,null,null,0]
[null,null,null,null,null,null,null,0,null,null,null,0,null,null,0]
[null,null,null,null,null,null,null,0,null,null,null,0,null,null,0]
[]
[null,"TOTAL BUSINESS",null,null,{"$f":"SUM(E16:E67)","v":0},0,0,0,0,0,0,0,0,0,0]

{"sheet":"R5","index":88,"n_rows":23,"n_cols":5,"rows_kept":23,"cut":false,"hidden":false,"merged":[[2,1,2,4],[6,2,6,3],[7,2,7,3]]}
[]
[]
[null,"FORM R5: ONEROUS CONTRACTS"]
[]
[]
[]
[null,"NAME OF REINSURER",{"$f":"Specifications!C5","v":0}]
[null,"YEAR ENDED",{"$f":"Specifications!C13","v":"00:00:00"}]
[]
[]
[]
[null,"Product","Losses and Reversal of Losses \n(Insurance Contracts Issued)","Loss-Recovery and Reversal of Loss-Recovery\n (Reinsurance Contracts Held)","Onerous Contracts Losses (Net)"]
[null,null,{"$f":"Specifications!$C$14","v":0},{"$f":"Specifications!$C$14","v":0},{"$f":"Specifications!$C$14","v":0}]
[null,"Motor",{"$f":"'I3'!D30+'I4'!D30","v":0},null,{"$f":"C14-D14","v":0}]
[null,"Accident & \nHealth",{"$f":"'I3'!E30+'I4'!E30","v":0},null,{"$f":"C15-D15","v":0}]
[null,"Engineering",{"$f":"'I3'!F30+'I4'!F30","v":0},null,0]
[null,"Liability",{"$f":"'I3'!G30+'I4'!G30","v":0},null,0]
[null,"Property",{"$f":"'I3'!H30+'I4'!H30","v":0},null,0]
[null,"Transportation",{"$f":"'I3'!I30+'I4'!I30","v":0},null,0]
[null,"Guarantee",{"$f":"'I3'!J30+'I4'!J30","v":0},null,0]
[null,"Miscellaneous",{"$f":"'I3'!K30+'I4'!K30","v":0},null,0]
[]
[null,"Total",{"$f":"SUM(C14:C21)","v":0},{"$f":"SUM(D14:D21)","v":0},{"$f":"SUM(E14:E21)","v":0}]

{"sheet":"R6","index":89,"n_rows":67,"n_cols":11,"rows_kept":67,"cut":false,"hidden":false,"merged":[[64,1,64,2],[65,1,65,2],[57,1,57,2],[60,1,60,2],[61,1,61,2],[62,1,62,2],[63,1,63,2],[52,1,52,2],[53,1,53,2],[54,1,54,2],[55,1,55,2],[56,1,56,2],[45,1,45,2],[46,1,46,2],[47,1,47,2],[48,1,48,2],[49,1,49,2],[35,1,35,2],[36,1,36,2],[37,1,37,2],[38,1,38,2],[44,1,44,2],[29,1,29,2],[30,1,30,2],[33,1,33,2],[34,1,34,2],[22,1,22,2],[25,1,25,2],[26,1,26,2],[27,1,27,2],[28,1,28,2],[17,1,17,2],[18,1,18,2],[19,1,19,2],[20,1,20,2],[21,1,21,2],[11,10,12,10],[2,1,2,10],[11,3,12,3],[11,4,12,4],[11,5,12,5],[11,6,12,6],[11,7,12,7],[11,8,12,8],[11,9,12,9],[6,3,6,5],[7,3,7,5],[6,1,6,2],[7,1,7,2],[11,1,13,2]]}
[]
[]
[null,"FORM R6: DISCOUNT RATES"]
[]
[]
[]
[null,"NAME OF REINSURER",null,{"$f":"Specifications!C5","v":0}]
[null,"YEAR ENDED",null,{"$f":"Specifications!C13","v":"00:00:00"}]
[]
[]
[]
[null,"Description ",null,"Motor","Accident & \nHealth","Engineering","Liability","Property","Transportation","Guarantee","Miscellaneous"]
[]
[null,null,null,"%","%","%","%","%","%","%","%"]
[]
[null,"LIABILITY FOR INCURRED CLAIMS"]
[]
[null,"Insurance contract issued"]
[null,"   Current Yr +1"]
[null,"   Current Yr +2"]
[null,"   Current Yr +3"]
[null,"   Current Yr +4"]
[null,"   Current Yr +5"]
[null,"   Current > 5yr - Specify"]
[]
[null,"Reinsurance contract issued"]
[null,"   Current Yr +1"]
[null,"   Current Yr +2"]
[null,"   Current Yr +3"]
[null,"   Current Yr +4"]
[null,"   Current Yr +5"]
[null,"   Current > 5yr - Specify"]
[]
[null,"Reinsrurance contract held"]
[null,"   Current Yr +1"]
[null,"   Current Yr +2"]
[null,"   Current Yr +3"]
[null,"   Current Yr +4"]
[null,"   Current Yr +5"]
[null,"   Current > 5yr - Specify"]
[]
[]
[null,"LIABILITY FOR REMAINING COVERAGE - GMM"]
[]
[null,"Insurance contract issued"]
[null,"   Current Yr +1"]
[null,"   Current Yr +2"]
[null,"   Current Yr +3"]
[null,"   Current Yr +4"]
[null,"   Current Yr +5"]
[null,"   Current > 5yr - Specify"]
[]
[null,"Reinsurance contract issued"]
[null,"   Current Yr +1"]
[null,"   Current Yr +2"]
[null,"   Current Yr +3"]
[null,"   Current Yr +4"]
[null,"   Current Yr +5"]
[null,"   Current > 5yr - Specify"]
[]
[null,"Reinsrurance contract held"]
[null,"   Current Yr +1"]
[null,"   Current Yr +2"]
[null,"   Current Yr +3"]
[null,"   Current Yr +4"]
[null,"   Current Yr +5"]
[null,"   Current > 5yr - Specify"]

{"sheet":"R7","index":90,"n_rows":42,"n_cols":11,"rows_kept":42,"cut":false,"hidden":false,"merged":[[10,8,11,8],[10,9,11,9],[10,10,11,10],[2,1,2,10],[6,2,6,3],[7,2,7,3],[10,1,11,1],[10,2,11,2],[10,3,11,3],[10,4,11,4],[10,5,11,5],[10,6,11,6],[10,7,11,7]]}
[]
[]
[null,"FORM R7: REMAINING CONTRACTUAL SERVICE MARGIN FROM INSURANCE CONTRACTS ESTIMATED AT THE END OF THE YEAR"]
[]
[]
[]
[null,"NAME OF REINSURER",{"$f":"Specifications!C5","v":0}]
[null,"YEAR ENDED",{"$f":"Specifications!C13","v":"00:00:00"}]
[]
[]
[null,null,"1 Year or less"," 1 -2 Years","2-3 Years","3-4 Years","4-5 Years","5-10 Years","10 - 20 Years","More than 20 Years","Total"]
[]
[null,null,{"$f":"Specifications!$C$14","v":0},{"$f":"Specifications!$C$14","v":0},{"$f":"Specifications!$C$14","v":0},{"$f":"Specifications!$C$14","v":0},{"$f":"Specifications!$C$14","v":0},{"$f":"Specifications!$C$14","v":0},{"$f":"Specifications!$C$14","v":0},{"$f":"Specifications!$C$14","v":0},{"$f":"Specifications!$C$14","v":0}]
[null,"CURRENT YEAR"]
[null,"Insurance Contracts",null,null,null,null,null,null,null,null,{"$f":"SUM(C15:J15)","v":0}]
[null,"Total Insurance Contracts",{"$f":"C15","v":0},{"$f":"D15","v":0},0,0,0,0,0,0,{"$f":"SUM(C16:J16)","v":0}]
[]
[null,"Total Reinsurance Contract Held",null,null,null,null,null,null,null,null,{"$f":"SUM(C18:J18)","v":0}]
[]
[null,"Individual "]
[null,"Motor",null,null,null,null,null,null,null,null,{"$f":"SUM(C21:J21)","v":0}]
[null,"Accident & \nHealth",null,null,null,null,null,null,null,null,0]
[null,"Engineering",null,null,null,null,null,null,null,null,0]
[null,"Liability",null,null,null,null,null,null,null,null,0]
[null,"Property",null,null,null,null,null,null,null,null,0]
[null,"Transportation",null,null,null,null,null,null,null,null,0]
[null,"Guarantee",null,null,null,null,null,null,null,null,0]
[null,"Miscellaneous",null,null,null,null,null,null,null,null,0]
[]
[null,"Group "]
[null,"Motor",null,null,null,null,null,null,null,null,{"$f":"SUM(C31:J31)","v":0}]
[null,"Accident & \nHealth",null,null,null,null,null,null,null,null,0]
[null,"Engineering",null,null,null,null,null,null,null,null,0]
[null,"Liability",null,null,null,null,null,null,null,null,0]
[null,"Property",null,null,null,null,null,null,null,null,0]
[null,"Transportation",null,null,null,null,null,null,null,null,0]
[null,"Guarantee",null,null,null,null,null,null,null,null,0]
[null,"Miscellaneous",null,null,null,null,null,null,null,null,0]
[]
[null,"Total",{"$f":"SUM(C20:C38)","v":0},{"$f":"SUM(D20:D38)","v":0},0,0,0,0,0,0,0]
[]
[null,"Other",null,null,null,null,null,null,null,null,{"$f":"SUM(C42:J42)","v":0}]

{"sheet":"Dev","index":91,"n_rows":82,"n_cols":10,"rows_kept":82,"cut":false,"hidden":true,"merged":[]}
["AM BEST","S & P","MOODY'S","FITCH","UNRATED",null,"Rating text","Rating"]
["A++","AAA","AAA","AAA",null,null,"AM BESTA++",1]
["A+","AA+","AA1","AA+",null,null,"AM BESTA+",1]
["A","AA","AA2","AA",null,null,"AM BESTA",1,null,"Buttons to protect and unprotect all sheets at once:"]
["A-","AA-","AA3","AA-",null,null,"AM BESTA-",1]
["B++","A+","A1","A+",null,null,"AM BESTB++",1]
["B+","A","A2","A",null,null,"AM BESTB+",1]
["B","A-","A3","A-",null,null,"AM BESTB",2]
["B-","BBB+","BAA1","BBB+",null,null,"AM BESTB-",2]
["C++","BBB","BAA2","BBB",null,null,"AM BESTC++",3]
["C+","BBB-","BAA3","BBB-",null,null,"AM BESTC+",3]
["C","BB+","BA1","BB+",null,null,"AM BESTC",3]
["C-","BB","BA2","BB",null,null,"AM BESTC-",3]
["D","BB-","BA3","BB-",null,null,"AM BESTD",3]
["E","B+","B1","B+",null,null,"AM BESTE",3]
["F","B","B2","B",null,null,"AM BESTF",3]
["S","B-","B3","B-",null,null,"AM BESTS",3]
[null,"CCC+","CAA1","CCC",null,null,"S & PAAA",1]
[null,"CCC","CAA2","CC",null,null,"S & PAA+",1]
[null,"CCC-","CAA3","C",null,null,"S & PAA",1]
[null,"CC","CA","F",null,null,"S & PAA-",1]
[null,"R","C","",null,null,"S & PA+",1]
[null,"SD","","",null,null,"S & PA",1]
[null,null,null,null,null,null,"S & PA-",1]
[null,null,null,null,null,null,"S & PBBB+",1]
[null,null,null,null,null,null,"S & PBBB",2]
[null,null,null,null,null,null,"S & PBBB-",3]
[null,null,null,null,null,null,"S & PBB+",3]
[null,null,null,null,null,null,"S & PBB",3]
[null,null,null,null,null,null,"S & PBB-",3]
[null,null,null,null,null,null,"S & PB+",3]
[null,null,null,null,null,null,"S & PB",3]
[null,null,null,null,null,null,"S & PB-",3]
[null,null,null,null,null,null,"S & PCCC+",3]
[null,null,null,null,null,null,"S & PCCC",3]
[null,null,null,null,null,null,"S & PCCC-",3]
[null,null,null,null,null,null,"S & PCC",3]
[null,null,null,null,null,null,"S & PR",3]
[null,null,null,null,null,null,"S & PSD",3]
[null,null,null,null,null,null,"S & PD",3]
[null,null,null,null,null,null,"MOODY'SAAA",1]
[null,null,null,null,null,null,"MOODY'SAA1",1]
[null,null,null,null,null,null,"MOODY'SAA2",1]
[null,null,null,null,null,null,"MOODY'SAA3",1]
[null,null,null,null,null,null,"MOODY'SA1",1]
[null,null,null,null,null,null,"MOODY'SA2",1]
[null,null,null,null,null,null,"MOODY'SA3",1]
[null,null,null,null,null,null,"MOODY'SBAA1",2]
[null,null,null,null,null,null,"MOODY'SBAA2",2]
[null,null,null,null,null,null,"MOODY'SBAA3",2]
[null,null,null,null,null,null,"MOODY'SBA1",3]
[null,null,null,null,null,null,"MOODY'SBA2",3]
[null,null,null,null,null,null,"MOODY'SBA3",3]
[null,null,null,null,null,null,"MOODY'SB1",3]
[null,null,null,null,null,null,"MOODY'SB2",3]
[null,null,null,null,null,null,"MOODY'SB3",3]
[null,null,null,null,null,null,"MOODY'SCAA1",3]
[null,null,null,null,null,null,"MOODY'SCAA2",3]
[null,null,null,null,null,null,"MOODY'SCAA3",3]
[null,null,null,null,null,null,"MOODY'SCA",3]
[null,null,null,null,null,null,"MOODY'SC",3]
[null,null,null,null,null,null,"FITCHAAA",1]
[null,null,null,null,null,null,"FITCHAA+",1]
[null,null,null,null,null,null,"FITCHAA",1]
[null,null,null,null,null,null,"FITCHAA-",1]
[null,null,null,null,null,null,"FITCHA+",1]
[null,null,null,null,null,null,"FITCHA",1]
[null,null,null,null,null,null,"FITCHA-",1]
[null,null,null,null,null,null,"FITCHBBB+",1]
[null,null,null,null,null,null,"FITCHBBB",2]
[null,null,null,null,null,null,"FITCHBBB-",3]
[null,null,null,null,null,null,"FITCHBB+",3]
[null,null,null,null,null,null,"FITCHBB",3]
[null,null,null,null,null,null,"FITCHBB-",3]
[null,null,null,null,null,null,"FITCHB+",3]
[null,null,null,null,null,null,"FITCHB",3]
[null,null,null,null,null,null,"FITCHB-",3]
[null,null,null,null,null,null,"FITCHCCC",3]
[null,null,null,null,null,null,"FITCHCC",3]
[null,null,null,null,null,null,"FITCHC",3]
[null,null,null,null,null,null,"FITCHF",3]
[null,null,null,null,null,null,"UNRATED",3]