{"text_format":"1","workbook":"xlsx","n_sheets":76,"sheets":["Index","Introduction","Captive Information","Specifications","Shareholders","Shareholding structure","Captives in other Jurisdictions","Outsourcing","Disclosure","Corporate organisation chart","PCC","Checks","Simplifications","Corporate information","Balance Sheet>>>","BS","A0","A1","A2","A3","A4","A5","A6","A7","A8","A9","A10","A11","A12","A13","L0","L1","L2","L3","L4","L5","L6","L7","Insurance&Reinsurance>>>","IR0","IR1","IR2","IR3","IR4","IR5","IR6","Profit&Loss>>>","I0","I1","I2","I3","I4","I5","I6","I7","I8","I9","PL0","PL1","PL2","PL3","Capital requirements>>>","C0","C1","C2","C3","C4","Reporting >>>","R1","R2","R3","R4","R5","R6","R7","Dev"],"not_rendered":{"charts":0,"images":0,"macros":1,"external_links":0,"defined_names":12,"comments":0,"pivot_tables":0},"unopened":[],"bounds":{"document_bytes":16777216,"sheet_cells":100000,"rows_first":2000,"rows_last":500,"rows_between":2000,"halvings":0,"cell_chars":16384,"cell_head_chars":4096},"cells_cut":0,"cells_raw":0,"read":"whole","date_system":"1900"}

{"sheet":"Index","index":0,"n_rows":88,"n_cols":3,"rows_kept":88,"cut":false,"hidden":false,"merged":[[1,1,1,7],[4,2,4,7]]}
["Third Schedule [Rule 3(3)]"]
[null,"CLASS 2 CAPTIVES :TABLE OF CONTENTS"]
[]
[]
[null,"SHEET","DESCRIPTION"]
[null,{"$f":"HYPERLINK(\"#'Introduction'!A1\", \"Introduction\")","v":"Introduction"}]
[null,{"$f":"HYPERLINK(\"#'Captive Information'!A1\", \"Captive Information\")","v":"Captive Information"},"Information regarding captive classification"]
[null,{"$f":"HYPERLINK(\"#'Specifications'!A1\", \"Specifications\")","v":"Specifications"},"Specifications for template completion"]
[null,{"$f":"HYPERLINK(\"#'Shareholders'!A1\", \"Shareholders\")","v":"Shareholders"},"Disclosure of company's shareholders"]
[null,{"$f":"HYPERLINK(\"#'Shareholding structure'!A1\", \"Shareholding structure\")","v":"Shareholding structure"},"Disclosure of company's shareholding structure"]
[null,{"$f":"HYPERLINK(\"#'Captives in other Jurisdictions'!A1\", \"Captives in other Jurisdictions\")","v":"Captives in other Jurisdictions"},"Disclosure of captives shareholding in other jurisdictions"]
[null,{"$f":"HYPERLINK(\"#'Outsourcing'!A1\", \"Outsourcing\")","v":"Outsourcing"},"Disclosure of activities of the captives which have been outsourced"]
[null,{"$f":"HYPERLINK(\"#'Disclosure'!A1\", \"Disclosure\")","v":"Disclosure"},"Disclosure with respect to changes over previous period, Exchange rates, ESG, and other disclosures"]
[null,{"$f":"HYPERLINK(\"#'Corporate organisation chart'!A1\", \"Corporate organisation chart\")","v":"Corporate organisation chart"},"Disclosure of Corporate organisation chart"]
[null,{"$f":"HYPERLINK(\"#'PCC'!A1\", \"PCC\")","v":"PCC"},"Disclosure with respect to Protective Cell Companies (PCC)"]
[null,{"$f":"HYPERLINK(\"#'Checks'!A1\", \"Checks\")","v":"Checks"},"Checks to ensure proper filling of the template"]
[null,{"$f":"HYPERLINK(\"#'Simplifications'!A1\", \"Simplifications\")","v":"Simplifications"},"Simplifications or assumptions used for the completion of the statutory returns"]
[null,{"$f":"HYPERLINK(\"#'Corporate information'!A1\", \"Corporate information\")","v":"Corporate information"},"Specification of company information"]
[]
[null,{"$f":"HYPERLINK(\"#'BS'!A1\",\"BS\")","v":"BS"},"Balance sheet"]
[null,"Assets","Statement of assets, liabilities and equity"]
[null,{"$f":"HYPERLINK(\"#'A0'!A1\",\"A0\")","v":"A0"},"Balance Sheet -Assets"]
[null,{"$f":"HYPERLINK(\"#'A1'!A1\",\"A1\")","v":"A1"},"Property, plant and equipment"]
[null,{"$f":"HYPERLINK(\"#'A2'!A1\",\"A2\")","v":"A2"},"Goodwill and other intangible assets"]
[null,{"$f":"HYPERLINK(\"#'A3'!A1\",\"A3\")","v":"A3"},"Right-of-use Assets"]
[null,{"$f":"HYPERLINK(\"#'A4'!A1\",\"A4\")","v":"A4"},"Investment in related companies"]
[null,{"$f":"HYPERLINK(\"#'A5'!A1\",\"A5\")","v":"A5"},"Investment property"]
[null,{"$f":"HYPERLINK(\"#'A6'!A1\",\"A6\")","v":"A6"},"Financial investments"]
[null,{"$f":"HYPERLINK(\"#'A7'!A1\",\"A7\")","v":"A7"},"Derivative assets"]
[null,{"$f":"HYPERLINK(\"#'A8'!A1\",\"A8\")","v":"A8"},"Current and deferred tax assets and liabilities"]
[null,{"$f":"HYPERLINK(\"#'A9'!A1\",\"A9\")","v":"A9"},"Receivables"]
[null,{"$f":"HYPERLINK(\"#'A10'!A1\",\"A10\")","v":"A10"},"Recoveries from insurance companies"]
[null,{"$f":"HYPERLINK(\"#'A11'!A1\",\"A11\")","v":"A11"},"Assets held for sale"]
[null,{"$f":"HYPERLINK(\"#'A12'!A1\",\"A12\")","v":"A12"},"Assets covering general business technical provisions"]
[null,{"$f":"HYPERLINK(\"#'A13'!A1\",\"A13\")","v":"A13"},"Cash and other assets"]
[]
[null,"Liabilities"]
[null,{"$f":"HYPERLINK(\"#'L0'!A1\", \"L0\")","v":"L0"},"Balance sheet liabilities and equity"]
[null,{"$f":"HYPERLINK(\"#'L1'!A1\", \"L1\")","v":"L1"},"Liabilities held for sale"]
[null,{"$f":"HYPERLINK(\"#'L2'!A1\", \"L2\")","v":"L2"},"Derivative liabilities"]
[null,{"$f":"HYPERLINK(\"#'L3'!A1\", \"L3\")","v":"L3"},"Investment contract liabilities"]
[null,{"$f":"HYPERLINK(\"#'L4'!A1\", \"L4\")","v":"L4"},"Lease liabilities"]
[null,{"$f":"HYPERLINK(\"#'L5'!A1\", \"L5\")","v":"L5"},"Trade and other payables, including insurance payables"]
[null,{"$f":"HYPERLINK(\"#'L6'!A1\", \"L6\")","v":"L6"},"Borrowings"]
[null,{"$f":"HYPERLINK(\"#'L7'!A1\", \"L7\")","v":"L7"},"Other liabilities"]
[]
[null,"Insurance & Reinsurance"]
[null,{"$f":"HYPERLINK(\"#'IR0'!A1\", \"IR0\")","v":"IR0"},"Balance sheet and reserves summary"]
[null,{"$f":"HYPERLINK(\"#'IR1'!A1\", \"IR1\")","v":"IR1"},"Insurance Liabilities"]
[null,{"$f":"HYPERLINK(\"#'IR2'!A1\", \"IR2\")","v":"IR2"},"Insurance assets"]
[null,{"$f":"HYPERLINK(\"#'IR3'!A1\", \"IR3\")","v":"IR3"},"Reinsurance Liabilities"]
[null,{"$f":"HYPERLINK(\"#'IR4'!A1\", \"IR4\")","v":"IR4"},"Reinsurance assets"]
[null,{"$f":"HYPERLINK(\"#'IR5'!A1\", \"IR5\")","v":"IR5"},"Cashflows"]
[null,{"$f":"HYPERLINK(\"#'IR6'!A1\", \"IR6\")","v":"IR6"},"Risk adjustment confidence interval"]
[]
[null,"Insurance finance result"]
[null,{"$f":"HYPERLINK(\"#'I0'!A1\", \"I0\")","v":"I0"},"Statement of financial performance"]
[null,{"$f":"HYPERLINK(\"#'I1'!A1\", \"I1\")","v":"I1"},"Insurance Revenue under BBA"]
[null,{"$f":"HYPERLINK(\"#'I2'!A1\", \"I2\")","v":"I2"},"Insurance Revenue under PAA"]
[null,{"$f":"HYPERLINK(\"#'I3'!A1\", \"I3\")","v":"I3"},"Insurance service expense measured under BBA"]
[null,{"$f":"HYPERLINK(\"#'I4'!A1\", \"I4\")","v":"I4"},"Insurance service expense measured under PAA"]
[null,{"$f":"HYPERLINK(\"#'I5'!A1\", \"I5\")","v":"I5"},"Net expenses from reinsurance contracts"]
[null,{"$f":"HYPERLINK(\"#'I6'!A1\", \"I6\")","v":"I6"},"Finance income/(expenses) for insurance contracts issued"]
[null,{"$f":"HYPERLINK(\"#'I7'!A1\", \"I7\")","v":"I7"},"Finance income/(expenses) for reinsurance contracts held"]
[null,{"$f":"HYPERLINK(\"#'I8'!A1\", \"I8\")","v":"I8"},"Reinsurance ceded"]
[null,{"$f":"HYPERLINK(\"#'I9'!A1\", \"I9\")","v":"I9"},"Expenses from reinsurance"]
[]
[null,"Profit and Loss"]
[null,{"$f":"HYPERLINK(\"#'PL0'!A1\", \"PL0\")","v":"PL0"},"Statement of profit and loss"]
[null,{"$f":"HYPERLINK(\"#'PL1'!A1\", \"PL1\")","v":"PL1"},"Management and other expenses"]
[null,{"$f":"HYPERLINK(\"#'PL2'!A1\", \"PL2\")","v":"PL2"},"Investment income"]
[null,{"$f":"HYPERLINK(\"#'PL3'!A1\", \"PL3\")","v":"PL3"},"Other comprehensive income"]
[]
[null,"Capital"]
[null,{"$f":"HYPERLINK(\"#'C0'!A1\", \"C0\")","v":"C0"},"Capital Requirement"]
[null,{"$f":"HYPERLINK(\"#'C1'!A1\", \"C1\")","v":"C1"},"Capital Requirement - Equity"]
[null,{"$f":"HYPERLINK(\"#'C2'!A1\", \"C2\")","v":"C2"},"Capital Requirement - Asset Capital"]
[null,{"$f":"HYPERLINK(\"#'C3'!A1\", \"C3\")","v":"C3"},"Capital Requirement - Underwriting Capital"]
[null,{"$f":"HYPERLINK(\"#'C4'!A1\", \"C4\")","v":"C4"},"Capital Requirement - CAR for Long Term Insurance Business"]
[]
[null,"Reporting"]
[null,{"$f":"HYPERLINK(\"#'R1'!A1\", \"R1\")","v":"R1"},"Commissions"]
[null,{"$f":"HYPERLINK(\"#'R2'!A1\", \"R2\")","v":"R2"},"Gross Written Premium and Technical Provisions"]
[null,{"$f":"HYPERLINK(\"#'R3'!A1\", \"R3\")","v":"R3"},"Analysis of Cash, Bank and Deposits"]
[null,{"$f":"HYPERLINK(\"#'R4'!A1\", \"R4\")","v":"R4"},"Movement in policies - Direct business"]
[null,{"$f":"HYPERLINK(\"#'R5'!A1\", \"R5\")","v":"R5"},"Movement in policies - Reinsurance Inwards"]
[null,{"$f":"HYPERLINK(\"#'R6'!A1\", \"R6\")","v":"R6"},"Financial ratios"]
[null,{"$f":"HYPERLINK(\"#'R7'!A1\", \"R7\")","v":"R7"},"Insured value and policy limit"]

{"sheet":"Introduction","index":1,"n_rows":15,"n_cols":4,"rows_kept":15,"cut":false,"hidden":false,"merged":[[2,1,2,3],[14,1,14,2],[12,1,12,2],[9,1,9,2],[10,1,10,2],[11,1,11,2],[4,1,4,2],[5,1,5,2],[6,1,6,2],[7,1,7,2],[8,1,8,2]]}
[]
[]
[null,"FORM: INTRODUCTION"]
[]
[null,"Formatting",null,"Description"]
[null,"Input field",null,"This item should be completed by typing information "]
[null,"Input field Selection",null,"This item should be completed by selecting an item from a drop - down list "]
[null,"Description",null,"This item provides a description of the information to be provided in the relevant input fields."]
[null,"Checks",null,"This item is used to check information across the data specification."]
[null,"Sub - heading",null,"This item describes the information that is contained in the section following it."]
[null,"Heading",null,"This item describes the information contained on the relevant worksheet."]
[null,"Calculations",null,"This item is used to calculate information across the data specification."]
[null,"Blank",null,"This item should be left blank"]
[]
[null,"Class 2 Captive",null,"Related and unrelated General Insurance Business, business from insurable interest and Long Term Insurance Business"]

{"sheet":"Captive Information","index":2,"n_rows":10,"n_cols":7,"rows_kept":10,"cut":false,"hidden":false,"merged":[[2,1,2,6]]}
[]
[]
[null,"FORM: CAPTIVE INFORMATION"]
[]
[null,"Category of captive insurance business","Class of Business","Minimum unimpaired paid up capital","Minimum Solvency Ratio","Target level","Cash and Cash equivalents"]
[null,"Pure captive insurance business","Related and Unrelated General Insurance Business","3 million rupees","100% of the minimum capital requirement","100% of the minimum capital requirement","At least 40% of minimum unimpaired paid up capital"]
[null,"Multi-owner - pure captive insurance business","General Insurance Business","25 million rupees","100% of the minimum capital requirement","150% of the minimum capital requirement","At least 40% of minimum unimpaired paid up capital"]
[null,"Class 1 third party captive insurance business","Related and Unrelated General Insurance Business and Long Term Insurance Business","5 million rupees","100% of the minimum capital requirement","100% of the minimum capital requirement","At least 40% of minimum unimpaired paid up capital"]
[null,"Class 2 third party captive insurance business","Related and Unrelated General Insurance Business, Business from Insurable Interest other than Long term Business and Long Term Insurance Business","10 million rupees","100% of the minimum capital requirement","150% of the minimum capital requirement","At least 40% of minimum unimpaired paid up capital"]
[null,"Class 3 third party captive insurance business","General Insurance Business","10 million rupees","100% of the minimum capital requirement","150% of the minimum capital requirement","At least 40% of minimum unimpaired paid up capital"]

{"sheet":"Specifications","index":3,"n_rows":36,"n_cols":3,"rows_kept":36,"cut":false,"hidden":false,"merged":[[2,1,2,2]]}
[]
[]
[null,"FORM: SPECIFICATIONS"]
[]
[null,"Specification for template completion"]
[null,"Captive Insurance Entity completing this template:"]
[null,"Captive Insurance licence for which this template is being completed, if applicable:"]
[null,"Is the Captive Insurance entity completing this template a Protected Cell Company (PCC)?"]
[null,"If yes, how is reporting being done?"]
[null,"Has the Captive Insurance Entity accepted Inwards Reinsurance business"]
[]
[null,"Number of contact persons:"]
[null,"Name of contact person:"]
[null,"Position:"]
[null,"Telephone number: "]
[null,"Fax number: "]
[null,"Email address:"]
[]
[null,"Sheet information"]
[null,"Date of completion of this template (DD/MM/YYYY):"]
[null,"Year ended (DD/MM/YYYY):"]
[null,"Currency is in: ","Rs."]
[null,"Method used to value IFRS 17 liabilities"]
[]
[]
[null,"Acknowledgement and signatures: "]
[]
[null,"By signing this template, I acknowledge that I have duly reviewed and approved all the sheets in the template for completeness and accuracy. "]
[]
[null,"Name of person completing this template:"]
[null,"Position:"]
[null,"Signature:"]
[]
[null,"Name of person reviewing and signing off this template:"]
[null,"Position:"]
[null,"Signature:"]

{"sheet":"Shareholders","index":4,"n_rows":9,"n_cols":4,"rows_kept":9,"cut":false,"hidden":false,"merged":[[2,1,2,3],[4,2,4,3],[5,2,5,3]]}
[]
[]
[null,"FORM: SHAREHOLDERS"]
[]
[null,"NAME OF CAPTIVE INSURER",{"$f":"Specifications!C6","v":"00:00:00"}]
[null,"YEAR ENDED",{"$f":"Specifications!C21","v":"00:00:00"}]
[]
[]
[null,"Name of Shareholders","Number of Shares Held","% of Voting Rights Held"]

{"sheet":"Shareholding structure","index":5,"n_rows":5,"n_cols":2,"rows_kept":5,"cut":false,"hidden":false,"merged":[[2,1,2,5],[4,1,14,5]]}
[]
[]
[null,"SHAREHOLDING STRUCTURE"]
[]
[null,"Comprehensive group structure up to the ultimate beneficial owner giving particulars of:\n(a)\tbusiness activity of each entity within the group.\n(b)\tplace of registration/incorporation of each entity within the group.\n(c)\tlicence, authorisation, registration and approval, as the case may be, granted by any regulatory body."]

{"sheet":"Captives in other Jurisdictions","index":6,"n_rows":6,"n_cols":8,"rows_kept":6,"cut":false,"hidden":false,"merged":[[12,2,12,4],[12,5,12,6],[12,7,12,8],[10,2,10,4],[10,5,10,6],[10,7,10,8],[11,2,11,4],[11,5,11,6],[11,7,11,8],[8,2,8,4],[8,5,8,6],[8,7,8,8],[9,2,9,4],[9,5,9,6],[9,7,9,8],[6,2,6,4],[6,5,6,6],[6,7,6,8],[7,2,7,4],[7,5,7,6],[7,7,7,8],[2,1,2,8],[3,1,3,3],[4,1,5,1],[4,2,5,4],[4,5,4,8],[5,5,5,6],[5,7,5,8]]}
[]
[]
[null,"FORM: CAPTIVES IN OTHER JURISDICTIONS"]
[]
[null,"Captive Insurance Company","Domicile",null,null,"Shareholders"]
[null,null,null,null,null,"Name",null,"% Owned"]

{"sheet":"Outsourcing","index":7,"n_rows":5,"n_cols":2,"rows_kept":5,"cut":false,"hidden":false,"merged":[[2,1,2,5],[4,1,14,5]]}
[]
[]
[null,"OUTSOURCING"]
[]
[null,"Please provide details about the activities of the captive insurer which have been outsourced"]

{"sheet":"Disclosure","index":8,"n_rows":42,"n_cols":5,"rows_kept":42,"cut":false,"hidden":false,"merged":[[2,1,2,4]]}
[]
[]
[null,"FORM: DISCLOSURE"]
[]
[null,"Disclosure of changes over the previous period","Y/N","If yes, please provide further information ","Amount"]
[null,null,null,null,{"$f":"Specifications!$C$22","v":"Rs."}]
[null,"Is the Licensee writing any new lines of business?"]
[null,"Has the Licensee discontinued any lines of business?"]
[null,"Has the Licensee launched any new products?"]
[null,"Has the Licensee discontinued any products?"]
[null,"Does the Licensee have any exposures to counterparties that belong to the same corporate group?"]
[null,"Were any assets of the Licensee pledged as security or given as collateral?"]
[null,"Which approach has been used to determine the risk adjustment?"]
[null,"Which approach has been used to set the discount rate?"]
[]
[]
[]
[]
[]
[]
[]
[null,"Exchange rate disclosures: ","Y/N","If No, please provide further information "]
[null,"Have the same exchange rates as the financial statement been assumed for conversion to the reporting currency? "]
[]
[null,"Please provide the exchange rates assumed for the conversion to the reporting currency in the table below: "]
[]
[null,"Currency","Exchange rate"]
[null,null,"Rs."]
[null,"Us Dollars"]
[null,"Euro"]
[]
[]
[]
[]
[]
[null,"ESG disclosures: ","Y/N","If yes, please provide further information "]
[null,"Has the licensee considered Sustainability Disclosures in its Financial Statements?"]
[null,"Does the Licensee incorporate environmental, social and governance (ESG) factors in investment management processes and strategies?"]
[null,"Does the Licensee offer products or product features that incentivise health, safety or environmentally responsible actions or behaviours?"]
[null,"Has the licensee considered Climate-related Disclosures in its Financial Statements?"]
[null,"Does the Licensee consider the Probable Maximum Loss (PML) of insured products from weather-related natural catastrophes?"]
[null,"Does the Licensee incorporate climate- related risks in its ORSA Process?"]

{"sheet":"Corporate organisation chart","index":9,"n_rows":6,"n_cols":2,"rows_kept":6,"cut":false,"hidden":false,"merged":[[3,1,3,3],[5,1,12,3]]}
[]
[]
[]
[null,"CORPORATE  ORGANIZATION  CHART "]
[]
[null," Please provide a chart showing Internal Organigram "]

{"sheet":"PCC","index":10,"n_rows":47,"n_cols":22,"rows_kept":47,"cut":false,"hidden":false,"merged":[[45,18,45,19],[45,20,45,21],[6,18,6,19],[6,20,6,21],[44,18,44,19],[44,20,44,21],[43,18,43,19],[43,20,43,21],[44,14,44,15],[44,16,44,17],[45,14,45,15],[45,16,45,17],[6,12,6,13],[6,14,6,15],[6,16,6,17],[43,14,43,15],[43,16,43,17],[45,12,45,13],[44,12,44,13],[43,12,43,13],[43,6,43,7],[46,2,46,3],[44,2,44,3],[45,2,45,3],[45,4,45,5],[45,6,45,7],[44,6,44,7],[2,1,2,21],[44,10,44,11],[45,8,45,9],[45,10,45,11],[44,4,44,5],[43,4,43,5],[43,8,43,9],[44,8,44,9],[6,1,9,1],[6,2,6,3],[43,2,43,3],[6,4,6,5],[43,10,43,11],[6,6,6,7],[6,8,6,9],[6,10,6,11]]}
[]
[]
[null,"FORM: PCC"]
[]
[null,"Number of Cells"]
[]
[null,null,{"$f":"\"Cell \"&C44","v":"Cell 1"},null,{"$f":"\"Cell \"&E44","v":"Cell 2"},null,{"$f":"\"Cell \"&G44","v":"Cell 3"},null,{"$f":"\"Cell \"&I44","v":"Cell 4"},null,{"$f":"\"Cell \"&K44","v":"Cell 5"},null,{"$f":"\"Cell \"&M44","v":"Cell 6"},null,{"$f":"\"Cell \"&O44","v":"Cell 7"},null,{"$f":"\"Cell \"&Q44","v":"Cell 8"},null,{"$f":"\"Cell \"&S44","v":"Cell 9"},null,{"$f":"\"Cell \"&U44","v":"Cell 10"}]
[null,null,"Current Year","Previous Year","Current Year","Previous Year","Current Year","Previous Year","Current Year","Previous Year","Current Year","Previous Year","Current Year","Previous Year","Current Year","Previous Year","Current Year","Previous Year","Current Year","Previous Year","Current Year","Previous Year"]
[]
[null,null,{"$f":"Specifications!$C$22","v":"Rs."},{"$f":"Specifications!$C$22","v":"Rs."},{"$f":"Specifications!$C$22","v":"Rs."},{"$f":"Specifications!$C$22","v":"Rs."},{"$f":"Specifications!$C$22","v":"Rs."},{"$f":"Specifications!$C$22","v":"Rs."},{"$f":"Specifications!$C$22","v":"Rs."},{"$f":"Specifications!$C$22","v":"Rs."},{"$f":"Specifications!$C$22","v":"Rs."},{"$f":"Specifications!$C$22","v":"Rs."},{"$f":"Specifications!$C$22","v":"Rs."},{"$f":"Specifications!$C$22","v":"Rs."},{"$f":"Specifications!$C$22","v":"Rs."},{"$f":"Specifications!$C$22","v":"Rs."},{"$f":"Specifications!$C$22","v":"Rs."},{"$f":"Specifications!$C$22","v":"Rs."},{"$f":"Specifications!$C$22","v":"Rs."},{"$f":"Specifications!$C$22","v":"Rs."},{"$f":"Specifications!$C$22","v":"Rs."},{"$f":"Specifications!$C$22","v":"Rs."}]
[null,"TOTAL ASSETS"]
[null,"Insurance contract assets"]
[null,"Reinsurance contract assets"]
[]
[null,"TOTAL Equity"]
[]
[null,"TOTAL Liability"]
[null,"Insurance contract liabilities"]
[null,"Reinsurance contract liabilities"]
[]
[null,"Minimum capital requirement (MCR)"]
[null,"Total Capital Available"]
[null,"Excess capital available over capital requirement"]
[null,"Excess Capital Available as a % of Minimum Capital Required "]
[]
[null,"Total insurance revenue"]
[null,"Insurance service expenses"]
[null,"Insurance Service Result Before Reinsurance Contracts Held "]
[]
[null,"Net income/(expenses) from reinsurance contracts held "]
[]
[null,"Insurance service result "]
[]
[null,"Net I0"]
[]
[null,"Net Insurance Profit/(loss) before taxation "]
[null,"Net profit after tax"]
[null,"Retained profit"]
[]
[]
[]
[]
[]
[null,0,{"$f":"SUM($B$45:C45)","v":1},null,{"$f":"SUM($B$45:E45)","v":2},null,{"$f":"SUM($B$45:G45)","v":3},null,{"$f":"SUM($B$45:I45)","v":4},null,{"$f":"SUM($B$45:K45)","v":5},null,{"$f":"SUM($B$45:M45)","v":6},null,{"$f":"SUM($B$45:O45)","v":7},null,{"$f":"SUM($B$45:Q45)","v":8},null,{"$f":"SUM($B$45:S45)","v":9},null,{"$f":"SUM($B$45:U45)","v":10}]
[null,null,1,null,1,null,1,null,1,null,1,null,1,null,1,null,1,null,1,null,1]
[null,null,{"$f":"IF(ISBLANK(C7), \"\", 1)","v":1},null,{"$f":"IF(ISBLANK(E7), \"\", 1)","v":1},null,{"$f":"IF(ISBLANK(G7), \"\", 1)","v":1},null,{"$f":"IF(ISBLANK(I7), \"\", 1)","v":1},null,{"$f":"IF(ISBLANK(K7), \"\", 1)","v":1},null,{"$f":"IF(ISBLANK(M7), \"\", 1)","v":1},null,{"$f":"IF(ISBLANK(O7), \"\", 1)","v":1},null,{"$f":"IF(ISBLANK(Q7), \"\", 1)","v":1},null,{"$f":"IF(ISBLANK(S7), \"\", 1)","v":1},null,{"$f":"IF(ISBLANK(U7), \"\", 1)","v":1}]
[null,null,{"$f":"1+SUM(C46:XFD46)","v":11}]

{"sheet":"Checks","index":11,"n_rows":19,"n_cols":8,"rows_kept":19,"cut":false,"hidden":false,"merged":[[4,5,4,7],[2,1,2,7]]}
[]
[]
[null,"FORM: CHECKS"]
[]
[null,"Worksheet","Items","Descriptions","Checks","Links"]
[null,"BS","Assets-Liabilities","Check whether Total Assets equal Total liabilities plus Equity",{"$f":"IF(A0!D39<>L0!D42,\"Breached\",\"Not Breached\")","v":"Not Breached"},{"$f":"HYPERLINK(\"#'A0'!A1\", \"A0\")","v":"A0"},{"$f":"HYPERLINK(\"#'L0'!A1\", \"L0\")","v":"L0"}]
[null,"I0, I1 , I2","Insurance Service Expense","Check whether the Total Insurance Revenue ties up with the sum of Insurance Revenue per line of business",{"$f":"IF(SUM('I1'!G40:U40,'I2'!G29:U29)=I0!D15,\"Not Breached\",\"Breached\")","v":"Not Breached"},{"$f":"HYPERLINK(\"#'I0'!D17\", \"I0\")","v":"I0"},{"$f":"HYPERLINK(\"#'I1'!D23\", \"I1\")","v":"I1"},{"$f":"HYPERLINK(\"#'I2'!D24\", \"I2\")","v":"I2"}]
[null,"I0, I3, I4","Insurance Service Expense","Check whether the Total Insurance Service Expense ties up with the sum of Insurance Service Expense per line of business",{"$f":"IF(SUM('I3'!G61:U61,'I4'!G61:U61)=I0!D23,\"Not Breached\",\"Breached\")","v":"Not Breached"},{"$f":"HYPERLINK(\"#'I0'!D21\", \"I0\")","v":"I0"},{"$f":"HYPERLINK(\"#'I3'!D24\", \"I3\")","v":"I3"},{"$f":"HYPERLINK(\"#'I4'!D23\", \"I4\")","v":"I4"}]
[null,"I0, I6","Finance Expenses","Check whether the Total Finance Expense from Insurance Contracts issued ties up with the sum of Finance Expense per line of business",{"$f":"IF(SUM('I6'!G30:U30)=I0!D41,\"Not Breached\",\"Breached\")","v":"Not Breached"},{"$f":"HYPERLINK(\"#'I0'!D34\", \"I0\")","v":"I0"},{"$f":"HYPERLINK(\"#'I6'!D21\", \"I6\")","v":"I6"}]
[null,"I0, I7","Finance Income","Check whether the Total Finance Income from Reinsurance Contracts issued ties up with the sum of Finance Income per line of business",{"$f":"IF(SUM('I7'!G33:U33)=I0!D42,\"Not Breached\",\"Breached\")","v":"Not Breached"},{"$f":"HYPERLINK(\"#'I0'!D35\", \"I0\")","v":"I0"},{"$f":"HYPERLINK(\"#'I7'!D25\", \"I7\")","v":"I7"}]
[]
[]
[null,"R2","Captive Classification","Check whether the Captive is appropriately classified",{"$f":"IF(AND('R2'!D22:G22), \"Not Breached\", \"Breached\")","v":"Not Breached"},{"$f":"HYPERLINK(\"#'R2'!A1\", \"R2\")","v":"R2"}]
[null,"C0","Capital Requirement","Check whether Available capital is above the Required Minimum Unimpaired paid up Capital ",{"$f":"IF(C0!D16>'C1'!C13, \"Not Breached\", \"Breached\")","v":"Breached"},{"$f":"HYPERLINK(\"#'C0'!A1\", \"C0\")","v":"C0"},{"$f":"HYPERLINK(\"#'C1'!A1\", \"C1\")","v":"C1"}]
[null,"C0","Solvency Ratio","Check whether the Solvency Ratio is above 100%",{"$f":"IF(C0!D31>1, \"Not Breached\", \"Breached\")","v":"Breached"},{"$f":"HYPERLINK(\"#'C0'!A1\", \"C0\")","v":"C0"}]
[null,"C1","Unimpaired Paid-up Capital","Check whether the unimpaired paid-up capital exceeds the minimum",{"$f":"IF('C1'!C14>'C1'!C13, \"Not Breached\", \"Breached\")","v":"Breached"},{"$f":"HYPERLINK(\"#'C1'!A1\", \"C1\")","v":"C1"}]
[null,"C1","Cash + Bank Deposits","Check whether the level of Cash & Bank deposits is greater than 40% of unimpaired capital",{"$f":"IF(IFERROR(('C1'!C38+'C1'!C39)>'C1'!C13*40%, FALSE),\"Not Breached\", \"Breached\")","v":"Breached"},{"$f":"HYPERLINK(\"#'C1'!A1\", \"C1\")","v":"C1"}]
[null,"C1","Minimum Cash","Check whether the minimum cash is available",{"$f":"IF('C1'!C44>0, \"Not Breached\", \"Breached\")","v":"Breached"},{"$f":"HYPERLINK(\"#'C1'!A1\", \"C1\")","v":"C1"}]
[null,"C1","Subordinated Loan","Check whether the subordinated loans are lower than 40% of total assets",{"$f":"IF('C1'!C46<A0!D39*40%, \"Not Breached\", \"Breached\")","v":"Breached"},{"$f":"HYPERLINK(\"#'A0'!A1\", \"A0\")","v":"A0"},{"$f":"HYPERLINK(\"#'C1'!A1\", \"C1\")","v":"C1"}]

{"sheet":"Simplifications","index":12,"n_rows":66,"n_cols":4,"rows_kept":66,"cut":false,"hidden":false,"merged":[[32,1,33,3],[2,1,2,3]]}
[]
[]
[null,"FORM: SIMPLIFICATIONS"]
[]
[null,"Simplification and/or Approximation made","Tab","Description of simplification/approximation"]
[]
[]
[]
[]
[]
[]
[]
[]
[]
[]
[]
[]
[]
[]
[]
[]
[]
[]
[]
[]
[]
[]
[]
[]
[]
[]
[]
[null,"Purpose: Provides a summary of changes made to the Previous Year Numbers. The changes could be due to changes in policies, estimates or errors."]
[]
[]
[null,"Changes to Previous Year Numbers","Amount","Description/reasons"]
[null,null,{"$f":"Specifications!$C$22","v":"Rs."}]
[]
[]
[]
[]
[]
[]
[]
[]
[]
[]
[]
[]
[]
[]
[]
[]
[]
[]
[]
[]
[]
[]
[]
[]
[]
[]
[]
[]
[null,{"$f":"\"Signed: \"& \" Representative\"","v":"Signed:  Representative"}]

{"sheet":"Corporate information","index":13,"n_rows":316,"n_cols":5,"rows_kept":316,"cut":false,"hidden":false,"merged":[[5,2,5,4],[6,2,6,4],[2,1,2,4]]}
[]
[]
[null,"FORM: CORPORATE INFORMATION"]
[]
[null,"Addresses"]
[null,"Registered Office Address"]
[null,"Mailing Address (if different)"]
[]
[null,"Board Members (Resident)"]
[null,"Number of Board Members: "]
[null,"Name:"]
[null,"As from: "]
[null,"Citizenship:"]
[]
[null,"Board Members (Non-Resident)"]
[null,"Number of Board Members: "]
[null,"Name:"]
[null,"As from: "]
[null,"Citizenship:"]
[]
[null,"Audit committee members"]
[null,"Member","As from ","Citizenship"]
[]
[]
[]
[]
[]
[]
[]
[]
[]
[]
[]
[]
[]
[]
[]
[]
[]
[]
[]
[]
[]
[]
[]
[]
[]
[]
[]
[]
[]
[]
[]
[]
[]
[]
[]
[]
[]
[]
[]
[]
[]
[]
[]
[]
[]
[]
[]
[]
[]
[]
[]
[]
[]
[]
[null,"Other Sub-committees and members"]
[null,"Sub-committee","Members","As from","Citizenship"]
[]
[]
[]
[]
[]
[]
[]
[]
[]
[]
[]
[]
[]
[]
[]
[]
[]
[]
[]
[]
[]
[]
[]
[]
[]
[]
[]
[]
[]
[]
[]
[]
[]
[]
[]
[]
[]
[]
[]
[]
[]
[]
[]
[]
[]
[]
[]
[]
[]
[]
[]
[]
[]
[]
[]
[null,"Sub-committee:",null,"As from","Citizenship"]
[null,"Members: "]
[]
[]
[]
[]
[]
[]
[null,"Officers"]
[null,"General Manager / Chief Executive Officer"]
[null,"Chief Finance Officer"]
[null,"Compliance Officer"]
[null,"Chief Internal Auditor"]
[null,"Underwriting Manager"]
[null,"Claims Manager"]
[null,"Risk Officer"]
[null,"Money Laundering Reporting Officer"]
[null,"Deputy Money Laundering Reporting Officer"]
[null,"Complaints Coordinator"]
[null,"(other denomination may be used for similar function/position) "]
[null,"(please attach an Organisational Chart showing the interrelationships between the Officers)"]
[]
[null,"Company secretary"]
[]
[]
[null,"External auditor"]
[null,"Firm:"]
[null,"Signing partner: "]
[null,"Address: "]
[null,"Telephone number: "]
[null,"Fax number: "]
[null,"Email address:"]
[]
[null,"Actuary"]
[null,"Name: "]
[null,"Address: "]
[null,"Telephone number: "]
[null,"Fax number: "]
[null,"Email address:"]
[]
[null,"Captive Insurance Agent"]
[null,"Name: "]
[null,"Address: "]
[null,"Telephone number: "]
[null,"Fax number: "]
[null,"Email address:"]
[]
[null,"Insurance Manager"]
[null,"Name: "]
[null,"Address: "]
[null,"Telephone number: "]
[null,"Fax number: "]
[null,"Email address:"]
[]
[]
[null,"Number of Staff"]
[null,null,"Resident in Mauritius","Non-Resident in Mauritius"]
[null,"Permanent Full-time"]
[null,"Permanent Part-time"]
[null,"Contractual Full-time"]
[null,"Contractual Part-time"]
[]
[]
[]
[]
[]
[]
[]
[]
[]
[]
[]
[]
[]
[]
[]
[]
[]
[]
[]
[]
[]
[]
[]
[]
[]
[]
[]
[]
[]
[]
[]
[]
[]
[]
[]
[]
[]
[]
[]
[]
[]
[]
[]
[]
[]
[]
[]
[]
[]
[]
[]
[]
[]
[]
[]
[]
[]
[]
[]
[]
[]
[]
[]
[]
[]
[]
[]
[]
[]
[]
[]
[]
[]
[]
[]
[]
[]
[]
[]
[]
[]
[]
[]
[]
[]
[]
[]
[]
[]
[]
[]
[]
[]
[]
[]
[]
[]
[]
[]
[]
[]
[]
[]
[]
[]
[]
[]
[]
[]
[]
[]
[]
[]
[]
[]
[]
[]
[]
[]
[]
[null,"Sub-committee:",null,"As from","Citizenship"]
[null,"Members: "]

{"sheet":"Balance Sheet>>>","index":14,"n_rows":0,"n_cols":0,"rows_kept":0,"cut":false,"hidden":false,"merged":[]}

{"sheet":"BS","index":15,"n_rows":77,"n_cols":5,"rows_kept":77,"cut":false,"hidden":false,"merged":[[44,1,47,1],[44,3,44,4],[2,1,2,4],[4,3,4,4],[9,1,12,1],[9,2,12,2],[9,3,9,4]]}
[]
[]
[null,"FORM BS: BALANCE SHEET"]
[]
[null,"NAME OF CAPTIVE INSURER",null,{"$f":"Specifications!C6","v":0}]
[null,"YEAR ENDED",null,{"$f":"Specifications!C21","v":"00:00:00"},{"$f":"Specifications!C21 - IF(MOD(YEAR(Specifications!C21),4)=0, 366, 365)","v":-366}]
[]
[null,"ASSETS"]
[]
[null,"ASSETS","Links","AMOUNT"]
[null,null,null,"Current","Previous"]
[null,null,null,"Year","Year"]
[null,null,null,{"$f":"Specifications!$C$22","v":"Rs."},{"$f":"Specifications!$C$22","v":"Rs."}]
[null,"Property, Plant and Equipment Owned",{"$f":"HYPERLINK(\"#'A1'!A1\",\"A1\")","v":"A1"},{"$f":"A0!D14","v":0},{"$f":"A0!E14","v":0}]
[null,"Goodwill",{"$f":"HYPERLINK(\"#'A2'!A1\",\"A2\")","v":"A2"},{"$f":"A0!D15","v":0},{"$f":"A0!E15","v":0}]
[null,"Other Intangible Assets",{"$f":"HYPERLINK(\"#'A2'!A1\",\"A2\")","v":"A2"},{"$f":"A0!D16","v":0},{"$f":"A0!E16","v":0}]
[null,"Right-of-use assets",{"$f":"HYPERLINK(\"#'A3'!A1\",\"A3\")","v":"A3"},{"$f":"A0!D17","v":0},{"$f":"A0!E17","v":0}]
[null,"Investment in Related Companies",{"$f":"HYPERLINK(\"#'A4'!A1\",\"A4\")","v":"A4"},{"$f":"A0!D18","v":0},{"$f":"A0!E18","v":0}]
[null,"Investment Property",{"$f":"HYPERLINK(\"#'A5'!A1\",\"A5\")","v":"A5"},{"$f":"A0!D19","v":0},{"$f":"A0!E19","v":0}]
[null,"Financial Investments",{"$f":"HYPERLINK(\"#'A6'!A1\",\"A6\")","v":"A6"}]
[null,"   Fair value through Profit and Loss",null,{"$f":"A0!D21","v":0},{"$f":"A0!E21","v":0}]
[null,"   Fair value through Other Comprehensive Income",null,{"$f":"A0!D22","v":0},{"$f":"A0!E22","v":0}]
[null,"   Amortised cost",null,{"$f":"A0!D23","v":0},{"$f":"A0!E23","v":0}]
[null,"   Accrued Interest",null,{"$f":"A0!D24","v":0},{"$f":"A0!E24","v":0}]
[null,"Financial Instrument Derivatives Assets",{"$f":"HYPERLINK(\"#'A7'!A1\",\"A7\")","v":"A7"},{"$f":"A0!D25","v":0},{"$f":"A0!E25","v":0}]
[null,"Current Tax Assets",{"$f":"HYPERLINK(\"#'A8'!A1\",\"A8\")","v":"A8"},{"$f":"A0!D26","v":0},{"$f":"A0!E26","v":0}]
[null,"Deferred Tax Assets",{"$f":"HYPERLINK(\"#'A8'!A1\",\"A8\")","v":"A8"},{"$f":"A0!D27","v":0},{"$f":"A0!E27","v":0}]
[null,"Asset for Insurance Acquisition Cash Flows",{"$f":"HYPERLINK(\"#'A13'!A1\",\"A13\")","v":"A13"},{"$f":"A0!D28","v":0},{"$f":"A0!E28","v":0}]
[null,"Other Receivables ",{"$f":"HYPERLINK(\"#'A9'!A1\",\"A9\")","v":"A9"},{"$f":"A0!D29","v":0},{"$f":"A0!E29","v":0}]
[null,"Prepayments and Accrued Income",{"$f":"HYPERLINK(\"#'A13'!A1\",\"A13\")","v":"A13"},{"$f":"'A13'!C12","v":0},{"$f":"A0!E30","v":0}]
[null,"Insurance Contract Assets",{"$f":"HYPERLINK(\"#'IR2'!A1\",\"IR2\")","v":"IR2"},{"$f":"A0!D31","v":0},{"$f":"A0!E31","v":0}]
[null,"Reinsurance Contract Assets",{"$f":"HYPERLINK(\"#'IR4'!A1\",\"IR4\")","v":"IR4"},{"$f":"A0!D32","v":0},{"$f":"A0!E32","v":0}]
[null,"Retirement Benefit Asset",{"$f":"HYPERLINK(\"#'A13'!A1\",\"A13\")","v":"A13"},{"$f":"'A13'!C13","v":0},{"$f":"A0!E33","v":0}]
[null,"Cash and Cash Equivalents",{"$f":"HYPERLINK(\"#'A13'!A1\",\"A13\")","v":"A13"},{"$f":"'A13'!C14","v":0},{"$f":"A0!E34","v":0}]
[null,"Assets Held For Sale",{"$f":"HYPERLINK(\"#'A11'!A1\",\"A11\")","v":"A11"},{"$f":"A0!D35","v":0},{"$f":"A0!E35","v":0}]
[null,"Assets Encumbered",{"$f":"HYPERLINK(\"#'A13'!A1\",\"A13\")","v":"A13"},{"$f":"'A13'!C15","v":0},{"$f":"A0!E36","v":0}]
[null,"Other assets",{"$f":"HYPERLINK(\"#'A13'!A1\",\"A13\")","v":"A13"},{"$f":"A0!D37","v":0},{"$f":"A0!E37","v":0}]
[]
[null,"TOTAL ASSETS",null,{"$f":"SUM(D14:D37)","v":0},{"$f":"SUM(E14:E37)","v":0}]
[]
[]
[]
[null,"LIABITILIES AND EQUITY"]
[]
[null,"EQUITY",null,"AMOUNT"]
[null,null,null,"Current","Previous"]
[null,null,null,"Year","Year"]
[null,null,null,{"$f":"Specifications!$C$22","v":"Rs."},{"$f":"Specifications!$C$22","v":"Rs."}]
[null,"Share Capital",{"$f":"HYPERLINK(\"#'L0'!A1\",\"L0\")","v":"L0"},{"$f":"L0!D14","v":0},{"$f":"L0!E14","v":0}]
[null,"Share Premium",{"$f":"HYPERLINK(\"#'L0'!A1\",\"L0\")","v":"L0"},{"$f":"L0!D15","v":0},{"$f":"L0!E15","v":0}]
[null,"Retained earnings",{"$f":"HYPERLINK(\"#'L0'!A1\",\"L0\")","v":"L0"},{"$f":"L0!D16","v":0},{"$f":"L0!E16","v":0}]
[null,"Reserves",{"$f":"HYPERLINK(\"#'L0'!A1\",\"L0\")","v":"L0"},{"$f":"L0!D17","v":0},{"$f":"L0!E17","v":0}]
[]
[null,"TOTAL EQUITIES",null,{"$f":"SUM(D49:D52)","v":0},{"$f":"SUM(E49:E52)","v":0}]
[]
[]
[null,"LIABILITIES"]
[null,"Insurance Contract Liabilities",{"$f":"HYPERLINK(\"#'IR1'!A1\", \"IR1\")","v":"IR1"},{"$f":"L0!D23","v":0},{"$f":"L0!E23","v":0}]
[null,"Reinsurance Contract Liabilities",{"$f":"HYPERLINK(\"#'IR3'!A1\", \"IR3\")","v":"IR3"},{"$f":"L0!D24","v":0},{"$f":"L0!E24","v":0}]
[null,"Current tax liabilities",{"$f":"HYPERLINK(\"#'A8'!A1\", \"A8\")","v":"A8"},{"$f":"L0!D25","v":0},{"$f":"L0!E25","v":0}]
[null,"Deferred tax liabilities",{"$f":"HYPERLINK(\"#'A8'!A1\", \"A8\")","v":"A8"},{"$f":"L0!D26","v":0},{"$f":"L0!E26","v":0}]
[null,"Liabilities held for sale",{"$f":"HYPERLINK(\"#'L1'!A1\", \"L1\")","v":"L1"},{"$f":"L0!D27","v":0},{"$f":"L0!E27","v":0}]
[null,"Financial liabilities"]
[null,"    Derivatives",{"$f":"HYPERLINK(\"#'L2'!A1\", \"L2\")","v":"L2"},{"$f":"L0!D29","v":0},{"$f":"L0!E29","v":0}]
[null,"    Investment contracts",{"$f":"HYPERLINK(\"#'L3'!A1\", \"L3\")","v":"L3"},{"$f":"L0!D30","v":0},{"$f":"L0!E30","v":0}]
[null,"Lease liabilities",{"$f":"HYPERLINK(\"#'L4'!A1\", \"L4\")","v":"L4"},{"$f":"L0!D31","v":0},{"$f":"L0!E31","v":0}]
[null,"Trade and other payables",{"$f":"HYPERLINK(\"#'L5'!A1\", \"L5\")","v":"L5"},{"$f":"L0!D32","v":0},{"$f":"L0!E32","v":0}]
[null,"Borrowings",{"$f":"HYPERLINK(\"#'L6'!A1\", \"L6\")","v":"L6"}]
[null,"    Subordinated",null,{"$f":"L0!D34","v":0},{"$f":"L0!E34","v":0}]
[null,"    Senior",null,{"$f":"L0!D35","v":0},{"$f":"L0!E35","v":0}]
[null,"    Short term operational",null,{"$f":"L0!D36","v":0},{"$f":"L0!E36","v":0}]
[null,"Retirement benefit liabilities",{"$f":"HYPERLINK(\"#'L7'!A1\", \"L7\")","v":"L7"},{"$f":"L0!D37","v":0},{"$f":"L0!E37","v":0}]
[null,"Other Liabilities",{"$f":"HYPERLINK(\"#'L7'!A1\", \"L7\")","v":"L7"},{"$f":"L0!D38","v":0},{"$f":"L0!E38","v":0}]
[]
[null,"TOTAL LIABILITIES",null,{"$f":"SUM(D58:D73)","v":0},{"$f":"SUM(E58:E73)","v":0}]
[]
[null,"TOTAL LIABILITIES AND EQUITY",null,{"$f":"D54+D75","v":0},{"$f":"E54+E75","v":0}]

{"sheet":"A0","index":16,"n_rows":39,"n_cols":5,"rows_kept":39,"cut":false,"hidden":false,"merged":[[9,3,9,4],[2,1,2,4],[4,3,4,4],[9,1,12,1],[9,2,12,2]]}
[]
[]
[null,"FORM A0: BALANCE SHEET - ASSETS"]
[]
[null,"NAME OF CAPTIVE INSURER",null,{"$f":"Specifications!C6","v":0}]
[null,"YEAR ENDED",null,{"$f":"Specifications!C21","v":"00:00:00"},{"$f":"Specifications!C21 - IF(MOD(YEAR(Specifications!C21),4)=0, 366, 365)","v":-366}]
[]
[null,"ASSETS"]
[]
[null,"ASSETS","Links","AMOUNT"]
[null,null,null,"Current","Previous"]
[null,null,null,"Year","Year"]
[null,null,null,{"$f":"Specifications!$C$22","v":"Rs."},{"$f":"Specifications!$C$22","v":"Rs."}]
[null,"Property, Plant and Equipment Owned",{"$f":"HYPERLINK(\"#'A1'!A1\",\"A1\")","v":"A1"},{"$f":"'A1'!L25","v":0}]
[null,"Goodwill",{"$f":"HYPERLINK(\"#'A2'!A1\",\"A2\")","v":"A2"},{"$f":"'A2'!L13","v":0}]
[null,"Other Intangible Assets",{"$f":"HYPERLINK(\"#'A2'!A1\",\"A2\")","v":"A2"},{"$f":"'A2'!L15","v":0}]
[null,"Right-of-use assets",{"$f":"HYPERLINK(\"#'A3'!A1\",\"A3\")","v":"A3"},{"$f":"'A3'!J12","v":0}]
[null,"Investment in Related Companies",{"$f":"HYPERLINK(\"#'A4'!A1\",\"A4\")","v":"A4"},{"$f":"'A4'!L12","v":0}]
[null,"Investment Property",{"$f":"HYPERLINK(\"#'A5'!A1\",\"A5\")","v":"A5"},{"$f":"'A5'!M9","v":0}]
[null,"Financial Investments",{"$f":"HYPERLINK(\"#'A6'!A1\",\"A6\")","v":"A6"}]
[null,"   Fair value through Profit and Loss",null,{"$f":"'A6'!E35","v":0}]
[null,"   Fair value through Other Comprehensive Income",null,{"$f":"'A6'!F35","v":0}]
[null,"   Amortised cost",null,{"$f":"'A6'!G35","v":0}]
[null,"   Accrued Interest",null,{"$f":"'A6'!H35","v":0}]
[null,"Financial Instrument Derivatives Assets",{"$f":"HYPERLINK(\"#'A7'!A1\",\"A7\")","v":"A7"},{"$f":"'A7'!D22","v":0}]
[null,"Current Tax Assets",{"$f":"HYPERLINK(\"#'A8'!A1\",\"A8\")","v":"A8"},{"$f":"'A8'!C17","v":0}]
[null,"Deferred Tax Assets",{"$f":"HYPERLINK(\"#'A8'!A1\",\"A8\")","v":"A8"},{"$f":"IF('A8'!G51 > 0, 'A8'!G51, 0)","v":0}]
[null,"Asset for Insurance Acquisition Cash Flows",{"$f":"HYPERLINK(\"#'A13'!A1\",\"A13\")","v":"A13"},{"$f":"'A13'!C11","v":0}]
[null,"Other Receivables ",{"$f":"HYPERLINK(\"#'A9'!A1\",\"A9\")","v":"A9"},{"$f":"'A9'!M15","v":0}]
[null,"Prepayments and Accrued Income",{"$f":"HYPERLINK(\"#'A13'!A1\",\"A13\")","v":"A13"},{"$f":"'A13'!C12","v":0}]
[null,"Insurance Contract Assets",{"$f":"HYPERLINK(\"#'IR2'!A1\",\"IR2\")","v":"IR2"},{"$f":"'IR2'!H66+'IR2'!F37","v":0}]
[null,"Reinsurance Contract Assets",{"$f":"HYPERLINK(\"#'IR4'!A1\",\"IR4\")","v":"IR4"},{"$f":"'IR4'!F37+'IR4'!H66","v":0}]
[null,"Retirement Benefit Asset",{"$f":"HYPERLINK(\"#'A13'!A1\",\"A13\")","v":"A13"},{"$f":"'A13'!C13","v":0}]
[null,"Cash and Cash Equivalents",{"$f":"HYPERLINK(\"#'A13'!A1\",\"A13\")","v":"A13"},{"$f":"'A13'!C14","v":0}]
[null,"Assets Held For Sale",{"$f":"HYPERLINK(\"#'A11'!A1\",\"A11\")","v":"A11"},{"$f":"'A11'!C68","v":0}]
[null,"Assets Encumbered",{"$f":"HYPERLINK(\"#'A13'!A1\",\"A13\")","v":"A13"},{"$f":"'A13'!C15","v":0}]
[null,"Other assets",{"$f":"HYPERLINK(\"#'A13'!A1\",\"A13\")","v":"A13"},{"$f":"'A13'!C16","v":0}]
[]
[null,"TOTAL ASSETS",null,{"$f":"SUM(D14:D37)","v":0},{"$f":"SUM(E14:E37)","v":0}]

{"sheet":"A1","index":17,"n_rows":151,"n_cols":12,"rows_kept":151,"cut":false,"hidden":false,"merged":[[26,1,27,1],[2,1,2,11],[11,1,12,2],[15,1,15,2],[16,1,16,2],[17,1,17,2],[18,1,18,2],[19,1,19,2],[20,1,20,2],[22,1,22,2],[24,1,24,2],[5,2,5,4],[6,2,6,4]]}
[]
[]
[null,"FORM A1: PROPERTY, PLANT AND EQUIPMENT"]
[]
[]
[null,"NAME OF CAPTIVE INSURER",{"$f":"Specifications!C6","v":0}]
[null,"YEAR ENDED",{"$f":"Specifications!C21","v":"00:00:00"}]
[null,null,null,null,"`"]
[]
[]
[]
[null,"Property, Plant and Equipment Owned",null,"Opening balance","Additions","Disposals","Revaluation gains/(losses)","Foreign exchange movements","Assets held for sale","Depreciation charge for the year","Impairment charge for the year","Closing balance"]
[null,null,null,{"$f":"Specifications!$C$22","v":"Rs."},{"$f":"Specifications!$C$22","v":"Rs."},{"$f":"Specifications!$C$22","v":"Rs."},{"$f":"Specifications!$C$22","v":"Rs."},{"$f":"Specifications!$C$22","v":"Rs."},{"$f":"Specifications!$C$22","v":"Rs."},{"$f":"Specifications!$C$22","v":"Rs."},{"$f":"Specifications!$C$22","v":"Rs."},{"$f":"Specifications!$C$22","v":"Rs."}]
[]
[null,"Plant and Equipment Owned"]
[null,"Furniture and Fittings",null,null,null,null,null,null,null,null,null,{"$f":"D16+E16-F16+G16+H16-I16-J16-K16","v":0}]
[null,"Office Equipment",null,null,null,null,null,null,null,null,null,{"$f":"D17+E17-F17+G17+H17-I17-J17-K17","v":0}]
[null,"Computer",null,null,null,null,null,null,null,null,null,0]
[null,"Motor vehicles",null,null,null,null,null,null,null,null,null,0]
[null,"Others",null,null,null,null,null,null,null,null,null,0]
[null,"Total Plant and Equipment",null,{"$f":"SUM(D16:D20)","v":0},{"$f":"SUM(E16:E20)","v":0},0,0,0,0,0,0,0]
[]
[null,"Total Property Owned",null,{"$f":"SUM(D29:D1048576)","v":0},0,0,0,0,0,0,0,0]
[]
[null,"Total Property, Plant and Equipment",null,{"$f":"SUM(D16:D20) + D23","v":0},0,0,0,0,0,0,0,0]
[]
[null,"Description of property","Domicile","Opening balance","Additions","Disposals","Revaluation gains/(losses)","Foreign exchange movements","Assets held for sale","Depreciation charge for the year","Impairment charge for the year","Closing balance"]
[null,null,null,{"$f":"Specifications!$C$22","v":"Rs."},{"$f":"Specifications!$C$22","v":"Rs."},{"$f":"Specifications!$C$22","v":"Rs."},{"$f":"Specifications!$C$22","v":"Rs."},{"$f":"Specifications!$C$22","v":"Rs."},{"$f":"Specifications!$C$22","v":"Rs."},{"$f":"Specifications!$C$22","v":"Rs."},{"$f":"Specifications!$C$22","v":"Rs."},{"$f":"Specifications!$C$22","v":"Rs."}]
[null,null,null,null,null,null,null,null,null,null,null,{"$f":"D29+E29-F29+G29+H29-I29-J29-K29","v":0}]
[null,null,null,null,null,null,null,null,null,null,null,0]
[null,null,null,null,null,null,null,null,null,null,null,0]
[null,null,null,null,null,null,null,null,null,null,null,0]
[null,null,null,null,null,null,null,null,null,null,null,0]
[null,null,null,null,null,null,null,null,null,null,null,0]
[null,null,null,null,null,null,null,null,null,null,null,0]
[null,null,null,null,null,null,null,null,null,null,null,0]
[null,null,null,null,null,null,null,null,null,null,null,0]
[null,null,null,null,null,null,null,null,null,null,null,0]
[null,null,null,null,null,null,null,null,null,null,null,0]
[null,null,null,null,null,null,null,null,null,null,null,0]
[null,null,null,null,null,null,null,null,null,null,null,0]
[null,null,null,null,null,null,null,null,null,null,null,0]
[null,null,null,null,null,null,null,null,null,null,null,0]
[null,null,null,null,null,null,null,null,null,null,null,0]
[null,null,null,null,null,null,null,null,null,null,null,0]
[null,null,null,null,null,null,null,null,null,null,null,0]
[null,null,null,null,null,null,null,null,null,null,null,0]
[null,null,null,null,null,null,null,null,null,null,null,0]
[null,null,null,null,null,null,null,null,null,null,null,0]
[null,null,null,null,null,null,null,null,null,null,null,0]
[null,null,null,null,null,null,null,null,null,null,null,0]
[null,null,null,null,null,null,null,null,null,null,null,0]
[null,null,null,null,null,null,null,null,null,null,null,0]
[null,null,null,null,null,null,null,null,null,null,null,0]
[null,null,null,null,null,null,null,null,null,null,null,0]
[null,null,null,null,null,null,null,null,null,null,null,0]
[null,null,null,null,null,null,null,null,null,null,null,0]
[null,null,null,null,null,null,null,null,null,null,null,0]
[null,null,null,null,null,null,null,null,null,null,null,0]
[null,null,null,null,null,null,null,null,null,null,null,0]
[null,null,null,null,null,null,null,null,null,null,null,0]
[null,null,null,null,null,null,null,null,null,null,null,0]
[null,null,null,null,null,null,null,null,null,null,null,0]
[null,null,null,null,null,null,null,null,null,null,null,0]
[null,null,null,null,null,null,null,null,null,null,null,0]
[null,null,null,null,null,null,null,null,null,null,null,0]
[null,null,null,null,null,null,null,null,null,null,null,0]
[null,null,null,null,null,null,null,null,null,null,null,0]
[null,null,null,null,null,null,null,null,null,null,null,0]
[null,null,null,null,null,null,null,null,null,null,null,0]
[null,null,null,null,null,null,null,null,null,null,null,0]
[null,null,null,null,null,null,null,null,null,null,null,0]
[null,null,null,null,null,null,null,null,null,null,null,0]
[null,null,null,null,null,null,null,null,null,null,null,0]
[null,null,null,null,null,null,null,null,null,null,null,0]
[null,null,null,null,null,null,null,null,null,null,null,0]
[null,null,null,null,null,null,null,null,null,null,null,0]
[null,null,null,null,null,null,null,null,null,null,null,0]
[null,null,null,null,null,null,null,null,null,null,null,0]
[null,null,null,null,null,null,null,null,null,null,null,0]
[null,null,null,null,null,null,null,null,null,null,null,0]
[null,null,null,null,null,null,null,null,null,null,null,0]
[null,null,null,null,null,null,null,null,null,null,null,0]
[null,null,null,null,null,null,null,null,null,null,null,0]
[null,null,null,null,null,null,null,null,null,null,null,0]
[null,null,null,null,null,null,null,null,null,null,null,0]
[null,null,null,null,null,null,null,null,null,null,null,0]
[null,null,null,null,null,null,null,null,null,null,null,0]
[null,null,null,null,null,null,null,null,null,null,null,0]
[null,null,null,null,null,null,null,null,null,null,null,0]
[null,null,null,null,null,null,null,null,null,null,null,0]
[null,null,null,null,null,null,null,null,null,null,null,0]
[null,null,null,null,null,null,null,null,null,null,null,0]
[null,null,null,null,null,null,null,null,null,null,null,0]
[null,null,null,null,null,null,null,null,null,null,null,0]
[null,null,null,null,null,null,null,null,null,null,null,0]
[null,null,null,null,null,null,null,null,null,null,null,0]
[null,null,null,null,null,null,null,null,null,null,null,0]
[null,null,null,null,null,null,null,null,null,null,null,0]
[null,null,null,null,null,null,null,null,null,null,null,0]
[null,null,null,null,null,null,null,null,null,null,null,0]
[null,null,null,null,null,null,null,null,null,null,null,0]
[null,null,null,null,null,null,null,null,null,null,null,0]
[null,null,null,null,null,null,null,null,null,null,null,0]
[null,null,null,null,null,null,null,null,null,null,null,0]
[null,null,null,null,null,null,null,null,null,null,null,0]
[null,null,null,null,null,null,null,null,null,null,null,0]
[null,null,null,null,null,null,null,null,null,null,null,0]
[null,null,null,null,null,null,null,null,null,null,null,0]
[null,null,null,null,null,null,null,null,null,null,null,0]
[null,null,null,null,null,null,null,null,null,null,null,0]
[null,null,null,null,null,null,null,null,null,null,null,0]
[null,null,null,null,null,null,null,null,null,null,null,0]
[null,null,null,null,null,null,null,null,null,null,null,0]
[null,null,null,null,null,null,null,null,null,null,null,0]
[null,null,null,null,null,null,null,null,null,null,null,0]
[null,null,null,null,null,null,null,null,null,null,null,0]
[null,null,null,null,null,null,null,null,null,null,null,0]
[null,null,null,null,null,null,null,null,null,null,null,0]
[null,null,null,null,null,null,null,null,null,null,null,0]
[null,null,null,null,null,null,null,null,null,null,null,0]
[null,null,null,null,null,null,null,null,null,null,null,0]
[null,null,null,null,null,null,null,null,null,null,null,0]
[null,null,null,null,null,null,null,null,null,null,null,0]
[null,null,null,null,null,null,null,null,null,null,null,0]
[null,null,null,null,null,null,null,null,null,null,null,0]
[null,null,null,null,null,null,null,null,null,null,null,0]
[null,null,null,null,null,null,null,null,null,null,null,0]
[null,null,null,null,null,null,null,null,null,null,null,0]
[null,null,null,null,null,null,null,null,null,null,null,0]
[null,null,null,null,null,null,null,null,null,null,null,0]
[null,null,null,null,null,null,null,null,null,null,null,0]
[null,null,null,null,null,null,null,null,null,null,null,0]
[null,null,null,null,null,null,null,null,null,null,null,0]
[null,null,null,null,null,null,null,null,null,null,null,0]
[null,null,null,null,null,null,null,null,null,null,null,0]
[null,null,null,null,null,null,null,null,null,null,null,0]
[null,null,null,null,null,null,null,null,null,null,null,0]
[null,null,null,null,null,null,null,null,null,null,null,0]
[null,null,null,null,null,null,null,null,null,null,null,0]
[null,null,null,null,null,null,null,null,null,null,null,0]
[null,null,null,null,null,null,null,null,null,null,null,0]
[null,null,null,null,null,null,null,null,null,null,null,0]
[null,null,null,null,null,null,null,null,null,null,null,0]
[null,null,null,null,null,null,null,null,null,null,null,0]
[null,null,null,null,null,null,null,null,null,null,null,0]
[null,null,null,null,null,null,null,null,null,null,null,0]
[null,null,null,null,null,null,null,null,null,null,null,0]
[null,null,null,null,null,null,null,null,null,null,null,0]
[null,null,null,null,null,null,null,null,null,null,null,0]
[null,null,null,null,null,null,null,null,null,null,null,0]

{"sheet":"A2","index":18,"n_rows":77,"n_cols":12,"rows_kept":77,"cut":false,"hidden":false,"merged":[[2,1,2,11],[12,1,12,2],[14,1,14,2],[9,1,10,2],[5,2,5,4],[6,2,6,4]]}
[]
[]
[null,"FORM A2: GOODWILL AND OTHER INTANGIBLE ASSETS"]
[]
[]
[null,"NAME OF CAPTIVE INSURER",{"$f":"Specifications!C6","v":0}]
[null,"YEAR ENDED",{"$f":"Specifications!C21","v":"00:00:00"}]
[]
[]
[null,"Description",null,"Opening balance","Additions","Disposals","Foreign exchange movements","Assets held for sale","Adjustment ","Amortisation charge for the year","Impairment charge for the year","Closing balance"]
[null,null,null,{"$f":"Specifications!$C$22","v":"Rs."},{"$f":"Specifications!$C$22","v":"Rs."},{"$f":"Specifications!$C$22","v":"Rs."},{"$f":"Specifications!$C$22","v":"Rs."},{"$f":"Specifications!$C$22","v":"Rs."},{"$f":"Specifications!$C$22","v":"Rs."},{"$f":"Specifications!$C$22","v":"Rs."},{"$f":"Specifications!$C$22","v":"Rs."},{"$f":"Specifications!$C$22","v":"Rs."}]
[]
[null,"Goodwill",null,{"$f":"SUMIFS(D20:D1048576, $B$20:$B$1048576, $B13)","v":0},0,0,0,0,0,0,0,{"$f":"SUMIFS(L20:L1048576,B20:B1048576, $B13)","v":0}]
[]
[null,"Other Intangible Assets",null,{"$f":"SUMIFS(D20:D1048576, $B$20:$B$1048576, $B15)","v":0},0,0,0,0,0,0,0,{"$f":"SUMIFS(L20:L1048576,B20:B1048576, $B15)","v":0}]
[]
[]
[null,"Description","Item","Opening balance","Additions","Disposals","Foreign exchange movements","Assets held for sale","Adjustments","Amortisation charge for the year","Impairment charge for the year","Closing balance"]
[null,null,null,{"$f":"Specifications!$C$22","v":"Rs."},{"$f":"Specifications!$C$22","v":"Rs."},{"$f":"Specifications!$C$22","v":"Rs."},{"$f":"Specifications!$C$22","v":"Rs."},{"$f":"Specifications!$C$22","v":"Rs."},{"$f":"Specifications!$C$22","v":"Rs."},{"$f":"Specifications!$C$22","v":"Rs."},{"$f":"Specifications!$C$22","v":"Rs."},{"$f":"Specifications!$C$22","v":"Rs."}]
[null,null,null,null,null,null,null,null,null,null,null,{"$f":"D20+E20-F20+G20+I20-H20-J20-K20","v":0}]
[null,null,null,null,null,null,null,null,null,null,null,{"$f":"D21+E21-F21+G21+I21-H21-J21-K21","v":0}]
[null,null,null,null,null,null,null,null,null,null,null,0]
[null,null,null,null,null,null,null,null,null,null,null,0]
[null,null,null,null,null,null,null,null,null,null,null,0]
[null,null,null,null,null,null,null,null,null,null,null,0]
[null,null,null,null,null,null,null,null,null,null,null,0]
[null,null,null,null,null,null,null,null,null,null,null,0]
[null,null,null,null,null,null,null,null,null,null,null,0]
[null,null,null,null,null,null,null,null,null,null,null,0]
[null,null,null,null,null,null,null,null,null,null,null,0]
[null,null,null,null,null,null,null,null,null,null,null,0]
[null,null,null,null,null,null,null,null,null,null,null,0]
[null,null,null,null,null,null,null,null,null,null,null,0]
[null,null,null,null,null,null,null,null,null,null,null,0]
[null,null,null,null,null,null,null,null,null,null,null,0]
[null,null,null,null,null,null,null,null,null,null,null,0]
[null,null,null,null,null,null,null,null,null,null,null,0]
[null,null,null,null,null,null,null,null,null,null,null,0]
[null,null,null,null,null,null,null,null,null,null,null,0]
[null,null,null,null,null,null,null,null,null,null,null,0]
[null,null,null,null,null,null,null,null,null,null,null,0]
[null,null,null,null,null,null,null,null,null,null,null,0]
[null,null,null,null,null,null,null,null,null,null,null,0]
[null,null,null,null,null,null,null,null,null,null,null,0]
[null,null,null,null,null,null,null,null,null,null,null,0]
[null,null,null,null,null,null,null,null,null,null,null,0]
[null,null,null,null,null,null,null,null,null,null,null,0]
[null,null,null,null,null,null,null,null,null,null,null,0]
[null,null,null,null,null,null,null,null,null,null,null,0]
[null,null,null,null,null,null,null,null,null,null,null,0]
[null,null,null,null,null,null,null,null,null,null,null,0]
[null,null,null,null,null,null,null,null,null,null,null,0]
[null,null,null,null,null,null,null,null,null,null,null,0]
[null,null,null,null,null,null,null,null,null,null,null,0]
[null,null,null,null,null,null,null,null,null,null,null,0]
[null,null,null,null,null,null,null,null,null,null,null,0]
[null,null,null,null,null,null,null,null,null,null,null,0]
[null,null,null,null,null,null,null,null,null,null,null,0]
[null,null,null,null,null,null,null,null,null,null,null,0]
[null,null,null,null,null,null,null,null,null,null,null,0]
[null,null,null,null,null,null,null,null,null,null,null,0]
[null,null,null,null,null,null,null,null,null,null,null,0]
[null,null,null,null,null,null,null,null,null,null,null,0]
[null,null,null,null,null,null,null,null,null,null,null,0]
[null,null,null,null,null,null,null,null,null,null,null,0]
[null,null,null,null,null,null,null,null,null,null,null,0]
[null,null,null,null,null,null,null,null,null,null,null,0]
[null,null,null,null,null,null,null,null,null,null,null,0]
[null,null,null,null,null,null,null,null,null,null,null,0]
[null,null,null,null,null,null,null,null,null,null,null,0]
[null,null,null,null,null,null,null,null,null,null,null,0]
[null,null,null,null,null,null,null,null,null,null,null,0]
[null,null,null,null,null,null,null,null,null,null,null,0]
[null,null,null,null,null,null,null,null,null,null,null,0]
[null,null,null,null,null,null,null,null,null,null,null,0]
[null,null,null,null,null,null,null,null,null,null,null,0]
[null,null,null,null,null,null,null,null,null,null,null,0]

{"sheet":"A3","index":19,"n_rows":189,"n_cols":10,"rows_kept":189,"cut":false,"hidden":false,"merged":[[14,1,15,1],[2,1,2,9],[11,1,11,2],[6,2,6,4],[5,2,5,4]]}
[]
[]
[null,"FORM A3: RIGHT-OF-USE ASSETS"]
[]
[]
[null,"NAME OF CAPTIVE INSURER",{"$f":"Specifications!C6","v":0}]
[null,"YEAR ENDED",{"$f":"Specifications!C21","v":"00:00:00"}]
[]
[null,null,null,"Opening balance","Additions","Disposals","Modifications ","Foreign exchange movements","Depreciation charge for the year","Closing balance"]
[null,null,null,{"$f":"Specifications!$C$22","v":"Rs."},{"$f":"Specifications!$C$22","v":"Rs."},{"$f":"Specifications!$C$22","v":"Rs."},{"$f":"Specifications!$C$22","v":"Rs."},{"$f":"Specifications!$C$22","v":"Rs."},{"$f":"Specifications!$C$22","v":"Rs."},{"$f":"Specifications!$C$22","v":"Rs."}]
[]
[null,"TOTAL RIGHT OF USE ASSETS",null,{"$f":"SUM(D17:D190)","v":0},0,0,0,0,0,0]
[]
[]
[null,"Right-of-use asset","Domicile","Opening balance","Additions","Disposals","Modifications ","Foreign exchange movements","Depreciation charge for the year","Closing balance"]
[null,null,null,{"$f":"Specifications!$C$22","v":"Rs."},{"$f":"Specifications!$C$22","v":"Rs."},{"$f":"Specifications!$C$22","v":"Rs."},{"$f":"Specifications!$C$22","v":"Rs."},{"$f":"Specifications!$C$22","v":"Rs."},{"$f":"Specifications!$C$22","v":"Rs."},{"$f":"Specifications!$C$22","v":"Rs."}]
[null,null,null,null,null,null,null,null,null,{"$f":"D17+E17-F17+G17+H17-I17","v":0}]
[null,null,null,null,null,null,null,null,null,{"$f":"D18+E18-F18+G18+H18-I18","v":0}]
[null,null,null,null,null,null,null,null,null,0]
[null,null,null,null,null,null,null,null,null,0]
[null,null,null,null,null,null,null,null,null,0]
[null,null,null,null,null,null,null,null,null,0]
[null,null,null,null,null,null,null,null,null,0]
[null,null,null,null,null,null,null,null,null,0]
[null,null,null,null,null,null,null,null,null,0]
[null,null,null,null,null,null,null,null,null,0]
[null,null,null,null,null,null,null,null,null,0]
[null,null,null,null,null,null,null,null,null,0]
[null,null,null,null,null,null,null,null,null,0]
[null,null,null,null,null,null,null,null,null,0]
[null,null,null,null,null,null,null,null,null,0]
[null,null,null,null,null,null,null,null,null,0]
[null,null,null,null,null,null,null,null,null,0]
[null,null,null,null,null,null,null,null,null,0]
[null,null,null,null,null,null,null,null,null,0]
[null,null,null,null,null,null,null,null,null,0]
[null,null,null,null,null,null,null,null,null,0]
[null,null,null,null,null,null,null,null,null,0]
[null,null,null,null,null,null,null,null,null,0]
[null,null,null,null,null,null,null,null,null,0]
[null,null,null,null,null,null,null,null,null,0]
[null,null,null,null,null,null,null,null,null,0]
[null,null,null,null,null,null,null,null,null,0]
[null,null,null,null,null,null,null,null,null,0]
[null,null,null,null,null,null,null,null,null,0]
[null,null,null,null,null,null,null,null,null,0]
[null,null,null,null,null,null,null,null,null,0]
[null,null,null,null,null,null,null,null,null,0]
[null,null,null,null,null,null,null,null,null,0]
[null,null,null,null,null,null,null,null,null,0]
[null,null,null,null,null,null,null,null,null,0]
[null,null,null,null,null,null,null,null,null,0]
[null,null,null,null,null,null,null,null,null,0]
[null,null,null,null,null,null,null,null,null,0]
[null,null,null,null,null,null,null,null,null,0]
[null,null,null,null,null,null,null,null,null,0]
[null,null,null,null,null,null,null,null,null,0]
[null,null,null,null,null,null,null,null,null,0]
[null,null,null,null,null,null,null,null,null,0]
[null,null,null,null,null,null,null,null,null,0]
[null,null,null,null,null,null,null,null,null,0]
[null,null,null,null,null,null,null,null,null,0]
[null,null,null,null,null,null,null,null,null,0]
[null,null,null,null,null,null,null,null,null,0]
[null,null,null,null,null,null,null,null,null,0]
[null,null,null,null,null,null,null,null,null,0]
[null,null,null,null,null,null,null,null,null,0]
[null,null,null,null,null,null,null,null,null,0]
[null,null,null,null,null,null,null,null,null,0]
[null,null,null,null,null,null,null,null,null,0]
[null,null,null,null,null,null,null,null,null,0]
[null,null,null,null,null,null,null,null,null,0]
[null,null,null,null,null,null,null,null,null,0]
[null,null,null,null,null,null,null,null,null,0]
[null,null,null,null,null,null,null,null,null,0]
[null,null,null,null,null,null,null,null,null,0]
[null,null,null,null,null,null,null,null,null,0]
[null,null,null,null,null,null,null,null,null,0]
[null,null,null,null,null,null,null,null,null,0]
[null,null,null,null,null,null,null,null,null,0]
[null,null,null,null,null,null,null,null,null,0]
[null,null,null,null,null,null,null,null,null,0]
[null,null,null,null,null,null,null,null,null,0]
[null,null,null,null,null,null,null,null,null,0]
[null,null,null,null,null,null,null,null,null,0]
[null,null,null,null,null,null,null,null,null,0]
[null,null,null,null,null,null,null,null,null,0]
[null,null,null,null,null,null,null,null,null,0]
[null,null,null,null,null,null,null,null,null,0]
[null,null,null,null,null,null,null,null,null,0]
[null,null,null,null,null,null,null,null,null,0]
[null,null,null,null,null,null,null,null,null,0]
[null,null,null,null,null,null,null,null,null,0]
[null,null,null,null,null,null,null,null,null,0]
[null,null,null,null,null,null,null,null,null,0]
[null,null,null,null,null,null,null,null,null,0]
[null,null,null,null,null,null,null,null,null,0]
[null,null,null,null,null,null,null,null,null,0]
[null,null,null,null,null,null,null,null,null,0]
[null,null,null,null,null,null,null,null,null,0]
[null,null,null,null,null,null,null,null,null,0]
[null,null,null,null,null,null,null,null,null,0]
[null,null,null,null,null,null,null,null,null,0]
[null,null,null,null,null,null,null,null,null,0]
[null,null,null,null,null,null,null,null,null,0]
[null,null,null,null,null,null,null,null,null,0]
[null,null,null,null,null,null,null,null,null,0]
[null,null,null,null,null,null,null,null,null,0]
[null,null,null,null,null,null,null,null,null,0]
[null,null,null,null,null,null,null,null,null,0]
[null,null,null,null,null,null,null,null,null,0]
[null,null,null,null,null,null,null,null,null,0]
[null,null,null,null,null,null,null,null,null,0]
[null,null,null,null,null,null,null,null,null,0]
[null,null,null,null,null,null,null,null,null,0]
[null,null,null,null,null,null,null,null,null,0]
[null,null,null,null,null,null,null,null,null,0]
[null,null,null,null,null,null,null,null,null,0]
[null,null,null,null,null,null,null,null,null,0]
[null,null,null,null,null,null,null,null,null,0]
[null,null,null,null,null,null,null,null,null,0]
[null,null,null,null,null,null,null,null,null,0]
[null,null,null,null,null,null,null,null,null,0]
[null,null,null,null,null,null,null,null,null,0]
[null,null,null,null,null,null,null,null,null,0]
[null,null,null,null,null,null,null,null,null,0]
[null,null,null,null,null,null,null,null,null,0]
[null,null,null,null,null,null,null,null,null,0]
[null,null,null,null,null,null,null,null,null,0]
[null,null,null,null,null,null,null,null,null,0]
[null,null,null,null,null,null,null,null,null,0]
[null,null,null,null,null,null,null,null,null,0]
[null,null,null,null,null,null,null,null,null,0]
[null,null,null,null,null,null,null,null,null,0]
[null,null,null,null,null,null,null,null,null,0]
[null,null,null,null,null,null,null,null,null,0]
[null,null,null,null,null,null,null,null,null,0]
[null,null,null,null,null,null,null,null,null,0]
[null,null,null,null,null,null,null,null,null,0]
[null,null,null,null,null,null,null,null,null,0]
[null,null,null,null,null,null,null,null,null,0]
[null,null,null,null,null,null,null,null,null,0]
[null,null,null,null,null,null,null,null,null,0]
[null,null,null,null,null,null,null,null,null,0]
[null,null,null,null,null,null,null,null,null,0]
[null,null,null,null,null,null,null,null,null,0]
[null,null,null,null,null,null,null,null,null,0]
[null,null,null,null,null,null,null,null,null,0]
[null,null,null,null,null,null,null,null,null,0]
[null,null,null,null,null,null,null,null,null,0]
[null,null,null,null,null,null,null,null,null,0]
[null,null,null,null,null,null,null,null,null,0]
[null,null,null,null,null,null,null,null,null,0]
[null,null,null,null,null,null,null,null,null,0]
[null,null,null,null,null,null,null,null,null,0]
[null,null,null,null,null,null,null,null,null,0]
[null,null,null,null,null,null,null,null,null,0]
[null,null,null,null,null,null,null,null,null,0]
[null,null,null,null,null,null,null,null,null,0]
[null,null,null,null,null,null,null,null,null,0]
[null,null,null,null,null,null,null,null,null,0]
[null,null,null,null,null,null,null,null,null,0]
[null,null,null,null,null,null,null,null,null,0]
[null,null,null,null,null,null,null,null,null,0]
[null,null,null,null,null,null,null,null,null,0]
[null,null,null,null,null,null,null,null,null,0]
[null,null,null,null,null,null,null,null,null,0]
[null,null,null,null,null,null,null,null,null,0]
[null,null,null,null,null,null,null,null,null,0]
[null,null,null,null,null,null,null,null,null,0]
[null,null,null,null,null,null,null,null,null,0]
[null,null,null,null,null,null,null,null,null,0]
[null,null,null,null,null,null,null,null,null,0]
[null,null,null,null,null,null,null,null,null,0]
[null,null,null,null,null,null,null,null,null,0]
[null,null,null,null,null,null,null,null,null,0]
[null,null,null,null,null,null,null,null,null,0]
[null,null,null,null,null,null,null,null,null,0]
[null,null,null,null,null,null,null,null,null,0]
[null,null,null,null,null,null,null,null,null,0]
[null,null,null,null,null,null,null,null,null,0]
[null,null,null,null,null,null,null,null,null,0]
[null,null,null,null,null,null,null,null,null,0]
[null,null,null,null,null,null,null,null,null,0]
[null,null,null,null,null,null,null,null,null,0]
[null,null,null,null,null,null,null,null,null,0]
[null,null,null,null,null,null,null,null,null,0]
[null,null,null,null,null,null,null,null,null,0]
[null,null,null,null,null,null,null,null,null,0]

{"sheet":"A4","index":20,"n_rows":157,"n_cols":12,"rows_kept":157,"cut":false,"hidden":false,"merged":[[13,3,13,5],[2,1,2,11],[13,1,15,1],[11,1,11,6],[4,2,4,4],[5,2,5,4]]}
[]
[]
[null,"FORM A4: INVESTMENT IN RELATED COMPANIES"]
[]
[null,"NAME OF CAPTIVE INSURER",{"$f":"Specifications!C6","v":0}]
[null,"YEAR ENDED",{"$f":"Specifications!C21","v":"00:00:00"}]
[]
[null,null,null,null,null,null,null,"Opening","Additions","Disposals","Revaluation","Closing"]
[null,null,null,null,null,null,null,"Balance",null,null,"gain/(loss)","Balance"]
[null,null,null,null,null,null,null,{"$f":"Specifications!$C$22","v":"Rs."},{"$f":"Specifications!$C$22","v":"Rs."},{"$f":"Specifications!$C$22","v":"Rs."},{"$f":"Specifications!$C$22","v":"Rs."},{"$f":"Specifications!$C$22","v":"Rs."}]
[]
[null,"TOTAL INVESTMENT IN RELATED COMPANIES",null,null,null,null,null,{"$f":"SUM(H17:H158)","v":0},{"$f":"SUM(I17:I158)","v":0},{"$f":"SUM(J17:J158)","v":0},{"$f":"SUM(K17:K158)","v":0},{"$f":"SUM(L17:L158)","v":0}]
[]
[null,"Description","Domicile","Number of shares",null,null,"%","Opening","Additions","Disposals","Revaluation","Closing"]
[null,null,null,"Opening","Additions/","Closing","Owned","Balance",null,null,"gain/(loss)","Balance"]
[null,null,null,null,"(Disposal)",null,null,{"$f":"Specifications!$C$22","v":"Rs."},{"$f":"Specifications!$C$22","v":"Rs."},{"$f":"Specifications!$C$22","v":"Rs."},{"$f":"Specifications!$C$22","v":"Rs."},{"$f":"Specifications!$C$22","v":"Rs."}]
[null,null,null,null,null,{"$f":"D17+E17","v":0},null,null,null,null,null,{"$f":"H17+I17-J17+K17","v":0}]
[null,null,null,null,null,{"$f":"D18+E18","v":0},null,null,null,null,null,{"$f":"H18+I18-J18+K18","v":0}]
[null,null,null,null,null,0,null,null,null,null,null,0]
[null,null,null,null,null,0,null,null,null,null,null,0]
[null,null,null,null,null,0,null,null,null,null,null,0]
[null,null,null,null,null,0,null,null,null,null,null,0]
[null,null,null,null,null,0,null,null,null,null,null,0]
[null,null,null,null,null,0,null,null,null,null,null,0]
[null,null,null,null,null,0,null,null,null,null,null,0]
[null,null,null,null,null,0,null,null,null,null,null,0]
[null,null,null,null,null,0,null,null,null,null,null,0]
[null,null,null,null,null,0,null,null,null,null,null,0]
[null,null,null,null,null,0,null,null,null,null,null,0]
[null,null,null,null,null,0,null,null,null,null,null,0]
[null,null,null,null,null,0,null,null,null,null,null,0]
[null,null,null,null,null,0,null,null,null,null,null,0]
[null,null,null,null,null,0,null,null,null,null,null,0]
[null,null,null,null,null,0,null,null,null,null,null,0]
[null,null,null,null,null,0,null,null,null,null,null,0]
[null,null,null,null,null,0,null,null,null,null,null,0]
[null,null,null,null,null,0,null,null,null,null,null,0]
[null,null,null,null,null,0,null,null,null,null,null,0]
[null,null,null,null,null,0,null,null,null,null,null,0]
[null,null,null,null,null,0,null,null,null,null,null,0]
[null,null,null,null,null,0,null,null,null,null,null,0]
[null,null,null,null,null,0,null,null,null,null,null,0]
[null,null,null,null,null,0,null,null,null,null,null,0]
[null,null,null,null,null,0,null,null,null,null,null,0]
[null,null,null,null,null,0,null,null,null,null,null,0]
[null,null,null,null,null,0,null,null,null,null,null,0]
[null,null,null,null,null,0,null,null,null,null,null,0]
[null,null,null,null,null,0,null,null,null,null,null,0]
[null,null,null,null,null,0,null,null,null,null,null,0]
[null,null,null,null,null,0,null,null,null,null,null,0]
[null,null,null,null,null,0,null,null,null,null,null,0]
[null,null,null,null,null,0,null,null,null,null,null,0]
[null,null,null,null,null,0,null,null,null,null,null,0]
[null,null,null,null,null,0,null,null,null,null,null,0]
[null,null,null,null,null,0,null,null,null,null,null,0]
[null,null,null,null,null,0,null,null,null,null,null,0]
[null,null,null,null,null,0,null,null,null,null,null,0]
[null,null,null,null,null,0,null,null,null,null,null,0]
[null,null,null,null,null,0,null,null,null,null,null,0]
[null,null,null,null,null,0,null,null,null,null,null,0]
[null,null,null,null,null,0,null,null,null,null,null,0]
[null,null,null,null,null,0,null,null,null,null,null,0]
[null,null,null,null,null,0,null,null,null,null,null,0]
[null,null,null,null,null,0,null,null,null,null,null,0]
[null,null,null,null,null,0,null,null,null,null,null,0]
[null,null,null,null,null,0,null,null,null,null,null,0]
[null,null,null,null,null,0,null,null,null,null,null,0]
[null,null,null,null,null,0,null,null,null,null,null,0]
[null,null,null,null,null,0,null,null,null,null,null,0]
[null,null,null,null,null,0,null,null,null,null,null,0]
[null,null,null,null,null,0,null,null,null,null,null,0]
[null,null,null,null,null,0,null,null,null,null,null,0]
[null,null,null,null,null,0,null,null,null,null,null,0]
[null,null,null,null,null,0,null,null,null,null,null,0]
[null,null,null,null,null,0,null,null,null,null,null,0]
[null,null,null,null,null,0,null,null,null,null,null,0]
[null,null,null,null,null,0,null,null,null,null,null,0]
[null,null,null,null,null,0,null,null,null,null,null,0]
[null,null,null,null,null,0,null,null,null,null,null,0]
[null,null,null,null,null,0,null,null,null,null,null,0]
[null,null,null,null,null,0,null,null,null,null,null,0]
[null,null,null,null,null,0,null,null,null,null,null,0]
[null,null,null,null,null,0,null,null,null,null,null,0]
[null,null,null,null,null,0,null,null,null,null,null,0]
[null,null,null,null,null,0,null,null,null,null,null,0]
[null,null,null,null,null,0,null,null,null,null,null,0]
[null,null,null,null,null,0,null,null,null,null,null,0]
[null,null,null,null,null,0,null,null,null,null,null,0]
[null,null,null,null,null,0,null,null,null,null,null,0]
[null,null,null,null,null,0,null,null,null,null,null,0]
[null,null,null,null,null,0,null,null,null,null,null,0]
[null,null,null,null,null,0,null,null,null,null,null,0]
[null,null,null,null,null,0,null,null,null,null,null,0]
[null,null,null,null,null,0,null,null,null,null,null,0]
[null,null,null,null,null,0,null,null,null,null,null,0]
[null,null,null,null,null,0,null,null,null,null,null,0]
[null,null,null,null,null,0,null,null,null,null,null,0]
[null,null,null,null,null,0,null,null,null,null,null,0]
[null,null,null,null,null,0,null,null,null,null,null,0]
[null,null,null,null,null,0,null,null,null,null,null,0]
[null,null,null,null,null,0,null,null,null,null,null,0]
[null,null,null,null,null,0,null,null,null,null,null,0]
[null,null,null,null,null,0,null,null,null,null,null,0]
[null,null,null,null,null,0,null,null,null,null,null,0]
[null,null,null,null,null,0,null,null,null,null,null,0]
[null,null,null,null,null,0,null,null,null,null,null,0]
[null,null,null,null,null,0,null,null,null,null,null,0]
[null,null,null,null,null,0,null,null,null,null,null,0]
[null,null,null,null,null,0,null,null,null,null,null,0]
[null,null,null,null,null,0,null,null,null,null,null,0]
[null,null,null,null,null,0,null,null,null,null,null,0]
[null,null,null,null,null,0,null,null,null,null,null,0]
[null,null,null,null,null,0,null,null,null,null,null,0]
[null,null,null,null,null,0,null,null,null,null,null,0]
[null,null,null,null,null,0,null,null,null,null,null,0]
[null,null,null,null,null,0,null,null,null,null,null,0]
[null,null,null,null,null,0,null,null,null,null,null,0]
[null,null,null,null,null,0,null,null,null,null,null,0]
[null,null,null,null,null,0,null,null,null,null,null,0]
[null,null,null,null,null,0,null,null,null,null,null,0]
[null,null,null,null,null,0,null,null,null,null,null,0]
[null,null,null,null,null,0,null,null,null,null,null,0]
[null,null,null,null,null,0,null,null,null,null,null,0]
[null,null,null,null,null,0,null,null,null,null,null,0]
[null,null,null,null,null,0,null,null,null,null,null,0]
[null,null,null,null,null,0,null,null,null,null,null,0]
[null,null,null,null,null,0,null,null,null,null,null,0]
[null,null,null,null,null,0,null,null,null,null,null,0]
[null,null,null,null,null,0,null,null,null,null,null,0]
[null,null,null,null,null,0,null,null,null,null,null,0]
[null,null,null,null,null,0,null,null,null,null,null,0]
[null,null,null,null,null,0,null,null,null,null,null,0]
[null,null,null,null,null,0,null,null,null,null,null,0]
[null,null,null,null,null,0,null,null,null,null,null,0]
[null,null,null,null,null,0,null,null,null,null,null,0]
[null,null,null,null,null,0,null,null,null,null,null,0]
[null,null,null,null,null,0,null,null,null,null,null,0]
[null,null,null,null,null,0,null,null,null,null,null,0]
[null,null,null,null,null,0,null,null,null,null,null,0]
[null,null,null,null,null,0,null,null,null,null,null,0]
[null,null,null,null,null,0,null,null,null,null,null,0]
[null,null,null,null,null,0,null,null,null,null,null,0]
[null,null,null,null,null,0,null,null,null,null,null,0]
[null,null,null,null,null,0,null,null,null,null,null,0]
[null,null,null,null,null,0,null,null,null,null,null,0]
[null,null,null,null,null,0,null,null,null,null,null,0]
[null,null,null,null,null,0,null,null,null,null,null,0]
[null,null,null,null,null,0,null,null,null,null,null,0]
[null,null,null,null,null,0,null,null,null,null,null,0]
[null,null,null,null,null,0,null,null,null,null,null,0]
[null,null,null,null,null,0,null,null,null,null,null,0]
[null,null,null,null,null,0,null,null,null,null,null,0]
[null,null,null,null,null,0,null,null,null,null,null,0]
[null,null,null,null,null,0,null,null,null,null,null,0]
[null,null,null,null,null,0,null,null,null,null,null,0]
[null,null,null,null,null,0,null,null,null,null,null,0]
[null,null,null,null,null,0,null,null,null,null,null,0]

{"sheet":"A5","index":21,"n_rows":154,"n_cols":13,"rows_kept":154,"cut":false,"hidden":false,"merged":[[2,1,2,12],[4,2,4,4],[5,2,5,4],[8,1,8,4]]}
[]
[]
[null,"FORM A5: INVESTMENT PROPERTY"]
[]
[null,"NAME OF CAPTIVE INSURER",{"$f":"Specifications!C6","v":0}]
[null,"YEAR ENDED",{"$f":"Specifications!C21","v":"00:00:00"}]
[]
[]
[null,"TOTAL INVESTMENT PROPERTY",null,null,null,{"$f":"SUM(F13:F156)","v":0},{"$f":"SUM(G13:G156)","v":0},0,0,0,0,0,0]
[]
[null,"Description of investment property","Type of property","Domicile","Year Acquired","Opening balance","Fair value adjustments","Additions","Disposals","Transfer to assets held for sale","Foreign exchange movements","Capitalised expenditure","Closing balance"]
[null,null,null,null,null,{"$f":"Specifications!$C$22","v":"Rs."},{"$f":"Specifications!$C$22","v":"Rs."},{"$f":"Specifications!$C$22","v":"Rs."},{"$f":"Specifications!$C$22","v":"Rs."},{"$f":"Specifications!$C$22","v":"Rs."},{"$f":"Specifications!$C$22","v":"Rs."},{"$f":"Specifications!$C$22","v":"Rs."},{"$f":"Specifications!$C$22","v":"Rs."}]
[null,null,null,null,null,null,null,null,null,null,null,null,{"$f":"SUM(F13:H13, K13:L13) - J13 - I13","v":0}]
[null,null,null,null,null,null,null,null,null,null,null,null,{"$f":"SUM(F14:H14, K14:L14) - J14 - I14","v":0}]
[null,null,null,null,null,null,null,null,null,null,null,null,0]
[null,null,null,null,null,null,null,null,null,null,null,null,0]
[null,null,null,null,null,null,null,null,null,null,null,null,0]
[null,null,null,null,null,null,null,null,null,null,null,null,0]
[null,null,null,null,null,null,null,null,null,null,null,null,0]
[null,null,null,null,null,null,null,null,null,null,null,null,0]
[null,null,null,null,null,null,null,null,null,null,null,null,0]
[null,null,null,null,null,null,null,null,null,null,null,null,0]
[null,null,null,null,null,null,null,null,null,null,null,null,0]
[null,null,null,null,null,null,null,null,null,null,null,null,0]
[null,null,null,null,null,null,null,null,null,null,null,null,0]
[null,null,null,null,null,null,null,null,null,null,null,null,0]
[null,null,null,null,null,null,null,null,null,null,null,null,0]
[null,null,null,null,null,null,null,null,null,null,null,null,0]
[null,null,null,null,null,null,null,null,null,null,null,null,0]
[null,null,null,null,null,null,null,null,null,null,null,null,0]
[null,null,null,null,null,null,null,null,null,null,null,null,0]
[null,null,null,null,null,null,null,null,null,null,null,null,0]
[null,null,null,null,null,null,null,null,null,null,null,null,0]
[null,null,null,null,null,null,null,null,null,null,null,null,0]
[null,null,null,null,null,null,null,null,null,null,null,null,0]
[null,null,null,null,null,null,null,null,null,null,null,null,0]
[null,null,null,null,null,null,null,null,null,null,null,null,0]
[null,null,null,null,null,null,null,null,null,null,null,null,0]
[null,null,null,null,null,null,null,null,null,null,null,null,0]
[null,null,null,null,null,null,null,null,null,null,null,null,0]
[null,null,null,null,null,null,null,null,null,null,null,null,0]
[null,null,null,null,null,null,null,null,null,null,null,null,0]
[null,null,null,null,null,null,null,null,null,null,null,null,0]
[null,null,null,null,null,null,null,null,null,null,null,null,0]
[null,null,null,null,null,null,null,null,null,null,null,null,0]
[null,null,null,null,null,null,null,null,null,null,null,null,0]
[null,null,null,null,null,null,null,null,null,null,null,null,0]
[null,null,null,null,null,null,null,null,null,null,null,null,0]
[null,null,null,null,null,null,null,null,null,null,null,null,0]
[null,null,null,null,null,null,null,null,null,null,null,null,0]
[null,null,null,null,null,null,null,null,null,null,null,null,0]
[null,null,null,null,null,null,null,null,null,null,null,null,0]
[null,null,null,null,null,null,null,null,null,null,null,null,0]
[null,null,null,null,null,null,null,null,null,null,null,null,0]
[null,null,null,null,null,null,null,null,null,null,null,null,0]
[null,null,null,null,null,null,null,null,null,null,null,null,0]
[null,null,null,null,null,null,null,null,null,null,null,null,0]
[null,null,null,null,null,null,null,null,null,null,null,null,0]
[null,null,null,null,null,null,null,null,null,null,null,null,0]
[null,null,null,null,null,null,null,null,null,null,null,null,0]
[null,null,null,null,null,null,null,null,null,null,null,null,0]
[null,null,null,null,null,null,null,null,null,null,null,null,0]
[null,null,null,null,null,null,null,null,null,null,null,null,0]
[null,null,null,null,null,null,null,null,null,null,null,null,0]
[null,null,null,null,null,null,null,null,null,null,null,null,0]
[null,null,null,null,null,null,null,null,null,null,null,null,0]
[null,null,null,null,null,null,null,null,null,null,null,null,0]
[null,null,null,null,null,null,null,null,null,null,null,null,0]
[null,null,null,null,null,null,null,null,null,null,null,null,0]
[null,null,null,null,null,null,null,null,null,null,null,null,0]
[null,null,null,null,null,null,null,null,null,null,null,null,0]
[null,null,null,null,null,null,null,null,null,null,null,null,0]
[null,null,null,null,null,null,null,null,null,null,null,null,0]
[null,null,null,null,null,null,null,null,null,null,null,null,0]
[null,null,null,null,null,null,null,null,null,null,null,null,0]
[null,null,null,null,null,null,null,null,null,null,null,null,0]
[null,null,null,null,null,null,null,null,null,null,null,null,0]
[null,null,null,null,null,null,null,null,null,null,null,null,0]
[null,null,null,null,null,null,null,null,null,null,null,null,0]
[null,null,null,null,null,null,null,null,null,null,null,null,0]
[null,null,null,null,null,null,null,null,null,null,null,null,0]
[null,null,null,null,null,null,null,null,null,null,null,null,0]
[null,null,null,null,null,null,null,null,null,null,null,null,0]
[null,null,null,null,null,null,null,null,null,null,null,null,0]
[null,null,null,null,null,null,null,null,null,null,null,null,0]
[null,null,null,null,null,null,null,null,null,null,null,null,0]
[null,null,null,null,null,null,null,null,null,null,null,null,0]
[null,null,null,null,null,null,null,null,null,null,null,null,0]
[null,null,null,null,null,null,null,null,null,null,null,null,0]
[null,null,null,null,null,null,null,null,null,null,null,null,0]
[null,null,null,null,null,null,null,null,null,null,null,null,0]
[null,null,null,null,null,null,null,null,null,null,null,null,0]
[null,null,null,null,null,null,null,null,null,null,null,null,0]
[null,null,null,null,null,null,null,null,null,null,null,null,0]
[null,null,null,null,null,null,null,null,null,null,null,null,0]
[null,null,null,null,null,null,null,null,null,null,null,null,0]
[null,null,null,null,null,null,null,null,null,null,null,null,0]
[null,null,null,null,null,null,null,null,null,null,null,null,0]
[null,null,null,null,null,null,null,null,null,null,null,null,0]
[null,null,null,null,null,null,null,null,null,null,null,null,0]
[null,null,null,null,null,null,null,null,null,null,null,null,0]
[null,null,null,null,null,null,null,null,null,null,null,null,0]
[null,null,null,null,null,null,null,null,null,null,null,null,0]
[null,null,null,null,null,null,null,null,null,null,null,null,0]
[null,null,null,null,null,null,null,null,null,null,null,null,0]
[null,null,null,null,null,null,null,null,null,null,null,null,0]
[null,null,null,null,null,null,null,null,null,null,null,null,0]
[null,null,null,null,null,null,null,null,null,null,null,null,0]
[null,null,null,null,null,null,null,null,null,null,null,null,0]
[null,null,null,null,null,null,null,null,null,null,null,null,0]
[null,null,null,null,null,null,null,null,null,null,null,null,0]
[null,null,null,null,null,null,null,null,null,null,null,null,0]
[null,null,null,null,null,null,null,null,null,null,null,null,0]
[null,null,null,null,null,null,null,null,null,null,null,null,0]
[null,null,null,null,null,null,null,null,null,null,null,null,0]
[null,null,null,null,null,null,null,null,null,null,null,null,0]
[null,null,null,null,null,null,null,null,null,null,null,null,0]
[null,null,null,null,null,null,null,null,null,null,null,null,0]
[null,null,null,null,null,null,null,null,null,null,null,null,0]
[null,null,null,null,null,null,null,null,null,null,null,null,0]
[null,null,null,null,null,null,null,null,null,null,null,null,0]
[null,null,null,null,null,null,null,null,null,null,null,null,0]
[null,null,null,null,null,null,null,null,null,null,null,null,0]
[null,null,null,null,null,null,null,null,null,null,null,null,0]
[null,null,null,null,null,null,null,null,null,null,null,null,0]
[null,null,null,null,null,null,null,null,null,null,null,null,0]
[null,null,null,null,null,null,null,null,null,null,null,null,0]
[null,null,null,null,null,null,null,null,null,null,null,null,0]
[null,null,null,null,null,null,null,null,null,null,null,null,0]
[null,null,null,null,null,null,null,null,null,null,null,null,0]
[null,null,null,null,null,null,null,null,null,null,null,null,0]
[null,null,null,null,null,null,null,null,null,null,null,null,0]
[null,null,null,null,null,null,null,null,null,null,null,null,0]
[null,null,null,null,null,null,null,null,null,null,null,null,0]
[null,null,null,null,null,null,null,null,null,null,null,null,0]
[null,null,null,null,null,null,null,null,null,null,null,null,0]
[null,null,null,null,null,null,null,null,null,null,null,null,0]
[null,null,null,null,null,null,null,null,null,null,null,null,0]
[null,null,null,null,null,null,null,null,null,null,null,null,0]
[null,null,null,null,null,null,null,null,null,null,null,null,0]
[null,null,null,null,null,null,null,null,null,null,null,null,0]
[null,null,null,null,null,null,null,null,null,null,null,null,0]
[null,null,null,null,null,null,null,null,null,null,null,null,0]
[null,null,null,null,null,null,null,null,null,null,null,null,0]
[null,null,null,null,null,null,null,null,null,null,null,null,0]
[null,null,null,null,null,null,null,null,null,null,null,null,0]
[null,null,null,null,null,null,null,null,null,null,null,null,0]
[null,null,null,null,null,null,null,null,null,null,null,null,0]
[null,null,null,null,null,null,null,null,null,null,null,null,0]
[null,null,null,null,null,null,null,null,null,null,null,null,0]
[null,null,null,null,null,null,null,null,null,null,null,null,0]
[null,null,null,null,null,null,null,null,null,null,null,null,0]
[null,null,null,null,null,null,null,null,null,null,null,null,0]
[null,null,null,null,null,null,null,null,null,null,null,null,0]

{"sheet":"A6","index":22,"n_rows":8037,"n_cols":19,"rows_kept":4500,"cut":true,"hidden":false,"merged":[[7589,7,7589,9],[7811,9,7811,11],[3551,15,3551,17],[7063,12,7063,14],[7325,5,7328,5],[7325,6,7328,6],[7325,7,7328,7],[7325,12,7328,12],[7325,10,7328,10],[25,1,25,2],[17,1,17,2],[18,1,18,2],[19,1,19,2],[20,1,20,2],[21,1,21,2],[22,1,22,2],[30,1,30,2],[31,1,31,2],[29,1,29,2],[2,1,2,15],[6,2,6,3],[7,2,7,3],[11,1,12,2],[15,1,15,2],[13,1,13,2],[14,1,14,2],[16,1,16,2],[26,1,26,2],[27,1,27,2],[28,1,28,2],[23,1,23,2],[24,1,24,2],[32,1,32,2],[7325,8,7328,8],[7325,9,7328,9],[7325,11,7328,11],[7325,4,7328,4],[34,1,34,2],[7325,1,7328,1],[7325,2,7328,2],[40,10,40,12],[7325,3,7328,3]],"bounds":{"rows_first":2000,"rows_last":500,"rows_between":2000,"halvings":0}}
[]
[]
[null,"FORM A6: FINANCIAL INVESTMENTS"]
[]
[]
[]
[null,"NAME OF CAPTIVE INSURER",{"$f":"Specifications!C6","v":0}]
[null,"YEAR ENDED",{"$f":"Specifications!C21","v":"00:00:00"}]
[]
[]
[]
[null,"Type",null,"Total Asset Value","Fair value through Profit and Loss","Fair value through OCI","Amortised cost","Accrued Interest"]
[null,null,null,{"$f":"Specifications!$C$22","v":"Rs."},{"$f":"Specifications!$C$22","v":"Rs."},{"$f":"Specifications!$C$22","v":"Rs."},{"$f":"Specifications!$C$22","v":"Rs."},{"$f":"Specifications!$C$22","v":"Rs."}]
[null,"Short term investments"]
[null,"    Treasury Bills",null,{"$f":"SUMIFS($N$44:$N$3543,$C$44:$C$3543,TRIM($B15))","v":0},{"$f":"SUMIFS($H$44:$H$3543,$C$44:$C$3543,TRIM($B15))","v":0},{"$f":"SUMIFS($I$44:$I$3543,$C$44:$C$3543,TRIM($B15))","v":0},{"$f":"SUMIFS($J$44:$J$3543,$C$44:$C$3543,TRIM($B15))","v":0}]
[null,"    Cash at bank",null,{"$f":"SUMIFS($N$44:$N$3543,$C$44:$C$3543,TRIM($B16))","v":0},{"$f":"SUMIFS($H$44:$H$3543,$C$44:$C$3543,TRIM($B16))","v":0},{"$f":"SUMIFS($I$44:$I$3543,$C$44:$C$3543,TRIM($B16))","v":0},{"$f":"SUMIFS($J$44:$J$3543,$C$44:$C$3543,TRIM($B16))","v":0}]
[null,"    Other short term investments",null,{"$f":"SUMIFS($N$44:$N$3543,$C$44:$C$3543,TRIM($B17))","v":0},{"$f":"SUMIFS($H$44:$H$3543,$C$44:$C$3543,TRIM($B17))","v":0},{"$f":"SUMIFS($I$44:$I$3543,$C$44:$C$3543,TRIM($B17))","v":0},{"$f":"SUMIFS($J$44:$J$3543,$C$44:$C$3543,TRIM($B17))","v":0}]
[null,"Term Deposits, Bonds and Debentures"]
[null,"Term deposits"]
[null,"   Government",null,{"$f":"SUMIFS($S$3555:$S$7055, $C$3555:$C$7055, TRIM($B$19), $D$3555:$D$7055, TRIM($B20))","v":0},{"$f":"SUMIFS($L$3555:$L$7055, $C$3555:$C$7055, TRIM($B$19), $D$3555:$D$7055, TRIM($B20))","v":0},{"$f":"SUMIFS($M$3555:$M$7055, $C$3555:$C$7055, TRIM($B$19), $D$3555:$D$7055, TRIM($B20))","v":0},{"$f":"SUMIFS($N$3555:$N$7055, $C$3555:$C$7055, TRIM($B$19), $D$3555:$D$7055, TRIM($B20))","v":0},{"$f":"SUMIFS($O$3555:$O$7055, $C$3555:$C$7055, TRIM($B$19), $D$3555:$D$7055, TRIM($B20))","v":0}]
[null,"   Corporate",null,{"$f":"SUMIFS($S$3555:$S$7055, $C$3555:$C$7055, TRIM($B$19), $D$3555:$D$7055, TRIM($B21))","v":0},{"$f":"SUMIFS($L$3555:$L$7055, $C$3555:$C$7055, TRIM($B$19), $D$3555:$D$7055, TRIM($B21))","v":0},{"$f":"SUMIFS($M$3555:$M$7055, $C$3555:$C$7055, TRIM($B$19), $D$3555:$D$7055, TRIM($B21))","v":0},{"$f":"SUMIFS($N$3555:$N$7055, $C$3555:$C$7055, TRIM($B$19), $D$3555:$D$7055, TRIM($B21))","v":0},{"$f":"SUMIFS($O$3555:$O$7055, $C$3555:$C$7055, TRIM($B$19), $D$3555:$D$7055, TRIM($B21))","v":0}]
[null,"Bonds"]
[null,"   Government",null,{"$f":"SUMIFS($S$3555:S7055, $C$3555:C7055, $B$22, $D$3555:D7055, TRIM($B$23))","v":0},{"$f":"SUMIFS($L$3555:L7055, $C$3555:C7055, $B$22, $D$3555:D7055, TRIM($B$23))","v":0},{"$f":"SUMIFS($M$3555:M7055, $C$3555:C7055, $B$22, $D$3555:D7055, TRIM($B$23))","v":0},{"$f":"SUMIFS($N$3555:N7055, $C$3555:C7055, $B$22, $D$3555:D7055, TRIM($B$23))","v":0},{"$f":"SUMIFS($O$3555:$O$7055, $C$3555:$C$7055, TRIM($B$22), $D$3555:$D$7055, TRIM($B$23))","v":0}]
[null,"   Corporate with Acceptable ratings",null,{"$f":"SUMIFS($S$3555:$S$7054, $C$3555:$C$7054, $B$22, $D$3555:$D$7054,  \"Corporate\", $H$3555:$H$7054, \"Acceptable\")","v":0},{"$f":"SUMIFS($L$3555:$L$7054, $C$3555:$C$7054, $B$22, $D$3555:$D$7054,  \"Corporate\", $H$3555:$H$7054, \"Acceptable\")","v":0},{"$f":"SUMIFS($M$3555:$M$7054, $C$3555:$C$7054, $B$22, $D$3555:$D$7054,  \"Corporate\", $H$3555:$H$7054, \"Acceptable\")","v":0},{"$f":"SUMIFS($N$3555:$N$7054, $C$3555:$C$7054, $B$22, $D$3555:$D$7054,  \"Corporate\", $H$3555:$H$7054, \"Acceptable\")","v":0},{"$f":"SUMIFS($O$3555:$O$7054, $C$3555:$C$7054, $B$22, $D$3555:$D$7054,  \"Corporate\", $H$3555:$H$7054, \"Acceptable\")","v":0}]
[null,"   Corporate, Other",null,{"$f":"SUMIFS($S$3555:$S$7054, $C$3555:$C$7054, $B$22, $D$3555:$D$7054,  \"Corporate\", $H$3555:$H$7054, \"Other\")","v":0},{"$f":"SUMIFS($L$3555:$L$7054, $C$3555:$C$7054, $B$22, $D$3555:$D$7054,  \"Corporate\", $H$3555:$H$7054, \"Other\")","v":0},{"$f":"SUMIFS($M$3555:$M$7054, $C$3555:$C$7054, $B$22, $D$3555:$D$7054,  \"Corporate\", $H$3555:$H$7054, \"Other\")","v":0},{"$f":"SUMIFS($N$3555:$N$7054, $C$3555:$C$7054, $B$22, $D$3555:$D$7054,  \"Corporate\", $H$3555:$H$7054, \"Other\")","v":0},{"$f":"SUMIFS($O$3555:$O$7054, $C$3555:$C$7054, $B$22, $D$3555:$D$7054,  \"Corporate\", $H$3555:$H$7054, \"Other\")","v":0}]
[null,"Structured notes",null,{"$f":"SUMIFS($P$7067:$P$7318,$C$7067:$C$7318, $B26)","v":0},{"$f":"SUMIFS($J$7067:$J$7318,$C$7067:$C$7318, $B26)","v":0},{"$f":"SUMIFS($K$7067:$K$7318,$C$7067:$C$7318, $B26)","v":0},{"$f":"SUMIFS($L$7067:$L$7318,$C$7067:$C$7318, $B26)","v":0}]
[null,"Collateralised securities",null,{"$f":"SUMIFS($P$7067:$P$7318,$C$7067:$C$7318, $B27)","v":0},{"$f":"SUMIFS($J$7067:$J$7318,$C$7067:$C$7318, $B27)","v":0},{"$f":"SUMIFS($K$7067:$K$7318,$C$7067:$C$7318, $B27)","v":0},{"$f":"SUMIFS($L$7067:$L$7318,$C$7067:$C$7318, $B27)","v":0}]
[null,"Equity securities"]
[null,"   Common shares",null,{"$f":"SUMIFS($M$7331:$M$7582,$C$7331:$C$7582, TRIM($B29))","v":0},{"$f":"SUMIFS($J$7331:$J$7582,$C$7331:$C$7582, TRIM($B29))","v":0},{"$f":"SUMIFS($K$7331:$K$7582,$C$7331:$C$7582, TRIM($B29))","v":0},null,{"$f":"SUMIFS($L$7331:$L$7583,$C$7331:$C$7583, TRIM($B29))","v":0}]
[null,"   Preference shares",null,{"$f":"SUMIFS($M$7331:$M$7582,$C$7331:$C$7582, TRIM($B30))","v":0},{"$f":"SUMIFS($J$7331:$J$7582,$C$7331:$C$7582, TRIM($B30))","v":0},{"$f":"SUMIFS($K$7331:$K$7582,$C$7331:$C$7582, TRIM($B30))","v":0},null,{"$f":"SUMIFS($L$7331:$L$7583,$C$7331:$C$7583, TRIM($B30))","v":0}]
[null,"Loans and mortgages",null,{"$f":"SUM($K$7593:$K$7806)","v":0},null,null,{"$f":"SUM($K$7593:K7806)","v":0}]
[null,"Collective investment vehicles",null,{"$f":"SUMIFS($M$7815:$M$8037,$C$7815:$C$8037,$B32)","v":0},{"$f":"SUMIFS($G$7815:$G$8038,$C$7815:$C$8038,$B$32)","v":0},{"$f":"SUMIFS($H$7815:H8038,$C$7815:C8038,$B$32)","v":0},{"$f":"SUMIFS($I$7815:I8038,$C$7815:C8038,$B$32)","v":0}]
[null,"Commodities",null,{"$f":"SUMIFS($M$7815:M8037,$C$7815:C8037,$B$33)","v":0},{"$f":"SUMIFS($G$7815:G8038,$C$7815:C8038,$B$33)","v":0},{"$f":"SUMIFS($H$7815:H8038,$C$7815:C8038,$B$33)","v":0},{"$f":"SUMIFS($I$7815:I8038,$C$7815:C8038,$B$33)","v":0}]
[]
[null,"TOTAL FINANCIAL INVESTMENTS",null,{"$f":"SUM(D14:D33)","v":0},{"$f":"SUM(E14:E33)","v":0},{"$f":"SUM(F14:F33)","v":0},{"$f":"SUM(G14:G33)","v":0},{"$f":"SUM(H14:H33)","v":0}]
[]
[]
[]
["SHORT TERM INVESTMENTS"]
[]
[null,null,null,null,null,null,null,null,null,null,"Allowances Current Period End (Including ECL)"]
[null,"Description","Type","Domicile","Date of \nIssue","Date of Maturity","Issued Currency","Closing balance / Fair Value Through Profit or Loss","Closing balance / Fair Value Through Other Comprehensive Income","Amortized  Cost","Stage I","Stage II","Stage III","Total\n"]
[null,null,null,null,null,null,null,{"$f":"Specifications!$C$22","v":"Rs."},{"$f":"Specifications!$C$22","v":"Rs."},{"$f":"Specifications!$C$22","v":"Rs."},{"$f":"Specifications!$C$22","v":"Rs."},{"$f":"Specifications!$C$22","v":"Rs."},{"$f":"Specifications!$C$22","v":"Rs."},{"$f":"Specifications!$C$22","v":"Rs."}]
[null,null,null,null,null,null,null,null,null,null,null,null,null,{"$f":"SUM(H44:J44)","v":0}]
[null,null,null,null,null,null,null,null,null,null,null,null,null,{"$f":"SUM(H45:J45)","v":0}]
[null,null,null,null,null,null,null,null,null,null,null,null,null,0]
[null,null,null,null,null,null,null,null,null,null,null,null,null,0]
[null,null,null,null,null,null,null,null,null,null,null,null,null,0]
[null,null,null,null,null,null,null,null,null,null,null,null,null,0]
[null,null,null,null,null,null,null,null,null,null,null,null,null,0]
[null,null,null,null,null,null,null,null,null,null,null,null,null,0]
[null,null,null,null,null,null,null,null,null,null,null,null,null,0]
[null,null,null,null,null,null,null,null,null,null,null,null,null,0]
[null,null,null,null,null,null,null,null,null,null,null,null,null,0]
[null,null,null,null,null,null,null,null,null,null,null,null,null,0]
[null,null,null,null,null,null,null,null,null,null,null,null,null,0]
[null,null,null,null,null,null,null,null,null,null,null,null,null,0]
[null,null,null,null,null,null,null,null,null,null,null,null,null,0]
[null,null,null,null,null,null,null,null,null,null,null,null,null,0]
[null,null,null,null,null,null,null,null,null,null,null,null,null,0]
[null,null,null,null,null,null,null,null,null,null,null,null,null,0]
[null,null,null,null,null,null,null,null,null,null,null,null,null,0]
[null,null,null,null,null,null,null,null,null,null,null,null,null,0]
[null,null,null,null,null,null,null,null,null,null,null,null,null,0]
[null,null,null,null,null,null,null,null,null,null,null,null,null,0]
[null,null,null,null,null,null,null,null,null,null,null,null,null,{"$f":"SUM(H66:J66)","v":0}]
[null,null,null,null,null,null,null,null,null,null,null,null,null,0]
[null,null,null,null,null,null,null,null,null,null,null,null,null,0]
[null,null,null,null,null,null,null,null,null,null,null,null,null,0]
[null,null,null,null,null,null,null,null,null,null,null,null,null,0]
[null,null,null,null,null,null,null,null,null,null,null,null,null,0]
[null,null,null,null,null,null,null,null,null,null,null,null,null,0]
[null,null,null,null,null,null,null,null,null,null,null,null,null,0]
[null,null,null,null,null,null,null,null,null,null,null,null,null,0]
[null,null,null,null,null,null,null,null,null,null,null,null,null,0]
[null,null,null,null,null,null,null,null,null,null,null,null,null,0]
[null,null,null,null,null,null,null,null,null,null,null,null,null,0]
[null,null,null,null,null,null,null,null,null,null,null,null,null,0]
[null,null,null,null,null,null,null,null,null,null,null,null,null,0]
[null,null,null,null,null,null,null,null,null,null,null,null,null,0]
[null,null,null,null,null,null,null,null,null,null,null,null,null,0]
[null,null,null,null,null,null,null,null,null,null,null,null,null,0]
[null,null,null,null,null,null,null,null,null,null,null,null,null,0]
[null,null,null,null,null,null,null,null,null,null,null,null,null,0]
[null,null,null,null,null,null,null,null,null,null,null,null,null,0]
[null,null,null,null,null,null,null,null,null,null,null,null,null,0]
[null,null,null,null,null,null,null,null,null,null,null,null,null,0]
[null,null,null,null,null,null,null,null,null,null,null,null,null,0]
[null,null,null,null,null,null,null,null,null,null,null,null,null,0]
[null,null,null,null,null,null,null,null,null,null,null,null,null,0]
[null,null,null,null,null,null,null,null,null,null,null,null,null,0]
[null,null,null,null,null,null,null,null,null,null,null,null,null,0]
[null,null,null,null,null,null,null,null,null,null,null,null,null,0]
[null,null,null,null,null,null,null,null,null,null,null,null,null,0]
[null,null,null,null,null,null,null,null,null,null,null,null,null,0]
[null,null,null,null,null,null,null,null,null,null,null,null,null,0]
[null,null,null,null,null,null,null,null,null,null,null,null,null,0]
[null,null,null,null,null,null,null,null,null,null,null,null,null,0]
[null,null,null,null,null,null,null,null,null,null,null,null,null,0]
[null,null,null,null,null,null,null,null,null,null,null,null,null,0]
[null,null,null,null,null,null,null,null,null,null,null,null,null,0]
[null,null,null,null,null,null,null,null,null,null,null,null,null,0]
[null,null,null,null,null,null,null,null,null,null,null,null,null,0]
[null,null,null,null,null,null,null,null,null,null,null,null,null,0]
[null,null,null,null,null,null,null,null,null,null,null,null,null,0]
[null,null,null,null,null,null,null,null,null,null,null,null,null,0]
[null,null,null,null,null,null,null,null,null,null,null,null,null,0]
[null,null,null,null,null,null,null,null,null,null,null,null,null,0]
[null,null,null,null,null,null,null,null,null,null,null,null,null,0]
[null,null,null,null,null,null,null,null,null,null,null,null,null,0]
[null,null,null,null,null,null,null,null,null,null,null,null,null,0]
[null,null,null,null,null,null,null,null,null,null,null,null,null,0]
[null,null,null,null,null,null,null,null,null,null,null,null,null,0]
[null,null,null,null,null,null,null,null,null,null,null,null,null,0]
[null,null,null,null,null,null,null,null,null,null,null,null,null,0]
[null,null,null,null,null,null,null,null,null,null,null,null,null,0]
[null,null,null,null,null,null,null,null,null,null,null,null,null,0]
[null,null,null,null,null,null,null,null,null,null,null,null,null,0]
[null,null,null,null,null,null,null,null,null,null,null,null,null,0]
[null,null,null,null,null,null,null,null,null,null,null,null,null,0]
[null,null,null,null,null,null,null,null,null,null,null,null,null,0]
[null,null,null,null,null,null,null,null,null,null,null,null,null,0]
[null,null,null,null,null,null,null,null,null,null,null,null,null,0]
[null,null,null,null,null,null,null,null,null,null,null,null,null,0]
[null,null,null,null,null,null,null,null,null,null,null,null,null,0]
[null,null,null,null,null,null,null,null,null,null,null,null,null,0]
[null,null,null,null,null,null,null,null,null,null,null,null,null,0]
[null,null,null,null,null,null,null,null,null,null,null,null,null,0]
[null,null,null,null,null,null,null,null,null,null,null,null,null,0]
[null,null,null,null,null,null,null,null,null,null,null,null,null,{"$f":"SUM(H130:J130)","v":0}]
[null,null,null,null,null,null,null,null,null,null,null,null,null,0]
[null,null,null,null,null,null,null,null,null,null,null,null,null,0]
[null,null,null,null,null,null,null,null,null,null,null,null,null,0]
[null,null,null,null,null,null,null,null,null,null,null,null,null,0]
[null,null,null,null,null,null,null,null,null,null,null,null,null,0]
[null,null,null,null,null,null,null,null,null,null,null,null,null,0]
[null,null,null,null,null,null,null,null,null,null,null,null,null,0]
[null,null,null,null,null,null,null,null,null,null,null,null,null,0]
[null,null,null,null,null,null,null,null,null,null,null,null,null,0]
[null,null,null,null,null,null,null,null,null,null,null,null,null,0]
[null,null,null,null,null,null,null,null,null,null,null,null,null,0]
[null,null,null,null,null,null,null,null,null,null,null,null,null,0]
[null,null,null,null,null,null,null,null,null,null,null,null,null,0]
[null,null,null,null,null,null,null,null,null,null,null,null,null,0]
[null,null,null,null,null,null,null,null,null,null,null,null,null,0]
[null,null,null,null,null,null,null,null,null,null,null,null,null,0]
[null,null,null,null,null,null,null,null,null,null,null,null,null,0]
[null,null,null,null,null,null,null,null,null,null,null,null,null,0]
[null,null,null,null,null,null,null,null,null,null,null,null,null,0]
[null,null,null,null,null,null,null,null,null,null,null,null,null,0]
[null,null,null,null,null,null,null,null,null,null,null,null,null,0]
[null,null,null,null,null,null,null,null,null,null,null,null,null,0]
[null,null,null,null,null,null,null,null,null,null,null,null,null,0]
[null,null,null,null,null,null,null,null,null,null,null,null,null,0]
[null,null,null,null,null,null,null,null,null,null,null,null,null,0]
[null,null,null,null,null,null,null,null,null,null,null,null,null,0]
[null,null,null,null,null,null,null,null,null,null,null,null,null,0]
[null,null,null,null,null,null,null,null,null,null,null,null,null,0]
[null,null,null,null,null,null,null,null,null,null,null,null,null,0]
[null,null,null,null,null,null,null,null,null,null,null,null,null,0]
[null,null,null,null,null,null,null,null,null,null,null,null,null,0]
[null,null,null,null,null,null,null,null,null,null,null,null,null,0]
[null,null,null,null,null,null,null,null,null,null,null,null,null,0]
[null,null,null,null,null,null,null,null,null,null,null,null,null,0]
[null,null,null,null,null,null,null,null,null,null,null,null,null,0]
[null,null,null,null,null,null,null,null,null,null,null,null,null,0]
[null,null,null,null,null,null,null,null,null,null,null,null,null,0]
[null,null,null,null,null,null,null,null,null,null,null,null,null,0]
[null,null,null,null,null,null,null,null,null,null,null,null,null,0]
[null,null,null,null,null,null,null,null,null,null,null,null,null,0]
[null,null,null,null,null,null,null,null,null,null,null,null,null,0]
[null,null,null,null,null,null,null,null,null,null,null,null,null,0]
[null,null,null,null,null,null,null,null,null,null,null,null,null,0]
[null,null,null,null,null,null,null,null,null,null,null,null,null,0]
[null,null,null,null,null,null,null,null,null,null,null,null,null,0]
[null,null,null,null,null,null,null,null,null,null,null,null,null,0]
[null,null,null,null,null,null,null,null,null,null,null,null,null,0]
[null,null,null,null,null,null,null,null,null,null,null,null,null,0]
[null,null,null,null,null,null,null,null,null,null,null,null,null,0]
[null,null,null,null,null,null,null,null,null,null,null,null,null,0]
[null,null,null,null,null,null,null,null,null,null,null,null,null,0]
[null,null,null,null,null,null,null,null,null,null,null,null,null,0]
[null,null,null,null,null,null,null,null,null,null,null,null,null,0]
[null,null,null,null,null,null,null,null,null,null,null,null,null,0]
[null,null,null,null,null,null,null,null,null,null,null,null,null,0]
[null,null,null,null,null,null,null,null,null,null,null,null,null,0]
[null,null,null,null,null,null,null,null,null,null,null,null,null,0]
[null,null,null,null,null,null,null,null,null,null,null,null,null,0]
[null,null,null,null,null,null,null,null,null,null,null,null,null,0]
[null,null,null,null,null,null,null,null,null,null,null,null,null,0]
[null,null,null,null,null,null,null,null,null,null,null,null,null,0]
[null,null,null,null,null,null,null,null,null,null,null,null,null,0]
[null,null,null,null,null,null,null,null,null,null,null,null,null,0]
[null,null,null,null,null,null,null,null,null,null,null,null,null,{"$f":"SUM(H194:J194)","v":0}]
[null,null,null,null,null,null,null,null,null,null,null,null,null,0]
[null,null,null,null,null,null,null,null,null,null,null,null,null,0]
[null,null,null,null,null,null,null,null,null,null,null,null,null,0]
[null,null,null,null,null,null,null,null,null,null,null,null,null,0]
[null,null,null,null,null,null,null,null,null,null,null,null,null,0]
[null,null,null,null,null,null,null,null,null,null,null,null,null,0]
[null,null,null,null,null,null,null,null,null,null,null,null,null,0]
[null,null,null,null,null,null,null,null,null,null,null,null,null,0]
[null,null,null,null,null,null,null,null,null,null,null,null,null,0]
[null,null,null,null,null,null,null,null,null,null,null,null,null,0]
[null,null,null,null,null,null,null,null,null,null,null,null,null,0]
[null,null,null,null,null,null,null,null,null,null,null,null,null,0]
[null,null,null,null,null,null,null,null,null,null,null,null,null,0]
[null,null,null,null,null,null,null,null,null,null,null,null,null,0]
[null,null,null,null,null,null,null,null,null,null,null,null,null,0]
[null,null,null,null,null,null,null,null,null,null,null,null,null,0]
[null,null,null,null,null,null,null,null,null,null,null,null,null,0]
[null,null,null,null,null,null,null,null,null,null,null,null,null,0]
[null,null,null,null,null,null,null,null,null,null,null,null,null,0]
[null,null,null,null,null,null,null,null,null,null,null,null,null,0]
[null,null,null,null,null,null,null,null,null,null,null,null,null,0]
[null,null,null,null,null,null,null,null,null,null,null,null,null,0]
[null,null,null,null,null,null,null,null,null,null,null,null,null,0]
[null,null,null,null,null,null,null,null,null,null,null,null,null,0]
[null,null,null,null,null,null,null,null,null,null,null,null,null,0]
[null,null,null,null,null,null,null,null,null,null,null,null,null,0]
[null,null,null,null,null,null,null,null,null,null,null,null,null,0]
[null,null,null,null,null,null,null,null,null,null,null,null,null,0]
[null,null,null,null,null,null,null,null,null,null,null,null,null,0]
[null,null,null,null,null,null,null,null,null,null,null,null,null,0]
[null,null,null,null,null,null,null,null,null,null,null,null,null,0]
[null,null,null,null,null,null,null,null,null,null,null,null,null,0]
[null,null,null,null,null,null,null,null,null,null,null,null,null,0]
[null,null,null,null,null,null,null,null,null,null,null,null,null,0]
[null,null,null,null,null,null,null,null,null,null,null,null,null,0]
[null,null,null,null,null,null,null,null,null,null,null,null,null,0]
[null,null,null,null,null,null,null,null,null,null,null,null,null,0]
[null,null,null,null,null,null,null,null,null,null,null,null,null,0]
[null,null,null,null,null,null,null,null,null,null,null,null,null,0]
[null,null,null,null,null,null,null,null,null,null,null,null,null,0]
[null,null,null,null,null,null,null,null,null,null,null,null,null,0]
[null,null,null,null,null,null,null,null,null,null,null,null,null,0]
[null,null,null,null,null,null,null,null,null,null,null,null,null,0]
[null,null,null,null,null,null,null,null,null,null,null,null,null,0]
[null,null,null,null,null,null,null,null,null,null,null,null,null,0]
[null,null,null,null,null,null,null,null,null,null,null,null,null,0]
[null,null,null,null,null,null,null,null,null,null,null,null,null,0]
[null,null,null,null,null,null,null,null,null,null,null,null,null,0]
[null,null,null,null,null,null,null,null,null,null,null,null,null,0]
[null,null,null,null,null,null,null,null,null,null,null,null,null,0]
[null,null,null,null,null,null,null,null,null,null,null,null,null,0]
[null,null,null,null,null,null,null,null,null,null,null,null,null,0]
[null,null,null,null,null,null,null,null,null,null,null,null,null,0]
[null,null,null,null,null,null,null,null,null,null,null,null,null,0]
[null,null,null,null,null,null,null,null,null,null,null,null,null,0]
[null,null,null,null,null,null,null,null,null,null,null,null,null,0]
[null,null,null,null,null,null,null,null,null,null,null,null,null,0]
[null,null,null,null,null,null,null,null,null,null,null,null,null,0]
[null,null,null,null,null,null,null,null,null,null,null,null,null,0]
[null,null,null,null,null,null,null,null,null,null,null,null,null,0]
[null,null,null,null,null,null,null,null,null,null,null,null,null,0]
[null,null,null,null,null,null,null,null,null,null,null,null,null,0]
[null,null,null,null,null,null,null,null,null,null,null,null,null,0]
[null,null,null,null,null,null,null,null,null,null,null,null,null,{"$f":"SUM(H258:J258)","v":0}]
[null,null,null,null,null,null,null,null,null,null,null,null,null,0]
[null,null,null,null,null,null,null,null,null,null,null,null,null,0]
[null,null,null,null,null,null,null,null,null,null,null,null,null,0]
[null,null,null,null,null,null,null,null,null,null,null,null,null,0]
[null,null,null,null,null,null,null,null,null,null,null,null,null,0]
[null,null,null,null,null,null,null,null,null,null,null,null,null,0]
[null,null,null,null,null,null,null,null,null,null,null,null,null,0]
[null,null,null,null,null,null,null,null,null,null,null,null,null,0]
[null,null,null,null,null,null,null,null,null,null,null,null,null,0]
[null,null,null,null,null,null,null,null,null,null,null,null,null,0]
[null,null,null,null,null,null,null,null,null,null,null,null,null,0]
[null,null,null,null,null,null,null,null,null,null,null,null,null,0]
[null,null,null,null,null,null,null,null,null,null,null,null,null,0]
[null,null,null,null,null,null,null,null,null,null,null,null,null,0]
[null,null,null,null,null,null,null,null,null,null,null,null,null,0]
[null,null,null,null,null,null,null,null,null,null,null,null,null,0]
[null,null,null,null,null,null,null,null,null,null,null,null,null,0]
[null,null,null,null,null,null,null,null,null,null,null,null,null,0]
[null,null,null,null,null,null,null,null,null,null,null,null,null,0]
[null,null,null,null,null,null,null,null,null,null,null,null,null,0]
[null,null,null,null,null,null,null,null,null,null,null,null,null,0]
[null,null,null,null,null,null,null,null,null,null,null,null,null,0]
[null,null,null,null,null,null,null,null,null,null,null,null,null,0]
[null,null,null,null,null,null,null,null,null,null,null,null,null,0]
[null,null,null,null,null,null,null,null,null,null,null,null,null,0]
[null,null,null,null,null,null,null,null,null,null,null,null,null,0]
[null,null,null,null,null,null,null,null,null,null,null,null,null,0]
[null,null,null,null,null,null,null,null,null,null,null,null,null,0]
[null,null,null,null,null,null,null,null,null,null,null,null,null,0]
[null,null,null,null,null,null,null,null,null,null,null,null,null,0]
[null,null,null,null,null,null,null,null,null,null,null,null,null,0]
[null,null,null,null,null,null,null,null,null,null,null,null,null,0]
[null,null,null,null,null,null,null,null,null,null,null,null,null,0]
[null,null,null,null,null,null,null,null,null,null,null,null,null,0]
[null,null,null,null,null,null,null,null,null,null,null,null,null,0]
[null,null,null,null,null,null,null,null,null,null,null,null,null,0]
[null,null,null,null,null,null,null,null,null,null,null,null,null,0]
[null,null,null,null,null,null,null,null,null,null,null,null,null,0]
[null,null,null,null,null,null,null,null,null,null,null,null,null,0]
[null,null,null,null,null,null,null,null,null,null,null,null,null,0]
[null,null,null,null,null,null,null,null,null,null,null,null,null,0]
[null,null,null,null,null,null,null,null,null,null,null,null,null,0]
[null,null,null,null,null,null,null,null,null,null,null,null,null,0]
[null,null,null,null,null,null,null,null,null,null,null,null,null,0]
[null,null,null,null,null,null,null,null,null,null,null,null,null,0]
[null,null,null,null,null,null,null,null,null,null,null,null,null,0]
[null,null,null,null,null,null,null,null,null,null,null,null,null,0]
[null,null,null,null,null,null,null,null,null,null,null,null,null,0]
[null,null,null,null,null,null,null,null,null,null,null,null,null,0]
[null,null,null,null,null,null,null,null,null,null,null,null,null,0]
[null,null,null,null,null,null,null,null,null,null,null,null,null,0]
[null,null,null,null,null,null,null,null,null,null,null,null,null,0]
[null,null,null,null,null,null,null,null,null,null,null,null,null,0]
[null,null,null,null,null,null,null,null,null,null,null,null,null,0]
[null,null,null,null,null,null,null,null,null,null,null,null,null,0]
[null,null,null,null,null,null,null,null,null,null,null,null,null,0]
[null,null,null,null,null,null,null,null,null,null,null,null,null,0]
[null,null,null,null,null,null,null,null,null,null,null,null,null,0]
[null,null,null,null,null,null,null,null,null,null,null,null,null,0]
[null,null,null,null,null,null,null,null,null,null,null,null,null,0]
[null,null,null,null,null,null,null,null,null,null,null,null,null,0]
[null,null,null,null,null,null,null,null,null,null,null,null,null,0]
[null,null,null,null,null,null,null,null,null,null,null,null,null,0]
[null,null,null,null,null,null,null,null,null,null,null,null,null,{"$f":"SUM(H322:J322)","v":0}]
[null,null,null,null,null,null,null,null,null,null,null,null,null,0]
[null,null,null,null,null,null,null,null,null,null,null,null,null,0]
[null,null,null,null,null,null,null,null,null,null,null,null,null,0]
[null,null,null,null,null,null,null,null,null,null,null,null,null,0]
[null,null,null,null,null,null,null,null,null,null,null,null,null,0]
[null,null,null,null,null,null,null,null,null,null,null,null,null,0]
[null,null,null,null,null,null,null,null,null,null,null,null,null,0]
[null,null,null,null,null,null,null,null,null,null,null,null,null,0]
[null,null,null,null,null,null,null,null,null,null,null,null,null,0]
[null,null,null,null,null,null,null,null,null,null,null,null,null,0]
[null,null,null,null,null,null,null,null,null,null,null,null,null,0]
[null,null,null,null,null,null,null,null,null,null,null,null,null,0]
[null,null,null,null,null,null,null,null,null,null,null,null,null,0]
[null,null,null,null,null,null,null,null,null,null,null,null,null,0]
[null,null,null,null,null,null,null,null,null,null,null,null,null,0]
[null,null,null,null,null,null,null,null,null,null,null,null,null,0]
[null,null,null,null,null,null,null,null,null,null,null,null,null,0]
[null,null,null,null,null,null,null,null,null,null,null,null,null,0]
[null,null,null,null,null,null,null,null,null,null,null,null,null,0]
[null,null,null,null,null,null,null,null,null,null,null,null,null,0]
[null,null,null,null,null,null,null,null,null,null,null,null,null,0]
[null,null,null,null,null,null,null,null,null,null,null,null,null,0]
[null,null,null,null,null,null,null,null,null,null,null,null,null,0]
[null,null,null,null,null,null,null,null,null,null,null,null,null,0]
[null,null,null,null,null,null,null,null,null,null,null,null,null,0]
[null,null,null,null,null,null,null,null,null,null,null,null,null,0]
[null,null,null,null,null,null,null,null,null,null,null,null,null,0]
[null,null,null,null,null,null,null,null,null,null,null,null,null,0]
[null,null,null,null,null,null,null,null,null,null,null,null,null,0]
[null,null,null,null,null,null,null,null,null,null,null,null,null,0]
[null,null,null,null,null,null,null,null,null,null,null,null,null,0]
[null,null,null,null,null,null,null,null,null,null,null,null,null,0]
[null,null,null,null,null,null,null,null,null,null,null,null,null,0]
[null,null,null,null,null,null,null,null,null,null,null,null,null,0]
[null,null,null,null,null,null,null,null,null,null,null,null,null,0]
[null,null,null,null,null,null,null,null,null,null,null,null,null,0]
[null,null,null,null,null,null,null,null,null,null,null,null,null,0]
[null,null,null,null,null,null,null,null,null,null,null,null,null,0]
[null,null,null,null,null,null,null,null,null,null,null,null,null,0]
[null,null,null,null,null,null,null,null,null,null,null,null,null,0]
[null,null,null,null,null,null,null,null,null,null,null,null,null,0]
[null,null,null,null,null,null,null,null,null,null,null,null,null,0]
[null,null,null,null,null,null,null,null,null,null,null,null,null,0]
[null,null,null,null,null,null,null,null,null,null,null,null,null,0]
[null,null,null,null,null,null,null,null,null,null,null,null,null,0]
[null,null,null,null,null,null,null,null,null,null,null,null,null,0]
[null,null,null,null,null,null,null,null,null,null,null,null,null,0]
[null,null,null,null,null,null,null,null,null,null,null,null,null,0]
[null,null,null,null,null,null,null,null,null,null,null,null,null,0]
[null,null,null,null,null,null,null,null,null,null,null,null,null,0]
[null,null,null,null,null,null,null,null,null,null,null,null,null,0]
[null,null,null,null,null,null,null,null,null,null,null,null,null,0]
[null,null,null,null,null,null,null,null,null,null,null,null,null,0]
[null,null,null,null,null,null,null,null,null,null,null,null,null,0]
[null,null,null,null,null,null,null,null,null,null,null,null,null,0]
[null,null,null,null,null,null,null,null,null,null,null,null,null,0]
[null,null,null,null,null,null,null,null,null,null,null,null,null,0]
[null,null,null,null,null,null,null,null,null,null,null,null,null,0]
[null,null,null,null,null,null,null,null,null,null,null,null,null,0]
[null,null,null,null,null,null,null,null,null,null,null,null,null,0]
[null,null,null,null,null,null,null,null,null,null,null,null,null,0]
[null,null,null,null,null,null,null,null,null,null,null,null,null,0]
[null,null,null,null,null,null,null,null,null,null,null,null,null,0]
[null,null,null,null,null,null,null,null,null,null,null,null,null,{"$f":"SUM(H386:J386)","v":0}]
[null,null,null,null,null,null,null,null,null,null,null,null,null,0]
[null,null,null,null,null,null,null,null,null,null,null,null,null,0]
[null,null,null,null,null,null,null,null,null,null,null,null,null,0]
[null,null,null,null,null,null,null,null,null,null,null,null,null,0]
[null,null,null,null,null,null,null,null,null,null,null,null,null,0]
[null,null,null,null,null,null,null,null,null,null,null,null,null,0]
[null,null,null,null,null,null,null,null,null,null,null,null,null,0]
[null,null,null,null,null,null,null,null,null,null,null,null,null,0]
[null,null,null,null,null,null,null,null,null,null,null,null,null,0]
[null,null,null,null,null,null,null,null,null,null,null,null,null,0]
[null,null,null,null,null,null,null,null,null,null,null,null,null,0]
[null,null,null,null,null,null,null,null,null,null,null,null,null,0]
[null,null,null,null,null,null,null,null,null,null,null,null,null,0]
[null,null,null,null,null,null,null,null,null,null,null,null,null,0]
[null,null,null,null,null,null,null,null,null,null,null,null,null,0]
[null,null,null,null,null,null,null,null,null,null,null,null,null,0]
[null,null,null,null,null,null,null,null,null,null,null,null,null,0]
[null,null,null,null,null,null,null,null,null,null,null,null,null,0]
[null,null,null,null,null,null,null,null,null,null,null,null,null,0]
[null,null,null,null,null,null,null,null,null,null,null,null,null,0]
[null,null,null,null,null,null,null,null,null,null,null,null,null,0]
[null,null,null,null,null,null,null,null,null,null,null,null,null,0]
[null,null,null,null,null,null,null,null,null,null,null,null,null,0]
[null,null,null,null,null,null,null,null,null,null,null,null,null,0]
[null,null,null,null,null,null,null,null,null,null,null,null,null,0]
[null,null,null,null,null,null,null,null,null,null,null,null,null,0]
[null,null,null,null,null,null,null,null,null,null,null,null,null,0]
[null,null,null,null,null,null,null,null,null,null,null,null,null,0]
[null,null,null,null,null,null,null,null,null,null,null,null,null,0]
[null,null,null,null,null,null,null,null,null,null,null,null,null,0]
[null,null,null,null,null,null,null,null,null,null,null,null,null,0]
[null,null,null,null,null,null,null,null,null,null,null,null,null,0]
[null,null,null,null,null,null,null,null,null,null,null,null,null,0]
[null,null,null,null,null,null,null,null,null,null,null,null,null,0]
[null,null,null,null,null,null,null,null,null,null,null,null,null,0]
[null,null,null,null,null,null,null,null,null,null,null,null,null,0]
[null,null,null,null,null,null,null,null,null,null,null,null,null,0]
[null,null,null,null,null,null,null,null,null,null,null,null,null,0]
[null,null,null,null,null,null,null,null,null,null,null,null,null,0]
[null,null,null,null,null,null,null,null,null,null,null,null,null,0]
[null,null,null,null,null,null,null,null,null,null,null,null,null,0]
[null,null,null,null,null,null,null,null,null,null,null,null,null,0]
[null,null,null,null,null,null,null,null,null,null,null,null,null,0]
[null,null,null,null,null,null,null,null,null,null,null,null,null,0]
[null,null,null,null,null,null,null,null,null,null,null,null,null,0]
[null,null,null,null,null,null,null,null,null,null,null,null,null,0]
[null,null,null,null,null,null,null,null,null,null,null,null,null,0]
[null,null,null,null,null,null,null,null,null,null,null,null,null,0]
[null,null,null,null,null,null,null,null,null,null,null,null,null,0]
[null,null,null,null,null,null,null,null,null,null,null,null,null,0]
[null,null,null,null,null,null,null,null,null,null,null,null,null,0]
[null,null,null,null,null,null,null,null,null,null,null,null,null,0]
[null,null,null,null,null,null,null,null,null,null,null,null,null,0]
[null,null,null,null,null,null,null,null,null,null,null,null,null,0]
[null,null,null,null,null,null,null,null,null,null,null,null,null,0]
[null,null,null,null,null,null,null,null,null,null,null,null,null,0]
[null,null,null,null,null,null,null,null,null,null,null,null,null,0]
[null,null,null,null,null,null,null,null,null,null,null,null,null,0]
[null,null,null,null,null,null,null,null,null,null,null,null,null,0]
[null,null,null,null,null,null,null,null,null,null,null,null,null,0]
[null,null,null,null,null,null,null,null,null,null,null,null,null,0]
[null,null,null,null,null,null,null,null,null,null,null,null,null,0]
[null,null,null,null,null,null,null,null,null,null,null,null,null,0]
[null,null,null,null,null,null,null,null,null,null,null,null,null,{"$f":"SUM(H450:J450)","v":0}]
[null,null,null,null,null,null,null,null,null,null,null,null,null,0]
[null,null,null,null,null,null,null,null,null,null,null,null,null,0]
[null,null,null,null,null,null,null,null,null,null,null,null,null,0]
[null,null,null,null,null,null,null,null,null,null,null,null,null,0]
[null,null,null,null,null,null,null,null,null,null,null,null,null,0]
[null,null,null,null,null,null,null,null,null,null,null,null,null,0]
[null,null,null,null,null,null,null,null,null,null,null,null,null,0]
[null,null,null,null,null,null,null,null,null,null,null,null,null,0]
[null,null,null,null,null,null,null,null,null,null,null,null,null,0]
[null,null,null,null,null,null,null,null,null,null,null,null,null,0]
[null,null,null,null,null,null,null,null,null,null,null,null,null,0]
[null,null,null,null,null,null,null,null,null,null,null,null,null,0]
[null,null,null,null,null,null,null,null,null,null,null,null,null,0]
[null,null,null,null,null,null,null,null,null,null,null,null,null,0]
[null,null,null,null,null,null,null,null,null,null,null,null,null,0]
[null,null,null,null,null,null,null,null,null,null,null,null,null,0]
[null,null,null,null,null,null,null,null,null,null,null,null,null,0]
[null,null,null,null,null,null,null,null,null,null,null,null,null,0]
[null,null,null,null,null,null,null,null,null,null,null,null,null,0]
[null,null,null,null,null,null,null,null,null,null,null,null,null,0]
[null,null,null,null,null,null,null,null,null,null,null,null,null,0]
[null,null,null,null,null,null,null,null,null,null,null,null,null,0]
[null,null,null,null,null,null,null,null,null,null,null,null,null,0]
[null,null,null,null,null,null,null,null,null,null,null,null,null,0]
[null,null,null,null,null,null,null,null,null,null,null,null,null,0]
[null,null,null,null,null,null,null,null,null,null,null,null,null,0]
[null,null,null,null,null,null,null,null,null,null,null,null,null,0]
[null,null,null,null,null,null,null,null,null,null,null,null,null,0]
[null,null,null,null,null,null,null,null,null,null,null,null,null,0]
[null,null,null,null,null,null,null,null,null,null,null,null,null,0]
[null,null,null,null,null,null,null,null,null,null,null,null,null,0]
[null,null,null,null,null,null,null,null,null,null,null,null,null,0]
[null,null,null,null,null,null,null,null,null,null,null,null,null,0]
[null,null,null,null,null,null,null,null,null,null,null,null,null,0]
[null,null,null,null,null,null,null,null,null,null,null,null,null,0]
[null,null,null,null,null,null,null,null,null,null,null,null,null,0]
[null,null,null,null,null,null,null,null,null,null,null,null,null,0]
[null,null,null,null,null,null,null,null,null,null,null,null,null,0]
[null,null,null,null,null,null,null,null,null,null,null,null,null,0]
[null,null,null,null,null,null,null,null,null,null,null,null,null,0]
[null,null,null,null,null,null,null,null,null,null,null,null,null,0]
[null,null,null,null,null,null,null,null,null,null,null,null,null,0]
[null,null,null,null,null,null,null,null,null,null,null,null,null,0]
[null,null,null,null,null,null,null,null,null,null,null,null,null,0]
[null,null,null,null,null,null,null,null,null,null,null,null,null,0]
[null,null,null,null,null,null,null,null,null,null,null,null,null,0]
[null,null,null,null,null,null,null,null,null,null,null,null,null,0]
[null,null,null,null,null,null,null,null,null,null,null,null,null,0]
[null,null,null,null,null,null,null,null,null,null,null,null,null,0]
[null,null,null,null,null,null,null,null,null,null,null,null,null,0]
[null,null,null,null,null,null,null,null,null,null,null,null,null,0]
[null,null,null,null,null,null,null,null,null,null,null,null,null,0]
[null,null,null,null,null,null,null,null,null,null,null,null,null,0]
[null,null,null,null,null,null,null,null,null,null,null,null,null,0]
[null,null,null,null,null,null,null,null,null,null,null,null,null,0]
[null,null,null,null,null,null,null,null,null,null,null,null,null,0]
[null,null,null,null,null,null,null,null,null,null,null,null,null,0]
[null,null,null,null,null,null,null,null,null,null,null,null,null,0]
[null,null,null,null,null,null,null,null,null,null,null,null,null,0]
[null,null,null,null,null,null,null,null,null,null,null,null,null,0]
[null,null,null,null,null,null,null,null,null,null,null,null,null,0]
[null,null,null,null,null,null,null,null,null,null,null,null,null,0]
[null,null,null,null,null,null,null,null,null,null,null,null,null,0]
[null,null,null,null,null,null,null,null,null,null,null,null,null,{"$f":"SUM(H514:J514)","v":0}]
[null,null,null,null,null,null,null,null,null,null,null,null,null,0]
[null,null,null,null,null,null,null,null,null,null,null,null,null,0]
[null,null,null,null,null,null,null,null,null,null,null,null,null,0]
[null,null,null,null,null,null,null,null,null,null,null,null,null,0]
[null,null,null,null,null,null,null,null,null,null,null,null,null,0]
[null,null,null,null,null,null,null,null,null,null,null,null,null,0]
[null,null,null,null,null,null,null,null,null,null,null,null,null,0]
[null,null,null,null,null,null,null,null,null,null,null,null,null,0]
[null,null,null,null,null,null,null,null,null,null,null,null,null,0]
[null,null,null,null,null,null,null,null,null,null,null,null,null,0]
[null,null,null,null,null,null,null,null,null,null,null,null,null,0]
[null,null,null,null,null,null,null,null,null,null,null,null,null,0]
[null,null,null,null,null,null,null,null,null,null,null,null,null,0]
[null,null,null,null,null,null,null,null,null,null,null,null,null,0]
[null,null,null,null,null,null,null,null,null,null,null,null,null,0]
[null,null,null,null,null,null,null,null,null,null,null,null,null,0]
[null,null,null,null,null,null,null,null,null,null,null,null,null,0]
[null,null,null,null,null,null,null,null,null,null,null,null,null,0]
[null,null,null,null,null,null,null,null,null,null,null,null,null,0]
[null,null,null,null,null,null,null,null,null,null,null,null,null,0]
[null,null,null,null,null,null,null,null,null,null,null,null,null,0]
[null,null,null,null,null,null,null,null,null,null,null,null,null,0]
[null,null,null,null,null,null,null,null,null,null,null,null,null,0]
[null,null,null,null,null,null,null,null,null,null,null,null,null,0]
[null,null,null,null,null,null,null,null,null,null,null,null,null,0]
[null,null,null,null,null,null,null,null,null,null,null,null,null,0]
[null,null,null,null,null,null,null,null,null,null,null,null,null,0]
[null,null,null,null,null,null,null,null,null,null,null,null,null,0]
[null,null,null,null,null,null,null,null,null,null,null,null,null,0]
[null,null,null,null,null,null,null,null,null,null,null,null,null,0]
[null,null,null,null,null,null,null,null,null,null,null,null,null,0]
[null,null,null,null,null,null,null,null,null,null,null,null,null,0]
[null,null,null,null,null,null,null,null,null,null,null,null,null,0]
[null,null,null,null,null,null,null,null,null,null,null,null,null,0]
[null,null,null,null,null,null,null,null,null,null,null,null,null,0]
[null,null,null,null,null,null,null,null,null,null,null,null,null,0]
[null,null,null,null,null,null,null,null,null,null,null,null,null,0]
[null,null,null,null,null,null,null,null,null,null,null,null,null,0]
[null,null,null,null,null,null,null,null,null,null,null,null,null,0]
[null,null,null,null,null,null,null,null,null,null,null,null,null,0]
[null,null,null,null,null,null,null,null,null,null,null,null,null,0]
[null,null,null,null,null,null,null,null,null,null,null,null,null,0]
[null,null,null,null,null,null,null,null,null,null,null,null,null,0]
[null,null,null,null,null,null,null,null,null,null,null,null,null,0]
[null,null,null,null,null,null,null,null,null,null,null,null,null,0]
[null,null,null,null,null,null,null,null,null,null,null,null,null,0]
[null,null,null,null,null,null,null,null,null,null,null,null,null,0]
[null,null,null,null,null,null,null,null,null,null,null,null,null,0]
[null,null,null,null,null,null,null,null,null,null,null,null,null,0]
[null,null,null,null,null,null,null,null,null,null,null,null,null,0]
[null,null,null,null,null,null,null,null,null,null,null,null,null,0]
[null,null,null,null,null,null,null,null,null,null,null,null,null,0]
[null,null,null,null,null,null,null,null,null,null,null,null,null,0]
[null,null,null,null,null,null,null,null,null,null,null,null,null,0]
[null,null,null,null,null,null,null,null,null,null,null,null,null,0]
[null,null,null,null,null,null,null,null,null,null,null,null,null,0]
[null,null,null,null,null,null,null,null,null,null,null,null,null,0]
[null,null,null,null,null,null,null,null,null,null,null,null,null,0]
[null,null,null,null,null,null,null,null,null,null,null,null,null,0]
[null,null,null,null,null,null,null,null,null,null,null,null,null,0]
[null,null,null,null,null,null,null,null,null,null,null,null,null,0]
[null,null,null,null,null,null,null,null,null,null,null,null,null,0]
[null,null,null,null,null,null,null,null,null,null,null,null,null,0]
[null,null,null,null,null,null,null,null,null,null,null,null,null,{"$f":"SUM(H578:J578)","v":0}]
[null,null,null,null,null,null,null,null,null,null,null,null,null,0]
[null,null,null,null,null,null,null,null,null,null,null,null,null,0]
[null,null,null,null,null,null,null,null,null,null,null,null,null,0]
[null,null,null,null,null,null,null,null,null,null,null,null,null,0]
[null,null,null,null,null,null,null,null,null,null,null,null,null,0]
[null,null,null,null,null,null,null,null,null,null,null,null,null,0]
[null,null,null,null,null,null,null,null,null,null,null,null,null,0]
[null,null,null,null,null,null,null,null,null,null,null,null,null,0]
[null,null,null,null,null,null,null,null,null,null,null,null,null,0]
[null,null,null,null,null,null,null,null,null,null,null,null,null,0]
[null,null,null,null,null,null,null,null,null,null,null,null,null,0]
[null,null,null,null,null,null,null,null,null,null,null,null,null,0]
[null,null,null,null,null,null,null,null,null,null,null,null,null,0]
[null,null,null,null,null,null,null,null,null,null,null,null,null,0]
[null,null,null,null,null,null,null,null,null,null,null,null,null,0]
[null,null,null,null,null,null,null,null,null,null,null,null,null,0]
[null,null,null,null,null,null,null,null,null,null,null,null,null,0]
[null,null,null,null,null,null,null,null,null,null,null,null,null,0]
[null,null,null,null,null,null,null,null,null,null,null,null,null,0]
[null,null,null,null,null,null,null,null,null,null,null,null,null,0]
[null,null,null,null,null,null,null,null,null,null,null,null,null,0]
[null,null,null,null,null,null,null,null,null,null,null,null,null,0]
[null,null,null,null,null,null,null,null,null,null,null,null,null,0]
[null,null,null,null,null,null,null,null,null,null,null,null,null,0]
[null,null,null,null,null,null,null,null,null,null,null,null,null,0]
[null,null,null,null,null,null,null,null,null,null,null,null,null,0]
[null,null,null,null,null,null,null,null,null,null,null,null,null,0]
[null,null,null,null,null,null,null,null,null,null,null,null,null,0]
[null,null,null,null,null,null,null,null,null,null,null,null,null,0]
[null,null,null,null,null,null,null,null,null,null,null,null,null,0]
[null,null,null,null,null,null,null,null,null,null,null,null,null,0]
[null,null,null,null,null,null,null,null,null,null,null,null,null,0]
[null,null,null,null,null,null,null,null,null,null,null,null,null,0]
[null,null,null,null,null,null,null,null,null,null,null,null,null,0]
[null,null,null,null,null,null,null,null,null,null,null,null,null,0]
[null,null,null,null,null,null,null,null,null,null,null,null,null,0]
[null,null,null,null,null,null,null,null,null,null,null,null,null,0]
[null,null,null,null,null,null,null,null,null,null,null,null,null,0]
[null,null,null,null,null,null,null,null,null,null,null,null,null,0]
[null,null,null,null,null,null,null,null,null,null,null,null,null,0]
[null,null,null,null,null,null,null,null,null,null,null,null,null,0]
[null,null,null,null,null,null,null,null,null,null,null,null,null,0]
[null,null,null,null,null,null,null,null,null,null,null,null,null,0]
[null,null,null,null,null,null,null,null,null,null,null,null,null,0]
[null,null,null,null,null,null,null,null,null,null,null,null,null,0]
[null,null,null,null,null,null,null,null,null,null,null,null,null,0]
[null,null,null,null,null,null,null,null,null,null,null,null,null,0]
[null,null,null,null,null,null,null,null,null,null,null,null,null,0]
[null,null,null,null,null,null,null,null,null,null,null,null,null,0]
[null,null,null,null,null,null,null,null,null,null,null,null,null,0]
[null,null,null,null,null,null,null,null,null,null,null,null,null,0]
[null,null,null,null,null,null,null,null,null,null,null,null,null,0]
[null,null,null,null,null,null,null,null,null,null,null,null,null,0]
[null,null,null,null,null,null,null,null,null,null,null,null,null,0]
[null,null,null,null,null,null,null,null,null,null,null,null,null,0]
[null,null,null,null,null,null,null,null,null,null,null,null,null,0]
[null,null,null,null,null,null,null,null,null,null,null,null,null,0]
[null,null,null,null,null,null,null,null,null,null,null,null,null,0]
[null,null,null,null,null,null,null,null,null,null,null,null,null,0]
[null,null,null,null,null,null,null,null,null,null,null,null,null,0]
[null,null,null,null,null,null,null,null,null,null,null,null,null,0]
[null,null,null,null,null,null,null,null,null,null,null,null,null,0]
[null,null,null,null,null,null,null,null,null,null,null,null,null,0]
[null,null,null,null,null,null,null,null,null,null,null,null,null,{"$f":"SUM(H642:J642)","v":0}]
[null,null,null,null,null,null,null,null,null,null,null,null,null,0]
[null,null,null,null,null,null,null,null,null,null,null,null,null,0]
[null,null,null,null,null,null,null,null,null,null,null,null,null,0]
[null,null,null,null,null,null,null,null,null,null,null,null,null,0]
[null,null,null,null,null,null,null,null,null,null,null,null,null,0]
[null,null,null,null,null,null,null,null,null,null,null,null,null,0]
[null,null,null,null,null,null,null,null,null,null,null,null,null,0]
[null,null,null,null,null,null,null,null,null,null,null,null,null,0]
[null,null,null,null,null,null,null,null,null,null,null,null,null,0]
[null,null,null,null,null,null,null,null,null,null,null,null,null,0]
[null,null,null,null,null,null,null,null,null,null,null,null,null,0]
[null,null,null,null,null,null,null,null,null,null,null,null,null,0]
[null,null,null,null,null,null,null,null,null,null,null,null,null,0]
[null,null,null,null,null,null,null,null,null,null,null,null,null,0]
[null,null,null,null,null,null,null,null,null,null,null,null,null,0]
[null,null,null,null,null,null,null,null,null,null,null,null,null,0]
[null,null,null,null,null,null,null,null,null,null,null,null,null,0]
[null,null,null,null,null,null,null,null,null,null,null,null,null,0]
[null,null,null,null,null,null,null,null,null,null,null,null,null,0]
[null,null,null,null,null,null,null,null,null,null,null,null,null,0]
[null,null,null,null,null,null,null,null,null,null,null,null,null,0]
[null,null,null,null,null,null,null,null,null,null,null,null,null,0]
[null,null,null,null,null,null,null,null,null,null,null,null,null,0]
[null,null,null,null,null,null,null,null,null,null,null,null,null,0]
[null,null,null,null,null,null,null,null,null,null,null,null,null,0]
[null,null,null,null,null,null,null,null,null,null,null,null,null,0]
[null,null,null,null,null,null,null,null,null,null,null,null,null,0]
[null,null,null,null,null,null,null,null,null,null,null,null,null,0]
[null,null,null,null,null,null,null,null,null,null,null,null,null,0]
[null,null,null,null,null,null,null,null,null,null,null,null,null,0]
[null,null,null,null,null,null,null,null,null,null,null,null,null,0]
[null,null,null,null,null,null,null,null,null,null,null,null,null,0]
[null,null,null,null,null,null,null,null,null,null,null,null,null,0]
[null,null,null,null,null,null,null,null,null,null,null,null,null,0]
[null,null,null,null,null,null,null,null,null,null,null,null,null,0]
[null,null,null,null,null,null,null,null,null,null,null,null,null,0]
[null,null,null,null,null,null,null,null,null,null,null,null,null,0]
[null,null,null,null,null,null,null,null,null,null,null,null,null,0]
[null,null,null,null,null,null,null,null,null,null,null,null,null,0]
[null,null,null,null,null,null,null,null,null,null,null,null,null,0]
[null,null,null,null,null,null,null,null,null,null,null,null,null,0]
[null,null,null,null,null,null,null,null,null,null,null,null,null,0]
[null,null,null,null,null,null,null,null,null,null,null,null,null,0]
[null,null,null,null,null,null,null,null,null,null,null,null,null,0]
[null,null,null,null,null,null,null,null,null,null,null,null,null,0]
[null,null,null,null,null,null,null,null,null,null,null,null,null,0]
[null,null,null,null,null,null,null,null,null,null,null,null,null,0]
[null,null,null,null,null,null,null,null,null,null,null,null,null,0]
[null,null,null,null,null,null,null,null,null,null,null,null,null,0]
[null,null,null,null,null,null,null,null,null,null,null,null,null,0]
[null,null,null,null,null,null,null,null,null,null,null,null,null,0]
[null,null,null,null,null,null,null,null,null,null,null,null,null,0]
[null,null,null,null,null,null,null,null,null,null,null,null,null,0]
[null,null,null,null,null,null,null,null,null,null,null,null,null,0]
[null,null,null,null,null,null,null,null,null,null,null,null,null,0]
[null,null,null,null,null,null,null,null,null,null,null,null,null,0]
[null,null,null,null,null,null,null,null,null,null,null,null,null,0]
[null,null,null,null,null,null,null,null,null,null,null,null,null,0]
[null,null,null,null,null,null,null,null,null,null,null,null,null,0]
[null,null,null,null,null,null,null,null,null,null,null,null,null,0]
[null,null,null,null,null,null,null,null,null,null,null,null,null,0]
[null,null,null,null,null,null,null,null,null,null,null,null,null,0]
[null,null,null,null,null,null,null,null,null,null,null,null,null,0]
[null,null,null,null,null,null,null,null,null,null,null,null,null,{"$f":"SUM(H706:J706)","v":0}]
[null,null,null,null,null,null,null,null,null,null,null,null,null,0]
[null,null,null,null,null,null,null,null,null,null,null,null,null,0]
[null,null,null,null,null,null,null,null,null,null,null,null,null,0]
[null,null,null,null,null,null,null,null,null,null,null,null,null,0]
[null,null,null,null,null,null,null,null,null,null,null,null,null,0]
[null,null,null,null,null,null,null,null,null,null,null,null,null,0]
[null,null,null,null,null,null,null,null,null,null,null,null,null,0]
[null,null,null,null,null,null,null,null,null,null,null,null,null,0]
[null,null,null,null,null,null,null,null,null,null,null,null,null,0]
[null,null,null,null,null,null,null,null,null,null,null,null,null,0]
[null,null,null,null,null,null,null,null,null,null,null,null,null,0]
[null,null,null,null,null,null,null,null,null,null,null,null,null,0]
[null,null,null,null,null,null,null,null,null,null,null,null,null,0]
[null,null,null,null,null,null,null,null,null,null,null,null,null,0]
[null,null,null,null,null,null,null,null,null,null,null,null,null,0]
[null,null,null,null,null,null,null,null,null,null,null,null,null,0]
[null,null,null,null,null,null,null,null,null,null,null,null,null,0]
[null,null,null,null,null,null,null,null,null,null,null,null,null,0]
[null,null,null,null,null,null,null,null,null,null,null,null,null,0]
[null,null,null,null,null,null,null,null,null,null,null,null,null,0]
[null,null,null,null,null,null,null,null,null,null,null,null,null,0]
[null,null,null,null,null,null,null,null,null,null,null,null,null,0]
[null,null,null,null,null,null,null,null,null,null,null,null,null,0]
[null,null,null,null,null,null,null,null,null,null,null,null,null,0]
[null,null,null,null,null,null,null,null,null,null,null,null,null,0]
[null,null,null,null,null,null,null,null,null,null,null,null,null,0]
[null,null,null,null,null,null,null,null,null,null,null,null,null,0]
[null,null,null,null,null,null,null,null,null,null,null,null,null,0]
[null,null,null,null,null,null,null,null,null,null,null,null,null,0]
[null,null,null,null,null,null,null,null,null,null,null,null,null,0]
[null,null,null,null,null,null,null,null,null,null,null,null,null,0]
[null,null,null,null,null,null,null,null,null,null,null,null,null,0]
[null,null,null,null,null,null,null,null,null,null,null,null,null,0]
[null,null,null,null,null,null,null,null,null,null,null,null,null,0]
[null,null,null,null,null,null,null,null,null,null,null,null,null,0]
[null,null,null,null,null,null,null,null,null,null,null,null,null,0]
[null,null,null,null,null,null,null,null,null,null,null,null,null,0]
[null,null,null,null,null,null,null,null,null,null,null,null,null,0]
[null,null,null,null,null,null,null,null,null,null,null,null,null,0]
[null,null,null,null,null,null,null,null,null,null,null,null,null,0]
[null,null,null,null,null,null,null,null,null,null,null,null,null,0]
[null,null,null,null,null,null,null,null,null,null,null,null,null,0]
[null,null,null,null,null,null,null,null,null,null,null,null,null,0]
[null,null,null,null,null,null,null,null,null,null,null,null,null,0]
[null,null,null,null,null,null,null,null,null,null,null,null,null,0]
[null,null,null,null,null,null,null,null,null,null,null,null,null,0]
[null,null,null,null,null,null,null,null,null,null,null,null,null,0]
[null,null,null,null,null,null,null,null,null,null,null,null,null,0]
[null,null,null,null,null,null,null,null,null,null,null,null,null,0]
[null,null,null,null,null,null,null,null,null,null,null,null,null,0]
[null,null,null,null,null,null,null,null,null,null,null,null,null,0]
[null,null,null,null,null,null,null,null,null,null,null,null,null,0]
[null,null,null,null,null,null,null,null,null,null,null,null,null,0]
[null,null,null,null,null,null,null,null,null,null,null,null,null,0]
[null,null,null,null,null,null,null,null,null,null,null,null,null,0]
[null,null,null,null,null,null,null,null,null,null,null,null,null,0]
[null,null,null,null,null,null,null,null,null,null,null,null,null,0]
[null,null,null,null,null,null,null,null,null,null,null,null,null,0]
[null,null,null,null,null,null,null,null,null,null,null,null,null,0]
[null,null,null,null,null,null,null,null,null,null,null,null,null,0]
[null,null,null,null,null,null,null,null,null,null,null,null,null,0]
[null,null,null,null,null,null,null,null,null,null,null,null,null,0]
[null,null,null,null,null,null,null,null,null,null,null,null,null,0]
[null,null,null,null,null,null,null,null,null,null,null,null,null,{"$f":"SUM(H770:J770)","v":0}]
[null,null,null,null,null,null,null,null,null,null,null,null,null,0]
[null,null,null,null,null,null,null,null,null,null,null,null,null,0]
[null,null,null,null,null,null,null,null,null,null,null,null,null,0]
[null,null,null,null,null,null,null,null,null,null,null,null,null,0]
[null,null,null,null,null,null,null,null,null,null,null,null,null,0]
[null,null,null,null,null,null,null,null,null,null,null,null,null,0]
[null,null,null,null,null,null,null,null,null,null,null,null,null,0]
[null,null,null,null,null,null,null,null,null,null,null,null,null,0]
[null,null,null,null,null,null,null,null,null,null,null,null,null,0]
[null,null,null,null,null,null,null,null,null,null,null,null,null,0]
[null,null,null,null,null,null,null,null,null,null,null,null,null,0]
[null,null,null,null,null,null,null,null,null,null,null,null,null,0]
[null,null,null,null,null,null,null,null,null,null,null,null,null,0]
[null,null,null,null,null,null,null,null,null,null,null,null,null,0]
[null,null,null,null,null,null,null,null,null,null,null,null,null,0]
[null,null,null,null,null,null,null,null,null,null,null,null,null,0]
[null,null,null,null,null,null,null,null,null,null,null,null,null,0]
[null,null,null,null,null,null,null,null,null,null,null,null,null,0]
[null,null,null,null,null,null,null,null,null,null,null,null,null,0]
[null,null,null,null,null,null,null,null,null,null,null,null,null,0]
[null,null,null,null,null,null,null,null,null,null,null,null,null,0]
[null,null,null,null,null,null,null,null,null,null,null,null,null,0]
[null,null,null,null,null,null,null,null,null,null,null,null,null,0]
[null,null,null,null,null,null,null,null,null,null,null,null,null,0]
[null,null,null,null,null,null,null,null,null,null,null,null,null,0]
[null,null,null,null,null,null,null,null,null,null,null,null,null,0]
[null,null,null,null,null,null,null,null,null,null,null,null,null,0]
[null,null,null,null,null,null,null,null,null,null,null,null,null,0]
[null,null,null,null,null,null,null,null,null,null,null,null,null,0]
[null,null,null,null,null,null,null,null,null,null,null,null,null,0]
[null,null,null,null,null,null,null,null,null,null,null,null,null,0]
[null,null,null,null,null,null,null,null,null,null,null,null,null,0]
[null,null,null,null,null,null,null,null,null,null,null,null,null,0]
[null,null,null,null,null,null,null,null,null,null,null,null,null,0]
[null,null,null,null,null,null,null,null,null,null,null,null,null,0]
[null,null,null,null,null,null,null,null,null,null,null,null,null,0]
[null,null,null,null,null,null,null,null,null,null,null,null,null,0]
[null,null,null,null,null,null,null,null,null,null,null,null,null,0]
[null,null,null,null,null,null,null,null,null,null,null,null,null,0]
[null,null,null,null,null,null,null,null,null,null,null,null,null,0]
[null,null,null,null,null,null,null,null,null,null,null,null,null,0]
[null,null,null,null,null,null,null,null,null,null,null,null,null,0]
[null,null,null,null,null,null,null,null,null,null,null,null,null,0]
[null,null,null,null,null,null,null,null,null,null,null,null,null,0]
[null,null,null,null,null,null,null,null,null,null,null,null,null,0]
[null,null,null,null,null,null,null,null,null,null,null,null,null,0]
[null,null,null,null,null,null,null,null,null,null,null,null,null,0]
[null,null,null,null,null,null,null,null,null,null,null,null,null,0]
[null,null,null,null,null,null,null,null,null,null,null,null,null,0]
[null,null,null,null,null,null,null,null,null,null,null,null,null,0]
[null,null,null,null,null,null,null,null,null,null,null,null,null,0]
[null,null,null,null,null,null,null,null,null,null,null,null,null,0]
[null,null,null,null,null,null,null,null,null,null,null,null,null,0]
[null,null,null,null,null,null,null,null,null,null,null,null,null,0]
[null,null,null,null,null,null,null,null,null,null,null,null,null,0]
[null,null,null,null,null,null,null,null,null,null,null,null,null,0]
[null,null,null,null,null,null,null,null,null,null,null,null,null,0]
[null,null,null,null,null,null,null,null,null,null,null,null,null,0]
[null,null,null,null,null,null,null,null,null,null,null,null,null,0]
[null,null,null,null,null,null,null,null,null,null,null,null,null,0]
[null,null,null,null,null,null,null,null,null,null,null,null,null,0]
[null,null,null,null,null,null,null,null,null,null,null,null,null,0]
[null,null,null,null,null,null,null,null,null,null,null,null,null,0]
[null,null,null,null,null,null,null,null,null,null,null,null,null,{"$f":"SUM(H834:J834)","v":0}]
[null,null,null,null,null,null,null,null,null,null,null,null,null,0]
[null,null,null,null,null,null,null,null,null,null,null,null,null,0]
[null,null,null,null,null,null,null,null,null,null,null,null,null,0]
[null,null,null,null,null,null,null,null,null,null,null,null,null,0]
[null,null,null,null,null,null,null,null,null,null,null,null,null,0]
[null,null,null,null,null,null,null,null,null,null,null,null,null,0]
[null,null,null,null,null,null,null,null,null,null,null,null,null,0]
[null,null,null,null,null,null,null,null,null,null,null,null,null,0]
[null,null,null,null,null,null,null,null,null,null,null,null,null,0]
[null,null,null,null,null,null,null,null,null,null,null,null,null,0]
[null,null,null,null,null,null,null,null,null,null,null,null,null,0]
[null,null,null,null,null,null,null,null,null,null,null,null,null,0]
[null,null,null,null,null,null,null,null,null,null,null,null,null,0]
[null,null,null,null,null,null,null,null,null,null,null,null,null,0]
[null,null,null,null,null,null,null,null,null,null,null,null,null,0]
[null,null,null,null,null,null,null,null,null,null,null,null,null,0]
[null,null,null,null,null,null,null,null,null,null,null,null,null,0]
[null,null,null,null,null,null,null,null,null,null,null,null,null,0]
[null,null,null,null,null,null,null,null,null,null,null,null,null,0]
[null,null,null,null,null,null,null,null,null,null,null,null,null,0]
[null,null,null,null,null,null,null,null,null,null,null,null,null,0]
[null,null,null,null,null,null,null,null,null,null,null,null,null,0]
[null,null,null,null,null,null,null,null,null,null,null,null,null,0]
[null,null,null,null,null,null,null,null,null,null,null,null,null,0]
[null,null,null,null,null,null,null,null,null,null,null,null,null,0]
[null,null,null,null,null,null,null,null,null,null,null,null,null,0]
[null,null,null,null,null,null,null,null,null,null,null,null,null,0]
[null,null,null,null,null,null,null,null,null,null,null,null,null,0]
[null,null,null,null,null,null,null,null,null,null,null,null,null,0]
[null,null,null,null,null,null,null,null,null,null,null,null,null,0]
[null,null,null,null,null,null,null,null,null,null,null,null,null,0]
[null,null,null,null,null,null,null,null,null,null,null,null,null,0]
[null,null,null,null,null,null,null,null,null,null,null,null,null,0]
[null,null,null,null,null,null,null,null,null,null,null,null,null,0]
[null,null,null,null,null,null,null,null,null,null,null,null,null,0]
[null,null,null,null,null,null,null,null,null,null,null,null,null,0]
[null,null,null,null,null,null,null,null,null,null,null,null,null,0]
[null,null,null,null,null,null,null,null,null,null,null,null,null,0]
[null,null,null,null,null,null,null,null,null,null,null,null,null,0]
[null,null,null,null,null,null,null,null,null,null,null,null,null,0]
[null,null,null,null,null,null,null,null,null,null,null,null,null,0]
[null,null,null,null,null,null,null,null,null,null,null,null,null,0]
[null,null,null,null,null,null,null,null,null,null,null,null,null,0]
[null,null,null,null,null,null,null,null,null,null,null,null,null,0]
[null,null,null,null,null,null,null,null,null,null,null,null,null,0]
[null,null,null,null,null,null,null,null,null,null,null,null,null,0]
[null,null,null,null,null,null,null,null,null,null,null,null,null,0]
[null,null,null,null,null,null,null,null,null,null,null,null,null,0]
[null,null,null,null,null,null,null,null,null,null,null,null,null,0]
[null,null,null,null,null,null,null,null,null,null,null,null,null,0]
[null,null,null,null,null,null,null,null,null,null,null,null,null,0]
[null,null,null,null,null,null,null,null,null,null,null,null,null,0]
[null,null,null,null,null,null,null,null,null,null,null,null,null,0]
[null,null,null,null,null,null,null,null,null,null,null,null,null,0]
[null,null,null,null,null,null,null,null,null,null,null,null,null,0]
[null,null,null,null,null,null,null,null,null,null,null,null,null,0]
[null,null,null,null,null,null,null,null,null,null,null,null,null,0]
[null,null,null,null,null,null,null,null,null,null,null,null,null,0]
[null,null,null,null,null,null,null,null,null,null,null,null,null,0]
[null,null,null,null,null,null,null,null,null,null,null,null,null,0]
[null,null,null,null,null,null,null,null,null,null,null,null,null,0]
[null,null,null,null,null,null,null,null,null,null,null,null,null,0]
[null,null,null,null,null,null,null,null,null,null,null,null,null,0]
[null,null,null,null,null,null,null,null,null,null,null,null,null,{"$f":"SUM(H898:J898)","v":0}]
[null,null,null,null,null,null,null,null,null,null,null,null,null,0]
[null,null,null,null,null,null,null,null,null,null,null,null,null,0]
[null,null,null,null,null,null,null,null,null,null,null,null,null,0]
[null,null,null,null,null,null,null,null,null,null,null,null,null,0]
[null,null,null,null,null,null,null,null,null,null,null,null,null,0]
[null,null,null,null,null,null,null,null,null,null,null,null,null,0]
[null,null,null,null,null,null,null,null,null,null,null,null,null,0]
[null,null,null,null,null,null,null,null,null,null,null,null,null,0]
[null,null,null,null,null,null,null,null,null,null,null,null,null,0]
[null,null,null,null,null,null,null,null,null,null,null,null,null,0]
[null,null,null,null,null,null,null,null,null,null,null,null,null,0]
[null,null,null,null,null,null,null,null,null,null,null,null,null,0]
[null,null,null,null,null,null,null,null,null,null,null,null,null,0]
[null,null,null,null,null,null,null,null,null,null,null,null,null,0]
[null,null,null,null,null,null,null,null,null,null,null,null,null,0]
[null,null,null,null,null,null,null,null,null,null,null,null,null,0]
[null,null,null,null,null,null,null,null,null,null,null,null,null,0]
[null,null,null,null,null,null,null,null,null,null,null,null,null,0]
[null,null,null,null,null,null,null,null,null,null,null,null,null,0]
[null,null,null,null,null,null,null,null,null,null,null,null,null,0]
[null,null,null,null,null,null,null,null,null,null,null,null,null,0]
[null,null,null,null,null,null,null,null,null,null,null,null,null,0]
[null,null,null,null,null,null,null,null,null,null,null,null,null,0]
[null,null,null,null,null,null,null,null,null,null,null,null,null,0]
[null,null,null,null,null,null,null,null,null,null,null,null,null,0]
[null,null,null,null,null,null,null,null,null,null,null,null,null,0]
[null,null,null,null,null,null,null,null,null,null,null,null,null,0]
[null,null,null,null,null,null,null,null,null,null,null,null,null,0]
[null,null,null,null,null,null,null,null,null,null,null,null,null,0]
[null,null,null,null,null,null,null,null,null,null,null,null,null,0]
[null,null,null,null,null,null,null,null,null,null,null,null,null,0]
[null,null,null,null,null,null,null,null,null,null,null,null,null,0]
[null,null,null,null,null,null,null,null,null,null,null,null,null,0]
[null,null,null,null,null,null,null,null,null,null,null,null,null,0]
[null,null,null,null,null,null,null,null,null,null,null,null,null,0]
[null,null,null,null,null,null,null,null,null,null,null,null,null,0]
[null,null,null,null,null,null,null,null,null,null,null,null,null,0]
[null,null,null,null,null,null,null,null,null,null,null,null,null,0]
[null,null,null,null,null,null,null,null,null,null,null,null,null,0]
[null,null,null,null,null,null,null,null,null,null,null,null,null,0]
[null,null,null,null,null,null,null,null,null,null,null,null,null,0]
[null,null,null,null,null,null,null,null,null,null,null,null,null,0]
[null,null,null,null,null,null,null,null,null,null,null,null,null,0]
[null,null,null,null,null,null,null,null,null,null,null,null,null,0]
[null,null,null,null,null,null,null,null,null,null,null,null,null,0]
[null,null,null,null,null,null,null,null,null,null,null,null,null,0]
[null,null,null,null,null,null,null,null,null,null,null,null,null,0]
[null,null,null,null,null,null,null,null,null,null,null,null,null,0]
[null,null,null,null,null,null,null,null,null,null,null,null,null,0]
[null,null,null,null,null,null,null,null,null,null,null,null,null,0]
[null,null,null,null,null,null,null,null,null,null,null,null,null,0]
[null,null,null,null,null,null,null,null,null,null,null,null,null,0]
[null,null,null,null,null,null,null,null,null,null,null,null,null,0]
[null,null,null,null,null,null,null,null,null,null,null,null,null,0]
[null,null,null,null,null,null,null,null,null,null,null,null,null,0]
[null,null,null,null,null,null,null,null,null,null,null,null,null,0]
[null,null,null,null,null,null,null,null,null,null,null,null,null,0]
[null,null,null,null,null,null,null,null,null,null,null,null,null,0]
[null,null,null,null,null,null,null,null,null,null,null,null,null,0]
[null,null,null,null,null,null,null,null,null,null,null,null,null,0]
[null,null,null,null,null,null,null,null,null,null,null,null,null,0]
[null,null,null,null,null,null,null,null,null,null,null,null,null,0]
[null,null,null,null,null,null,null,null,null,null,null,null,null,0]
[null,null,null,null,null,null,null,null,null,null,null,null,null,{"$f":"SUM(H962:J962)","v":0}]
[null,null,null,null,null,null,null,null,null,null,null,null,null,0]
[null,null,null,null,null,null,null,null,null,null,null,null,null,0]
[null,null,null,null,null,null,null,null,null,null,null,null,null,0]
[null,null,null,null,null,null,null,null,null,null,null,null,null,0]
[null,null,null,null,null,null,null,null,null,null,null,null,null,0]
[null,null,null,null,null,null,null,null,null,null,null,null,null,0]
[null,null,null,null,null,null,null,null,null,null,null,null,null,0]
[null,null,null,null,null,null,null,null,null,null,null,null,null,0]
[null,null,null,null,null,null,null,null,null,null,null,null,null,0]
[null,null,null,null,null,null,null,null,null,null,null,null,null,0]
[null,null,null,null,null,null,null,null,null,null,null,null,null,0]
[null,null,null,null,null,null,null,null,null,null,null,null,null,0]
[null,null,null,null,null,null,null,null,null,null,null,null,null,0]
[null,null,null,null,null,null,null,null,null,null,null,null,null,0]
[null,null,null,null,null,null,null,null,null,null,null,null,null,0]
[null,null,null,null,null,null,null,null,null,null,null,null,null,0]
[null,null,null,null,null,null,null,null,null,null,null,null,null,0]
[null,null,null,null,null,null,null,null,null,null,null,null,null,0]
[null,null,null,null,null,null,null,null,null,null,null,null,null,0]
[null,null,null,null,null,null,null,null,null,null,null,null,null,0]
[null,null,null,null,null,null,null,null,null,null,null,null,null,0]
[null,null,null,null,null,null,null,null,null,null,null,null,null,0]
[null,null,null,null,null,null,null,null,null,null,null,null,null,0]
[null,null,null,null,null,null,null,null,null,null,null,null,null,0]
[null,null,null,null,null,null,null,null,null,null,null,null,null,0]
[null,null,null,null,null,null,null,null,null,null,null,null,null,0]
[null,null,null,null,null,null,null,null,null,null,null,null,null,0]
[null,null,null,null,null,null,null,null,null,null,null,null,null,0]
[null,null,null,null,null,null,null,null,null,null,null,null,null,0]
[null,null,null,null,null,null,null,null,null,null,null,null,null,0]
[null,null,null,null,null,null,null,null,null,null,null,null,null,0]
[null,null,null,null,null,null,null,null,null,null,null,null,null,0]
[null,null,null,null,null,null,null,null,null,null,null,null,null,0]
[null,null,null,null,null,null,null,null,null,null,null,null,null,0]
[null,null,null,null,null,null,null,null,null,null,null,null,null,0]
[null,null,null,null,null,null,null,null,null,null,null,null,null,0]
[null,null,null,null,null,null,null,null,null,null,null,null,null,0]
[null,null,null,null,null,null,null,null,null,null,null,null,null,0]
[null,null,null,null,null,null,null,null,null,null,null,null,null,0]
[null,null,null,null,null,null,null,null,null,null,null,null,null,0]
[null,null,null,null,null,null,null,null,null,null,null,null,null,0]
[null,null,null,null,null,null,null,null,null,null,null,null,null,0]
[null,null,null,null,null,null,null,null,null,null,null,null,null,0]
[null,null,null,null,null,null,null,null,null,null,null,null,null,0]
[null,null,null,null,null,null,null,null,null,null,null,null,null,0]
[null,null,null,null,null,null,null,null,null,null,null,null,null,0]
[null,null,null,null,null,null,null,null,null,null,null,null,null,0]
[null,null,null,null,null,null,null,null,null,null,null,null,null,0]
[null,null,null,null,null,null,null,null,null,null,null,null,null,0]
[null,null,null,null,null,null,null,null,null,null,null,null,null,0]
[null,null,null,null,null,null,null,null,null,null,null,null,null,0]
[null,null,null,null,null,null,null,null,null,null,null,null,null,0]
[null,null,null,null,null,null,null,null,null,null,null,null,null,0]
[null,null,null,null,null,null,null,null,null,null,null,null,null,0]
[null,null,null,null,null,null,null,null,null,null,null,null,null,0]
[null,null,null,null,null,null,null,null,null,null,null,null,null,0]
[null,null,null,null,null,null,null,null,null,null,null,null,null,0]
[null,null,null,null,null,null,null,null,null,null,null,null,null,0]
[null,null,null,null,null,null,null,null,null,null,null,null,null,0]
[null,null,null,null,null,null,null,null,null,null,null,null,null,0]
[null,null,null,null,null,null,null,null,null,null,null,null,null,0]
[null,null,null,null,null,null,null,null,null,null,null,null,null,0]
[null,null,null,null,null,null,null,null,null,null,null,null,null,0]
[null,null,null,null,null,null,null,null,null,null,null,null,null,{"$f":"SUM(H1026:J1026)","v":0}]
[null,null,null,null,null,null,null,null,null,null,null,null,null,0]
[null,null,null,null,null,null,null,null,null,null,null,null,null,0]
[null,null,null,null,null,null,null,null,null,null,null,null,null,0]
[null,null,null,null,null,null,null,null,null,null,null,null,null,0]
[null,null,null,null,null,null,null,null,null,null,null,null,null,0]
[null,null,null,null,null,null,null,null,null,null,null,null,null,0]
[null,null,null,null,null,null,null,null,null,null,null,null,null,0]
[null,null,null,null,null,null,null,null,null,null,null,null,null,0]
[null,null,null,null,null,null,null,null,null,null,null,null,null,0]
[null,null,null,null,null,null,null,null,null,null,null,null,null,0]
[null,null,null,null,null,null,null,null,null,null,null,null,null,0]
[null,null,null,null,null,null,null,null,null,null,null,null,null,0]
[null,null,null,null,null,null,null,null,null,null,null,null,null,0]
[null,null,null,null,null,null,null,null,null,null,null,null,null,0]
[null,null,null,null,null,null,null,null,null,null,null,null,null,0]
[null,null,null,null,null,null,null,null,null,null,null,null,null,0]
[null,null,null,null,null,null,null,null,null,null,null,null,null,0]
[null,null,null,null,null,null,null,null,null,null,null,null,null,0]
[null,null,null,null,null,null,null,null,null,null,null,null,null,0]
[null,null,null,null,null,null,null,null,null,null,null,null,null,0]
[null,null,null,null,null,null,null,null,null,null,null,null,null,0]
[null,null,null,null,null,null,null,null,null,null,null,null,null,0]
[null,null,null,null,null,null,null,null,null,null,null,null,null,0]
[null,null,null,null,null,null,null,null,null,null,null,null,null,0]
[null,null,null,null,null,null,null,null,null,null,null,null,null,0]
[null,null,null,null,null,null,null,null,null,null,null,null,null,0]
[null,null,null,null,null,null,null,null,null,null,null,null,null,0]
[null,null,null,null,null,null,null,null,null,null,null,null,null,0]
[null,null,null,null,null,null,null,null,null,null,null,null,null,0]
[null,null,null,null,null,null,null,null,null,null,null,null,null,0]
[null,null,null,null,null,null,null,null,null,null,null,null,null,0]
[null,null,null,null,null,null,null,null,null,null,null,null,null,0]
[null,null,null,null,null,null,null,null,null,null,null,null,null,0]
[null,null,null,null,null,null,null,null,null,null,null,null,null,0]
[null,null,null,null,null,null,null,null,null,null,null,null,null,0]
[null,null,null,null,null,null,null,null,null,null,null,null,null,0]
[null,null,null,null,null,null,null,null,null,null,null,null,null,0]
[null,null,null,null,null,null,null,null,null,null,null,null,null,0]
[null,null,null,null,null,null,null,null,null,null,null,null,null,0]
[null,null,null,null,null,null,null,null,null,null,null,null,null,0]
[null,null,null,null,null,null,null,null,null,null,null,null,null,0]
[null,null,null,null,null,null,null,null,null,null,null,null,null,0]
[null,null,null,null,null,null,null,null,null,null,null,null,null,0]
[null,null,null,null,null,null,null,null,null,null,null,null,null,0]
[null,null,null,null,null,null,null,null,null,null,null,null,null,0]
[null,null,null,null,null,null,null,null,null,null,null,null,null,0]
[null,null,null,null,null,null,null,null,null,null,null,null,null,0]
[null,null,null,null,null,null,null,null,null,null,null,null,null,0]
[null,null,null,null,null,null,null,null,null,null,null,null,null,0]
[null,null,null,null,null,null,null,null,null,null,null,null,null,0]
[null,null,null,null,null,null,null,null,null,null,null,null,null,0]
[null,null,null,null,null,null,null,null,null,null,null,null,null,0]
[null,null,null,null,null,null,null,null,null,null,null,null,null,0]
[null,null,null,null,null,null,null,null,null,null,null,null,null,0]
[null,null,null,null,null,null,null,null,null,null,null,null,null,0]
[null,null,null,null,null,null,null,null,null,null,null,null,null,0]
[null,null,null,null,null,null,null,null,null,null,null,null,null,0]
[null,null,null,null,null,null,null,null,null,null,null,null,null,0]
[null,null,null,null,null,null,null,null,null,null,null,null,null,0]
[null,null,null,null,null,null,null,null,null,null,null,null,null,0]
[null,null,null,null,null,null,null,null,null,null,null,null,null,0]
[null,null,null,null,null,null,null,null,null,null,null,null,null,0]
[null,null,null,null,null,null,null,null,null,null,null,null,null,0]
[null,null,null,null,null,null,null,null,null,null,null,null,null,{"$f":"SUM(H1090:J1090)","v":0}]
[null,null,null,null,null,null,null,null,null,null,null,null,null,0]
[null,null,null,null,null,null,null,null,null,null,null,null,null,0]
[null,null,null,null,null,null,null,null,null,null,null,null,null,0]
[null,null,null,null,null,null,null,null,null,null,null,null,null,0]
[null,null,null,null,null,null,null,null,null,null,null,null,null,0]
[null,null,null,null,null,null,null,null,null,null,null,null,null,0]
[null,null,null,null,null,null,null,null,null,null,null,null,null,0]
[null,null,null,null,null,null,null,null,null,null,null,null,null,0]
[null,null,null,null,null,null,null,null,null,null,null,null,null,0]
[null,null,null,null,null,null,null,null,null,null,null,null,null,0]
[null,null,null,null,null,null,null,null,null,null,null,null,null,0]
[null,null,null,null,null,null,null,null,null,null,null,null,null,0]
[null,null,null,null,null,null,null,null,null,null,null,null,null,0]
[null,null,null,null,null,null,null,null,null,null,null,null,null,0]
[null,null,null,null,null,null,null,null,null,null,null,null,null,0]
[null,null,null,null,null,null,null,null,null,null,null,null,null,0]
[null,null,null,null,null,null,null,null,null,null,null,null,null,0]
[null,null,null,null,null,null,null,null,null,null,null,null,null,0]
[null,null,null,null,null,null,null,null,null,null,null,null,null,0]
[null,null,null,null,null,null,null,null,null,null,null,null,null,0]
[null,null,null,null,null,null,null,null,null,null,null,null,null,0]
[null,null,null,null,null,null,null,null,null,null,null,null,null,0]
[null,null,null,null,null,null,null,null,null,null,null,null,null,0]
[null,null,null,null,null,null,null,null,null,null,null,null,null,0]
[null,null,null,null,null,null,null,null,null,null,null,null,null,0]
[null,null,null,null,null,null,null,null,null,null,null,null,null,0]
[null,null,null,null,null,null,null,null,null,null,null,null,null,0]
[null,null,null,null,null,null,null,null,null,null,null,null,null,0]
[null,null,null,null,null,null,null,null,null,null,null,null,null,0]
[null,null,null,null,null,null,null,null,null,null,null,null,null,0]
[null,null,null,null,null,null,null,null,null,null,null,null,null,0]
[null,null,null,null,null,null,null,null,null,null,null,null,null,0]
[null,null,null,null,null,null,null,null,null,null,null,null,null,0]
[null,null,null,null,null,null,null,null,null,null,null,null,null,0]
[null,null,null,null,null,null,null,null,null,null,null,null,null,0]
[null,null,null,null,null,null,null,null,null,null,null,null,null,0]
[null,null,null,null,null,null,null,null,null,null,null,null,null,0]
[null,null,null,null,null,null,null,null,null,null,null,null,null,0]
[null,null,null,null,null,null,null,null,null,null,null,null,null,0]
[null,null,null,null,null,null,null,null,null,null,null,null,null,0]
[null,null,null,null,null,null,null,null,null,null,null,null,null,0]
[null,null,null,null,null,null,null,null,null,null,null,null,null,0]
[null,null,null,null,null,null,null,null,null,null,null,null,null,0]
[null,null,null,null,null,null,null,null,null,null,null,null,null,0]
[null,null,null,null,null,null,null,null,null,null,null,null,null,0]
[null,null,null,null,null,null,null,null,null,null,null,null,null,0]
[null,null,null,null,null,null,null,null,null,null,null,null,null,0]
[null,null,null,null,null,null,null,null,null,null,null,null,null,0]
[null,null,null,null,null,null,null,null,null,null,null,null,null,0]
[null,null,null,null,null,null,null,null,null,null,null,null,null,0]
[null,null,null,null,null,null,null,null,null,null,null,null,null,0]
[null,null,null,null,null,null,null,null,null,null,null,null,null,0]
[null,null,null,null,null,null,null,null,null,null,null,null,null,0]
[null,null,null,null,null,null,null,null,null,null,null,null,null,0]
[null,null,null,null,null,null,null,null,null,null,null,null,null,0]
[null,null,null,null,null,null,null,null,null,null,null,null,null,0]
[null,null,null,null,null,null,null,null,null,null,null,null,null,0]
[null,null,null,null,null,null,null,null,null,null,null,null,null,0]
[null,null,null,null,null,null,null,null,null,null,null,null,null,0]
[null,null,null,null,null,null,null,null,null,null,null,null,null,0]
[null,null,null,null,null,null,null,null,null,null,null,null,null,0]
[null,null,null,null,null,null,null,null,null,null,null,null,null,0]
[null,null,null,null,null,null,null,null,null,null,null,null,null,0]
[null,null,null,null,null,null,null,null,null,null,null,null,null,{"$f":"SUM(H1154:J1154)","v":0}]
[null,null,null,null,null,null,null,null,null,null,null,null,null,0]
[null,null,null,null,null,null,null,null,null,null,null,null,null,0]
[null,null,null,null,null,null,null,null,null,null,null,null,null,0]
[null,null,null,null,null,null,null,null,null,null,null,null,null,0]
[null,null,null,null,null,null,null,null,null,null,null,null,null,0]
[null,null,null,null,null,null,null,null,null,null,null,null,null,0]
[null,null,null,null,null,null,null,null,null,null,null,null,null,0]
[null,null,null,null,null,null,null,null,null,null,null,null,null,0]
[null,null,null,null,null,null,null,null,null,null,null,null,null,0]
[null,null,null,null,null,null,null,null,null,null,null,null,null,0]
[null,null,null,null,null,null,null,null,null,null,null,null,null,0]
[null,null,null,null,null,null,null,null,null,null,null,null,null,0]
[null,null,null,null,null,null,null,null,null,null,null,null,null,0]
[null,null,null,null,null,null,null,null,null,null,null,null,null,0]
[null,null,null,null,null,null,null,null,null,null,null,null,null,0]
[null,null,null,null,null,null,null,null,null,null,null,null,null,0]
[null,null,null,null,null,null,null,null,null,null,null,null,null,0]
[null,null,null,null,null,null,null,null,null,null,null,null,null,0]
[null,null,null,null,null,null,null,null,null,null,null,null,null,0]
[null,null,null,null,null,null,null,null,null,null,null,null,null,0]
[null,null,null,null,null,null,null,null,null,null,null,null,null,0]
[null,null,null,null,null,null,null,null,null,null,null,null,null,0]
[null,null,null,null,null,null,null,null,null,null,null,null,null,0]
[null,null,null,null,null,null,null,null,null,null,null,null,null,0]
[null,null,null,null,null,null,null,null,null,null,null,null,null,0]
[null,null,null,null,null,null,null,null,null,null,null,null,null,0]
[null,null,null,null,null,null,null,null,null,null,null,null,null,0]
[null,null,null,null,null,null,null,null,null,null,null,null,null,0]
[null,null,null,null,null,null,null,null,null,null,null,null,null,0]
[null,null,null,null,null,null,null,null,null,null,null,null,null,0]
[null,null,null,null,null,null,null,null,null,null,null,null,null,0]
[null,null,null,null,null,null,null,null,null,null,null,null,null,0]
[null,null,null,null,null,null,null,null,null,null,null,null,null,0]
[null,null,null,null,null,null,null,null,null,null,null,null,null,0]
[null,null,null,null,null,null,null,null,null,null,null,null,null,0]
[null,null,null,null,null,null,null,null,null,null,null,null,null,0]
[null,null,null,null,null,null,null,null,null,null,null,null,null,0]
[null,null,null,null,null,null,null,null,null,null,null,null,null,0]
[null,null,null,null,null,null,null,null,null,null,null,null,null,0]
[null,null,null,null,null,null,null,null,null,null,null,null,null,0]
[null,null,null,null,null,null,null,null,null,null,null,null,null,0]
[null,null,null,null,null,null,null,null,null,null,null,null,null,0]
[null,null,null,null,null,null,null,null,null,null,null,null,null,0]
[null,null,null,null,null,null,null,null,null,null,null,null,null,0]
[null,null,null,null,null,null,null,null,null,null,null,null,null,0]
[null,null,null,null,null,null,null,null,null,null,null,null,null,0]
[null,null,null,null,null,null,null,null,null,null,null,null,null,0]
[null,null,null,null,null,null,null,null,null,null,null,null,null,0]
[null,null,null,null,null,null,null,null,null,null,null,null,null,0]
[null,null,null,null,null,null,null,null,null,null,null,null,null,0]
[null,null,null,null,null,null,null,null,null,null,null,null,null,0]
[null,null,null,null,null,null,null,null,null,null,null,null,null,0]
[null,null,null,null,null,null,null,null,null,null,null,null,null,0]
[null,null,null,null,null,null,null,null,null,null,null,null,null,0]
[null,null,null,null,null,null,null,null,null,null,null,null,null,0]
[null,null,null,null,null,null,null,null,null,null,null,null,null,0]
[null,null,null,null,null,null,null,null,null,null,null,null,null,0]
[null,null,null,null,null,null,null,null,null,null,null,null,null,0]
[null,null,null,null,null,null,null,null,null,null,null,null,null,0]
[null,null,null,null,null,null,null,null,null,null,null,null,null,0]
[null,null,null,null,null,null,null,null,null,null,null,null,null,0]
[null,null,null,null,null,null,null,null,null,null,null,null,null,0]
[null,null,null,null,null,null,null,null,null,null,null,null,null,0]
[null,null,null,null,null,null,null,null,null,null,null,null,null,{"$f":"SUM(H1218:J1218)","v":0}]
[null,null,null,null,null,null,null,null,null,null,null,null,null,0]
[null,null,null,null,null,null,null,null,null,null,null,null,null,0]
[null,null,null,null,null,null,null,null,null,null,null,null,null,0]
[null,null,null,null,null,null,null,null,null,null,null,null,null,0]
[null,null,null,null,null,null,null,null,null,null,null,null,null,0]
[null,null,null,null,null,null,null,null,null,null,null,null,null,0]
[null,null,null,null,null,null,null,null,null,null,null,null,null,0]
[null,null,null,null,null,null,null,null,null,null,null,null,null,0]
[null,null,null,null,null,null,null,null,null,null,null,null,null,0]
[null,null,null,null,null,null,null,null,null,null,null,null,null,0]
[null,null,null,null,null,null,null,null,null,null,null,null,null,0]
[null,null,null,null,null,null,null,null,null,null,null,null,null,0]
[null,null,null,null,null,null,null,null,null,null,null,null,null,0]
[null,null,null,null,null,null,null,null,null,null,null,null,null,0]
[null,null,null,null,null,null,null,null,null,null,null,null,null,0]
[null,null,null,null,null,null,null,null,null,null,null,null,null,0]
[null,null,null,null,null,null,null,null,null,null,null,null,null,0]
[null,null,null,null,null,null,null,null,null,null,null,null,null,0]
[null,null,null,null,null,null,null,null,null,null,null,null,null,0]
[null,null,null,null,null,null,null,null,null,null,null,null,null,0]
[null,null,null,null,null,null,null,null,null,null,null,null,null,0]
[null,null,null,null,null,null,null,null,null,null,null,null,null,0]
[null,null,null,null,null,null,null,null,null,null,null,null,null,0]
[null,null,null,null,null,null,null,null,null,null,null,null,null,0]
[null,null,null,null,null,null,null,null,null,null,null,null,null,0]
[null,null,null,null,null,null,null,null,null,null,null,null,null,0]
[null,null,null,null,null,null,null,null,null,null,null,null,null,0]
[null,null,null,null,null,null,null,null,null,null,null,null,null,0]
[null,null,null,null,null,null,null,null,null,null,null,null,null,0]
[null,null,null,null,null,null,null,null,null,null,null,null,null,0]
[null,null,null,null,null,null,null,null,null,null,null,null,null,0]
[null,null,null,null,null,null,null,null,null,null,null,null,null,0]
[null,null,null,null,null,null,null,null,null,null,null,null,null,0]
[null,null,null,null,null,null,null,null,null,null,null,null,null,0]
[null,null,null,null,null,null,null,null,null,null,null,null,null,0]
[null,null,null,null,null,null,null,null,null,null,null,null,null,0]
[null,null,null,null,null,null,null,null,null,null,null,null,null,0]
[null,null,null,null,null,null,null,null,null,null,null,null,null,0]
[null,null,null,null,null,null,null,null,null,null,null,null,null,0]
[null,null,null,null,null,null,null,null,null,null,null,null,null,0]
[null,null,null,null,null,null,null,null,null,null,null,null,null,0]
[null,null,null,null,null,null,null,null,null,null,null,null,null,0]
[null,null,null,null,null,null,null,null,null,null,null,null,null,0]
[null,null,null,null,null,null,null,null,null,null,null,null,null,0]
[null,null,null,null,null,null,null,null,null,null,null,null,null,0]
[null,null,null,null,null,null,null,null,null,null,null,null,null,0]
[null,null,null,null,null,null,null,null,null,null,null,null,null,0]
[null,null,null,null,null,null,null,null,null,null,null,null,null,0]
[null,null,null,null,null,null,null,null,null,null,null,null,null,0]
[null,null,null,null,null,null,null,null,null,null,null,null,null,0]
[null,null,null,null,null,null,null,null,null,null,null,null,null,0]
[null,null,null,null,null,null,null,null,null,null,null,null,null,0]
[null,null,null,null,null,null,null,null,null,null,null,null,null,0]
[null,null,null,null,null,null,null,null,null,null,null,null,null,0]
[null,null,null,null,null,null,null,null,null,null,null,null,null,0]
[null,null,null,null,null,null,null,null,null,null,null,null,null,0]
[null,null,null,null,null,null,null,null,null,null,null,null,null,0]
[null,null,null,null,null,null,null,null,null,null,null,null,null,0]
[null,null,null,null,null,null,null,null,null,null,null,null,null,0]
[null,null,null,null,null,null,null,null,null,null,null,null,null,0]
[null,null,null,null,null,null,null,null,null,null,null,null,null,0]
[null,null,null,null,null,null,null,null,null,null,null,null,null,0]
[null,null,null,null,null,null,null,null,null,null,null,null,null,0]
[null,null,null,null,null,null,null,null,null,null,null,null,null,{"$f":"SUM(H1282:J1282)","v":0}]
[null,null,null,null,null,null,null,null,null,null,null,null,null,0]
[null,null,null,null,null,null,null,null,null,null,null,null,null,0]
[null,null,null,null,null,null,null,null,null,null,null,null,null,0]
[null,null,null,null,null,null,null,null,null,null,null,null,null,0]
[null,null,null,null,null,null,null,null,null,null,null,null,null,0]
[null,null,null,null,null,null,null,null,null,null,null,null,null,0]
[null,null,null,null,null,null,null,null,null,null,null,null,null,0]
[null,null,null,null,null,null,null,null,null,null,null,null,null,0]
[null,null,null,null,null,null,null,null,null,null,null,null,null,0]
[null,null,null,null,null,null,null,null,null,null,null,null,null,0]
[null,null,null,null,null,null,null,null,null,null,null,null,null,0]
[null,null,null,null,null,null,null,null,null,null,null,null,null,0]
[null,null,null,null,null,null,null,null,null,null,null,null,null,0]
[null,null,null,null,null,null,null,null,null,null,null,null,null,0]
[null,null,null,null,null,null,null,null,null,null,null,null,null,0]
[null,null,null,null,null,null,null,null,null,null,null,null,null,0]
[null,null,null,null,null,null,null,null,null,null,null,null,null,0]
[null,null,null,null,null,null,null,null,null,null,null,null,null,0]
[null,null,null,null,null,null,null,null,null,null,null,null,null,0]
[null,null,null,null,null,null,null,null,null,null,null,null,null,0]
[null,null,null,null,null,null,null,null,null,null,null,null,null,0]
[null,null,null,null,null,null,null,null,null,null,null,null,null,0]
[null,null,null,null,null,null,null,null,null,null,null,null,null,0]
[null,null,null,null,null,null,null,null,null,null,null,null,null,0]
[null,null,null,null,null,null,null,null,null,null,null,null,null,0]
[null,null,null,null,null,null,null,null,null,null,null,null,null,0]
[null,null,null,null,null,null,null,null,null,null,null,null,null,0]
[null,null,null,null,null,null,null,null,null,null,null,null,null,0]
[null,null,null,null,null,null,null,null,null,null,null,null,null,0]
[null,null,null,null,null,null,null,null,null,null,null,null,null,0]
[null,null,null,null,null,null,null,null,null,null,null,null,null,0]
[null,null,null,null,null,null,null,null,null,null,null,null,null,0]
[null,null,null,null,null,null,null,null,null,null,null,null,null,0]
[null,null,null,null,null,null,null,null,null,null,null,null,null,0]
[null,null,null,null,null,null,null,null,null,null,null,null,null,0]
[null,null,null,null,null,null,null,null,null,null,null,null,null,0]
[null,null,null,null,null,null,null,null,null,null,null,null,null,0]
[null,null,null,null,null,null,null,null,null,null,null,null,null,0]
[null,null,null,null,null,null,null,null,null,null,null,null,null,0]
[null,null,null,null,null,null,null,null,null,null,null,null,null,0]
[null,null,null,null,null,null,null,null,null,null,null,null,null,0]
[null,null,null,null,null,null,null,null,null,null,null,null,null,0]
[null,null,null,null,null,null,null,null,null,null,null,null,null,0]
[null,null,null,null,null,null,null,null,null,null,null,null,null,0]
[null,null,null,null,null,null,null,null,null,null,null,null,null,0]
[null,null,null,null,null,null,null,null,null,null,null,null,null,0]
[null,null,null,null,null,null,null,null,null,null,null,null,null,0]
[null,null,null,null,null,null,null,null,null,null,null,null,null,0]
[null,null,null,null,null,null,null,null,null,null,null,null,null,0]
[null,null,null,null,null,null,null,null,null,null,null,null,null,0]
[null,null,null,null,null,null,null,null,null,null,null,null,null,0]
[null,null,null,null,null,null,null,null,null,null,null,null,null,0]
[null,null,null,null,null,null,null,null,null,null,null,null,null,0]
[null,null,null,null,null,null,null,null,null,null,null,null,null,0]
[null,null,null,null,null,null,null,null,null,null,null,null,null,0]
[null,null,null,null,null,null,null,null,null,null,null,null,null,0]
[null,null,null,null,null,null,null,null,null,null,null,null,null,0]
[null,null,null,null,null,null,null,null,null,null,null,null,null,0]
[null,null,null,null,null,null,null,null,null,null,null,null,null,0]
[null,null,null,null,null,null,null,null,null,null,null,null,null,0]
[null,null,null,null,null,null,null,null,null,null,null,null,null,0]
[null,null,null,null,null,null,null,null,null,null,null,null,null,0]
[null,null,null,null,null,null,null,null,null,null,null,null,null,0]
[null,null,null,null,null,null,null,null,null,null,null,null,null,{"$f":"SUM(H1346:J1346)","v":0}]
[null,null,null,null,null,null,null,null,null,null,null,null,null,0]
[null,null,null,null,null,null,null,null,null,null,null,null,null,0]
[null,null,null,null,null,null,null,null,null,null,null,null,null,0]
[null,null,null,null,null,null,null,null,null,null,null,null,null,0]
[null,null,null,null,null,null,null,null,null,null,null,null,null,0]
[null,null,null,null,null,null,null,null,null,null,null,null,null,0]
[null,null,null,null,null,null,null,null,null,null,null,null,null,0]
[null,null,null,null,null,null,null,null,null,null,null,null,null,0]
[null,null,null,null,null,null,null,null,null,null,null,null,null,0]
[null,null,null,null,null,null,null,null,null,null,null,null,null,0]
[null,null,null,null,null,null,null,null,null,null,null,null,null,0]
[null,null,null,null,null,null,null,null,null,null,null,null,null,0]
[null,null,null,null,null,null,null,null,null,null,null,null,null,0]
[null,null,null,null,null,null,null,null,null,null,null,null,null,0]
[null,null,null,null,null,null,null,null,null,null,null,null,null,0]
[null,null,null,null,null,null,null,null,null,null,null,null,null,0]
[null,null,null,null,null,null,null,null,null,null,null,null,null,0]
[null,null,null,null,null,null,null,null,null,null,null,null,null,0]
[null,null,null,null,null,null,null,null,null,null,null,null,null,0]
[null,null,null,null,null,null,null,null,null,null,null,null,null,0]
[null,null,null,null,null,null,null,null,null,null,null,null,null,0]
[null,null,null,null,null,null,null,null,null,null,null,null,null,0]
[null,null,null,null,null,null,null,null,null,null,null,null,null,0]
[null,null,null,null,null,null,null,null,null,null,null,null,null,0]
[null,null,null,null,null,null,null,null,null,null,null,null,null,0]
[null,null,null,null,null,null,null,null,null,null,null,null,null,0]
[null,null,null,null,null,null,null,null,null,null,null,null,null,0]
[null,null,null,null,null,null,null,null,null,null,null,null,null,0]
[null,null,null,null,null,null,null,null,null,null,null,null,null,0]
[null,null,null,null,null,null,null,null,null,null,null,null,null,0]
[null,null,null,null,null,null,null,null,null,null,null,null,null,0]
[null,null,null,null,null,null,null,null,null,null,null,null,null,0]
[null,null,null,null,null,null,null,null,null,null,null,null,null,0]
[null,null,null,null,null,null,null,null,null,null,null,null,null,0]
[null,null,null,null,null,null,null,null,null,null,null,null,null,0]
[null,null,null,null,null,null,null,null,null,null,null,null,null,0]
[null,null,null,null,null,null,null,null,null,null,null,null,null,0]
[null,null,null,null,null,null,null,null,null,null,null,null,null,0]
[null,null,null,null,null,null,null,null,null,null,null,null,null,0]
[null,null,null,null,null,null,null,null,null,null,null,null,null,0]
[null,null,null,null,null,null,null,null,null,null,null,null,null,0]
[null,null,null,null,null,null,null,null,null,null,null,null,null,0]
[null,null,null,null,null,null,null,null,null,null,null,null,null,0]
[null,null,null,null,null,null,null,null,null,null,null,null,null,0]
[null,null,null,null,null,null,null,null,null,null,null,null,null,0]
[null,null,null,null,null,null,null,null,null,null,null,null,null,0]
[null,null,null,null,null,null,null,null,null,null,null,null,null,0]
[null,null,null,null,null,null,null,null,null,null,null,null,null,0]
[null,null,null,null,null,null,null,null,null,null,null,null,null,0]
[null,null,null,null,null,null,null,null,null,null,null,null,null,0]
[null,null,null,null,null,null,null,null,null,null,null,null,null,0]
[null,null,null,null,null,null,null,null,null,null,null,null,null,0]
[null,null,null,null,null,null,null,null,null,null,null,null,null,0]
[null,null,null,null,null,null,null,null,null,null,null,null,null,0]
[null,null,null,null,null,null,null,null,null,null,null,null,null,0]
[null,null,null,null,null,null,null,null,null,null,null,null,null,0]
[null,null,null,null,null,null,null,null,null,null,null,null,null,0]
[null,null,null,null,null,null,null,null,null,null,null,null,null,0]
[null,null,null,null,null,null,null,null,null,null,null,null,null,0]
[null,null,null,null,null,null,null,null,null,null,null,null,null,0]
[null,null,null,null,null,null,null,null,null,null,null,null,null,0]
[null,null,null,null,null,null,null,null,null,null,null,null,null,0]
[null,null,null,null,null,null,null,null,null,null,null,null,null,0]
[null,null,null,null,null,null,null,null,null,null,null,null,null,{"$f":"SUM(H1410:J1410)","v":0}]
[null,null,null,null,null,null,null,null,null,null,null,null,null,0]
[null,null,null,null,null,null,null,null,null,null,null,null,null,0]
[null,null,null,null,null,null,null,null,null,null,null,null,null,0]
[null,null,null,null,null,null,null,null,null,null,null,null,null,0]
[null,null,null,null,null,null,null,null,null,null,null,null,null,0]
[null,null,null,null,null,null,null,null,null,null,null,null,null,0]
[null,null,null,null,null,null,null,null,null,null,null,null,null,0]
[null,null,null,null,null,null,null,null,null,null,null,null,null,0]
[null,null,null,null,null,null,null,null,null,null,null,null,null,0]
[null,null,null,null,null,null,null,null,null,null,null,null,null,0]
[null,null,null,null,null,null,null,null,null,null,null,null,null,0]
[null,null,null,null,null,null,null,null,null,null,null,null,null,0]
[null,null,null,null,null,null,null,null,null,null,null,null,null,0]
[null,null,null,null,null,null,null,null,null,null,null,null,null,0]
[null,null,null,null,null,null,null,null,null,null,null,null,null,0]
[null,null,null,null,null,null,null,null,null,null,null,null,null,0]
[null,null,null,null,null,null,null,null,null,null,null,null,null,0]
[null,null,null,null,null,null,null,null,null,null,null,null,null,0]
[null,null,null,null,null,null,null,null,null,null,null,null,null,0]
[null,null,null,null,null,null,null,null,null,null,null,null,null,0]
[null,null,null,null,null,null,null,null,null,null,null,null,null,0]
[null,null,null,null,null,null,null,null,null,null,null,null,null,0]
[null,null,null,null,null,null,null,null,null,null,null,null,null,0]
[null,null,null,null,null,null,null,null,null,null,null,null,null,0]
[null,null,null,null,null,null,null,null,null,null,null,null,null,0]
[null,null,null,null,null,null,null,null,null,null,null,null,null,0]
[null,null,null,null,null,null,null,null,null,null,null,null,null,0]
[null,null,null,null,null,null,null,null,null,null,null,null,null,0]
[null,null,null,null,null,null,null,null,null,null,null,null,null,0]
[null,null,null,null,null,null,null,null,null,null,null,null,null,0]
[null,null,null,null,null,null,null,null,null,null,null,null,null,0]
[null,null,null,null,null,null,null,null,null,null,null,null,null,0]
[null,null,null,null,null,null,null,null,null,null,null,null,null,0]
[null,null,null,null,null,null,null,null,null,null,null,null,null,0]
[null,null,null,null,null,null,null,null,null,null,null,null,null,0]
[null,null,null,null,null,null,null,null,null,null,null,null,null,0]
[null,null,null,null,null,null,null,null,null,null,null,null,null,0]
[null,null,null,null,null,null,null,null,null,null,null,null,null,0]
[null,null,null,null,null,null,null,null,null,null,null,null,null,0]
[null,null,null,null,null,null,null,null,null,null,null,null,null,0]
[null,null,null,null,null,null,null,null,null,null,null,null,null,0]
[null,null,null,null,null,null,null,null,null,null,null,null,null,0]
[null,null,null,null,null,null,null,null,null,null,null,null,null,0]
[null,null,null,null,null,null,null,null,null,null,null,null,null,0]
[null,null,null,null,null,null,null,null,null,null,null,null,null,0]
[null,null,null,null,null,null,null,null,null,null,null,null,null,0]
[null,null,null,null,null,null,null,null,null,null,null,null,null,0]
[null,null,null,null,null,null,null,null,null,null,null,null,null,0]
[null,null,null,null,null,null,null,null,null,null,null,null,null,0]
[null,null,null,null,null,null,null,null,null,null,null,null,null,0]
[null,null,null,null,null,null,null,null,null,null,null,null,null,0]
[null,null,null,null,null,null,null,null,null,null,null,null,null,0]
[null,null,null,null,null,null,null,null,null,null,null,null,null,0]
[null,null,null,null,null,null,null,null,null,null,null,null,null,0]
[null,null,null,null,null,null,null,null,null,null,null,null,null,0]
[null,null,null,null,null,null,null,null,null,null,null,null,null,0]
[null,null,null,null,null,null,null,null,null,null,null,null,null,0]
[null,null,null,null,null,null,null,null,null,null,null,null,null,0]
[null,null,null,null,null,null,null,null,null,null,null,null,null,0]
[null,null,null,null,null,null,null,null,null,null,null,null,null,0]
[null,null,null,null,null,null,null,null,null,null,null,null,null,0]
[null,null,null,null,null,null,null,null,null,null,null,null,null,0]
[null,null,null,null,null,null,null,null,null,null,null,null,null,0]
[null,null,null,null,null,null,null,null,null,null,null,null,null,{"$f":"SUM(H1474:J1474)","v":0}]
[null,null,null,null,null,null,null,null,null,null,null,null,null,0]
[null,null,null,null,null,null,null,null,null,null,null,null,null,0]
[null,null,null,null,null,null,null,null,null,null,null,null,null,0]
[null,null,null,null,null,null,null,null,null,null,null,null,null,0]
[null,null,null,null,null,null,null,null,null,null,null,null,null,0]
[null,null,null,null,null,null,null,null,null,null,null,null,null,0]
[null,null,null,null,null,null,null,null,null,null,null,null,null,0]
[null,null,null,null,null,null,null,null,null,null,null,null,null,0]
[null,null,null,null,null,null,null,null,null,null,null,null,null,0]
[null,null,null,null,null,null,null,null,null,null,null,null,null,0]
[null,null,null,null,null,null,null,null,null,null,null,null,null,0]
[null,null,null,null,null,null,null,null,null,null,null,null,null,0]
[null,null,null,null,null,null,null,null,null,null,null,null,null,0]
[null,null,null,null,null,null,null,null,null,null,null,null,null,0]
[null,null,null,null,null,null,null,null,null,null,null,null,null,0]
[null,null,null,null,null,null,null,null,null,null,null,null,null,0]
[null,null,null,null,null,null,null,null,null,null,null,null,null,0]
[null,null,null,null,null,null,null,null,null,null,null,null,null,0]
[null,null,null,null,null,null,null,null,null,null,null,null,null,0]
[null,null,null,null,null,null,null,null,null,null,null,null,null,0]
[null,null,null,null,null,null,null,null,null,null,null,null,null,0]
[null,null,null,null,null,null,null,null,null,null,null,null,null,0]
[null,null,null,null,null,null,null,null,null,null,null,null,null,0]
[null,null,null,null,null,null,null,null,null,null,null,null,null,0]
[null,null,null,null,null,null,null,null,null,null,null,null,null,0]
[null,null,null,null,null,null,null,null,null,null,null,null,null,0]
[null,null,null,null,null,null,null,null,null,null,null,null,null,0]
[null,null,null,null,null,null,null,null,null,null,null,null,null,0]
[null,null,null,null,null,null,null,null,null,null,null,null,null,0]
[null,null,null,null,null,null,null,null,null,null,null,null,null,0]
[null,null,null,null,null,null,null,null,null,null,null,null,null,0]
[null,null,null,null,null,null,null,null,null,null,null,null,null,0]
[null,null,null,null,null,null,null,null,null,null,null,null,null,0]
[null,null,null,null,null,null,null,null,null,null,null,null,null,0]
[null,null,null,null,null,null,null,null,null,null,null,null,null,0]
[null,null,null,null,null,null,null,null,null,null,null,null,null,0]
[null,null,null,null,null,null,null,null,null,null,null,null,null,0]
[null,null,null,null,null,null,null,null,null,null,null,null,null,0]
[null,null,null,null,null,null,null,null,null,null,null,null,null,0]
[null,null,null,null,null,null,null,null,null,null,null,null,null,0]
[null,null,null,null,null,null,null,null,null,null,null,null,null,0]
[null,null,null,null,null,null,null,null,null,null,null,null,null,0]
[null,null,null,null,null,null,null,null,null,null,null,null,null,0]
[null,null,null,null,null,null,null,null,null,null,null,null,null,0]
[null,null,null,null,null,null,null,null,null,null,null,null,null,0]
[null,null,null,null,null,null,null,null,null,null,null,null,null,0]
[null,null,null,null,null,null,null,null,null,null,null,null,null,0]
[null,null,null,null,null,null,null,null,null,null,null,null,null,0]
[null,null,null,null,null,null,null,null,null,null,null,null,null,0]
[null,null,null,null,null,null,null,null,null,null,null,null,null,0]
[null,null,null,null,null,null,null,null,null,null,null,null,null,0]
[null,null,null,null,null,null,null,null,null,null,null,null,null,0]
[null,null,null,null,null,null,null,null,null,null,null,null,null,0]
[null,null,null,null,null,null,null,null,null,null,null,null,null,0]
[null,null,null,null,null,null,null,null,null,null,null,null,null,0]
[null,null,null,null,null,null,null,null,null,null,null,null,null,0]
[null,null,null,null,null,null,null,null,null,null,null,null,null,0]
[null,null,null,null,null,null,null,null,null,null,null,null,null,0]
[null,null,null,null,null,null,null,null,null,null,null,null,null,0]
[null,null,null,null,null,null,null,null,null,null,null,null,null,0]
[null,null,null,null,null,null,null,null,null,null,null,null,null,0]
[null,null,null,null,null,null,null,null,null,null,null,null,null,0]
[null,null,null,null,null,null,null,null,null,null,null,null,null,0]
[null,null,null,null,null,null,null,null,null,null,null,null,null,{"$f":"SUM(H1538:J1538)","v":0}]
[null,null,null,null,null,null,null,null,null,null,null,null,null,0]
[null,null,null,null,null,null,null,null,null,null,null,null,null,0]
[null,null,null,null,null,null,null,null,null,null,null,null,null,0]
[null,null,null,null,null,null,null,null,null,null,null,null,null,0]
[null,null,null,null,null,null,null,null,null,null,null,null,null,0]
[null,null,null,null,null,null,null,null,null,null,null,null,null,0]
[null,null,null,null,null,null,null,null,null,null,null,null,null,0]
[null,null,null,null,null,null,null,null,null,null,null,null,null,0]
[null,null,null,null,null,null,null,null,null,null,null,null,null,0]
[null,null,null,null,null,null,null,null,null,null,null,null,null,0]
[null,null,null,null,null,null,null,null,null,null,null,null,null,0]
[null,null,null,null,null,null,null,null,null,null,null,null,null,0]
[null,null,null,null,null,null,null,null,null,null,null,null,null,0]
[null,null,null,null,null,null,null,null,null,null,null,null,null,0]
[null,null,null,null,null,null,null,null,null,null,null,null,null,0]
[null,null,null,null,null,null,null,null,null,null,null,null,null,0]
[null,null,null,null,null,null,null,null,null,null,null,null,null,0]
[null,null,null,null,null,null,null,null,null,null,null,null,null,0]
[null,null,null,null,null,null,null,null,null,null,null,null,null,0]
[null,null,null,null,null,null,null,null,null,null,null,null,null,0]
[null,null,null,null,null,null,null,null,null,null,null,null,null,0]
[null,null,null,null,null,null,null,null,null,null,null,null,null,0]
[null,null,null,null,null,null,null,null,null,null,null,null,null,0]
[null,null,null,null,null,null,null,null,null,null,null,null,null,0]
[null,null,null,null,null,null,null,null,null,null,null,null,null,0]
[null,null,null,null,null,null,null,null,null,null,null,null,null,0]
[null,null,null,null,null,null,null,null,null,null,null,null,null,0]
[null,null,null,null,null,null,null,null,null,null,null,null,null,0]
[null,null,null,null,null,null,null,null,null,null,null,null,null,0]
[null,null,null,null,null,null,null,null,null,null,null,null,null,0]
[null,null,null,null,null,null,null,null,null,null,null,null,null,0]
[null,null,null,null,null,null,null,null,null,null,null,null,null,0]
[null,null,null,null,null,null,null,null,null,null,null,null,null,0]
[null,null,null,null,null,null,null,null,null,null,null,null,null,0]
[null,null,null,null,null,null,null,null,null,null,null,null,null,0]
[null,null,null,null,null,null,null,null,null,null,null,null,null,0]
[null,null,null,null,null,null,null,null,null,null,null,null,null,0]
[null,null,null,null,null,null,null,null,null,null,null,null,null,0]
[null,null,null,null,null,null,null,null,null,null,null,null,null,0]
[null,null,null,null,null,null,null,null,null,null,null,null,null,0]
[null,null,null,null,null,null,null,null,null,null,null,null,null,0]
[null,null,null,null,null,null,null,null,null,null,null,null,null,0]
[null,null,null,null,null,null,null,null,null,null,null,null,null,0]
[null,null,null,null,null,null,null,null,null,null,null,null,null,0]
[null,null,null,null,null,null,null,null,null,null,null,null,null,0]
[null,null,null,null,null,null,null,null,null,null,null,null,null,0]
[null,null,null,null,null,null,null,null,null,null,null,null,null,0]
[null,null,null,null,null,null,null,null,null,null,null,null,null,0]
[null,null,null,null,null,null,null,null,null,null,null,null,null,0]
[null,null,null,null,null,null,null,null,null,null,null,null,null,0]
[null,null,null,null,null,null,null,null,null,null,null,null,null,0]
[null,null,null,null,null,null,null,null,null,null,null,null,null,0]
[null,null,null,null,null,null,null,null,null,null,null,null,null,0]
[null,null,null,null,null,null,null,null,null,null,null,null,null,0]
[null,null,null,null,null,null,null,null,null,null,null,null,null,0]
[null,null,null,null,null,null,null,null,null,null,null,null,null,0]
[null,null,null,null,null,null,null,null,null,null,null,null,null,0]
[null,null,null,null,null,null,null,null,null,null,null,null,null,0]
[null,null,null,null,null,null,null,null,null,null,null,null,null,0]
[null,null,null,null,null,null,null,null,null,null,null,null,null,0]
[null,null,null,null,null,null,null,null,null,null,null,null,null,0]
[null,null,null,null,null,null,null,null,null,null,null,null,null,0]
[null,null,null,null,null,null,null,null,null,null,null,null,null,0]
[null,null,null,null,null,null,null,null,null,null,null,null,null,{"$f":"SUM(H1602:J1602)","v":0}]
[null,null,null,null,null,null,null,null,null,null,null,null,null,0]
[null,null,null,null,null,null,null,null,null,null,null,null,null,0]
[null,null,null,null,null,null,null,null,null,null,null,null,null,0]
[null,null,null,null,null,null,null,null,null,null,null,null,null,0]
[null,null,null,null,null,null,null,null,null,null,null,null,null,0]
[null,null,null,null,null,null,null,null,null,null,null,null,null,0]
[null,null,null,null,null,null,null,null,null,null,null,null,null,0]
[null,null,null,null,null,null,null,null,null,null,null,null,null,0]
[null,null,null,null,null,null,null,null,null,null,null,null,null,0]
[null,null,null,null,null,null,null,null,null,null,null,null,null,0]
[null,null,null,null,null,null,null,null,null,null,null,null,null,0]
[null,null,null,null,null,null,null,null,null,null,null,null,null,0]
[null,null,null,null,null,null,null,null,null,null,null,null,null,0]
[null,null,null,null,null,null,null,null,null,null,null,null,null,0]
[null,null,null,null,null,null,null,null,null,null,null,null,null,0]
[null,null,null,null,null,null,null,null,null,null,null,null,null,0]
[null,null,null,null,null,null,null,null,null,null,null,null,null,0]
[null,null,null,null,null,null,null,null,null,null,null,null,null,0]
[null,null,null,null,null,null,null,null,null,null,null,null,null,0]
[null,null,null,null,null,null,null,null,null,null,null,null,null,0]
[null,null,null,null,null,null,null,null,null,null,null,null,null,0]
[null,null,null,null,null,null,null,null,null,null,null,null,null,0]
[null,null,null,null,null,null,null,null,null,null,null,null,null,0]
[null,null,null,null,null,null,null,null,null,null,null,null,null,0]
[null,null,null,null,null,null,null,null,null,null,null,null,null,0]
[null,null,null,null,null,null,null,null,null,null,null,null,null,0]
[null,null,null,null,null,null,null,null,null,null,null,null,null,0]
[null,null,null,null,null,null,null,null,null,null,null,null,null,0]
[null,null,null,null,null,null,null,null,null,null,null,null,null,0]
[null,null,null,null,null,null,null,null,null,null,null,null,null,0]
[null,null,null,null,null,null,null,null,null,null,null,null,null,0]
[null,null,null,null,null,null,null,null,null,null,null,null,null,0]
[null,null,null,null,null,null,null,null,null,null,null,null,null,0]
[null,null,null,null,null,null,null,null,null,null,null,null,null,0]
[null,null,null,null,null,null,null,null,null,null,null,null,null,0]
[null,null,null,null,null,null,null,null,null,null,null,null,null,0]
[null,null,null,null,null,null,null,null,null,null,null,null,null,0]
[null,null,null,null,null,null,null,null,null,null,null,null,null,0]
[null,null,null,null,null,null,null,null,null,null,null,null,null,0]
[null,null,null,null,null,null,null,null,null,null,null,null,null,0]
[null,null,null,null,null,null,null,null,null,null,null,null,null,0]
[null,null,null,null,null,null,null,null,null,null,null,null,null,0]
[null,null,null,null,null,null,null,null,null,null,null,null,null,0]
[null,null,null,null,null,null,null,null,null,null,null,null,null,0]
[null,null,null,null,null,null,null,null,null,null,null,null,null,0]
[null,null,null,null,null,null,null,null,null,null,null,null,null,0]
[null,null,null,null,null,null,null,null,null,null,null,null,null,0]
[null,null,null,null,null,null,null,null,null,null,null,null,null,0]
[null,null,null,null,null,null,null,null,null,null,null,null,null,0]
[null,null,null,null,null,null,null,null,null,null,null,null,null,0]
[null,null,null,null,null,null,null,null,null,null,null,null,null,0]
[null,null,null,null,null,null,null,null,null,null,null,null,null,0]
[null,null,null,null,null,null,null,null,null,null,null,null,null,0]
[null,null,null,null,null,null,null,null,null,null,null,null,null,0]
[null,null,null,null,null,null,null,null,null,null,null,null,null,0]
[null,null,null,null,null,null,null,null,null,null,null,null,null,0]
[null,null,null,null,null,null,null,null,null,null,null,null,null,0]
[null,null,null,null,null,null,null,null,null,null,null,null,null,0]
[null,null,null,null,null,null,null,null,null,null,null,null,null,0]
[null,null,null,null,null,null,null,null,null,null,null,null,null,0]
[null,null,null,null,null,null,null,null,null,null,null,null,null,0]
[null,null,null,null,null,null,null,null,null,null,null,null,null,0]
[null,null,null,null,null,null,null,null,null,null,null,null,null,0]
[null,null,null,null,null,null,null,null,null,null,null,null,null,{"$f":"SUM(H1666:J1666)","v":0}]
[null,null,null,null,null,null,null,null,null,null,null,null,null,0]
[null,null,null,null,null,null,null,null,null,null,null,null,null,0]
[null,null,null,null,null,null,null,null,null,null,null,null,null,0]
[null,null,null,null,null,null,null,null,null,null,null,null,null,0]
[null,null,null,null,null,null,null,null,null,null,null,null,null,0]
[null,null,null,null,null,null,null,null,null,null,null,null,null,0]
[null,null,null,null,null,null,null,null,null,null,null,null,null,0]
[null,null,null,null,null,null,null,null,null,null,null,null,null,0]
[null,null,null,null,null,null,null,null,null,null,null,null,null,0]
[null,null,null,null,null,null,null,null,null,null,null,null,null,0]
[null,null,null,null,null,null,null,null,null,null,null,null,null,0]
[null,null,null,null,null,null,null,null,null,null,null,null,null,0]
[null,null,null,null,null,null,null,null,null,null,null,null,null,0]
[null,null,null,null,null,null,null,null,null,null,null,null,null,0]
[null,null,null,null,null,null,null,null,null,null,null,null,null,0]
[null,null,null,null,null,null,null,null,null,null,null,null,null,0]
[null,null,null,null,null,null,null,null,null,null,null,null,null,0]
[null,null,null,null,null,null,null,null,null,null,null,null,null,0]
[null,null,null,null,null,null,null,null,null,null,null,null,null,0]
[null,null,null,null,null,null,null,null,null,null,null,null,null,0]
[null,null,null,null,null,null,null,null,null,null,null,null,null,0]
[null,null,null,null,null,null,null,null,null,null,null,null,null,0]
[null,null,null,null,null,null,null,null,null,null,null,null,null,0]
[null,null,null,null,null,null,null,null,null,null,null,null,null,0]
[null,null,null,null,null,null,null,null,null,null,null,null,null,0]
[null,null,null,null,null,null,null,null,null,null,null,null,null,0]
[null,null,null,null,null,null,null,null,null,null,null,null,null,0]
[null,null,null,null,null,null,null,null,null,null,null,null,null,0]
[null,null,null,null,null,null,null,null,null,null,null,null,null,0]
[null,null,null,null,null,null,null,null,null,null,null,null,null,0]
[null,null,null,null,null,null,null,null,null,null,null,null,null,0]
[null,null,null,null,null,null,null,null,null,null,null,null,null,0]
[null,null,null,null,null,null,null,null,null,null,null,null,null,0]
[null,null,null,null,null,null,null,null,null,null,null,null,null,0]
[null,null,null,null,null,null,null,null,null,null,null,null,null,0]
[null,null,null,null,null,null,null,null,null,null,null,null,null,0]
[null,null,null,null,null,null,null,null,null,null,null,null,null,0]
[null,null,null,null,null,null,null,null,null,null,null,null,null,0]
[null,null,null,null,null,null,null,null,null,null,null,null,null,0]
[null,null,null,null,null,null,null,null,null,null,null,null,null,0]
[null,null,null,null,null,null,null,null,null,null,null,null,null,0]
[null,null,null,null,null,null,null,null,null,null,null,null,null,0]
[null,null,null,null,null,null,null,null,null,null,null,null,null,0]
[null,null,null,null,null,null,null,null,null,null,null,null,null,0]
[null,null,null,null,null,null,null,null,null,null,null,null,null,0]
[null,null,null,null,null,null,null,null,null,null,null,null,null,0]
[null,null,null,null,null,null,null,null,null,null,null,null,null,0]
[null,null,null,null,null,null,null,null,null,null,null,null,null,0]
[null,null,null,null,null,null,null,null,null,null,null,null,null,0]
[null,null,null,null,null,null,null,null,null,null,null,null,null,0]
[null,null,null,null,null,null,null,null,null,null,null,null,null,0]
[null,null,null,null,null,null,null,null,null,null,null,null,null,0]
[null,null,null,null,null,null,null,null,null,null,null,null,null,0]
[null,null,null,null,null,null,null,null,null,null,null,null,null,0]
[null,null,null,null,null,null,null,null,null,null,null,null,null,0]
[null,null,null,null,null,null,null,null,null,null,null,null,null,0]
[null,null,null,null,null,null,null,null,null,null,null,null,null,0]
[null,null,null,null,null,null,null,null,null,null,null,null,null,0]
[null,null,null,null,null,null,null,null,null,null,null,null,null,0]
[null,null,null,null,null,null,null,null,null,null,null,null,null,0]
[null,null,null,null,null,null,null,null,null,null,null,null,null,0]
[null,null,null,null,null,null,null,null,null,null,null,null,null,0]
[null,null,null,null,null,null,null,null,null,null,null,null,null,0]
[null,null,null,null,null,null,null,null,null,null,null,null,null,{"$f":"SUM(H1730:J1730)","v":0}]
[null,null,null,null,null,null,null,null,null,null,null,null,null,0]
[null,null,null,null,null,null,null,null,null,null,null,null,null,0]
[null,null,null,null,null,null,null,null,null,null,null,null,null,0]
[null,null,null,null,null,null,null,null,null,null,null,null,null,0]
[null,null,null,null,null,null,null,null,null,null,null,null,null,0]
[null,null,null,null,null,null,null,null,null,null,null,null,null,0]
[null,null,null,null,null,null,null,null,null,null,null,null,null,0]
[null,null,null,null,null,null,null,null,null,null,null,null,null,0]
[null,null,null,null,null,null,null,null,null,null,null,null,null,0]
[null,null,null,null,null,null,null,null,null,null,null,null,null,0]
[null,null,null,null,null,null,null,null,null,null,null,null,null,0]
[null,null,null,null,null,null,null,null,null,null,null,null,null,0]
[null,null,null,null,null,null,null,null,null,null,null,null,null,0]
[null,null,null,null,null,null,null,null,null,null,null,null,null,0]
[null,null,null,null,null,null,null,null,null,null,null,null,null,0]
[null,null,null,null,null,null,null,null,null,null,null,null,null,0]
[null,null,null,null,null,null,null,null,null,null,null,null,null,0]
[null,null,null,null,null,null,null,null,null,null,null,null,null,0]
[null,null,null,null,null,null,null,null,null,null,null,null,null,0]
[null,null,null,null,null,null,null,null,null,null,null,null,null,0]
[null,null,null,null,null,null,null,null,null,null,null,null,null,0]
[null,null,null,null,null,null,null,null,null,null,null,null,null,0]
[null,null,null,null,null,null,null,null,null,null,null,null,null,0]
[null,null,null,null,null,null,null,null,null,null,null,null,null,0]
[null,null,null,null,null,null,null,null,null,null,null,null,null,0]
[null,null,null,null,null,null,null,null,null,null,null,null,null,0]
[null,null,null,null,null,null,null,null,null,null,null,null,null,0]
[null,null,null,null,null,null,null,null,null,null,null,null,null,0]
[null,null,null,null,null,null,null,null,null,null,null,null,null,0]
[null,null,null,null,null,null,null,null,null,null,null,null,null,0]
[null,null,null,null,null,null,null,null,null,null,null,null,null,0]
[null,null,null,null,null,null,null,null,null,null,null,null,null,0]
[null,null,null,null,null,null,null,null,null,null,null,null,null,0]
[null,null,null,null,null,null,null,null,null,null,null,null,null,0]
[null,null,null,null,null,null,null,null,null,null,null,null,null,0]
[null,null,null,null,null,null,null,null,null,null,null,null,null,0]
[null,null,null,null,null,null,null,null,null,null,null,null,null,0]
[null,null,null,null,null,null,null,null,null,null,null,null,null,0]
[null,null,null,null,null,null,null,null,null,null,null,null,null,0]
[null,null,null,null,null,null,null,null,null,null,null,null,null,0]
[null,null,null,null,null,null,null,null,null,null,null,null,null,0]
[null,null,null,null,null,null,null,null,null,null,null,null,null,0]
[null,null,null,null,null,null,null,null,null,null,null,null,null,0]
[null,null,null,null,null,null,null,null,null,null,null,null,null,0]
[null,null,null,null,null,null,null,null,null,null,null,null,null,0]
[null,null,null,null,null,null,null,null,null,null,null,null,null,0]
[null,null,null,null,null,null,null,null,null,null,null,null,null,0]
[null,null,null,null,null,null,null,null,null,null,null,null,null,0]
[null,null,null,null,null,null,null,null,null,null,null,null,null,0]
[null,null,null,null,null,null,null,null,null,null,null,null,null,0]
[null,null,null,null,null,null,null,null,null,null,null,null,null,0]
[null,null,null,null,null,null,null,null,null,null,null,null,null,0]
[null,null,null,null,null,null,null,null,null,null,null,null,null,0]
[null,null,null,null,null,null,null,null,null,null,null,null,null,0]
[null,null,null,null,null,null,null,null,null,null,null,null,null,0]
[null,null,null,null,null,null,null,null,null,null,null,null,null,0]
[null,null,null,null,null,null,null,null,null,null,null,null,null,0]
[null,null,null,null,null,null,null,null,null,null,null,null,null,0]
[null,null,null,null,null,null,null,null,null,null,null,null,null,0]
[null,null,null,null,null,null,null,null,null,null,null,null,null,0]
[null,null,null,null,null,null,null,null,null,null,null,null,null,0]
[null,null,null,null,null,null,null,null,null,null,null,null,null,0]
[null,null,null,null,null,null,null,null,null,null,null,null,null,0]
[null,null,null,null,null,null,null,null,null,null,null,null,null,{"$f":"SUM(H1794:J1794)","v":0}]
[null,null,null,null,null,null,null,null,null,null,null,null,null,0]
[null,null,null,null,null,null,null,null,null,null,null,null,null,0]
[null,null,null,null,null,null,null,null,null,null,null,null,null,0]
[null,null,null,null,null,null,null,null,null,null,null,null,null,0]
[null,null,null,null,null,null,null,null,null,null,null,null,null,0]
[null,null,null,null,null,null,null,null,null,null,null,null,null,0]
[null,null,null,null,null,null,null,null,null,null,null,null,null,0]
[null,null,null,null,null,null,null,null,null,null,null,null,null,0]
[null,null,null,null,null,null,null,null,null,null,null,null,null,0]
[null,null,null,null,null,null,null,null,null,null,null,null,null,0]
[null,null,null,null,null,null,null,null,null,null,null,null,null,0]
[null,null,null,null,null,null,null,null,null,null,null,null,null,0]
[null,null,null,null,null,null,null,null,null,null,null,null,null,0]
[null,null,null,null,null,null,null,null,null,null,null,null,null,0]
[null,null,null,null,null,null,null,null,null,null,null,null,null,0]
[null,null,null,null,null,null,null,null,null,null,null,null,null,0]
[null,null,null,null,null,null,null,null,null,null,null,null,null,0]
[null,null,null,null,null,null,null,null,null,null,null,null,null,0]
[null,null,null,null,null,null,null,null,null,null,null,null,null,0]
[null,null,null,null,null,null,null,null,null,null,null,null,null,0]
[null,null,null,null,null,null,null,null,null,null,null,null,null,0]
[null,null,null,null,null,null,null,null,null,null,null,null,null,0]
[null,null,null,null,null,null,null,null,null,null,null,null,null,0]
[null,null,null,null,null,null,null,null,null,null,null,null,null,0]
[null,null,null,null,null,null,null,null,null,null,null,null,null,0]
[null,null,null,null,null,null,null,null,null,null,null,null,null,0]
[null,null,null,null,null,null,null,null,null,null,null,null,null,0]
[null,null,null,null,null,null,null,null,null,null,null,null,null,0]
[null,null,null,null,null,null,null,null,null,null,null,null,null,0]
[null,null,null,null,null,null,null,null,null,null,null,null,null,0]
[null,null,null,null,null,null,null,null,null,null,null,null,null,0]
[null,null,null,null,null,null,null,null,null,null,null,null,null,0]
[null,null,null,null,null,null,null,null,null,null,null,null,null,0]
[null,null,null,null,null,null,null,null,null,null,null,null,null,0]
[null,null,null,null,null,null,null,null,null,null,null,null,null,0]
[null,null,null,null,null,null,null,null,null,null,null,null,null,0]
[null,null,null,null,null,null,null,null,null,null,null,null,null,0]
[null,null,null,null,null,null,null,null,null,null,null,null,null,0]
[null,null,null,null,null,null,null,null,null,null,null,null,null,0]
[null,null,null,null,null,null,null,null,null,null,null,null,null,0]
[null,null,null,null,null,null,null,null,null,null,null,null,null,0]
[null,null,null,null,null,null,null,null,null,null,null,null,null,0]
[null,null,null,null,null,null,null,null,null,null,null,null,null,0]
[null,null,null,null,null,null,null,null,null,null,null,null,null,0]
[null,null,null,null,null,null,null,null,null,null,null,null,null,0]
[null,null,null,null,null,null,null,null,null,null,null,null,null,0]
[null,null,null,null,null,null,null,null,null,null,null,null,null,0]
[null,null,null,null,null,null,null,null,null,null,null,null,null,0]
[null,null,null,null,null,null,null,null,null,null,null,null,null,0]
[null,null,null,null,null,null,null,null,null,null,null,null,null,0]
[null,null,null,null,null,null,null,null,null,null,null,null,null,0]
[null,null,null,null,null,null,null,null,null,null,null,null,null,0]
[null,null,null,null,null,null,null,null,null,null,null,null,null,0]
[null,null,null,null,null,null,null,null,null,null,null,null,null,0]
[null,null,null,null,null,null,null,null,null,null,null,null,null,0]
[null,null,null,null,null,null,null,null,null,null,null,null,null,0]
[null,null,null,null,null,null,null,null,null,null,null,null,null,0]
[null,null,null,null,null,null,null,null,null,null,null,null,null,0]
[null,null,null,null,null,null,null,null,null,null,null,null,null,0]
[null,null,null,null,null,null,null,null,null,null,null,null,null,0]
[null,null,null,null,null,null,null,null,null,null,null,null,null,0]
[null,null,null,null,null,null,null,null,null,null,null,null,null,0]
[null,null,null,null,null,null,null,null,null,null,null,null,null,0]
[null,null,null,null,null,null,null,null,null,null,null,null,null,{"$f":"SUM(H1858:J1858)","v":0}]
[null,null,null,null,null,null,null,null,null,null,null,null,null,0]
[null,null,null,null,null,null,null,null,null,null,null,null,null,0]
[null,null,null,null,null,null,null,null,null,null,null,null,null,0]
[null,null,null,null,null,null,null,null,null,null,null,null,null,0]
[null,null,null,null,null,null,null,null,null,null,null,null,null,0]
[null,null,null,null,null,null,null,null,null,null,null,null,null,0]
[null,null,null,null,null,null,null,null,null,null,null,null,null,0]
[null,null,null,null,null,null,null,null,null,null,null,null,null,0]
[null,null,null,null,null,null,null,null,null,null,null,null,null,0]
[null,null,null,null,null,null,null,null,null,null,null,null,null,0]
[null,null,null,null,null,null,null,null,null,null,null,null,null,0]
[null,null,null,null,null,null,null,null,null,null,null,null,null,0]
[null,null,null,null,null,null,null,null,null,null,null,null,null,0]
[null,null,null,null,null,null,null,null,null,null,null,null,null,0]
[null,null,null,null,null,null,null,null,null,null,null,null,null,0]
[null,null,null,null,null,null,null,null,null,null,null,null,null,0]
[null,null,null,null,null,null,null,null,null,null,null,null,null,0]
[null,null,null,null,null,null,null,null,null,null,null,null,null,0]
[null,null,null,null,null,null,null,null,null,null,null,null,null,0]
[null,null,null,null,null,null,null,null,null,null,null,null,null,0]
[null,null,null,null,null,null,null,null,null,null,null,null,null,0]
[null,null,null,null,null,null,null,null,null,null,null,null,null,0]
[null,null,null,null,null,null,null,null,null,null,null,null,null,0]
[null,null,null,null,null,null,null,null,null,null,null,null,null,0]
[null,null,null,null,null,null,null,null,null,null,null,null,null,0]
[null,null,null,null,null,null,null,null,null,null,null,null,null,0]
[null,null,null,null,null,null,null,null,null,null,null,null,null,0]
[null,null,null,null,null,null,null,null,null,null,null,null,null,0]
[null,null,null,null,null,null,null,null,null,null,null,null,null,0]
[null,null,null,null,null,null,null,null,null,null,null,null,null,0]
[null,null,null,null,null,null,null,null,null,null,null,null,null,0]
[null,null,null,null,null,null,null,null,null,null,null,null,null,0]
[null,null,null,null,null,null,null,null,null,null,null,null,null,0]
[null,null,null,null,null,null,null,null,null,null,null,null,null,0]
[null,null,null,null,null,null,null,null,null,null,null,null,null,0]
[null,null,null,null,null,null,null,null,null,null,null,null,null,0]
[null,null,null,null,null,null,null,null,null,null,null,null,null,0]
[null,null,null,null,null,null,null,null,null,null,null,null,null,0]
[null,null,null,null,null,null,null,null,null,null,null,null,null,0]
[null,null,null,null,null,null,null,null,null,null,null,null,null,0]
[null,null,null,null,null,null,null,null,null,null,null,null,null,0]
[null,null,null,null,null,null,null,null,null,null,null,null,null,0]
[null,null,null,null,null,null,null,null,null,null,null,null,null,0]
[null,null,null,null,null,null,null,null,null,null,null,null,null,0]
[null,null,null,null,null,null,null,null,null,null,null,null,null,0]
[null,null,null,null,null,null,null,null,null,null,null,null,null,0]
[null,null,null,null,null,null,null,null,null,null,null,null,null,0]
[null,null,null,null,null,null,null,null,null,null,null,null,null,0]
[null,null,null,null,null,null,null,null,null,null,null,null,null,0]
[null,null,null,null,null,null,null,null,null,null,null,null,null,0]
[null,null,null,null,null,null,null,null,null,null,null,null,null,0]
[null,null,null,null,null,null,null,null,null,null,null,null,null,0]
[null,null,null,null,null,null,null,null,null,null,null,null,null,0]
[null,null,null,null,null,null,null,null,null,null,null,null,null,0]
[null,null,null,null,null,null,null,null,null,null,null,null,null,0]
[null,null,null,null,null,null,null,null,null,null,null,null,null,0]
[null,null,null,null,null,null,null,null,null,null,null,null,null,0]
[null,null,null,null,null,null,null,null,null,null,null,null,null,0]
[null,null,null,null,null,null,null,null,null,null,null,null,null,0]
[null,null,null,null,null,null,null,null,null,null,null,null,null,0]
[null,null,null,null,null,null,null,null,null,null,null,null,null,0]
[null,null,null,null,null,null,null,null,null,null,null,null,null,0]
[null,null,null,null,null,null,null,null,null,null,null,null,null,0]
[null,null,null,null,null,null,null,null,null,null,null,null,null,{"$f":"SUM(H1922:J1922)","v":0}]
[null,null,null,null,null,null,null,null,null,null,null,null,null,0]
[null,null,null,null,null,null,null,null,null,null,null,null,null,0]
[null,null,null,null,null,null,null,null,null,null,null,null,null,0]
[null,null,null,null,null,null,null,null,null,null,null,null,null,0]
[null,null,null,null,null,null,null,null,null,null,null,null,null,0]
[null,null,null,null,null,null,null,null,null,null,null,null,null,0]
[null,null,null,null,null,null,null,null,null,null,null,null,null,0]
[null,null,null,null,null,null,null,null,null,null,null,null,null,0]
[null,null,null,null,null,null,null,null,null,null,null,null,null,0]
[null,null,null,null,null,null,null,null,null,null,null,null,null,0]
[null,null,null,null,null,null,null,null,null,null,null,null,null,0]
[null,null,null,null,null,null,null,null,null,null,null,null,null,0]
[null,null,null,null,null,null,null,null,null,null,null,null,null,0]
[null,null,null,null,null,null,null,null,null,null,null,null,null,0]
[null,null,null,null,null,null,null,null,null,null,null,null,null,0]
[null,null,null,null,null,null,null,null,null,null,null,null,null,0]
[null,null,null,null,null,null,null,null,null,null,null,null,null,0]
[null,null,null,null,null,null,null,null,null,null,null,null,null,0]
[null,null,null,null,null,null,null,null,null,null,null,null,null,0]
[null,null,null,null,null,null,null,null,null,null,null,null,null,0]
[null,null,null,null,null,null,null,null,null,null,null,null,null,0]
[null,null,null,null,null,null,null,null,null,null,null,null,null,0]
[null,null,null,null,null,null,null,null,null,null,null,null,null,0]
[null,null,null,null,null,null,null,null,null,null,null,null,null,0]
[null,null,null,null,null,null,null,null,null,null,null,null,null,0]
[null,null,null,null,null,null,null,null,null,null,null,null,null,0]
[null,null,null,null,null,null,null,null,null,null,null,null,null,0]
[null,null,null,null,null,null,null,null,null,null,null,null,null,0]
[null,null,null,null,null,null,null,null,null,null,null,null,null,0]
[null,null,null,null,null,null,null,null,null,null,null,null,null,0]
[null,null,null,null,null,null,null,null,null,null,null,null,null,0]
[null,null,null,null,null,null,null,null,null,null,null,null,null,0]
[null,null,null,null,null,null,null,null,null,null,null,null,null,0]
[null,null,null,null,null,null,null,null,null,null,null,null,null,0]
[null,null,null,null,null,null,null,null,null,null,null,null,null,0]
[null,null,null,null,null,null,null,null,null,null,null,null,null,0]
[null,null,null,null,null,null,null,null,null,null,null,null,null,0]
[null,null,null,null,null,null,null,null,null,null,null,null,null,0]
[null,null,null,null,null,null,null,null,null,null,null,null,null,0]
[null,null,null,null,null,null,null,null,null,null,null,null,null,0]
[null,null,null,null,null,null,null,null,null,null,null,null,null,0]
[null,null,null,null,null,null,null,null,null,null,null,null,null,0]
[null,null,null,null,null,null,null,null,null,null,null,null,null,0]
[null,null,null,null,null,null,null,null,null,null,null,null,null,0]
[null,null,null,null,null,null,null,null,null,null,null,null,null,0]
[null,null,null,null,null,null,null,null,null,null,null,null,null,0]
[null,null,null,null,null,null,null,null,null,null,null,null,null,0]
[null,null,null,null,null,null,null,null,null,null,null,null,null,0]
[null,null,null,null,null,null,null,null,null,null,null,null,null,0]
[null,null,null,null,null,null,null,null,null,null,null,null,null,0]
[null,null,null,null,null,null,null,null,null,null,null,null,null,0]
[null,null,null,null,null,null,null,null,null,null,null,null,null,0]
[null,null,null,null,null,null,null,null,null,null,null,null,null,0]
[null,null,null,null,null,null,null,null,null,null,null,null,null,0]
[null,null,null,null,null,null,null,null,null,null,null,null,null,0]
[null,null,null,null,null,null,null,null,null,null,null,null,null,0]
[null,null,null,null,null,null,null,null,null,null,null,null,null,0]
[null,null,null,null,null,null,null,null,null,null,null,null,null,0]
[null,null,null,null,null,null,null,null,null,null,null,null,null,0]
[null,null,null,null,null,null,null,null,null,null,null,null,null,0]
[null,null,null,null,null,null,null,null,null,null,null,null,null,0]
[null,null,null,null,null,null,null,null,null,null,null,null,null,0]
[null,null,null,null,null,null,null,null,null,null,null,null,null,0]
[null,null,null,null,null,null,null,null,null,null,null,null,null,{"$f":"SUM(H1986:J1986)","v":0}]
[null,null,null,null,null,null,null,null,null,null,null,null,null,0]
[null,null,null,null,null,null,null,null,null,null,null,null,null,0]
[null,null,null,null,null,null,null,null,null,null,null,null,null,0]
[null,null,null,null,null,null,null,null,null,null,null,null,null,0]
[null,null,null,null,null,null,null,null,null,null,null,null,null,0]
[null,null,null,null,null,null,null,null,null,null,null,null,null,0]
[null,null,null,null,null,null,null,null,null,null,null,null,null,0]
[null,null,null,null,null,null,null,null,null,null,null,null,null,0]
[null,null,null,null,null,null,null,null,null,null,null,null,null,0]
[null,null,null,null,null,null,null,null,null,null,null,null,null,0]
[null,null,null,null,null,null,null,null,null,null,null,null,null,0]
[null,null,null,null,null,null,null,null,null,null,null,null,null,0]
[null,null,null,null,null,null,null,null,null,null,null,null,null,0]
[null,null,null,null,null,null,null,null,null,null,null,null,null,0]
[null,null,null,null,null,null,null,null,null,null,null,null,null,0]
[null,null,null,null,null,null,null,null,null,null,null,null,null,0]
[null,null,null,null,null,null,null,null,null,null,null,null,null,0]
[null,null,null,null,null,null,null,null,null,null,null,null,null,0]
[null,null,null,null,null,null,null,null,null,null,null,null,null,0]
[null,null,null,null,null,null,null,null,null,null,null,null,null,0]
[null,null,null,null,null,null,null,null,null,null,null,null,null,0]
[null,null,null,null,null,null,null,null,null,null,null,null,null,0]
[null,null,null,null,null,null,null,null,null,null,null,null,null,0]
[null,null,null,null,null,null,null,null,null,null,null,null,null,0]
[null,null,null,null,null,null,null,null,null,null,null,null,null,0]
[null,null,null,null,null,null,null,null,null,null,null,null,null,0]
[null,null,null,null,null,null,null,null,null,null,null,null,null,0]
[null,null,null,null,null,null,null,null,null,null,null,null,null,0]
[null,null,null,null,null,null,null,null,null,null,null,null,null,0]
[null,null,null,null,null,null,null,null,null,null,null,null,null,0]
[null,null,null,null,null,null,null,null,null,null,null,null,null,0]
[null,null,null,null,null,null,null,null,null,null,null,null,null,0]
[null,null,null,null,null,null,null,null,null,null,null,null,null,0]
[null,null,null,null,null,null,null,null,null,null,null,null,null,0]
[null,null,null,null,null,null,null,null,null,null,null,null,null,0]
[null,null,null,null,null,null,null,null,null,null,null,null,null,0]
[null,null,null,null,null,null,null,null,null,null,null,null,null,0]
[null,null,null,null,null,null,null,null,null,null,null,null,null,0]
[null,null,null,null,null,null,null,null,null,null,null,null,null,0]
[null,null,null,null,null,null,null,null,null,null,null,null,null,0]
[null,null,null,null,null,null,null,null,null,null,null,null,null,0]
[null,null,null,null,null,null,null,null,null,null,null,null,null,0]
[null,null,null,null,null,null,null,null,null,null,null,null,null,0]
[null,null,null,null,null,null,null,null,null,null,null,null,null,0]
[null,null,null,null,null,null,null,null,null,null,null,null,null,0]
[null,null,null,null,null,null,null,null,null,null,null,null,null,0]
[null,null,null,null,null,null,null,null,null,null,null,null,null,0]
[null,null,null,null,null,null,null,null,null,null,null,null,null,0]
[null,null,null,null,null,null,null,null,null,null,null,null,null,0]
[null,null,null,null,null,null,null,null,null,null,null,null,null,0]
[null,null,null,null,null,null,null,null,null,null,null,null,null,0]
[null,null,null,null,null,null,null,null,null,null,null,null,null,0]
[null,null,null,null,null,null,null,null,null,null,null,null,null,0]
[null,null,null,null,null,null,null,null,null,null,null,null,null,0]
[null,null,null,null,null,null,null,null,null,null,null,null,null,0]
[null,null,null,null,null,null,null,null,null,null,null,null,null,0]
[null,null,null,null,null,null,null,null,null,null,null,null,null,0]
[null,null,null,null,null,null,null,null,null,null,null,null,null,0]
[null,null,null,null,null,null,null,null,null,null,null,null,null,0]
[null,null,null,null,null,null,null,null,null,null,null,null,null,0]
[null,null,null,null,null,null,null,null,null,null,null,null,null,0]
[null,null,null,null,null,null,null,null,null,null,null,null,null,0]
[null,null,null,null,null,null,null,null,null,null,null,null,null,0]
[null,null,null,null,null,null,null,null,null,null,null,null,null,0]
[null,null,null,null,null,null,null,null,null,null,null,null,null,0]
[null,null,null,null,null,null,null,null,null,null,null,null,null,0]
[null,null,null,null,null,null,null,null,null,null,null,null,null,0]
[null,null,null,null,null,null,null,null,null,null,null,null,null,0]
[null,null,null,null,null,null,null,null,null,null,null,null,null,0]
[null,null,null,null,null,null,null,null,null,null,null,null,null,0]
[null,null,null,null,null,null,null,null,null,null,null,null,null,0]
[null,null,null,null,null,null,null,null,null,null,null,null,null,0]
[null,null,null,null,null,null,null,null,null,null,null,null,null,0]
[null,null,null,null,null,null,null,null,null,null,null,null,null,0]
[null,null,null,null,null,null,null,null,null,null,null,null,null,0]
[null,null,null,null,null,null,null,null,null,null,null,null,null,0]
[null,null,null,null,null,null,null,null,null,null,null,null,null,0]
[null,null,null,null,null,null,null,null,null,null,null,null,null,0]
[null,null,null,null,null,null,null,null,null,null,null,null,null,0]
[null,null,null,null,null,null,null,null,null,null,null,null,null,0]
[null,null,null,null,null,null,null,null,null,null,null,null,null,0]
[null,null,null,null,null,null,null,null,null,null,null,null,null,0]
[null,null,null,null,null,null,null,null,null,null,null,null,null,0]
[null,null,null,null,null,null,null,null,null,null,null,null,null,0]
[null,null,null,null,null,null,null,null,null,null,null,null,null,0]
[null,null,null,null,null,null,null,null,null,null,null,null,null,0]
[null,null,null,null,null,null,null,null,null,null,null,null,null,0]
[null,null,null,null,null,null,null,null,null,null,null,null,null,0]
[null,null,null,null,null,null,null,null,null,null,null,null,null,0]
[null,null,null,null,null,null,null,null,null,null,null,null,null,0]
[null,null,null,null,null,null,null,null,null,null,null,null,null,0]
[null,null,null,null,null,null,null,null,null,null,null,null,null,0]
[null,null,null,null,null,null,null,null,null,null,null,null,null,0]
[null,null,null,null,null,null,null,null,null,null,null,null,null,0]
[null,null,null,null,null,null,null,null,null,null,null,null,null,0]
[null,null,null,null,null,null,null,null,null,null,null,null,null,0]
[null,null,null,null,null,null,null,null,null,null,null,null,null,0]
[null,null,null,null,null,null,null,null,null,null,null,null,null,0]
[null,null,null,null,null,null,null,null,null,null,null,null,null,0]
[null,null,null,null,null,null,null,null,null,null,null,null,null,0]
[null,null,null,null,null,null,null,null,null,null,null,null,null,0]
[null,null,null,null,null,null,null,null,null,null,null,null,null,{"$f":"SUM(H2242:J2242)","v":0}]
[null,null,null,null,null,null,null,null,null,null,null,null,null,0]
[null,null,null,null,null,null,null,null,null,null,null,null,null,0]
[null,null,null,null,null,null,null,null,null,null,null,null,null,0]
[null,null,null,null,null,null,null,null,null,null,null,null,null,0]
[null,null,null,null,null,null,null,null,null,null,null,null,null,0]
[null,null,null,null,null,null,null,null,null,null,null,null,null,0]
[null,null,null,null,null,null,null,null,null,null,null,null,null,0]
[null,null,null,null,null,null,null,null,null,null,null,null,null,0]
[null,null,null,null,null,null,null,null,null,null,null,null,null,0]
[null,null,null,null,null,null,null,null,null,null,null,null,null,0]
[null,null,null,null,null,null,null,null,null,null,null,null,null,0]
[null,null,null,null,null,null,null,null,null,null,null,null,null,0]
[null,null,null,null,null,null,null,null,null,null,null,null,null,0]
[null,null,null,null,null,null,null,null,null,null,null,null,null,0]
[null,null,null,null,null,null,null,null,null,null,null,null,null,0]
[null,null,null,null,null,null,null,null,null,null,null,null,null,0]
[null,null,null,null,null,null,null,null,null,null,null,null,null,0]
[null,null,null,null,null,null,null,null,null,null,null,null,null,0]
[null,null,null,null,null,null,null,null,null,null,null,null,null,0]
[null,null,null,null,null,null,null,null,null,null,null,null,null,0]
[null,null,null,null,null,null,null,null,null,null,null,null,null,0]
[null,null,null,null,null,null,null,null,null,null,null,null,null,0]
[null,null,null,null,null,null,null,null,null,null,null,null,null,{"$f":"SUM(H2306:J2306)","v":0}]
[null,null,null,null,null,null,null,null,null,null,null,null,null,0]
[null,null,null,null,null,null,null,null,null,null,null,null,null,0]
[null,null,null,null,null,null,null,null,null,null,null,null,null,0]
[null,null,null,null,null,null,null,null,null,null,null,null,null,0]
[null,null,null,null,null,null,null,null,null,null,null,null,null,0]
[null,null,null,null,null,null,null,null,null,null,null,null,null,0]
[null,null,null,null,null,null,null,null,null,null,null,null,null,0]
[null,null,null,null,null,null,null,null,null,null,null,null,null,0]
[null,null,null,null,null,null,null,null,null,null,null,null,null,0]
[null,null,null,null,null,null,null,null,null,null,null,null,null,0]
[null,null,null,null,null,null,null,null,null,null,null,null,null,0]
[null,null,null,null,null,null,null,null,null,null,null,null,null,0]
[null,null,null,null,null,null,null,null,null,null,null,null,null,0]
[null,null,null,null,null,null,null,null,null,null,null,null,null,0]
[null,null,null,null,null,null,null,null,null,null,null,null,null,0]
[null,null,null,null,null,null,null,null,null,null,null,null,null,0]
[null,null,null,null,null,null,null,null,null,null,null,null,null,0]
[null,null,null,null,null,null,null,null,null,null,null,null,null,0]
[null,null,null,null,null,null,null,null,null,null,null,null,null,0]
[null,null,null,null,null,null,null,null,null,null,null,null,null,0]
[null,null,null,null,null,null,null,null,null,null,null,null,null,0]
[null,null,null,null,null,null,null,null,null,null,null,null,null,0]
[null,null,null,null,null,null,null,null,null,null,null,null,null,0]
[null,null,null,null,null,null,null,null,null,null,null,null,null,0]
[null,null,null,null,null,null,null,null,null,null,null,null,null,0]
[null,null,null,null,null,null,null,null,null,null,null,null,null,0]
[null,null,null,null,null,null,null,null,null,null,null,null,null,0]
[null,null,null,null,null,null,null,null,null,null,null,null,null,0]
[null,null,null,null,null,null,null,null,null,null,null,null,null,0]
[null,null,null,null,null,null,null,null,null,null,null,null,null,0]
[null,null,null,null,null,null,null,null,null,null,null,null,null,0]
[null,null,null,null,null,null,null,null,null,null,null,null,null,0]
[null,null,null,null,null,null,null,null,null,null,null,null,null,0]
[null,null,null,null,null,null,null,null,null,null,null,null,null,0]
[null,null,null,null,null,null,null,null,null,null,null,null,null,0]
[null,null,null,null,null,null,null,null,null,null,null,null,null,0]
[null,null,null,null,null,null,null,null,null,null,null,null,null,0]
[null,null,null,null,null,null,null,null,null,null,null,null,null,0]
[null,null,null,null,null,null,null,null,null,null,null,null,null,0]
[null,null,null,null,null,null,null,null,null,null,null,null,null,0]
[null,null,null,null,null,null,null,null,null,null,null,null,null,0]
[null,null,null,null,null,null,null,null,null,null,null,null,null,0]
[null,null,null,null,null,null,null,null,null,null,null,null,null,0]
[null,null,null,null,null,null,null,null,null,null,null,null,null,0]
[null,null,null,null,null,null,null,null,null,null,null,null,null,0]
[null,null,null,null,null,null,null,null,null,null,null,null,null,0]
[null,null,null,null,null,null,null,null,null,null,null,null,null,0]
[null,null,null,null,null,null,null,null,null,null,null,null,null,0]
[null,null,null,null,null,null,null,null,null,null,null,null,null,0]
[null,null,null,null,null,null,null,null,null,null,null,null,null,0]
[null,null,null,null,null,null,null,null,null,null,null,null,null,0]
[null,null,null,null,null,null,null,null,null,null,null,null,null,0]
[null,null,null,null,null,null,null,null,null,null,null,null,null,0]
[null,null,null,null,null,null,null,null,null,null,null,null,null,0]
[null,null,null,null,null,null,null,null,null,null,null,null,null,0]
[null,null,null,null,null,null,null,null,null,null,null,null,null,0]
[null,null,null,null,null,null,null,null,null,null,null,null,null,0]
[null,null,null,null,null,null,null,null,null,null,null,null,null,0]
[null,null,null,null,null,null,null,null,null,null,null,null,null,0]
[null,null,null,null,null,null,null,null,null,null,null,null,null,0]
[null,null,null,null,null,null,null,null,null,null,null,null,null,0]
[null,null,null,null,null,null,null,null,null,null,null,null,null,0]
[null,null,null,null,null,null,null,null,null,null,null,null,null,0]
[null,null,null,null,null,null,null,null,null,null,null,null,null,0]
[null,null,null,null,null,null,null,null,null,null,null,null,null,0]
[null,null,null,null,null,null,null,null,null,null,null,null,null,0]
[null,null,null,null,null,null,null,null,null,null,null,null,null,0]
[null,null,null,null,null,null,null,null,null,null,null,null,null,0]
[null,null,null,null,null,null,null,null,null,null,null,null,null,0]
[null,null,null,null,null,null,null,null,null,null,null,null,null,0]
[null,null,null,null,null,null,null,null,null,null,null,null,null,0]
[null,null,null,null,null,null,null,null,null,null,null,null,null,0]
[null,null,null,null,null,null,null,null,null,null,null,null,null,0]
[null,null,null,null,null,null,null,null,null,null,null,null,null,0]
[null,null,null,null,null,null,null,null,null,null,null,null,null,0]
[null,null,null,null,null,null,null,null,null,null,null,null,null,0]
[null,null,null,null,null,null,null,null,null,null,null,null,null,0]
[null,null,null,null,null,null,null,null,null,null,null,null,null,0]
[null,null,null,null,null,null,null,null,null,null,null,null,null,0]
[null,null,null,null,null,null,null,null,null,null,null,null,null,0]
[null,null,null,null,null,null,null,null,null,null,null,null,null,0]
[null,null,null,null,null,null,null,null,null,null,null,null,null,0]
[null,null,null,null,null,null,null,null,null,null,null,null,null,0]
[null,null,null,null,null,null,null,null,null,null,null,null,null,0]
[null,null,null,null,null,null,null,null,null,null,null,null,null,0]
[null,null,null,null,null,null,null,null,null,null,null,null,null,0]
[null,null,null,null,null,null,null,null,null,null,null,null,null,0]
[null,null,null,null,null,null,null,null,null,null,null,null,null,0]
[null,null,null,null,null,null,null,null,null,null,null,null,null,0]
[null,null,null,null,null,null,null,null,null,null,null,null,null,0]
[null,null,null,null,null,null,null,null,null,null,null,null,null,0]
[null,null,null,null,null,null,null,null,null,null,null,null,null,0]
[null,null,null,null,null,null,null,null,null,null,null,null,null,0]
[null,null,null,null,null,null,null,null,null,null,null,null,null,0]
[null,null,null,null,null,null,null,null,null,null,null,null,null,0]
[null,null,null,null,null,null,null,null,null,null,null,null,null,0]
[null,null,null,null,null,null,null,null,null,null,null,null,null,0]
[null,null,null,null,null,null,null,null,null,null,null,null,null,0]
[null,null,null,null,null,null,null,null,null,null,null,null,null,0]
[null,null,null,null,null,null,null,null,null,null,null,null,null,0]
[null,null,null,null,null,null,null,null,null,null,null,null,null,0]
[null,null,null,null,null,null,null,null,null,null,null,null,null,0]
[null,null,null,null,null,null,null,null,null,null,null,null,null,0]
[null,null,null,null,null,null,null,null,null,null,null,null,null,0]
[null,null,null,null,null,null,null,null,null,null,null,null,null,0]
[null,null,null,null,null,null,null,null,null,null,null,null,null,0]
[null,null,null,null,null,null,null,null,null,null,null,null,null,0]
[null,null,null,null,null,null,null,null,null,null,null,null,null,0]
[null,null,null,null,null,null,null,null,null,null,null,null,null,0]
[null,null,null,null,null,null,null,null,null,null,null,null,null,0]
[null,null,null,null,null,null,null,null,null,null,null,null,null,0]
[null,null,null,null,null,null,null,null,null,null,null,null,null,0]
[null,null,null,null,null,null,null,null,null,null,null,null,null,0]
[null,null,null,null,null,null,null,null,null,null,null,null,null,0]
[null,null,null,null,null,null,null,null,null,null,null,null,null,0]
[null,null,null,null,null,null,null,null,null,null,null,null,null,{"$f":"SUM(H2626:J2626)","v":0}]
[null,null,null,null,null,null,null,null,null,null,null,null,null,0]
[null,null,null,null,null,null,null,null,null,null,null,null,null,0]
[null,null,null,null,null,null,null,null,null,null,null,null,null,0]
[null,null,null,null,null,null,null,null,null,null,null,null,null,0]
[null,null,null,null,null,null,null,null,null,null,null,null,null,0]
[null,null,null,null,null,null,null,null,null,null,null,null,null,0]
[null,null,null,null,null,null,null,null,null,null,null,null,null,0]
[null,null,null,null,null,null,null,null,null,null,null,null,null,0]
[null,null,null,null,null,null,null,null,null,null,null,null,null,0]
[null,null,null,null,null,null,null,null,null,null,null,null,null,0]
[null,null,null,null,null,null,null,null,null,null,null,null,null,0]
[null,null,null,null,null,null,null,null,null,null,null,null,null,0]
[null,null,null,null,null,null,null,null,null,null,null,null,null,0]
[null,null,null,null,null,null,null,null,null,null,null,null,null,0]
[null,null,null,null,null,null,null,null,null,null,null,null,null,0]
[null,null,null,null,null,null,null,null,null,null,null,null,null,0]
[null,null,null,null,null,null,null,null,null,null,null,null,null,0]
[null,null,null,null,null,null,null,null,null,null,null,null,null,0]
[null,null,null,null,null,null,null,null,null,null,null,null,null,0]
[null,null,null,null,null,null,null,null,null,null,null,null,null,0]
[null,null,null,null,null,null,null,null,null,null,null,null,null,0]
[null,null,null,null,null,null,null,null,null,null,null,null,null,0]
[null,null,null,null,null,null,null,null,null,null,null,null,null,{"$f":"SUM(H2690:J2690)","v":0}]
[null,null,null,null,null,null,null,null,null,null,null,null,null,0]
[null,null,null,null,null,null,null,null,null,null,null,null,null,0]
[null,null,null,null,null,null,null,null,null,null,null,null,null,0]
[null,null,null,null,null,null,null,null,null,null,null,null,null,0]
[null,null,null,null,null,null,null,null,null,null,null,null,null,0]
[null,null,null,null,null,null,null,null,null,null,null,null,null,0]
[null,null,null,null,null,null,null,null,null,null,null,null,null,0]
[null,null,null,null,null,null,null,null,null,null,null,null,null,0]
[null,null,null,null,null,null,null,null,null,null,null,null,null,0]
[null,null,null,null,null,null,null,null,null,null,null,null,null,0]
[null,null,null,null,null,null,null,null,null,null,null,null,null,0]
[null,null,null,null,null,null,null,null,null,null,null,null,null,0]
[null,null,null,null,null,null,null,null,null,null,null,null,null,0]
[null,null,null,null,null,null,null,null,null,null,null,null,null,0]
[null,null,null,null,null,null,null,null,null,null,null,null,null,0]
[null,null,null,null,null,null,null,null,null,null,null,null,null,0]
[null,null,null,null,null,null,null,null,null,null,null,null,null,0]
[null,null,null,null,null,null,null,null,null,null,null,null,null,0]
[null,null,null,null,null,null,null,null,null,null,null,null,null,0]
[null,null,null,null,null,null,null,null,null,null,null,null,null,0]
[null,null,null,null,null,null,null,null,null,null,null,null,null,0]
[null,null,null,null,null,null,null,null,null,null,null,null,null,0]
[null,null,null,null,null,null,null,null,null,null,null,null,null,0]
[null,null,null,null,null,null,null,null,null,null,null,null,null,0]
[null,null,null,null,null,null,null,null,null,null,null,null,null,0]
[null,null,null,null,null,null,null,null,null,null,null,null,null,0]
[null,null,null,null,null,null,null,null,null,null,null,null,null,0]
[null,null,null,null,null,null,null,null,null,null,null,null,null,0]
[null,null,null,null,null,null,null,null,null,null,null,null,null,0]
[null,null,null,null,null,null,null,null,null,null,null,null,null,0]
[null,null,null,null,null,null,null,null,null,null,null,null,null,0]
[null,null,null,null,null,null,null,null,null,null,null,null,null,0]
[null,null,null,null,null,null,null,null,null,null,null,null,null,0]
[null,null,null,null,null,null,null,null,null,null,null,null,null,0]
[null,null,null,null,null,null,null,null,null,null,null,null,null,0]
[null,null,null,null,null,null,null,null,null,null,null,null,null,0]
[null,null,null,null,null,null,null,null,null,null,null,null,null,0]
[null,null,null,null,null,null,null,null,null,null,null,null,null,0]
[null,null,null,null,null,null,null,null,null,null,null,null,null,0]
[null,null,null,null,null,null,null,null,null,null,null,null,null,0]
[null,null,null,null,null,null,null,null,null,null,null,null,null,0]
[null,null,null,null,null,null,null,null,null,null,null,null,null,0]
[null,null,null,null,null,null,null,null,null,null,null,null,null,0]
[null,null,null,null,null,null,null,null,null,null,null,null,null,0]
[null,null,null,null,null,null,null,null,null,null,null,null,null,0]
[null,null,null,null,null,null,null,null,null,null,null,null,null,0]
[null,null,null,null,null,null,null,null,null,null,null,null,null,0]
[null,null,null,null,null,null,null,null,null,null,null,null,null,0]
[null,null,null,null,null,null,null,null,null,null,null,null,null,0]
[null,null,null,null,null,null,null,null,null,null,null,null,null,0]
[null,null,null,null,null,null,null,null,null,null,null,null,null,0]
[null,null,null,null,null,null,null,null,null,null,null,null,null,0]
[null,null,null,null,null,null,null,null,null,null,null,null,null,0]
[null,null,null,null,null,null,null,null,null,null,null,null,null,0]
[null,null,null,null,null,null,null,null,null,null,null,null,null,0]
[null,null,null,null,null,null,null,null,null,null,null,null,null,0]
[null,null,null,null,null,null,null,null,null,null,null,null,null,0]
[null,null,null,null,null,null,null,null,null,null,null,null,null,0]
[null,null,null,null,null,null,null,null,null,null,null,null,null,0]
[null,null,null,null,null,null,null,null,null,null,null,null,null,0]
[null,null,null,null,null,null,null,null,null,null,null,null,null,0]
[null,null,null,null,null,null,null,null,null,null,null,null,null,0]
[null,null,null,null,null,null,null,null,null,null,null,null,null,0]
[null,null,null,null,null,null,null,null,null,null,null,null,null,0]
[null,null,null,null,null,null,null,null,null,null,null,null,null,0]
[null,null,null,null,null,null,null,null,null,null,null,null,null,0]
[null,null,null,null,null,null,null,null,null,null,null,null,null,0]
[null,null,null,null,null,null,null,null,null,null,null,null,null,0]
[null,null,null,null,null,null,null,null,null,null,null,null,null,0]
[null,null,null,null,null,null,null,null,null,null,null,null,null,0]
[null,null,null,null,null,null,null,null,null,null,null,null,null,0]
[null,null,null,null,null,null,null,null,null,null,null,null,null,0]
[null,null,null,null,null,null,null,null,null,null,null,null,null,0]
[null,null,null,null,null,null,null,null,null,null,null,null,null,0]
[null,null,null,null,null,null,null,null,null,null,null,null,null,0]
[null,null,null,null,null,null,null,null,null,null,null,null,null,0]
[null,null,null,null,null,null,null,null,null,null,null,null,null,0]
[null,null,null,null,null,null,null,null,null,null,null,null,null,0]
[null,null,null,null,null,null,null,null,null,null,null,null,null,0]
[null,null,null,null,null,null,null,null,null,null,null,null,null,0]
[null,null,null,null,null,null,null,null,null,null,null,null,null,0]
[null,null,null,null,null,null,null,null,null,null,null,null,null,0]
[null,null,null,null,null,null,null,null,null,null,null,null,null,0]
[null,null,null,null,null,null,null,null,null,null,null,null,null,0]
[null,null,null,null,null,null,null,null,null,null,null,null,null,0]
[null,null,null,null,null,null,null,null,null,null,null,null,null,0]
[null,null,null,null,null,null,null,null,null,null,null,null,null,0]
[null,null,null,null,null,null,null,null,null,null,null,null,null,0]
[null,null,null,null,null,null,null,null,null,null,null,null,null,0]
[null,null,null,null,null,null,null,null,null,null,null,null,null,0]
[null,null,null,null,null,null,null,null,null,null,null,null,null,0]
[null,null,null,null,null,null,null,null,null,null,null,null,null,0]
[null,null,null,null,null,null,null,null,null,null,null,null,null,0]
[null,null,null,null,null,null,null,null,null,null,null,null,null,0]
[null,null,null,null,null,null,null,null,null,null,null,null,null,0]
[null,null,null,null,null,null,null,null,null,null,null,null,null,0]
[null,null,null,null,null,null,null,null,null,null,null,null,null,0]
[null,null,null,null,null,null,null,null,null,null,null,null,null,0]
[null,null,null,null,null,null,null,null,null,null,null,null,null,0]
[null,null,null,null,null,null,null,null,null,null,null,null,null,0]
[null,null,null,null,null,null,null,null,null,null,null,null,null,0]
[null,null,null,null,null,null,null,null,null,null,null,null,null,0]
[null,null,null,null,null,null,null,null,null,null,null,null,null,0]
[null,null,null,null,null,null,null,null,null,null,null,null,null,0]
[null,null,null,null,null,null,null,null,null,null,null,null,null,0]
[null,null,null,null,null,null,null,null,null,null,null,null,null,0]
[null,null,null,null,null,null,null,null,null,null,null,null,null,0]
[null,null,null,null,null,null,null,null,null,null,null,null,null,0]
[null,null,null,null,null,null,null,null,null,null,null,null,null,0]
[null,null,null,null,null,null,null,null,null,null,null,null,null,0]
[null,null,null,null,null,null,null,null,null,null,null,null,null,0]
[null,null,null,null,null,null,null,null,null,null,null,null,null,0]
[null,null,null,null,null,null,null,null,null,null,null,null,null,0]
[null,null,null,null,null,null,null,null,null,null,null,null,null,0]
[null,null,null,null,null,null,null,null,null,null,null,null,null,{"$f":"SUM(H3010:J3010)","v":0}]
[null,null,null,null,null,null,null,null,null,null,null,null,null,0]
[null,null,null,null,null,null,null,null,null,null,null,null,null,0]
[null,null,null,null,null,null,null,null,null,null,null,null,null,0]
[null,null,null,null,null,null,null,null,null,null,null,null,null,0]
[null,null,null,null,null,null,null,null,null,null,null,null,null,0]
[null,null,null,null,null,null,null,null,null,null,null,null,null,0]
[null,null,null,null,null,null,null,null,null,null,null,null,null,0]
[null,null,null,null,null,null,null,null,null,null,null,null,null,0]
[null,null,null,null,null,null,null,null,null,null,null,null,null,0]
[null,null,null,null,null,null,null,null,null,null,null,null,null,0]
[null,null,null,null,null,null,null,null,null,null,null,null,null,0]
[null,null,null,null,null,null,null,null,null,null,null,null,null,0]
[null,null,null,null,null,null,null,null,null,null,null,null,null,0]
[null,null,null,null,null,null,null,null,null,null,null,null,null,0]
[null,null,null,null,null,null,null,null,null,null,null,null,null,0]
[null,null,null,null,null,null,null,null,null,null,null,null,null,0]
[null,null,null,null,null,null,null,null,null,null,null,null,null,0]
[null,null,null,null,null,null,null,null,null,null,null,null,null,0]
[null,null,null,null,null,null,null,null,null,null,null,null,null,0]
[null,null,null,null,null,null,null,null,null,null,null,null,null,0]
[null,null,null,null,null,null,null,null,null,null,null,null,null,0]
[null,null,null,null,null,null,null,null,null,null,null,null,null,0]
[null,null,null,null,null,null,null,null,null,null,null,null,null,0]
[null,null,null,null,null,null,null,null,null,null,null,null,null,0]
[null,null,null,null,null,null,null,null,null,null,null,null,null,0]
[null,null,null,null,null,null,null,null,null,null,null,null,null,0]
[null,null,null,null,null,null,null,null,null,null,null,null,null,0]
[null,null,null,null,null,null,null,null,null,null,null,null,null,0]
[null,null,null,null,null,null,null,null,null,null,null,null,null,0]
[null,null,null,null,null,null,null,null,null,null,null,null,null,0]
[null,null,null,null,null,null,null,null,null,null,null,null,null,0]
[null,null,null,null,null,null,null,null,null,null,null,null,null,0]
[null,null,null,null,null,null,null,null,null,null,null,null,null,0]
[null,null,null,null,null,null,null,null,null,null,null,null,null,0]
[null,null,null,null,null,null,null,null,null,null,null,null,null,0]
[null,null,null,null,null,null,null,null,null,null,null,null,null,0]
[null,null,null,null,null,null,null,null,null,null,null,null,null,0]
[null,null,null,null,null,null,null,null,null,null,null,null,null,0]
[null,null,null,null,null,null,null,null,null,null,null,null,null,0]
[null,null,null,null,null,null,null,null,null,null,null,null,null,0]
[null,null,null,null,null,null,null,null,null,null,null,null,null,0]
[null,null,null,null,null,null,null,null,null,null,null,null,null,0]
[null,null,null,null,null,null,null,null,null,null,null,null,null,0]
[null,null,null,null,null,null,null,null,null,null,null,null,null,0]
[null,null,null,null,null,null,null,null,null,null,null,null,null,0]
[null,null,null,null,null,null,null,null,null,null,null,null,null,0]
[null,null,null,null,null,null,null,null,null,null,null,null,null,0]
[null,null,null,null,null,null,null,null,null,null,null,null,null,0]
[null,null,null,null,null,null,null,null,null,null,null,null,null,0]
[null,null,null,null,null,null,null,null,null,null,null,null,null,0]
[null,null,null,null,null,null,null,null,null,null,null,null,null,0]
[null,null,null,null,null,null,null,null,null,null,null,null,null,0]
[null,null,null,null,null,null,null,null,null,null,null,null,null,0]
[null,null,null,null,null,null,null,null,null,null,null,null,null,0]
[null,null,null,null,null,null,null,null,null,null,null,null,null,0]
[null,null,null,null,null,null,null,null,null,null,null,null,null,0]
[null,null,null,null,null,null,null,null,null,null,null,null,null,0]
[null,null,null,null,null,null,null,null,null,null,null,null,null,0]
[null,null,null,null,null,null,null,null,null,null,null,null,null,0]
[null,null,null,null,null,null,null,null,null,null,null,null,null,0]
[null,null,null,null,null,null,null,null,null,null,null,null,null,0]
[null,null,null,null,null,null,null,null,null,null,null,null,null,0]
[null,null,null,null,null,null,null,null,null,null,null,null,null,0]
[null,null,null,null,null,null,null,null,null,null,null,null,null,0]
[null,null,null,null,null,null,null,null,null,null,null,null,null,0]
[null,null,null,null,null,null,null,null,null,null,null,null,null,0]
[null,null,null,null,null,null,null,null,null,null,null,null,null,0]
[null,null,null,null,null,null,null,null,null,null,null,null,null,0]
[null,null,null,null,null,null,null,null,null,null,null,null,null,0]
[null,null,null,null,null,null,null,null,null,null,null,null,null,0]
[null,null,null,null,null,null,null,null,null,null,null,null,null,0]
[null,null,null,null,null,null,null,null,null,null,null,null,null,0]
[null,null,null,null,null,null,null,null,null,null,null,null,null,0]
[null,null,null,null,null,null,null,null,null,null,null,null,null,0]
[null,null,null,null,null,null,null,null,null,null,null,null,null,0]
[null,null,null,null,null,null,null,null,null,null,null,null,null,0]
[null,null,null,null,null,null,null,null,null,null,null,null,null,0]
[null,null,null,null,null,null,null,null,null,null,null,null,null,0]
[null,null,null,null,null,null,null,null,null,null,null,null,null,0]
[null,null,null,null,null,null,null,null,null,null,null,null,null,0]
[null,null,null,null,null,null,null,null,null,null,null,null,null,0]
[null,null,null,null,null,null,null,null,null,null,null,null,null,0]
[null,null,null,null,null,null,null,null,null,null,null,null,null,0]
[null,null,null,null,null,null,null,null,null,null,null,null,null,0]
[null,null,null,null,null,null,null,null,null,null,null,null,null,0]
[null,null,null,null,null,null,null,null,null,null,null,null,null,0]
[null,null,null,null,null,null,null,null,null,null,null,null,null,0]
[null,null,null,null,null,null,null,null,null,null,null,null,null,0]
[null,null,null,null,null,null,null,null,null,null,null,null,null,0]
[null,null,null,null,null,null,null,null,null,null,null,null,null,0]
[null,null,null,null,null,null,null,null,null,null,null,null,null,0]
[null,null,null,null,null,null,null,null,null,null,null,null,null,0]
[null,null,null,null,null,null,null,null,null,null,null,null,null,{"$f":"SUM(H3266:J3266)","v":0}]
[null,null,null,null,null,null,null,null,null,null,null,null,null,0]
[null,null,null,null,null,null,null,null,null,null,null,null,null,0]
[null,null,null,null,null,null,null,null,null,null,null,null,null,0]
[null,null,null,null,null,null,null,null,null,null,null,null,null,0]
[null,null,null,null,null,null,null,null,null,null,null,null,null,0]
[null,null,null,null,null,null,null,null,null,null,null,null,null,0]
[null,null,null,null,null,null,null,null,null,null,null,null,null,0]
[null,null,null,null,null,null,null,null,null,null,null,null,null,0]
[null,null,null,null,null,null,null,null,null,null,null,null,null,0]
[null,null,null,null,null,null,null,null,null,null,null,null,null,0]
[null,null,null,null,null,null,null,null,null,null,null,null,null,0]
[null,null,null,null,null,null,null,null,null,null,null,null,null,0]
[null,null,null,null,null,null,null,null,null,null,null,null,null,0]
[null,null,null,null,null,null,null,null,null,null,null,null,null,0]
[null,null,null,null,null,null,null,null,null,null,null,null,null,0]
[null,null,null,null,null,null,null,null,null,null,null,null,null,0]
[null,null,null,null,null,null,null,null,null,null,null,null,null,0]
[null,null,null,null,null,null,null,null,null,null,null,null,null,0]
[null,null,null,null,null,null,null,null,null,null,null,null,null,0]
[null,null,null,null,null,null,null,null,null,null,null,null,null,0]
[null,null,null,null,null,null,null,null,null,null,null,null,null,0]
[null,null,null,null,null,null,null,null,null,null,null,null,null,0]
[null,null,null,null,null,null,null,null,null,null,null,null,null,{"$f":"SUM(H3330:J3330)","v":0}]
[null,null,null,null,null,null,null,null,null,null,null,null,null,0]
[null,null,null,null,null,null,null,null,null,null,null,null,null,0]
[null,null,null,null,null,null,null,null,null,null,null,null,null,0]
[null,null,null,null,null,null,null,null,null,null,null,null,null,0]
[null,null,null,null,null,null,null,null,null,null,null,null,null,0]
[null,null,null,null,null,null,null,null,null,null,null,null,null,0]
[null,null,null,null,null,null,null,null,null,null,null,null,null,0]
[null,null,null,null,null,null,null,null,null,null,null,null,null,0]
[null,null,null,null,null,null,null,null,null,null,null,null,null,0]
[null,null,null,null,null,null,null,null,null,null,null,null,null,0]
[null,null,null,null,null,null,null,null,null,null,null,null,null,0]
[null,null,null,null,null,null,null,null,null,null,null,null,null,0]
[null,null,null,null,null,null,null,null,null,null,null,null,null,0]
[null,null,null,null,null,null,null,null,null,null,null,null,null,0]
[null,null,null,null,null,null,null,null,null,null,null,null,null,0]
[null,null,null,null,null,null,null,null,null,null,null,null,null,0]
[null,null,null,null,null,null,null,null,null,null,null,null,null,0]
[null,null,null,null,null,null,null,null,null,null,null,null,null,0]
[null,null,null,null,null,null,null,null,null,null,null,null,null,0]
[null,null,null,null,null,null,null,null,null,null,null,null,null,0]
[null,null,null,null,null,null,null,null,null,null,null,null,null,0]
[null,null,null,null,null,null,null,null,null,null,null,null,null,0]
[null,null,null,null,null,null,null,null,null,null,null,null,null,{"$f":"SUM(H3394:J3394)","v":0}]
[null,null,null,null,null,null,null,null,null,null,null,null,null,0]
[null,null,null,null,null,null,null,null,null,null,null,null,null,0]
[null,null,null,null,null,null,null,null,null,null,null,null,null,0]
[null,null,null,null,null,null,null,null,null,null,null,null,null,0]
[null,null,null,null,null,null,null,null,null,null,null,null,null,0]
[null,null,null,null,null,null,null,null,null,null,null,null,null,0]
[null,null,null,null,null,null,null,null,null,null,null,null,null,0]
[null,null,null,null,null,null,null,null,null,null,null,null,null,0]
[null,null,null,null,null,null,null,null,null,null,null,null,null,0]
[null,null,null,null,null,null,null,null,null,null,null,null,null,0]
[null,null,null,null,null,null,null,null,null,null,null,null,null,0]
[null,null,null,null,null,null,null,null,null,null,null,null,null,0]
[null,null,null,null,null,null,null,null,null,null,null,null,null,0]
[null,null,null,null,null,null,null,null,null,null,null,null,null,0]
[null,null,null,null,null,null,null,null,null,null,null,null,null,0]
[null,null,null,null,null,null,null,null,null,null,null,null,null,0]
[null,null,null,null,null,null,null,null,null,null,null,null,null,0]
[null,null,null,null,null,null,null,null,null,null,null,null,null,0]
[null,null,null,null,null,null,null,null,null,null,null,null,null,0]
[null,null,null,null,null,null,null,null,null,null,null,null,null,0]
[null,null,null,null,null,null,null,null,null,null,null,null,null,0]
[null,null,null,null,null,null,null,null,null,null,null,null,null,0]
[null,null,null,null,null,null,null,null,null,null,null,null,null,{"$f":"SUM(H3458:J3458)","v":0}]
[null,null,null,null,null,null,null,null,null,null,null,null,null,0]
[null,null,null,null,null,null,null,null,null,null,null,null,null,0]
[null,null,null,null,null,null,null,null,null,null,null,null,null,0]
[null,null,null,null,null,null,null,null,null,null,null,null,null,0]
[null,null,null,null,null,null,null,null,null,null,null,null,null,0]
[null,null,null,null,null,null,null,null,null,null,null,null,null,0]
[null,null,null,null,null,null,null,null,null,null,null,null,null,0]
[null,null,null,null,null,null,null,null,null,null,null,null,null,0]
[null,null,null,null,null,null,null,null,null,null,null,null,null,0]
[null,null,null,null,null,null,null,null,null,null,null,null,null,0]
[null,null,null,null,null,null,null,null,null,null,null,null,null,0]
[null,null,null,null,null,null,null,null,null,null,null,null,null,0]
[null,null,null,null,null,null,null,null,null,null,null,null,null,0]
[null,null,null,null,null,null,null,null,null,null,null,null,null,0]
[null,null,null,null,null,null,null,null,null,null,null,null,null,0]
[null,null,null,null,null,null,null,null,null,null,null,null,null,0]
[null,null,null,null,null,null,null,null,null,null,null,null,null,0]
[null,null,null,null,null,null,null,null,null,null,null,null,null,0]
[null,null,null,null,null,null,null,null,null,null,null,null,null,0]
[null,null,null,null,null,null,null,null,null,null,null,null,null,0]
[null,null,null,null,null,null,null,null,null,null,null,null,null,0]
[null,null,null,null,null,null,null,null,null,null,null,null,null,0]
[null,null,null,null,null,null,null,null,null,null,null,null,null,0]
[null,null,null,null,null,null,null,null,null,null,null,null,null,0]
[null,null,null,null,null,null,null,null,null,null,null,null,null,0]
[null,null,null,null,null,null,null,null,null,null,null,null,null,0]
[null,null,null,null,null,null,null,null,null,null,null,null,null,0]
[null,null,null,null,null,null,null,null,null,null,null,null,null,0]
[null,null,null,null,null,null,null,null,null,null,null,null,null,0]
[null,null,null,null,null,null,null,null,null,null,null,null,null,0]
[null,null,null,null,null,null,null,null,null,null,null,null,null,0]
[]
[]
[null,null,null,null,null,null,null,null,null,null,null,null,null,null,null,"Allowances Current Period End (Including ECL)"]
[null,null,null,null,null,null,null,null,null,null,null,{"$f":"Specifications!$C$22","v":"Rs."},{"$f":"Specifications!$C$22","v":"Rs."},{"$f":"Specifications!$C$22","v":"Rs."},{"$f":"Specifications!$C$22","v":"Rs."},{"$f":"Specifications!$C$22","v":"Rs."},{"$f":"Specifications!$C$22","v":"Rs."},{"$f":"Specifications!$C$22","v":"Rs."},{"$f":"Specifications!$C$22","v":"Rs."}]
[null,null,null,null,null,null,null,null,null,null,null,null,null,null,null,null,null,null,0]
[null,null,null,null,null,null,null,null,null,null,null,null,null,null,null,null,null,null,0]
[null,null,null,null,null,null,null,null,null,null,null,null,null,null,null,null,null,null,0]
[null,null,null,null,null,null,null,null,null,null,null,null,null,null,null,null,null,null,0]
[null,null,null,null,null,null,null,null,null,null,null,null,null,null,null,null,null,null,0]
[null,null,null,null,null,null,null,null,null,null,null,null,null,null,null,null,null,null,0]
[null,null,null,null,null,null,null,null,null,null,null,null,null,null,null,null,null,null,0]
[null,null,null,null,null,null,null,null,null,null,null,null,null,null,null,null,null,null,0]
[null,null,null,null,null,null,null,null,null,null,null,null,null,null,null,null,null,null,0]
[null,null,null,null,null,null,null,null,null,null,null,null,null,null,null,null,null,null,0]
[null,null,null,null,null,null,null,null,null,null,null,null,null,null,null,null,null,null,0]
[null,null,null,null,null,null,null,null,null,null,null,null,null,null,null,null,null,null,0]
[null,null,null,null,null,null,null,null,null,null,null,null,null,null,null,null,null,null,0]
[null,null,null,null,null,null,null,null,null,null,null,null,null,null,null,null,null,null,0]
[null,null,null,null,null,null,null,null,null,null,null,null,null,null,null,null,null,null,0]
[null,null,null,null,null,null,null,null,null,null,null,null,null,null,null,null,null,null,0]
[null,null,null,null,null,null,null,null,null,null,null,null,null,null,null,null,null,null,0]
[null,null,null,null,null,null,null,null,null,null,null,null,null,null,null,null,null,null,0]
[null,null,null,null,null,null,null,null,null,null,null,null,null,null,null,null,null,null,0]
[null,null,null,null,null,null,null,null,null,null,null,null,null,null,null,null,null,null,0]
[null,null,null,null,null,null,null,null,null,null,null,null,null,null,null,null,null,null,0]
[null,null,null,null,null,null,null,null,null,null,null,null,null,null,null,null,null,null,0]
[null,null,null,null,null,null,null,null,null,null,null,null,null,null,null,null,null,null,0]
[null,null,null,null,null,null,null,null,null,null,null,null,null,null,null,null,null,null,0]
[null,null,null,null,null,null,null,null,null,null,null,null,null,null,null,null,null,null,0]
[null,null,null,null,null,null,null,null,null,null,null,null,null,null,null,null,null,null,0]
[null,null,null,null,null,null,null,null,null,null,null,null,null,null,null,null,null,null,0]
[null,null,null,null,null,null,null,null,null,null,null,null,null,null,null,null,null,null,0]
[null,null,null,null,null,null,null,null,null,null,null,null,null,null,null,null,null,null,0]
[null,null,null,null,null,null,null,null,null,null,null,null,null,null,null,null,null,null,0]
[null,null,null,null,null,null,null,null,null,null,null,null,null,null,null,null,null,null,0]
[null,null,null,null,null,null,null,null,null,null,null,null,null,null,null,null,null,null,0]
[null,null,null,null,null,null,null,null,null,null,null,null,null,null,null,null,null,null,0]
[null,null,null,null,null,null,null,null,null,null,null,null,null,null,null,null,null,null,0]
[null,null,null,null,null,null,null,null,null,null,null,null,null,null,null,null,null,null,0]
[null,null,null,null,null,null,null,null,null,null,null,null,null,null,null,null,null,null,0]
[null,null,null,null,null,null,null,null,null,null,null,null,null,null,null,null,null,null,0]
[null,null,null,null,null,null,null,null,null,null,null,null,null,null,null,null,null,null,0]
[null,null,null,null,null,null,null,null,null,null,null,null,null,null,null,null,null,null,0]
[null,null,null,null,null,null,null,null,null,null,null,null,null,null,null,null,null,null,0]
[null,null,null,null,null,null,null,null,null,null,null,null,null,null,null,null,null,null,0]
[null,null,null,null,null,null,null,null,null,null,null,null,null,null,null,null,null,null,0]
[null,null,null,null,null,null,null,null,null,null,null,null,null,null,null,null,null,null,0]
[null,null,null,null,null,null,null,null,null,null,null,null,null,null,null,null,null,null,0]
[null,null,null,null,null,null,null,null,null,null,null,null,null,null,null,null,null,null,0]
[null,null,null,null,null,null,null,null,null,null,null,null,null,null,null,null,null,null,0]
[null,null,null,null,null,null,null,null,null,null,null,null,null,null,null,null,null,null,0]
[null,null,null,null,null,null,null,null,null,null,null,null,null,null,null,null,null,null,0]
[null,null,null,null,null,null,null,null,null,null,null,null,null,null,null,null,null,null,0]
[null,null,null,null,null,null,null,null,null,null,null,null,null,null,null,null,null,null,0]
[null,null,null,null,null,null,null,null,null,null,null,null,null,null,null,null,null,null,0]
[null,null,null,null,null,null,null,null,null,null,null,null,null,null,null,null,null,null,0]
[null,null,null,null,null,null,null,null,null,null,null,null,null,null,null,null,null,null,0]
[null,null,null,null,null,null,null,null,null,null,null,null,null,null,null,null,null,null,0]
[null,null,null,null,null,null,null,null,null,null,null,null,null,null,null,null,null,null,0]
[null,null,null,null,null,null,null,null,null,null,null,null,null,null,null,null,null,null,0]
[null,null,null,null,null,null,null,null,null,null,null,null,null,null,null,null,null,null,0]
[null,null,null,null,null,null,null,null,null,null,null,null,null,null,null,null,null,null,0]
[null,null,null,null,null,null,null,null,null,null,null,null,null,null,null,null,null,null,0]
[null,null,null,null,null,null,null,null,null,null,null,null,null,null,null,null,null,null,0]
[null,null,null,null,null,null,null,null,null,null,null,null,null,null,null,null,null,null,0]
[null,null,null,null,null,null,null,null,null,null,null,null,null,null,null,null,null,null,0]
[null,null,null,null,null,null,null,null,null,null,null,null,null,null,null,null,null,null,0]
[null,null,null,null,null,null,null,null,null,null,null,null,null,null,null,null,null,null,0]
[null,null,null,null,null,null,null,null,null,null,null,null,null,null,null,null,null,null,0]
[null,null,null,null,null,null,null,null,null,null,null,null,null,null,null,null,null,null,0]
[null,null,null,null,null,null,null,null,null,null,null,null,null,null,null,null,null,null,0]
[null,null,null,null,null,null,null,null,null,null,null,null,null,null,null,null,null,null,0]
[null,null,null,null,null,null,null,null,null,null,null,null,null,null,null,null,null,null,0]
[null,null,null,null,null,null,null,null,null,null,null,null,null,null,null,null,null,null,0]
[null,null,null,null,null,null,null,null,null,null,null,null,null,null,null,null,null,null,0]
[null,null,null,null,null,null,null,null,null,null,null,null,null,null,null,null,null,null,0]
[null,null,null,null,null,null,null,null,null,null,null,null,null,null,null,null,null,null,0]
[null,null,null,null,null,null,null,null,null,null,null,null,null,null,null,null,null,null,0]
[null,null,null,null,null,null,null,null,null,null,null,null,null,null,null,null,null,null,0]
[null,null,null,null,null,null,null,null,null,null,null,null,null,null,null,null,null,null,0]
[null,null,null,null,null,null,null,null,null,null,null,null,null,null,null,null,null,null,0]
[null,null,null,null,null,null,null,null,null,null,null,null,null,null,null,null,null,null,0]
[null,null,null,null,null,null,null,null,null,null,null,null,null,null,null,null,null,null,0]
[null,null,null,null,null,null,null,null,null,null,null,null,null,null,null,null,null,null,0]
[null,null,null,null,null,null,null,null,null,null,null,null,null,null,null,null,null,null,0]
[null,null,null,null,null,null,null,null,null,null,null,null,null,null,null,null,null,null,0]
[null,null,null,null,null,null,null,null,null,null,null,null,null,null,null,null,null,null,0]
[null,null,null,null,null,null,null,null,null,null,null,null,null,null,null,null,null,null,0]
[null,null,null,null,null,null,null,null,null,null,null,null,null,null,null,null,null,null,0]
[null,null,null,null,null,null,null,null,null,null,null,null,null,null,null,null,null,null,0]
[null,null,null,null,null,null,null,null,null,null,null,null,null,null,null,null,null,null,0]
[null,null,null,null,null,null,null,null,null,null,null,null,null,null,null,null,null,null,0]
[null,null,null,null,null,null,null,null,null,null,null,null,null,null,null,null,null,null,0]
[null,null,null,null,null,null,null,null,null,null,null,null,null,null,null,null,null,null,0]
[null,null,null,null,null,null,null,null,null,null,null,null,null,null,null,null,null,null,0]
[null,null,null,null,null,null,null,null,null,null,null,null,null,null,null,null,null,null,0]
[null,null,null,null,null,null,null,null,null,null,null,null,null,null,null,null,null,null,{"$f":"SUM(L3812:O3812)","v":0}]
[null,null,null,null,null,null,null,null,null,null,null,null,null,null,null,null,null,null,0]
[null,null,null,null,null,null,null,null,null,null,null,null,null,null,null,null,null,null,0]
[null,null,null,null,null,null,null,null,null,null,null,null,null,null,null,null,null,null,0]
[null,null,null,null,null,null,null,null,null,null,null,null,null,null,null,null,null,null,0]
[null,null,null,null,null,null,null,null,null,null,null,null,null,null,null,null,null,null,0]
[null,null,null,null,null,null,null,null,null,null,null,null,null,null,null,null,null,null,0]
[null,null,null,null,null,null,null,null,null,null,null,null,null,null,null,null,null,null,0]
[null,null,null,null,null,null,null,null,null,null,null,null,null,null,null,null,null,null,0]
[null,null,null,null,null,null,null,null,null,null,null,null,null,null,null,null,null,null,0]
[null,null,null,null,null,null,null,null,null,null,null,null,null,null,null,null,null,null,0]
[null,null,null,null,null,null,null,null,null,null,null,null,null,null,null,null,null,null,0]
[null,null,null,null,null,null,null,null,null,null,null,null,null,null,null,null,null,null,0]
[null,null,null,null,null,null,null,null,null,null,null,null,null,null,null,null,null,null,0]
[null,null,null,null,null,null,null,null,null,null,null,null,null,null,null,null,null,null,0]
[null,null,null,null,null,null,null,null,null,null,null,null,null,null,null,null,null,null,0]
[null,null,null,null,null,null,null,null,null,null,null,null,null,null,null,null,null,null,0]
[null,null,null,null,null,null,null,null,null,null,null,null,null,null,null,null,null,null,0]
[null,null,null,null,null,null,null,null,null,null,null,null,null,null,null,null,null,null,0]
[null,null,null,null,null,null,null,null,null,null,null,null,null,null,null,null,null,null,0]
[null,null,null,null,null,null,null,null,null,null,null,null,null,null,null,null,null,null,0]
[null,null,null,null,null,null,null,null,null,null,null,null,null,null,null,null,null,null,0]
[null,null,null,null,null,null,null,null,null,null,null,null,null,null,null,null,null,null,0]
[null,null,null,null,null,null,null,null,null,null,null,null,null,null,null,null,null,null,{"$f":"SUM(L3876:O3876)","v":0}]
[null,null,null,null,null,null,null,null,null,null,null,null,null,null,null,null,null,null,0]
[null,null,null,null,null,null,null,null,null,null,null,null,null,null,null,null,null,null,0]
[null,null,null,null,null,null,null,null,null,null,null,null,null,null,null,null,null,null,0]
[null,null,null,null,null,null,null,null,null,null,null,null,null,null,null,null,null,null,0]
[null,null,null,null,null,null,null,null,null,null,null,null,null,null,null,null,null,null,0]
[null,null,null,null,null,null,null,null,null,null,null,null,null,null,null,null,null,null,0]
[null,null,null,null,null,null,null,null,null,null,null,null,null,null,null,null,null,null,0]
[null,null,null,null,null,null,null,null,null,null,null,null,null,null,null,null,null,null,0]
[null,null,null,null,null,null,null,null,null,null,null,null,null,null,null,null,null,null,0]
[null,null,null,null,null,null,null,null,null,null,null,null,null,null,null,null,null,null,0]
[null,null,null,null,null,null,null,null,null,null,null,null,null,null,null,null,null,null,0]
[null,null,null,null,null,null,null,null,null,null,null,null,null,null,null,null,null,null,0]
[null,null,null,null,null,null,null,null,null,null,null,null,null,null,null,null,null,null,0]
[null,null,null,null,null,null,null,null,null,null,null,null,null,null,null,null,null,null,0]
[null,null,null,null,null,null,null,null,null,null,null,null,null,null,null,null,null,null,0]
[null,null,null,null,null,null,null,null,null,null,null,null,null,null,null,null,null,null,0]
[null,null,null,null,null,null,null,null,null,null,null,null,null,null,null,null,null,null,0]
[null,null,null,null,null,null,null,null,null,null,null,null,null,null,null,null,null,null,0]
[null,null,null,null,null,null,null,null,null,null,null,null,null,null,null,null,null,null,0]
[null,null,null,null,null,null,null,null,null,null,null,null,null,null,null,null,null,null,0]
[null,null,null,null,null,null,null,null,null,null,null,null,null,null,null,null,null,null,0]
[null,null,null,null,null,null,null,null,null,null,null,null,null,null,null,null,null,null,0]
[null,null,null,null,null,null,null,null,null,null,null,null,null,null,null,null,null,null,0]
[null,null,null,null,null,null,null,null,null,null,null,null,null,null,null,null,null,null,0]
[null,null,null,null,null,null,null,null,null,null,null,null,null,null,null,null,null,null,0]
[null,null,null,null,null,null,null,null,null,null,null,null,null,null,null,null,null,null,0]
[null,null,null,null,null,null,null,null,null,null,null,null,null,null,null,null,null,null,0]
[null,null,null,null,null,null,null,null,null,null,null,null,null,null,null,null,null,null,0]
[null,null,null,null,null,null,null,null,null,null,null,null,null,null,null,null,null,null,0]
[null,null,null,null,null,null,null,null,null,null,null,null,null,null,null,null,null,null,0]
[null,null,null,null,null,null,null,null,null,null,null,null,null,null,null,null,null,null,0]
[null,null,null,null,null,null,null,null,null,null,null,null,null,null,null,null,null,null,0]
[null,null,null,null,null,null,null,null,null,null,null,null,null,null,null,null,null,null,0]
[null,null,null,null,null,null,null,null,null,null,null,null,null,null,null,null,null,null,0]
[null,null,null,null,null,null,null,null,null,null,null,null,null,null,null,null,null,null,0]
[null,null,null,null,null,null,null,null,null,null,null,null,null,null,null,null,null,null,0]
[null,null,null,null,null,null,null,null,null,null,null,null,null,null,null,null,null,null,0]
[null,null,null,null,null,null,null,null,null,null,null,null,null,null,null,null,null,null,0]
[null,null,null,null,null,null,null,null,null,null,null,null,null,null,null,null,null,null,0]
[null,null,null,null,null,null,null,null,null,null,null,null,null,null,null,null,null,null,0]
[null,null,null,null,null,null,null,null,null,null,null,null,null,null,null,null,null,null,0]
[null,null,null,null,null,null,null,null,null,null,null,null,null,null,null,null,null,null,0]
[null,null,null,null,null,null,null,null,null,null,null,null,null,null,null,null,null,null,0]
[null,null,null,null,null,null,null,null,null,null,null,null,null,null,null,null,null,null,0]
[null,null,null,null,null,null,null,null,null,null,null,null,null,null,null,null,null,null,0]
[null,null,null,null,null,null,null,null,null,null,null,null,null,null,null,null,null,null,0]
[null,null,null,null,null,null,null,null,null,null,null,null,null,null,null,null,null,null,0]
[null,null,null,null,null,null,null,null,null,null,null,null,null,null,null,null,null,null,0]
[null,null,null,null,null,null,null,null,null,null,null,null,null,null,null,null,null,null,0]
[null,null,null,null,null,null,null,null,null,null,null,null,null,null,null,null,null,null,0]
[null,null,null,null,null,null,null,null,null,null,null,null,null,null,null,null,null,null,0]
[null,null,null,null,null,null,null,null,null,null,null,null,null,null,null,null,null,null,0]
[null,null,null,null,null,null,null,null,null,null,null,null,null,null,null,null,null,null,0]
[null,null,null,null,null,null,null,null,null,null,null,null,null,null,null,null,null,null,0]
[null,null,null,null,null,null,null,null,null,null,null,null,null,null,null,null,null,null,0]
[null,null,null,null,null,null,null,null,null,null,null,null,null,null,null,null,null,null,0]
[null,null,null,null,null,null,null,null,null,null,null,null,null,null,null,null,null,null,0]
[null,null,null,null,null,null,null,null,null,null,null,null,null,null,null,null,null,null,0]
[null,null,null,null,null,null,null,null,null,null,null,null,null,null,null,null,null,null,0]
[null,null,null,null,null,null,null,null,null,null,null,null,null,null,null,null,null,null,0]
[null,null,null,null,null,null,null,null,null,null,null,null,null,null,null,null,null,null,0]
[null,null,null,null,null,null,null,null,null,null,null,null,null,null,null,null,null,null,0]
[null,null,null,null,null,null,null,null,null,null,null,null,null,null,null,null,null,null,0]
[null,null,null,null,null,null,null,null,null,null,null,null,null,null,null,null,null,null,0]
[null,null,null,null,null,null,null,null,null,null,null,null,null,null,null,null,null,null,0]
[null,null,null,null,null,null,null,null,null,null,null,null,null,null,null,null,null,null,0]
[null,null,null,null,null,null,null,null,null,null,null,null,null,null,null,null,null,null,0]
[null,null,null,null,null,null,null,null,null,null,null,null,null,null,null,null,null,null,0]
[null,null,null,null,null,null,null,null,null,null,null,null,null,null,null,null,null,null,0]
[null,null,null,null,null,null,null,null,null,null,null,null,null,null,null,null,null,null,0]
[null,null,null,null,null,null,null,null,null,null,null,null,null,null,null,null,null,null,0]
[null,null,null,null,null,null,null,null,null,null,null,null,null,null,null,null,null,null,0]
[null,null,null,null,null,null,null,null,null,null,null,null,null,null,null,null,null,null,0]
[null,null,null,null,null,null,null,null,null,null,null,null,null,null,null,null,null,null,0]
[null,null,null,null,null,null,null,null,null,null,null,null,null,null,null,null,null,null,0]
[null,null,null,null,null,null,null,null,null,null,null,null,null,null,null,null,null,null,0]
[null,null,null,null,null,null,null,null,null,null,null,null,null,null,null,null,null,null,0]
[null,null,null,null,null,null,null,null,null,null,null,null,null,null,null,null,null,null,0]
[null,null,null,null,null,null,null,null,null,null,null,null,null,null,null,null,null,null,0]
[null,null,null,null,null,null,null,null,null,null,null,null,null,null,null,null,null,null,0]
[null,null,null,null,null,null,null,null,null,null,null,null,null,null,null,null,null,null,0]
[null,null,null,null,null,null,null,null,null,null,null,null,null,null,null,null,null,null,0]
[null,null,null,null,null,null,null,null,null,null,null,null,null,null,null,null,null,null,0]
[null,null,null,null,null,null,null,null,null,null,null,null,null,null,null,null,null,null,0]
[null,null,null,null,null,null,null,null,null,null,null,null,null,null,null,null,null,null,0]
[null,null,null,null,null,null,null,null,null,null,null,null,null,null,null,null,null,null,0]
[null,null,null,null,null,null,null,null,null,null,null,null,null,null,null,null,null,null,0]
[null,null,null,null,null,null,null,null,null,null,null,null,null,null,null,null,null,null,0]
[null,null,null,null,null,null,null,null,null,null,null,null,null,null,null,null,null,null,0]
[null,null,null,null,null,null,null,null,null,null,null,null,null,null,null,null,null,null,0]
[null,null,null,null,null,null,null,null,null,null,null,null,null,null,null,null,null,null,0]
[null,null,null,null,null,null,null,null,null,null,null,null,null,null,null,null,null,null,0]
[null,null,null,null,null,null,null,null,null,null,null,null,null,null,null,null,null,null,0]
[null,null,null,null,null,null,null,null,null,null,null,null,null,null,null,null,null,null,0]
[null,null,null,null,null,null,null,null,null,null,null,null,null,null,null,null,null,null,0]
[null,null,null,null,null,null,null,null,null,null,null,null,null,null,null,null,null,null,0]
[null,null,null,null,null,null,null,null,null,null,null,null,null,null,null,null,null,null,0]
[null,null,null,null,null,null,null,null,null,null,null,null,null,null,null,null,null,null,0]
[null,null,null,null,null,null,null,null,null,null,null,null,null,null,null,null,null,null,0]
[null,null,null,null,null,null,null,null,null,null,null,null,null,null,null,null,null,null,0]
[null,null,null,null,null,null,null,null,null,null,null,null,null,null,null,null,null,null,0]
[null,null,null,null,null,null,null,null,null,null,null,null,null,null,null,null,null,null,0]
[null,null,null,null,null,null,null,null,null,null,null,null,null,null,null,null,null,null,0]
[null,null,null,null,null,null,null,null,null,null,null,null,null,null,null,null,null,null,0]
[null,null,null,null,null,null,null,null,null,null,null,null,null,null,null,null,null,null,0]
[null,null,null,null,null,null,null,null,null,null,null,null,null,null,null,null,null,null,0]
[null,null,null,null,null,null,null,null,null,null,null,null,null,null,null,null,null,null,0]
[null,null,null,null,null,null,null,null,null,null,null,null,null,null,null,null,null,null,0]
[null,null,null,null,null,null,null,null,null,null,null,null,null,null,null,null,null,null,0]
[null,null,null,null,null,null,null,null,null,null,null,null,null,null,null,null,null,null,0]
[null,null,null,null,null,null,null,null,null,null,null,null,null,null,null,null,null,null,0]
[null,null,null,null,null,null,null,null,null,null,null,null,null,null,null,null,null,null,0]
[null,null,null,null,null,null,null,null,null,null,null,null,null,null,null,null,null,null,0]
[null,null,null,null,null,null,null,null,null,null,null,null,null,null,null,null,null,null,0]
[null,null,null,null,null,null,null,null,null,null,null,null,null,null,null,null,null,null,0]
[null,null,null,null,null,null,null,null,null,null,null,null,null,null,null,null,null,null,{"$f":"SUM(L4196:O4196)","v":0}]
[null,null,null,null,null,null,null,null,null,null,null,null,null,null,null,null,null,null,0]
[null,null,null,null,null,null,null,null,null,null,null,null,null,null,null,null,null,null,0]
[null,null,null,null,null,null,null,null,null,null,null,null,null,null,null,null,null,null,0]
[null,null,null,null,null,null,null,null,null,null,null,null,null,null,null,null,null,null,0]
[null,null,null,null,null,null,null,null,null,null,null,null,null,null,null,null,null,null,0]
[null,null,null,null,null,null,null,null,null,null,null,null,null,null,null,null,null,null,0]
[null,null,null,null,null,null,null,null,null,null,null,null,null,null,null,null,null,null,0]
[null,null,null,null,null,null,null,null,null,null,null,null,null,null,null,null,null,null,0]
[null,null,null,null,null,null,null,null,null,null,null,null,null,null,null,null,null,null,0]
[null,null,null,null,null,null,null,null,null,null,null,null,null,null,null,null,null,null,0]
[null,null,null,null,null,null,null,null,null,null,null,null,null,null,null,null,null,null,0]
[null,null,null,null,null,null,null,null,null,null,null,null,null,null,null,null,null,null,0]
[null,null,null,null,null,null,null,null,null,null,null,null,null,null,null,null,null,null,0]
[null,null,null,null,null,null,null,null,null,null,null,null,null,null,null,null,null,null,0]
[null,null,null,null,null,null,null,null,null,null,null,null,null,null,null,null,null,null,0]
[null,null,null,null,null,null,null,null,null,null,null,null,null,null,null,null,null,null,0]
[null,null,null,null,null,null,null,null,null,null,null,null,null,null,null,null,null,null,0]
[null,null,null,null,null,null,null,null,null,null,null,null,null,null,null,null,null,null,0]
[null,null,null,null,null,null,null,null,null,null,null,null,null,null,null,null,null,null,0]
[null,null,null,null,null,null,null,null,null,null,null,null,null,null,null,null,null,null,0]
[null,null,null,null,null,null,null,null,null,null,null,null,null,null,null,null,null,null,0]
[null,null,null,null,null,null,null,null,null,null,null,null,null,null,null,null,null,null,0]
[null,null,null,null,null,null,null,null,null,null,null,null,null,null,null,null,null,null,0]
[null,null,null,null,null,null,null,null,null,null,null,null,null,null,null,null,null,null,0]
[null,null,null,null,null,null,null,null,null,null,null,null,null,null,null,null,null,null,0]
[null,null,null,null,null,null,null,null,null,null,null,null,null,null,null,null,null,null,0]
[null,null,null,null,null,null,null,null,null,null,null,null,null,null,null,null,null,null,0]
[null,null,null,null,null,null,null,null,null,null,null,null,null,null,null,null,null,null,0]
[null,null,null,null,null,null,null,null,null,null,null,null,null,null,null,null,null,null,0]
[null,null,null,null,null,null,null,null,null,null,null,null,null,null,null,null,null,null,0]
[null,null,null,null,null,null,null,null,null,null,null,null,null,null,null,null,null,null,0]
[null,null,null,null,null,null,null,null,null,null,null,null,null,null,null,null,null,null,0]
[null,null,null,null,null,null,null,null,null,null,null,null,null,null,null,null,null,null,0]
[null,null,null,null,null,null,null,null,null,null,null,null,null,null,null,null,null,null,0]
[null,null,null,null,null,null,null,null,null,null,null,null,null,null,null,null,null,null,0]
[null,null,null,null,null,null,null,null,null,null,null,null,null,null,null,null,null,null,0]
[null,null,null,null,null,null,null,null,null,null,null,null,null,null,null,null,null,null,0]
[null,null,null,null,null,null,null,null,null,null,null,null,null,null,null,null,null,null,0]
[null,null,null,null,null,null,null,null,null,null,null,null,null,null,null,null,null,null,0]
[null,null,null,null,null,null,null,null,null,null,null,null,null,null,null,null,null,null,0]
[null,null,null,null,null,null,null,null,null,null,null,null,null,null,null,null,null,null,0]
[null,null,null,null,null,null,null,null,null,null,null,null,null,null,null,null,null,null,0]
[null,null,null,null,null,null,null,null,null,null,null,null,null,null,null,null,null,null,0]
[null,null,null,null,null,null,null,null,null,null,null,null,null,null,null,null,null,null,0]
[null,null,null,null,null,null,null,null,null,null,null,null,null,null,null,null,null,null,0]
[null,null,null,null,null,null,null,null,null,null,null,null,null,null,null,null,null,null,0]
[null,null,null,null,null,null,null,null,null,null,null,null,null,null,null,null,null,null,0]
[null,null,null,null,null,null,null,null,null,null,null,null,null,null,null,null,null,null,0]
[null,null,null,null,null,null,null,null,null,null,null,null,null,null,null,null,null,null,0]
[null,null,null,null,null,null,null,null,null,null,null,null,null,null,null,null,null,null,0]
[null,null,null,null,null,null,null,null,null,null,null,null,null,null,null,null,null,null,0]
[null,null,null,null,null,null,null,null,null,null,null,null,null,null,null,null,null,null,0]
[null,null,null,null,null,null,null,null,null,null,null,null,null,null,null,null,null,null,0]
[null,null,null,null,null,null,null,null,null,null,null,null,null,null,null,null,null,null,0]
[null,null,null,null,null,null,null,null,null,null,null,null,null,null,null,null,null,null,0]
[null,null,null,null,null,null,null,null,null,null,null,null,null,null,null,null,null,null,0]
[null,null,null,null,null,null,null,null,null,null,null,null,null,null,null,null,null,null,0]
[null,null,null,null,null,null,null,null,null,null,null,null,null,null,null,null,null,null,0]
[null,null,null,null,null,null,null,null,null,null,null,null,null,null,null,null,null,null,0]
[null,null,null,null,null,null,null,null,null,null,null,null,null,null,null,null,null,null,0]
[null,null,null,null,null,null,null,null,null,null,null,null,null,null,null,null,null,null,0]
[null,null,null,null,null,null,null,null,null,null,null,null,null,null,null,null,null,null,0]
[null,null,null,null,null,null,null,null,null,null,null,null,null,null,null,null,null,null,0]
[null,null,null,null,null,null,null,null,null,null,null,null,null,null,null,null,null,null,0]
[null,null,null,null,null,null,null,null,null,null,null,null,null,null,null,null,null,null,0]
[null,null,null,null,null,null,null,null,null,null,null,null,null,null,null,null,null,null,0]
[null,null,null,null,null,null,null,null,null,null,null,null,null,null,null,null,null,null,0]
[null,null,null,null,null,null,null,null,null,null,null,null,null,null,null,null,null,null,0]
[null,null,null,null,null,null,null,null,null,null,null,null,null,null,null,null,null,null,0]
[null,null,null,null,null,null,null,null,null,null,null,null,null,null,null,null,null,null,0]
[null,null,null,null,null,null,null,null,null,null,null,null,null,null,null,null,null,null,0]
[null,null,null,null,null,null,null,null,null,null,null,null,null,null,null,null,null,null,0]
[null,null,null,null,null,null,null,null,null,null,null,null,null,null,null,null,null,null,0]
[null,null,null,null,null,null,null,null,null,null,null,null,null,null,null,null,null,null,0]
[null,null,null,null,null,null,null,null,null,null,null,null,null,null,null,null,null,null,0]
[null,null,null,null,null,null,null,null,null,null,null,null,null,null,null,null,null,null,0]
[null,null,null,null,null,null,null,null,null,null,null,null,null,null,null,null,null,null,0]
[null,null,null,null,null,null,null,null,null,null,null,null,null,null,null,null,null,null,0]
[null,null,null,null,null,null,null,null,null,null,null,null,null,null,null,null,null,null,0]
[null,null,null,null,null,null,null,null,null,null,null,null,null,null,null,null,null,null,0]
[null,null,null,null,null,null,null,null,null,null,null,null,null,null,null,null,null,null,0]
[null,null,null,null,null,null,null,null,null,null,null,null,null,null,null,null,null,null,0]
[null,null,null,null,null,null,null,null,null,null,null,null,null,null,null,null,null,null,0]
[null,null,null,null,null,null,null,null,null,null,null,null,null,null,null,null,null,null,0]
[null,null,null,null,null,null,null,null,null,null,null,null,null,null,null,null,null,null,0]
[null,null,null,null,null,null,null,null,null,null,null,null,null,null,null,null,null,null,0]
[null,null,null,null,null,null,null,null,null,null,null,null,null,null,null,null,null,null,0]
[null,null,null,null,null,null,null,null,null,null,null,null,null,null,null,null,null,null,0]
[null,null,null,null,null,null,null,null,null,null,null,null,null,null,null,null,null,null,0]
[null,null,null,null,null,null,null,null,null,null,null,null,null,null,null,null,null,null,0]
[null,null,null,null,null,null,null,null,null,null,null,null,null,null,null,null,null,null,0]
[null,null,null,null,null,null,null,null,null,null,null,null,null,null,null,null,null,null,0]
[null,null,null,null,null,null,null,null,null,null,null,null,null,null,null,null,null,null,0]
[null,null,null,null,null,null,null,null,null,null,null,null,null,null,null,null,null,null,0]
[null,null,null,null,null,null,null,null,null,null,null,null,null,null,null,null,null,null,0]
[null,null,null,null,null,null,null,null,null,null,null,null,null,null,null,null,null,null,0]
[null,null,null,null,null,null,null,null,null,null,null,null,null,null,null,null,null,null,0]
[null,null,null,null,null,null,null,null,null,null,null,null,null,null,null,null,null,null,0]
[null,null,null,null,null,null,null,null,null,null,null,null,null,null,null,null,null,null,0]
[null,null,null,null,null,null,null,null,null,null,null,null,null,null,null,null,null,null,0]
[null,null,null,null,null,null,null,null,null,null,null,null,null,null,null,null,null,null,0]
[null,null,null,null,null,null,null,null,null,null,null,null,null,null,null,null,null,null,0]
[null,null,null,null,null,null,null,null,null,null,null,null,null,null,null,null,null,null,0]
[null,null,null,null,null,null,null,null,null,null,null,null,null,null,null,null,null,null,0]
[null,null,null,null,null,null,null,null,null,null,null,null,null,null,null,null,null,null,0]
[null,null,null,null,null,null,null,null,null,null,null,null,null,null,null,null,null,null,0]
[null,null,null,null,null,null,null,null,null,null,null,null,null,null,null,null,null,null,0]
[null,null,null,null,null,null,null,null,null,null,null,null,null,null,null,null,null,null,0]
[null,null,null,null,null,null,null,null,null,null,null,null,null,null,null,null,null,null,0]
[null,null,null,null,null,null,null,null,null,null,null,null,null,null,null,null,null,null,0]
[null,null,null,null,null,null,null,null,null,null,null,null,null,null,null,null,null,null,0]
[null,null,null,null,null,null,null,null,null,null,null,null,null,null,null,null,null,null,0]
[null,null,null,null,null,null,null,null,null,null,null,null,null,null,null,null,null,null,0]
[null,null,null,null,null,null,null,null,null,null,null,null,null,null,null,null,null,null,0]
[null,null,null,null,null,null,null,null,null,null,null,null,null,null,null,null,null,null,{"$f":"SUM(L4516:O4516)","v":0}]
[null,null,null,null,null,null,null,null,null,null,null,null,null,null,null,null,null,null,0]
[null,null,null,null,null,null,null,null,null,null,null,null,null,null,null,null,null,null,0]
[null,null,null,null,null,null,null,null,null,null,null,null,null,null,null,null,null,null,0]
[null,null,null,null,null,null,null,null,null,null,null,null,null,null,null,null,null,null,0]
[null,null,null,null,null,null,null,null,null,null,null,null,null,null,null,null,null,null,0]
[null,null,null,null,null,null,null,null,null,null,null,null,null,null,null,null,null,null,0]
[null,null,null,null,null,null,null,null,null,null,null,null,null,null,null,null,null,null,0]
[null,null,null,null,null,null,null,null,null,null,null,null,null,null,null,null,null,null,0]
[null,null,null,null,null,null,null,null,null,null,null,null,null,null,null,null,null,null,0]
[null,null,null,null,null,null,null,null,null,null,null,null,null,null,null,null,null,null,0]
[null,null,null,null,null,null,null,null,null,null,null,null,null,null,null,null,null,null,0]
[null,null,null,null,null,null,null,null,null,null,null,null,null,null,null,null,null,null,0]
[null,null,null,null,null,null,null,null,null,null,null,null,null,null,null,null,null,null,0]
[null,null,null,null,null,null,null,null,null,null,null,null,null,null,null,null,null,null,0]
[null,null,null,null,null,null,null,null,null,null,null,null,null,null,null,null,null,null,0]
[null,null,null,null,null,null,null,null,null,null,null,null,null,null,null,null,null,null,0]
[null,null,null,null,null,null,null,null,null,null,null,null,null,null,null,null,null,null,0]
[null,null,null,null,null,null,null,null,null,null,null,null,null,null,null,null,null,null,0]
[null,null,null,null,null,null,null,null,null,null,null,null,null,null,null,null,null,null,0]
[null,null,null,null,null,null,null,null,null,null,null,null,null,null,null,null,null,null,0]
[null,null,null,null,null,null,null,null,null,null,null,null,null,null,null,null,null,null,0]
[null,null,null,null,null,null,null,null,null,null,null,null,null,null,null,null,null,null,0]
[null,null,null,null,null,null,null,null,null,null,null,null,null,null,null,null,null,null,{"$f":"SUM(L4580:O4580)","v":0}]
[null,null,null,null,null,null,null,null,null,null,null,null,null,null,null,null,null,null,0]
[null,null,null,null,null,null,null,null,null,null,null,null,null,null,null,null,null,null,0]
[null,null,null,null,null,null,null,null,null,null,null,null,null,null,null,null,null,null,0]
[null,null,null,null,null,null,null,null,null,null,null,null,null,null,null,null,null,null,0]
[null,null,null,null,null,null,null,null,null,null,null,null,null,null,null,null,null,null,0]
[null,null,null,null,null,null,null,null,null,null,null,null,null,null,null,null,null,null,0]
[null,null,null,null,null,null,null,null,null,null,null,null,null,null,null,null,null,null,0]
[null,null,null,null,null,null,null,null,null,null,null,null,null,null,null,null,null,null,0]
[null,null,null,null,null,null,null,null,null,null,null,null,null,null,null,null,null,null,0]
[null,null,null,null,null,null,null,null,null,null,null,null,null,null,null,null,null,null,0]
[null,null,null,null,null,null,null,null,null,null,null,null,null,null,null,null,null,null,0]
[null,null,null,null,null,null,null,null,null,null,null,null,null,null,null,null,null,null,0]
[null,null,null,null,null,null,null,null,null,null,null,null,null,null,null,null,null,null,0]
[null,null,null,null,null,null,null,null,null,null,null,null,null,null,null,null,null,null,0]
[null,null,null,null,null,null,null,null,null,null,null,null,null,null,null,null,null,null,0]
[null,null,null,null,null,null,null,null,null,null,null,null,null,null,null,null,null,null,0]
[null,null,null,null,null,null,null,null,null,null,null,null,null,null,null,null,null,null,0]
[null,null,null,null,null,null,null,null,null,null,null,null,null,null,null,null,null,null,0]
[null,null,null,null,null,null,null,null,null,null,null,null,null,null,null,null,null,null,0]
[null,null,null,null,null,null,null,null,null,null,null,null,null,null,null,null,null,null,0]
[null,null,null,null,null,null,null,null,null,null,null,null,null,null,null,null,null,null,0]
[null,null,null,null,null,null,null,null,null,null,null,null,null,null,null,null,null,null,0]
[null,null,null,null,null,null,null,null,null,null,null,null,null,null,null,null,null,null,0]
[null,null,null,null,null,null,null,null,null,null,null,null,null,null,null,null,null,null,0]
[null,null,null,null,null,null,null,null,null,null,null,null,null,null,null,null,null,null,0]
[null,null,null,null,null,null,null,null,null,null,null,null,null,null,null,null,null,null,0]
[null,null,null,null,null,null,null,null,null,null,null,null,null,null,null,null,null,null,0]
[null,null,null,null,null,null,null,null,null,null,null,null,null,null,null,null,null,null,0]
[null,null,null,null,null,null,null,null,null,null,null,null,null,null,null,null,null,null,0]
[null,null,null,null,null,null,null,null,null,null,null,null,null,null,null,null,null,null,0]
[null,null,null,null,null,null,null,null,null,null,null,null,null,null,null,null,null,null,0]
[null,null,null,null,null,null,null,null,null,null,null,null,null,null,null,null,null,null,0]
[null,null,null,null,null,null,null,null,null,null,null,null,null,null,null,null,null,null,0]
[null,null,null,null,null,null,null,null,null,null,null,null,null,null,null,null,null,null,0]
[null,null,null,null,null,null,null,null,null,null,null,null,null,null,null,null,null,null,0]
[null,null,null,null,null,null,null,null,null,null,null,null,null,null,null,null,null,null,0]
[null,null,null,null,null,null,null,null,null,null,null,null,null,null,null,null,null,null,0]
[null,null,null,null,null,null,null,null,null,null,null,null,null,null,null,null,null,null,0]
[null,null,null,null,null,null,null,null,null,null,null,null,null,null,null,null,null,null,0]
[null,null,null,null,null,null,null,null,null,null,null,null,null,null,null,null,null,null,0]
[null,null,null,null,null,null,null,null,null,null,null,null,null,null,null,null,null,null,0]
[null,null,null,null,null,null,null,null,null,null,null,null,null,null,null,null,null,null,0]
[null,null,null,null,null,null,null,null,null,null,null,null,null,null,null,null,null,null,0]
[null,null,null,null,null,null,null,null,null,null,null,null,null,null,null,null,null,null,0]
[null,null,null,null,null,null,null,null,null,null,null,null,null,null,null,null,null,null,0]
[null,null,null,null,null,null,null,null,null,null,null,null,null,null,null,null,null,null,0]
[null,null,null,null,null,null,null,null,null,null,null,null,null,null,null,null,null,null,0]
[null,null,null,null,null,null,null,null,null,null,null,null,null,null,null,null,null,null,0]
[null,null,null,null,null,null,null,null,null,null,null,null,null,null,null,null,null,null,0]
[null,null,null,null,null,null,null,null,null,null,null,null,null,null,null,null,null,null,0]
[null,null,null,null,null,null,null,null,null,null,null,null,null,null,null,null,null,null,0]
[null,null,null,null,null,null,null,null,null,null,null,null,null,null,null,null,null,null,0]
[null,null,null,null,null,null,null,null,null,null,null,null,null,null,null,null,null,null,0]
[null,null,null,null,null,null,null,null,null,null,null,null,null,null,null,null,null,null,0]
[null,null,null,null,null,null,null,null,null,null,null,null,null,null,null,null,null,null,0]
[null,null,null,null,null,null,null,null,null,null,null,null,null,null,null,null,null,null,0]
[null,null,null,null,null,null,null,null,null,null,null,null,null,null,null,null,null,null,0]
[null,null,null,null,null,null,null,null,null,null,null,null,null,null,null,null,null,null,0]
[null,null,null,null,null,null,null,null,null,null,null,null,null,null,null,null,null,null,0]
[null,null,null,null,null,null,null,null,null,null,null,null,null,null,null,null,null,null,0]
[null,null,null,null,null,null,null,null,null,null,null,null,null,null,null,null,null,null,0]
[null,null,null,null,null,null,null,null,null,null,null,null,null,null,null,null,null,null,0]
[null,null,null,null,null,null,null,null,null,null,null,null,null,null,null,null,null,null,0]
[null,null,null,null,null,null,null,null,null,null,null,null,null,null,null,null,null,null,0]
[null,null,null,null,null,null,null,null,null,null,null,null,null,null,null,null,null,null,0]
[null,null,null,null,null,null,null,null,null,null,null,null,null,null,null,null,null,null,0]
[null,null,null,null,null,null,null,null,null,null,null,null,null,null,null,null,null,null,0]
[null,null,null,null,null,null,null,null,null,null,null,null,null,null,null,null,null,null,0]
[null,null,null,null,null,null,null,null,null,null,null,null,null,null,null,null,null,null,0]
[null,null,null,null,null,null,null,null,null,null,null,null,null,null,null,null,null,null,0]
[null,null,null,null,null,null,null,null,null,null,null,null,null,null,null,null,null,null,0]
[null,null,null,null,null,null,null,null,null,null,null,null,null,null,null,null,null,null,0]
[null,null,null,null,null,null,null,null,null,null,null,null,null,null,null,null,null,null,0]
[null,null,null,null,null,null,null,null,null,null,null,null,null,null,null,null,null,null,0]
[null,null,null,null,null,null,null,null,null,null,null,null,null,null,null,null,null,null,0]
[null,null,null,null,null,null,null,null,null,null,null,null,null,null,null,null,null,null,0]
[null,null,null,null,null,null,null,null,null,null,null,null,null,null,null,null,null,null,0]
[null,null,null,null,null,null,null,null,null,null,null,null,null,null,null,null,null,null,0]
[null,null,null,null,null,null,null,null,null,null,null,null,null,null,null,null,null,null,0]
[null,null,null,null,null,null,null,null,null,null,null,null,null,null,null,null,null,null,0]
[null,null,null,null,null,null,null,null,null,null,null,null,null,null,null,null,null,null,0]
[null,null,null,null,null,null,null,null,null,null,null,null,null,null,null,null,null,null,0]
[null,null,null,null,null,null,null,null,null,null,null,null,null,null,null,null,null,null,0]
[null,null,null,null,null,null,null,null,null,null,null,null,null,null,null,null,null,null,0]
[null,null,null,null,null,null,null,null,null,null,null,null,null,null,null,null,null,null,0]
[null,null,null,null,null,null,null,null,null,null,null,null,null,null,null,null,null,null,0]
[null,null,null,null,null,null,null,null,null,null,null,null,null,null,null,null,null,null,0]
[null,null,null,null,null,null,null,null,null,null,null,null,null,null,null,null,null,null,0]
[null,null,null,null,null,null,null,null,null,null,null,null,null,null,null,null,null,null,0]
[null,null,null,null,null,null,null,null,null,null,null,null,null,null,null,null,null,null,0]
[null,null,null,null,null,null,null,null,null,null,null,null,null,null,null,null,null,null,0]
[null,null,null,null,null,null,null,null,null,null,null,null,null,null,null,null,null,null,0]
[null,null,null,null,null,null,null,null,null,null,null,null,null,null,null,null,null,null,0]
[null,null,null,null,null,null,null,null,null,null,null,null,null,null,null,null,null,null,0]
[null,null,null,null,null,null,null,null,null,null,null,null,null,null,null,null,null,null,0]
[null,null,null,null,null,null,null,null,null,null,null,null,null,null,null,null,null,null,0]
[null,null,null,null,null,null,null,null,null,null,null,null,null,null,null,null,null,null,0]
[null,null,null,null,null,null,null,null,null,null,null,null,null,null,null,null,null,null,0]
[null,null,null,null,null,null,null,null,null,null,null,null,null,null,null,null,null,null,0]
[null,null,null,null,null,null,null,null,null,null,null,null,null,null,null,null,null,null,0]
[null,null,null,null,null,null,null,null,null,null,null,null,null,null,null,null,null,null,0]
[null,null,null,null,null,null,null,null,null,null,null,null,null,null,null,null,null,null,0]
[null,null,null,null,null,null,null,null,null,null,null,null,null,null,null,null,null,null,0]
[null,null,null,null,null,null,null,null,null,null,null,null,null,null,null,null,null,null,0]
[null,null,null,null,null,null,null,null,null,null,null,null,null,null,null,null,null,null,0]
[null,null,null,null,null,null,null,null,null,null,null,null,null,null,null,null,null,null,0]
[null,null,null,null,null,null,null,null,null,null,null,null,null,null,null,null,null,null,0]
[null,null,null,null,null,null,null,null,null,null,null,null,null,null,null,null,null,null,0]
[null,null,null,null,null,null,null,null,null,null,null,null,null,null,null,null,null,null,0]
[null,null,null,null,null,null,null,null,null,null,null,null,null,null,null,null,null,null,0]
[null,null,null,null,null,null,null,null,null,null,null,null,null,null,null,null,null,null,0]
[null,null,null,null,null,null,null,null,null,null,null,null,null,null,null,null,null,null,0]
[null,null,null,null,null,null,null,null,null,null,null,null,null,null,null,null,null,null,0]
[null,null,null,null,null,null,null,null,null,null,null,null,null,null,null,null,null,null,0]
[null,null,null,null,null,null,null,null,null,null,null,null,null,null,null,null,null,null,0]
[null,null,null,null,null,null,null,null,null,null,null,null,null,null,null,null,null,null,{"$f":"SUM(L4900:O4900)","v":0}]
[null,null,null,null,null,null,null,null,null,null,null,null,null,null,null,null,null,null,0]
[null,null,null,null,null,null,null,null,null,null,null,null,null,null,null,null,null,null,0]
[null,null,null,null,null,null,null,null,null,null,null,null,null,null,null,null,null,null,0]
[null,null,null,null,null,null,null,null,null,null,null,null,null,null,null,null,null,null,0]
[null,null,null,null,null,null,null,null,null,null,null,null,null,null,null,null,null,null,0]
[null,null,null,null,null,null,null,null,null,null,null,null,null,null,null,null,null,null,0]
[null,null,null,null,null,null,null,null,null,null,null,null,null,null,null,null,null,null,0]
[null,null,null,null,null,null,null,null,null,null,null,null,null,null,null,null,null,null,0]
[null,null,null,null,null,null,null,null,null,null,null,null,null,null,null,null,null,null,0]
[null,null,null,null,null,null,null,null,null,null,null,null,null,null,null,null,null,null,0]
[null,null,null,null,null,null,null,null,null,null,null,null,null,null,null,null,null,null,0]
[null,null,null,null,null,null,null,null,null,null,null,null,null,null,null,null,null,null,0]
[null,null,null,null,null,null,null,null,null,null,null,null,null,null,null,null,null,null,0]
[null,null,null,null,null,null,null,null,null,null,null,null,null,null,null,null,null,null,0]
[null,null,null,null,null,null,null,null,null,null,null,null,null,null,null,null,null,null,0]
[null,null,null,null,null,null,null,null,null,null,null,null,null,null,null,null,null,null,0]
[null,null,null,null,null,null,null,null,null,null,null,null,null,null,null,null,null,null,0]
[null,null,null,null,null,null,null,null,null,null,null,null,null,null,null,null,null,null,0]
[null,null,null,null,null,null,null,null,null,null,null,null,null,null,null,null,null,null,0]
[null,null,null,null,null,null,null,null,null,null,null,null,null,null,null,null,null,null,0]
[null,null,null,null,null,null,null,null,null,null,null,null,null,null,null,null,null,null,0]
[null,null,null,null,null,null,null,null,null,null,null,null,null,null,null,null,null,null,0]
[null,null,null,null,null,null,null,null,null,null,null,null,null,null,null,null,null,null,{"$f":"SUM(L4964:O4964)","v":0}]
[null,null,null,null,null,null,null,null,null,null,null,null,null,null,null,null,null,null,0]
[null,null,null,null,null,null,null,null,null,null,null,null,null,null,null,null,null,null,0]
[null,null,null,null,null,null,null,null,null,null,null,null,null,null,null,null,null,null,0]
[null,null,null,null,null,null,null,null,null,null,null,null,null,null,null,null,null,null,0]
[null,null,null,null,null,null,null,null,null,null,null,null,null,null,null,null,null,null,0]
[null,null,null,null,null,null,null,null,null,null,null,null,null,null,null,null,null,null,0]
[null,null,null,null,null,null,null,null,null,null,null,null,null,null,null,null,null,null,0]
[null,null,null,null,null,null,null,null,null,null,null,null,null,null,null,null,null,null,0]
[null,null,null,null,null,null,null,null,null,null,null,null,null,null,null,null,null,null,0]
[null,null,null,null,null,null,null,null,null,null,null,null,null,null,null,null,null,null,0]
[null,null,null,null,null,null,null,null,null,null,null,null,null,null,null,null,null,null,0]
[null,null,null,null,null,null,null,null,null,null,null,null,null,null,null,null,null,null,0]
[null,null,null,null,null,null,null,null,null,null,null,null,null,null,null,null,null,null,0]
[null,null,null,null,null,null,null,null,null,null,null,null,null,null,null,null,null,null,0]
[null,null,null,null,null,null,null,null,null,null,null,null,null,null,null,null,null,null,0]
[null,null,null,null,null,null,null,null,null,null,null,null,null,null,null,null,null,null,0]
[null,null,null,null,null,null,null,null,null,null,null,null,null,null,null,null,null,null,0]
[null,null,null,null,null,null,null,null,null,null,null,null,null,null,null,null,null,null,0]
[null,null,null,null,null,null,null,null,null,null,null,null,null,null,null,null,null,null,0]
[null,null,null,null,null,null,null,null,null,null,null,null,null,null,null,null,null,null,0]
[null,null,null,null,null,null,null,null,null,null,null,null,null,null,null,null,null,null,0]
[null,null,null,null,null,null,null,null,null,null,null,null,null,null,null,null,null,null,0]
[null,null,null,null,null,null,null,null,null,null,null,null,null,null,null,null,null,null,0]
[null,null,null,null,null,null,null,null,null,null,null,null,null,null,null,null,null,null,0]
[null,null,null,null,null,null,null,null,null,null,null,null,null,null,null,null,null,null,0]
[null,null,null,null,null,null,null,null,null,null,null,null,null,null,null,null,null,null,0]
[null,null,null,null,null,null,null,null,null,null,null,null,null,null,null,null,null,null,0]
[null,null,null,null,null,null,null,null,null,null,null,null,null,null,null,null,null,null,0]
[null,null,null,null,null,null,null,null,null,null,null,null,null,null,null,null,null,null,0]
[null,null,null,null,null,null,null,null,null,null,null,null,null,null,null,null,null,null,0]
[null,null,null,null,null,null,null,null,null,null,null,null,null,null,null,null,null,null,0]
[null,null,null,null,null,null,null,null,null,null,null,null,null,null,null,null,null,null,0]
[null,null,null,null,null,null,null,null,null,null,null,null,null,null,null,null,null,null,0]
[null,null,null,null,null,null,null,null,null,null,null,null,null,null,null,null,null,null,0]
[null,null,null,null,null,null,null,null,null,null,null,null,null,null,null,null,null,null,0]
[null,null,null,null,null,null,null,null,null,null,null,null,null,null,null,null,null,null,0]
[null,null,null,null,null,null,null,null,null,null,null,null,null,null,null,null,null,null,0]
[null,null,null,null,null,null,null,null,null,null,null,null,null,null,null,null,null,null,0]
[null,null,null,null,null,null,null,null,null,null,null,null,null,null,null,null,null,null,0]
[null,null,null,null,null,null,null,null,null,null,null,null,null,null,null,null,null,null,0]
[null,null,null,null,null,null,null,null,null,null,null,null,null,null,null,null,null,null,0]
[null,null,null,null,null,null,null,null,null,null,null,null,null,null,null,null,null,null,0]
[null,null,null,null,null,null,null,null,null,null,null,null,null,null,null,null,null,null,0]
[null,null,null,null,null,null,null,null,null,null,null,null,null,null,null,null,null,null,0]
[null,null,null,null,null,null,null,null,null,null,null,null,null,null,null,null,null,null,0]
[null,null,null,null,null,null,null,null,null,null,null,null,null,null,null,null,null,null,0]
[null,null,null,null,null,null,null,null,null,null,null,null,null,null,null,null,null,null,0]
[null,null,null,null,null,null,null,null,null,null,null,null,null,null,null,null,null,null,0]
[null,null,null,null,null,null,null,null,null,null,null,null,null,null,null,null,null,null,0]
[null,null,null,null,null,null,null,null,null,null,null,null,null,null,null,null,null,null,0]
[null,null,null,null,null,null,null,null,null,null,null,null,null,null,null,null,null,null,0]
[null,null,null,null,null,null,null,null,null,null,null,null,null,null,null,null,null,null,0]
[null,null,null,null,null,null,null,null,null,null,null,null,null,null,null,null,null,null,0]
[null,null,null,null,null,null,null,null,null,null,null,null,null,null,null,null,null,null,0]
[null,null,null,null,null,null,null,null,null,null,null,null,null,null,null,null,null,null,0]
[null,null,null,null,null,null,null,null,null,null,null,null,null,null,null,null,null,null,0]
[null,null,null,null,null,null,null,null,null,null,null,null,null,null,null,null,null,null,0]
[null,null,null,null,null,null,null,null,null,null,null,null,null,null,null,null,null,null,0]
[null,null,null,null,null,null,null,null,null,null,null,null,null,null,null,null,null,null,0]
[null,null,null,null,null,null,null,null,null,null,null,null,null,null,null,null,null,null,0]
[null,null,null,null,null,null,null,null,null,null,null,null,null,null,null,null,null,null,0]
[null,null,null,null,null,null,null,null,null,null,null,null,null,null,null,null,null,null,0]
[null,null,null,null,null,null,null,null,null,null,null,null,null,null,null,null,null,null,0]
[null,null,null,null,null,null,null,null,null,null,null,null,null,null,null,null,null,null,0]
[null,null,null,null,null,null,null,null,null,null,null,null,null,null,null,null,null,null,0]
[null,null,null,null,null,null,null,null,null,null,null,null,null,null,null,null,null,null,0]
[null,null,null,null,null,null,null,null,null,null,null,null,null,null,null,null,null,null,0]
[null,null,null,null,null,null,null,null,null,null,null,null,null,null,null,null,null,null,0]
[null,null,null,null,null,null,null,null,null,null,null,null,null,null,null,null,null,null,0]
[null,null,null,null,null,null,null,null,null,null,null,null,null,null,null,null,null,null,0]
[null,null,null,null,null,null,null,null,null,null,null,null,null,null,null,null,null,null,0]
[null,null,null,null,null,null,null,null,null,null,null,null,null,null,null,null,null,null,0]
[null,null,null,null,null,null,null,null,null,null,null,null,null,null,null,null,null,null,0]
[null,null,null,null,null,null,null,null,null,null,null,null,null,null,null,null,null,null,0]
[null,null,null,null,null,null,null,null,null,null,null,null,null,null,null,null,null,null,0]
[null,null,null,null,null,null,null,null,null,null,null,null,null,null,null,null,null,null,0]
[null,null,null,null,null,null,null,null,null,null,null,null,null,null,null,null,null,null,0]
[null,null,null,null,null,null,null,null,null,null,null,null,null,null,null,null,null,null,0]
[null,null,null,null,null,null,null,null,null,null,null,null,null,null,null,null,null,null,0]
[null,null,null,null,null,null,null,null,null,null,null,null,null,null,null,null,null,null,0]
[null,null,null,null,null,null,null,null,null,null,null,null,null,null,null,null,null,null,0]
[null,null,null,null,null,null,null,null,null,null,null,null,null,null,null,null,null,null,0]
[null,null,null,null,null,null,null,null,null,null,null,null,null,null,null,null,null,null,0]
[null,null,null,null,null,null,null,null,null,null,null,null,null,null,null,null,null,null,0]
[null,null,null,null,null,null,null,null,null,null,null,null,null,null,null,null,null,null,0]
[null,null,null,null,null,null,null,null,null,null,null,null,null,null,null,null,null,null,0]
[null,null,null,null,null,null,null,null,null,null,null,null,null,null,null,null,null,null,0]
[null,null,null,null,null,null,null,null,null,null,null,null,null,null,null,null,null,null,0]
[null,null,null,null,null,null,null,null,null,null,null,null,null,null,null,null,null,null,0]
[null,null,null,null,null,null,null,null,null,null,null,null,null,null,null,null,null,null,0]
[null,null,null,null,null,null,null,null,null,null,null,null,null,null,null,null,null,null,0]
[null,null,null,null,null,null,null,null,null,null,null,null,null,null,null,null,null,null,0]
[null,null,null,null,null,null,null,null,null,null,null,null,null,null,null,null,null,null,0]
[null,null,null,null,null,null,null,null,null,null,null,null,null,null,null,null,null,null,0]
[null,null,null,null,null,null,null,null,null,null,null,null,null,null,null,null,null,null,0]
[null,null,null,null,null,null,null,null,null,null,null,null,null,null,null,null,null,null,0]
[null,null,null,null,null,null,null,null,null,null,null,null,null,null,null,null,null,null,0]
[null,null,null,null,null,null,null,null,null,null,null,null,null,null,null,null,null,null,0]
[null,null,null,null,null,null,null,null,null,null,null,null,null,null,null,null,null,null,0]
[null,null,null,null,null,null,null,null,null,null,null,null,null,null,null,null,null,null,0]
[null,null,null,null,null,null,null,null,null,null,null,null,null,null,null,null,null,null,0]
[null,null,null,null,null,null,null,null,null,null,null,null,null,null,null,null,null,null,0]
[null,null,null,null,null,null,null,null,null,null,null,null,null,null,null,null,null,null,0]
[null,null,null,null,null,null,null,null,null,null,null,null,null,null,null,null,null,null,0]
[null,null,null,null,null,null,null,null,null,null,null,null,null,null,null,null,null,null,0]
[null,null,null,null,null,null,null,null,null,null,null,null,null,null,null,null,null,null,0]
[null,null,null,null,null,null,null,null,null,null,null,null,null,null,null,null,null,null,0]
[null,null,null,null,null,null,null,null,null,null,null,null,null,null,null,null,null,null,0]
[null,null,null,null,null,null,null,null,null,null,null,null,null,null,null,null,null,null,0]
[null,null,null,null,null,null,null,null,null,null,null,null,null,null,null,null,null,null,0]
[null,null,null,null,null,null,null,null,null,null,null,null,null,null,null,null,null,null,0]
[null,null,null,null,null,null,null,null,null,null,null,null,null,null,null,null,null,null,0]
[null,null,null,null,null,null,null,null,null,null,null,null,null,null,null,null,null,null,0]
[null,null,null,null,null,null,null,null,null,null,null,null,null,null,null,null,null,null,0]
[null,null,null,null,null,null,null,null,null,null,null,null,null,null,null,null,null,null,0]
[null,null,null,null,null,null,null,null,null,null,null,null,null,null,null,null,null,null,0]
[null,null,null,null,null,null,null,null,null,null,null,null,null,null,null,null,null,null,0]
[null,null,null,null,null,null,null,null,null,null,null,null,null,null,null,null,null,null,0]
[null,null,null,null,null,null,null,null,null,null,null,null,null,null,null,null,null,null,0]
[null,null,null,null,null,null,null,null,null,null,null,null,null,null,null,null,null,null,0]
[null,null,null,null,null,null,null,null,null,null,null,null,null,null,null,null,null,null,0]
[null,null,null,null,null,null,null,null,null,null,null,null,null,null,null,null,null,null,0]
[null,null,null,null,null,null,null,null,null,null,null,null,null,null,null,null,null,null,0]
[null,null,null,null,null,null,null,null,null,null,null,null,null,null,null,null,null,null,0]
[null,null,null,null,null,null,null,null,null,null,null,null,null,null,null,null,null,null,0]
[null,null,null,null,null,null,null,null,null,null,null,null,null,null,null,null,null,null,0]
[null,null,null,null,null,null,null,null,null,null,null,null,null,null,null,null,null,null,0]
[null,null,null,null,null,null,null,null,null,null,null,null,null,null,null,null,null,null,0]
[null,null,null,null,null,null,null,null,null,null,null,null,null,null,null,null,null,null,0]
[null,null,null,null,null,null,null,null,null,null,null,null,null,null,null,null,null,null,0]
[null,null,null,null,null,null,null,null,null,null,null,null,null,null,null,null,null,null,0]
[null,null,null,null,null,null,null,null,null,null,null,null,null,null,null,null,null,null,0]
[null,null,null,null,null,null,null,null,null,null,null,null,null,null,null,null,null,null,0]
[null,null,null,null,null,null,null,null,null,null,null,null,null,null,null,null,null,null,0]
[null,null,null,null,null,null,null,null,null,null,null,null,null,null,null,null,null,null,0]
[null,null,null,null,null,null,null,null,null,null,null,null,null,null,null,null,null,null,0]
[null,null,null,null,null,null,null,null,null,null,null,null,null,null,null,null,null,null,0]
[null,null,null,null,null,null,null,null,null,null,null,null,null,null,null,null,null,null,0]
[null,null,null,null,null,null,null,null,null,null,null,null,null,null,null,null,null,null,{"$f":"SUM(L5348:O5348)","v":0}]
[null,null,null,null,null,null,null,null,null,null,null,null,null,null,null,null,null,null,0]
[null,null,null,null,null,null,null,null,null,null,null,null,null,null,null,null,null,null,0]
[null,null,null,null,null,null,null,null,null,null,null,null,null,null,null,null,null,null,0]
[null,null,null,null,null,null,null,null,null,null,null,null,null,null,null,null,null,null,0]
[null,null,null,null,null,null,null,null,null,null,null,null,null,null,null,null,null,null,0]
[null,null,null,null,null,null,null,null,null,null,null,null,null,null,null,null,null,null,0]
[null,null,null,null,null,null,null,null,null,null,null,null,null,null,null,null,null,null,0]
[null,null,null,null,null,null,null,null,null,null,null,null,null,null,null,null,null,null,0]
[null,null,null,null,null,null,null,null,null,null,null,null,null,null,null,null,null,null,0]
[null,null,null,null,null,null,null,null,null,null,null,null,null,null,null,null,null,null,0]
[null,null,null,null,null,null,null,null,null,null,null,null,null,null,null,null,null,null,0]
[null,null,null,null,null,null,null,null,null,null,null,null,null,null,null,null,null,null,0]
[null,null,null,null,null,null,null,null,null,null,null,null,null,null,null,null,null,null,0]
[null,null,null,null,null,null,null,null,null,null,null,null,null,null,null,null,null,null,0]
[null,null,null,null,null,null,null,null,null,null,null,null,null,null,null,null,null,null,0]
[null,null,null,null,null,null,null,null,null,null,null,null,null,null,null,null,null,null,0]
[null,null,null,null,null,null,null,null,null,null,null,null,null,null,null,null,null,null,0]
[null,null,null,null,null,null,null,null,null,null,null,null,null,null,null,null,null,null,0]
[null,null,null,null,null,null,null,null,null,null,null,null,null,null,null,null,null,null,0]
[null,null,null,null,null,null,null,null,null,null,null,null,null,null,null,null,null,null,0]
[null,null,null,null,null,null,null,null,null,null,null,null,null,null,null,null,null,null,0]
[null,null,null,null,null,null,null,null,null,null,null,null,null,null,null,null,null,null,0]
[null,null,null,null,null,null,null,null,null,null,null,null,null,null,null,null,null,null,0]
[null,null,null,null,null,null,null,null,null,null,null,null,null,null,null,null,null,null,0]
[null,null,null,null,null,null,null,null,null,null,null,null,null,null,null,null,null,null,0]
[null,null,null,null,null,null,null,null,null,null,null,null,null,null,null,null,null,null,0]
[null,null,null,null,null,null,null,null,null,null,null,null,null,null,null,null,null,null,0]
[null,null,null,null,null,null,null,null,null,null,null,null,null,null,null,null,null,null,0]
[null,null,null,null,null,null,null,null,null,null,null,null,null,null,null,null,null,null,0]
[null,null,null,null,null,null,null,null,null,null,null,null,null,null,null,null,null,null,0]
[null,null,null,null,null,null,null,null,null,null,null,null,null,null,null,null,null,null,0]
[null,null,null,null,null,null,null,null,null,null,null,null,null,null,null,null,null,null,0]
[null,null,null,null,null,null,null,null,null,null,null,null,null,null,null,null,null,null,0]
[null,null,null,null,null,null,null,null,null,null,null,null,null,null,null,null,null,null,0]
[null,null,null,null,null,null,null,null,null,null,null,null,null,null,null,null,null,null,0]
[null,null,null,null,null,null,null,null,null,null,null,null,null,null,null,null,null,null,0]
[null,null,null,null,null,null,null,null,null,null,null,null,null,null,null,null,null,null,0]
[null,null,null,null,null,null,null,null,null,null,null,null,null,null,null,null,null,null,0]
[null,null,null,null,null,null,null,null,null,null,null,null,null,null,null,null,null,null,0]
[null,null,null,null,null,null,null,null,null,null,null,null,null,null,null,null,null,null,0]
[null,null,null,null,null,null,null,null,null,null,null,null,null,null,null,null,null,null,0]
[null,null,null,null,null,null,null,null,null,null,null,null,null,null,null,null,null,null,0]
[null,null,null,null,null,null,null,null,null,null,null,null,null,null,null,null,null,null,0]
[null,null,null,null,null,null,null,null,null,null,null,null,null,null,null,null,null,null,0]
[null,null,null,null,null,null,null,null,null,null,null,null,null,null,null,null,null,null,0]
[null,null,null,null,null,null,null,null,null,null,null,null,null,null,null,null,null,null,0]
[null,null,null,null,null,null,null,null,null,null,null,null,null,null,null,null,null,null,0]
[null,null,null,null,null,null,null,null,null,null,null,null,null,null,null,null,null,null,0]
[null,null,null,null,null,null,null,null,null,null,null,null,null,null,null,null,null,null,0]
[null,null,null,null,null,null,null,null,null,null,null,null,null,null,null,null,null,null,0]
[null,null,null,null,null,null,null,null,null,null,null,null,null,null,null,null,null,null,0]
[null,null,null,null,null,null,null,null,null,null,null,null,null,null,null,null,null,null,0]
[null,null,null,null,null,null,null,null,null,null,null,null,null,null,null,null,null,null,0]
[null,null,null,null,null,null,null,null,null,null,null,null,null,null,null,null,null,null,0]
[null,null,null,null,null,null,null,null,null,null,null,null,null,null,null,null,null,null,0]
[null,null,null,null,null,null,null,null,null,null,null,null,null,null,null,null,null,null,0]
[null,null,null,null,null,null,null,null,null,null,null,null,null,null,null,null,null,null,0]
[null,null,null,null,null,null,null,null,null,null,null,null,null,null,null,null,null,null,0]
[null,null,null,null,null,null,null,null,null,null,null,null,null,null,null,null,null,null,0]
[null,null,null,null,null,null,null,null,null,null,null,null,null,null,null,null,null,null,0]
[null,null,null,null,null,null,null,null,null,null,null,null,null,null,null,null,null,null,0]
[null,null,null,null,null,null,null,null,null,null,null,null,null,null,null,null,null,null,0]
[null,null,null,null,null,null,null,null,null,null,null,null,null,null,null,null,null,null,0]
[null,null,null,null,null,null,null,null,null,null,null,null,null,null,null,null,null,null,0]
[null,null,null,null,null,null,null,null,null,null,null,null,null,null,null,null,null,null,0]
[null,null,null,null,null,null,null,null,null,null,null,null,null,null,null,null,null,null,0]
[null,null,null,null,null,null,null,null,null,null,null,null,null,null,null,null,null,null,0]
[null,null,null,null,null,null,null,null,null,null,null,null,null,null,null,null,null,null,0]
[null,null,null,null,null,null,null,null,null,null,null,null,null,null,null,null,null,null,{"$f":"SUM(L5540:O5540)","v":0}]
[null,null,null,null,null,null,null,null,null,null,null,null,null,null,null,null,null,null,0]
[null,null,null,null,null,null,null,null,null,null,null,null,null,null,null,null,null,null,0]
[null,null,null,null,null,null,null,null,null,null,null,null,null,null,null,null,null,null,0]
[null,null,null,null,null,null,null,null,null,null,null,null,null,null,null,null,null,null,0]
[null,null,null,null,null,null,null,null,null,null,null,null,null,null,null,null,null,null,0]
[null,null,null,null,null,null,null,null,null,null,null,null,null,null,null,null,null,null,0]
[null,null,null,null,null,null,null,null,null,null,null,null,null,null,null,null,null,null,0]
[null,null,null,null,null,null,null,null,null,null,null,null,null,null,null,null,null,null,0]
[null,null,null,null,null,null,null,null,null,null,null,null,null,null,null,null,null,null,0]
[null,null,null,null,null,null,null,null,null,null,null,null,null,null,null,null,null,null,0]
[null,null,null,null,null,null,null,null,null,null,null,null,null,null,null,null,null,null,0]
[null,null,null,null,null,null,null,null,null,null,null,null,null,null,null,null,null,null,0]
[null,null,null,null,null,null,null,null,null,null,null,null,null,null,null,null,null,null,0]
[null,null,null,null,null,null,null,null,null,null,null,null,null,null,null,null,null,null,0]
[null,null,null,null,null,null,null,null,null,null,null,null,null,null,null,null,null,null,0]
[null,null,null,null,null,null,null,null,null,null,null,null,null,null,null,null,null,null,0]
[null,null,null,null,null,null,null,null,null,null,null,null,null,null,null,null,null,null,0]
[null,null,null,null,null,null,null,null,null,null,null,null,null,null,null,null,null,null,0]
[null,null,null,null,null,null,null,null,null,null,null,null,null,null,null,null,null,null,0]
[null,null,null,null,null,null,null,null,null,null,null,null,null,null,null,null,null,null,0]
[null,null,null,null,null,null,null,null,null,null,null,null,null,null,null,null,null,null,0]
[null,null,null,null,null,null,null,null,null,null,null,null,null,null,null,null,null,null,0]
[null,null,null,null,null,null,null,null,null,null,null,null,null,null,null,null,null,null,{"$f":"SUM(L5604:O5604)","v":0}]
[null,null,null,null,null,null,null,null,null,null,null,null,null,null,null,null,null,null,0]
[null,null,null,null,null,null,null,null,null,null,null,null,null,null,null,null,null,null,0]
[null,null,null,null,null,null,null,null,null,null,null,null,null,null,null,null,null,null,0]
[null,null,null,null,null,null,null,null,null,null,null,null,null,null,null,null,null,null,0]
[null,null,null,null,null,null,null,null,null,null,null,null,null,null,null,null,null,null,0]
[null,null,null,null,null,null,null,null,null,null,null,null,null,null,null,null,null,null,0]
[null,null,null,null,null,null,null,null,null,null,null,null,null,null,null,null,null,null,0]
[null,null,null,null,null,null,null,null,null,null,null,null,null,null,null,null,null,null,0]
[null,null,null,null,null,null,null,null,null,null,null,null,null,null,null,null,null,null,0]
[null,null,null,null,null,null,null,null,null,null,null,null,null,null,null,null,null,null,0]
[null,null,null,null,null,null,null,null,null,null,null,null,null,null,null,null,null,null,0]
[null,null,null,null,null,null,null,null,null,null,null,null,null,null,null,null,null,null,0]
[null,null,null,null,null,null,null,null,null,null,null,null,null,null,null,null,null,null,0]
[null,null,null,null,null,null,null,null,null,null,null,null,null,null,null,null,null,null,0]
[null,null,null,null,null,null,null,null,null,null,null,null,null,null,null,null,null,null,0]
[null,null,null,null,null,null,null,null,null,null,null,null,null,null,null,null,null,null,0]
[null,null,null,null,null,null,null,null,null,null,null,null,null,null,null,null,null,null,0]
[null,null,null,null,null,null,null,null,null,null,null,null,null,null,null,null,null,null,0]
[null,null,null,null,null,null,null,null,null,null,null,null,null,null,null,null,null,null,0]
[null,null,null,null,null,null,null,null,null,null,null,null,null,null,null,null,null,null,0]
[null,null,null,null,null,null,null,null,null,null,null,null,null,null,null,null,null,null,0]
[null,null,null,null,null,null,null,null,null,null,null,null,null,null,null,null,null,null,0]
[null,null,null,null,null,null,null,null,null,null,null,null,null,null,null,null,null,null,{"$f":"SUM(L5668:O5668)","v":0}]
[null,null,null,null,null,null,null,null,null,null,null,null,null,null,null,null,null,null,0]
[null,null,null,null,null,null,null,null,null,null,null,null,null,null,null,null,null,null,0]
[null,null,null,null,null,null,null,null,null,null,null,null,null,null,null,null,null,null,0]
[null,null,null,null,null,null,null,null,null,null,null,null,null,null,null,null,null,null,0]
[null,null,null,null,null,null,null,null,null,null,null,null,null,null,null,null,null,null,0]
[null,null,null,null,null,null,null,null,null,null,null,null,null,null,null,null,null,null,0]
[null,null,null,null,null,null,null,null,null,null,null,null,null,null,null,null,null,null,0]
[null,null,null,null,null,null,null,null,null,null,null,null,null,null,null,null,null,null,0]
[null,null,null,null,null,null,null,null,null,null,null,null,null,null,null,null,null,null,0]
[null,null,null,null,null,null,null,null,null,null,null,null,null,null,null,null,null,null,0]
[null,null,null,null,null,null,null,null,null,null,null,null,null,null,null,null,null,null,0]
[null,null,null,null,null,null,null,null,null,null,null,null,null,null,null,null,null,null,0]
[null,null,null,null,null,null,null,null,null,null,null,null,null,null,null,null,null,null,0]
[null,null,null,null,null,null,null,null,null,null,null,null,null,null,null,null,null,null,0]
[null,null,null,null,null,null,null,null,null,null,null,null,null,null,null,null,null,null,0]
[null,null,null,null,null,null,null,null,null,null,null,null,null,null,null,null,null,null,0]
[null,null,null,null,null,null,null,null,null,null,null,null,null,null,null,null,null,null,0]
[null,null,null,null,null,null,null,null,null,null,null,null,null,null,null,null,null,null,0]
[null,null,null,null,null,null,null,null,null,null,null,null,null,null,null,null,null,null,0]
[null,null,null,null,null,null,null,null,null,null,null,null,null,null,null,null,null,null,0]
[null,null,null,null,null,null,null,null,null,null,null,null,null,null,null,null,null,null,0]
[null,null,null,null,null,null,null,null,null,null,null,null,null,null,null,null,null,null,0]
[null,null,null,null,null,null,null,null,null,null,null,null,null,null,null,null,null,null,0]
[null,null,null,null,null,null,null,null,null,null,null,null,null,null,null,null,null,null,0]
[null,null,null,null,null,null,null,null,null,null,null,null,null,null,null,null,null,null,0]
[null,null,null,null,null,null,null,null,null,null,null,null,null,null,null,null,null,null,0]
[null,null,null,null,null,null,null,null,null,null,null,null,null,null,null,null,null,null,0]
[null,null,null,null,null,null,null,null,null,null,null,null,null,null,null,null,null,null,0]
[null,null,null,null,null,null,null,null,null,null,null,null,null,null,null,null,null,null,0]
[null,null,null,null,null,null,null,null,null,null,null,null,null,null,null,null,null,null,0]
[null,null,null,null,null,null,null,null,null,null,null,null,null,null,null,null,null,null,0]
[null,null,null,null,null,null,null,null,null,null,null,null,null,null,null,null,null,null,0]
[null,null,null,null,null,null,null,null,null,null,null,null,null,null,null,null,null,null,0]
[null,null,null,null,null,null,null,null,null,null,null,null,null,null,null,null,null,null,0]
[null,null,null,null,null,null,null,null,null,null,null,null,null,null,null,null,null,null,0]
[null,null,null,null,null,null,null,null,null,null,null,null,null,null,null,null,null,null,0]
[null,null,null,null,null,null,null,null,null,null,null,null,null,null,null,null,null,null,0]
[null,null,null,null,null,null,null,null,null,null,null,null,null,null,null,null,null,null,0]
[null,null,null,null,null,null,null,null,null,null,null,null,null,null,null,null,null,null,0]
[null,null,null,null,null,null,null,null,null,null,null,null,null,null,null,null,null,null,0]
[null,null,null,null,null,null,null,null,null,null,null,null,null,null,null,null,null,null,0]
[null,null,null,null,null,null,null,null,null,null,null,null,null,null,null,null,null,null,0]
[null,null,null,null,null,null,null,null,null,null,null,null,null,null,null,null,null,null,0]
[null,null,null,null,null,null,null,null,null,null,null,null,null,null,null,null,null,null,0]
[null,null,null,null,null,null,null,null,null,null,null,null,null,null,null,null,null,null,0]
[null,null,null,null,null,null,null,null,null,null,null,null,null,null,null,null,null,null,0]
[null,null,null,null,null,null,null,null,null,null,null,null,null,null,null,null,null,null,0]
[null,null,null,null,null,null,null,null,null,null,null,null,null,null,null,null,null,null,0]
[null,null,null,null,null,null,null,null,null,null,null,null,null,null,null,null,null,null,0]
[null,null,null,null,null,null,null,null,null,null,null,null,null,null,null,null,null,null,0]
[null,null,null,null,null,null,null,null,null,null,null,null,null,null,null,null,null,null,0]
[null,null,null,null,null,null,null,null,null,null,null,null,null,null,null,null,null,null,0]
[null,null,null,null,null,null,null,null,null,null,null,null,null,null,null,null,null,null,0]
[null,null,null,null,null,null,null,null,null,null,null,null,null,null,null,null,null,null,0]
[null,null,null,null,null,null,null,null,null,null,null,null,null,null,null,null,null,null,0]
[null,null,null,null,null,null,null,null,null,null,null,null,null,null,null,null,null,null,0]
[null,null,null,null,null,null,null,null,null,null,null,null,null,null,null,null,null,null,0]
[null,null,null,null,null,null,null,null,null,null,null,null,null,null,null,null,null,null,0]
[null,null,null,null,null,null,null,null,null,null,null,null,null,null,null,null,null,null,0]
[null,null,null,null,null,null,null,null,null,null,null,null,null,null,null,null,null,null,0]
[null,null,null,null,null,null,null,null,null,null,null,null,null,null,null,null,null,null,0]
[null,null,null,null,null,null,null,null,null,null,null,null,null,null,null,null,null,null,0]
[null,null,null,null,null,null,null,null,null,null,null,null,null,null,null,null,null,null,0]
[null,null,null,null,null,null,null,null,null,null,null,null,null,null,null,null,null,null,0]
[null,null,null,null,null,null,null,null,null,null,null,null,null,null,null,null,null,null,0]
[null,null,null,null,null,null,null,null,null,null,null,null,null,null,null,null,null,null,0]
[null,null,null,null,null,null,null,null,null,null,null,null,null,null,null,null,null,null,0]
[null,null,null,null,null,null,null,null,null,null,null,null,null,null,null,null,null,null,0]
[null,null,null,null,null,null,null,null,null,null,null,null,null,null,null,null,null,null,0]
[null,null,null,null,null,null,null,null,null,null,null,null,null,null,null,null,null,null,0]
[null,null,null,null,null,null,null,null,null,null,null,null,null,null,null,null,null,null,0]
[null,null,null,null,null,null,null,null,null,null,null,null,null,null,null,null,null,null,0]
[null,null,null,null,null,null,null,null,null,null,null,null,null,null,null,null,null,null,0]
[null,null,null,null,null,null,null,null,null,null,null,null,null,null,null,null,null,null,0]
[null,null,null,null,null,null,null,null,null,null,null,null,null,null,null,null,null,null,0]
[null,null,null,null,null,null,null,null,null,null,null,null,null,null,null,null,null,null,0]
[null,null,null,null,null,null,null,null,null,null,null,null,null,null,null,null,null,null,0]
[null,null,null,null,null,null,null,null,null,null,null,null,null,null,null,null,null,null,0]
[null,null,null,null,null,null,null,null,null,null,null,null,null,null,null,null,null,null,0]
[null,null,null,null,null,null,null,null,null,null,null,null,null,null,null,null,null,null,0]
[null,null,null,null,null,null,null,null,null,null,null,null,null,null,null,null,null,null,0]
[null,null,null,null,null,null,null,null,null,null,null,null,null,null,null,null,null,null,0]
[null,null,null,null,null,null,null,null,null,null,null,null,null,null,null,null,null,null,0]
[null,null,null,null,null,null,null,null,null,null,null,null,null,null,null,null,null,null,0]
[null,null,null,null,null,null,null,null,null,null,null,null,null,null,null,null,null,null,0]
[null,null,null,null,null,null,null,null,null,null,null,null,null,null,null,null,null,null,0]
[null,null,null,null,null,null,null,null,null,null,null,null,null,null,null,null,null,null,0]
[null,null,null,null,null,null,null,null,null,null,null,null,null,null,null,null,null,null,0]
[null,null,null,null,null,null,null,null,null,null,null,null,null,null,null,null,null,null,0]
[null,null,null,null,null,null,null,null,null,null,null,null,null,null,null,null,null,null,0]
[null,null,null,null,null,null,null,null,null,null,null,null,null,null,null,null,null,null,0]
[null,null,null,null,null,null,null,null,null,null,null,null,null,null,null,null,null,null,0]
[null,null,null,null,null,null,null,null,null,null,null,null,null,null,null,null,null,null,0]
[null,null,null,null,null,null,null,null,null,null,null,null,null,null,null,null,null,null,0]
[null,null,null,null,null,null,null,null,null,null,null,null,null,null,null,null,null,null,0]
[null,null,null,null,null,null,null,null,null,null,null,null,null,null,null,null,null,null,0]
[null,null,null,null,null,null,null,null,null,null,null,null,null,null,null,null,null,null,0]
[null,null,null,null,null,null,null,null,null,null,null,null,null,null,null,null,null,null,0]
[null,null,null,null,null,null,null,null,null,null,null,null,null,null,null,null,null,null,0]
[null,null,null,null,null,null,null,null,null,null,null,null,null,null,null,null,null,null,0]
[null,null,null,null,null,null,null,null,null,null,null,null,null,null,null,null,null,null,0]
[null,null,null,null,null,null,null,null,null,null,null,null,null,null,null,null,null,null,0]
[null,null,null,null,null,null,null,null,null,null,null,null,null,null,null,null,null,null,0]
[null,null,null,null,null,null,null,null,null,null,null,null,null,null,null,null,null,null,0]
[null,null,null,null,null,null,null,null,null,null,null,null,null,null,null,null,null,null,0]
[null,null,null,null,null,null,null,null,null,null,null,null,null,null,null,null,null,null,0]
[null,null,null,null,null,null,null,null,null,null,null,null,null,null,null,null,null,null,0]
[null,null,null,null,null,null,null,null,null,null,null,null,null,null,null,null,null,null,0]
[null,null,null,null,null,null,null,null,null,null,null,null,null,null,null,null,null,null,0]
[null,null,null,null,null,null,null,null,null,null,null,null,null,null,null,null,null,null,0]
[null,null,null,null,null,null,null,null,null,null,null,null,null,null,null,null,null,null,0]
[null,null,null,null,null,null,null,null,null,null,null,null,null,null,null,null,null,null,0]
[null,null,null,null,null,null,null,null,null,null,null,null,null,null,null,null,null,null,0]
[null,null,null,null,null,null,null,null,null,null,null,null,null,null,null,null,null,null,0]
[null,null,null,null,null,null,null,null,null,null,null,null,null,null,null,null,null,null,0]
[null,null,null,null,null,null,null,null,null,null,null,null,null,null,null,null,null,null,0]
[null,null,null,null,null,null,null,null,null,null,null,null,null,null,null,null,null,null,0]
[null,null,null,null,null,null,null,null,null,null,null,null,null,null,null,null,null,null,0]
[null,null,null,null,null,null,null,null,null,null,null,null,null,null,null,null,null,null,0]
[null,null,null,null,null,null,null,null,null,null,null,null,null,null,null,null,null,null,0]
[null,null,null,null,null,null,null,null,null,null,null,null,null,null,null,null,null,null,0]
[null,null,null,null,null,null,null,null,null,null,null,null,null,null,null,null,null,null,0]
[null,null,null,null,null,null,null,null,null,null,null,null,null,null,null,null,null,null,0]
[null,null,null,null,null,null,null,null,null,null,null,null,null,null,null,null,null,null,0]
[null,null,null,null,null,null,null,null,null,null,null,null,null,null,null,null,null,null,0]
[null,null,null,null,null,null,null,null,null,null,null,null,null,null,null,null,null,null,0]
[null,null,null,null,null,null,null,null,null,null,null,null,null,null,null,null,null,null,0]
[null,null,null,null,null,null,null,null,null,null,null,null,null,null,null,null,null,null,0]
[null,null,null,null,null,null,null,null,null,null,null,null,null,null,null,null,null,null,0]
[null,null,null,null,null,null,null,null,null,null,null,null,null,null,null,null,null,null,0]
[null,null,null,null,null,null,null,null,null,null,null,null,null,null,null,null,null,null,0]
[null,null,null,null,null,null,null,null,null,null,null,null,null,null,null,null,null,null,0]
[null,null,null,null,null,null,null,null,null,null,null,null,null,null,null,null,null,null,0]
[null,null,null,null,null,null,null,null,null,null,null,null,null,null,null,null,null,null,0]
[null,null,null,null,null,null,null,null,null,null,null,null,null,null,null,null,null,null,0]
[null,null,null,null,null,null,null,null,null,null,null,null,null,null,null,null,null,null,0]
[null,null,null,null,null,null,null,null,null,null,null,null,null,null,null,null,null,null,0]
[null,null,null,null,null,null,null,null,null,null,null,null,null,null,null,null,null,null,0]
[null,null,null,null,null,null,null,null,null,null,null,null,null,null,null,null,null,null,{"$f":"SUM(L6052:O6052)","v":0}]
[null,null,null,null,null,null,null,null,null,null,null,null,null,null,null,null,null,null,0]
[null,null,null,null,null,null,null,null,null,null,null,null,null,null,null,null,null,null,0]
[null,null,null,null,null,null,null,null,null,null,null,null,null,null,null,null,null,null,0]
[null,null,null,null,null,null,null,null,null,null,null,null,null,null,null,null,null,null,0]
[null,null,null,null,null,null,null,null,null,null,null,null,null,null,null,null,null,null,0]
[null,null,null,null,null,null,null,null,null,null,null,null,null,null,null,null,null,null,0]
[null,null,null,null,null,null,null,null,null,null,null,null,null,null,null,null,null,null,0]
[null,null,null,null,null,null,null,null,null,null,null,null,null,null,null,null,null,null,0]
[null,null,null,null,null,null,null,null,null,null,null,null,null,null,null,null,null,null,0]
[null,null,null,null,null,null,null,null,null,null,null,null,null,null,null,null,null,null,0]
[null,null,null,null,null,null,null,null,null,null,null,null,null,null,null,null,null,null,0]
[null,null,null,null,null,null,null,null,null,null,null,null,null,null,null,null,null,null,0]
[null,null,null,null,null,null,null,null,null,null,null,null,null,null,null,null,null,null,0]
[null,null,null,null,null,null,null,null,null,null,null,null,null,null,null,null,null,null,0]
[null,null,null,null,null,null,null,null,null,null,null,null,null,null,null,null,null,null,0]
[null,null,null,null,null,null,null,null,null,null,null,null,null,null,null,null,null,null,0]
[null,null,null,null,null,null,null,null,null,null,null,null,null,null,null,null,null,null,0]
[null,null,null,null,null,null,null,null,null,null,null,null,null,null,null,null,null,null,0]
[null,null,null,null,null,null,null,null,null,null,null,null,null,null,null,null,null,null,0]
[null,null,null,null,null,null,null,null,null,null,null,null,null,null,null,null,null,null,0]
[null,null,null,null,null,null,null,null,null,null,null,null,null,null,null,null,null,null,0]
[null,null,null,null,null,null,null,null,null,null,null,null,null,null,null,null,null,null,0]
[null,null,null,null,null,null,null,null,null,null,null,null,null,null,null,null,null,null,0]
[null,null,null,null,null,null,null,null,null,null,null,null,null,null,null,null,null,null,0]
[null,null,null,null,null,null,null,null,null,null,null,null,null,null,null,null,null,null,0]
[null,null,null,null,null,null,null,null,null,null,null,null,null,null,null,null,null,null,0]
[null,null,null,null,null,null,null,null,null,null,null,null,null,null,null,null,null,null,0]
[null,null,null,null,null,null,null,null,null,null,null,null,null,null,null,null,null,null,0]
[null,null,null,null,null,null,null,null,null,null,null,null,null,null,null,null,null,null,0]
[null,null,null,null,null,null,null,null,null,null,null,null,null,null,null,null,null,null,0]
[null,null,null,null,null,null,null,null,null,null,null,null,null,null,null,null,null,null,0]
[null,null,null,null,null,null,null,null,null,null,null,null,null,null,null,null,null,null,0]
[null,null,null,null,null,null,null,null,null,null,null,null,null,null,null,null,null,null,0]
[null,null,null,null,null,null,null,null,null,null,null,null,null,null,null,null,null,null,0]
[null,null,null,null,null,null,null,null,null,null,null,null,null,null,null,null,null,null,0]
[null,null,null,null,null,null,null,null,null,null,null,null,null,null,null,null,null,null,0]
[null,null,null,null,null,null,null,null,null,null,null,null,null,null,null,null,null,null,0]
[null,null,null,null,null,null,null,null,null,null,null,null,null,null,null,null,null,null,0]
[null,null,null,null,null,null,null,null,null,null,null,null,null,null,null,null,null,null,0]
[null,null,null,null,null,null,null,null,null,null,null,null,null,null,null,null,null,null,0]
[null,null,null,null,null,null,null,null,null,null,null,null,null,null,null,null,null,null,0]
[null,null,null,null,null,null,null,null,null,null,null,null,null,null,null,null,null,null,0]
[null,null,null,null,null,null,null,null,null,null,null,null,null,null,null,null,null,null,0]
[null,null,null,null,null,null,null,null,null,null,null,null,null,null,null,null,null,null,0]
[null,null,null,null,null,null,null,null,null,null,null,null,null,null,null,null,null,null,0]
[null,null,null,null,null,null,null,null,null,null,null,null,null,null,null,null,null,null,0]
[null,null,null,null,null,null,null,null,null,null,null,null,null,null,null,null,null,null,0]
[null,null,null,null,null,null,null,null,null,null,null,null,null,null,null,null,null,null,0]
[null,null,null,null,null,null,null,null,null,null,null,null,null,null,null,null,null,null,0]
[null,null,null,null,null,null,null,null,null,null,null,null,null,null,null,null,null,null,0]
[null,null,null,null,null,null,null,null,null,null,null,null,null,null,null,null,null,null,0]
[null,null,null,null,null,null,null,null,null,null,null,null,null,null,null,null,null,null,0]
[null,null,null,null,null,null,null,null,null,null,null,null,null,null,null,null,null,null,0]
[null,null,null,null,null,null,null,null,null,null,null,null,null,null,null,null,null,null,0]
[null,null,null,null,null,null,null,null,null,null,null,null,null,null,null,null,null,null,0]
[null,null,null,null,null,null,null,null,null,null,null,null,null,null,null,null,null,null,0]
[null,null,null,null,null,null,null,null,null,null,null,null,null,null,null,null,null,null,0]
[null,null,null,null,null,null,null,null,null,null,null,null,null,null,null,null,null,null,0]
[null,null,null,null,null,null,null,null,null,null,null,null,null,null,null,null,null,null,0]
[null,null,null,null,null,null,null,null,null,null,null,null,null,null,null,null,null,null,0]
[null,null,null,null,null,null,null,null,null,null,null,null,null,null,null,null,null,null,0]
[null,null,null,null,null,null,null,null,null,null,null,null,null,null,null,null,null,null,0]
[null,null,null,null,null,null,null,null,null,null,null,null,null,null,null,null,null,null,0]
[null,null,null,null,null,null,null,null,null,null,null,null,null,null,null,null,null,null,0]
[null,null,null,null,null,null,null,null,null,null,null,null,null,null,null,null,null,null,0]
[null,null,null,null,null,null,null,null,null,null,null,null,null,null,null,null,null,null,0]
[null,null,null,null,null,null,null,null,null,null,null,null,null,null,null,null,null,null,0]
[null,null,null,null,null,null,null,null,null,null,null,null,null,null,null,null,null,null,0]
[null,null,null,null,null,null,null,null,null,null,null,null,null,null,null,null,null,null,0]
[null,null,null,null,null,null,null,null,null,null,null,null,null,null,null,null,null,null,0]
[null,null,null,null,null,null,null,null,null,null,null,null,null,null,null,null,null,null,0]
[null,null,null,null,null,null,null,null,null,null,null,null,null,null,null,null,null,null,0]
[null,null,null,null,null,null,null,null,null,null,null,null,null,null,null,null,null,null,0]
[null,null,null,null,null,null,null,null,null,null,null,null,null,null,null,null,null,null,0]
[null,null,null,null,null,null,null,null,null,null,null,null,null,null,null,null,null,null,0]
[null,null,null,null,null,null,null,null,null,null,null,null,null,null,null,null,null,null,0]
[null,null,null,null,null,null,null,null,null,null,null,null,null,null,null,null,null,null,0]
[null,null,null,null,null,null,null,null,null,null,null,null,null,null,null,null,null,null,0]
[null,null,null,null,null,null,null,null,null,null,null,null,null,null,null,null,null,null,0]
[null,null,null,null,null,null,null,null,null,null,null,null,null,null,null,null,null,null,0]
[null,null,null,null,null,null,null,null,null,null,null,null,null,null,null,null,null,null,0]
[null,null,null,null,null,null,null,null,null,null,null,null,null,null,null,null,null,null,0]
[null,null,null,null,null,null,null,null,null,null,null,null,null,null,null,null,null,null,0]
[null,null,null,null,null,null,null,null,null,null,null,null,null,null,null,null,null,null,0]
[null,null,null,null,null,null,null,null,null,null,null,null,null,null,null,null,null,null,0]
[null,null,null,null,null,null,null,null,null,null,null,null,null,null,null,null,null,null,0]
[null,null,null,null,null,null,null,null,null,null,null,null,null,null,null,null,null,null,0]
[null,null,null,null,null,null,null,null,null,null,null,null,null,null,null,null,null,null,0]
[null,null,null,null,null,null,null,null,null,null,null,null,null,null,null,null,null,null,0]
[null,null,null,null,null,null,null,null,null,null,null,null,null,null,null,null,null,null,0]
[null,null,null,null,null,null,null,null,null,null,null,null,null,null,null,null,null,null,0]
[null,null,null,null,null,null,null,null,null,null,null,null,null,null,null,null,null,null,0]
[null,null,null,null,null,null,null,null,null,null,null,null,null,null,null,null,null,null,0]
[null,null,null,null,null,null,null,null,null,null,null,null,null,null,null,null,null,null,0]
[null,null,null,null,null,null,null,null,null,null,null,null,null,null,null,null,null,null,0]
[null,null,null,null,null,null,null,null,null,null,null,null,null,null,null,null,null,null,0]
[null,null,null,null,null,null,null,null,null,null,null,null,null,null,null,null,null,null,0]
[null,null,null,null,null,null,null,null,null,null,null,null,null,null,null,null,null,null,0]
[null,null,null,null,null,null,null,null,null,null,null,null,null,null,null,null,null,null,0]
[null,null,null,null,null,null,null,null,null,null,null,null,null,null,null,null,null,null,0]
[null,null,null,null,null,null,null,null,null,null,null,null,null,null,null,null,null,null,0]
[null,null,null,null,null,null,null,null,null,null,null,null,null,null,null,null,null,null,0]
[null,null,null,null,null,null,null,null,null,null,null,null,null,null,null,null,null,null,0]
[null,null,null,null,null,null,null,null,null,null,null,null,null,null,null,null,null,null,0]
[null,null,null,null,null,null,null,null,null,null,null,null,null,null,null,null,null,null,0]
[null,null,null,null,null,null,null,null,null,null,null,null,null,null,null,null,null,null,0]
[null,null,null,null,null,null,null,null,null,null,null,null,null,null,null,null,null,null,0]
[null,null,null,null,null,null,null,null,null,null,null,null,null,null,null,null,null,null,0]
[null,null,null,null,null,null,null,null,null,null,null,null,null,null,null,null,null,null,0]
[null,null,null,null,null,null,null,null,null,null,null,null,null,null,null,null,null,null,0]
[null,null,null,null,null,null,null,null,null,null,null,null,null,null,null,null,null,null,0]
[null,null,null,null,null,null,null,null,null,null,null,null,null,null,null,null,null,null,0]
[null,null,null,null,null,null,null,null,null,null,null,null,null,null,null,null,null,null,0]
[null,null,null,null,null,null,null,null,null,null,null,null,null,null,null,null,null,null,0]
[null,null,null,null,null,null,null,null,null,null,null,null,null,null,null,null,null,null,0]
[null,null,null,null,null,null,null,null,null,null,null,null,null,null,null,null,null,null,0]
[null,null,null,null,null,null,null,null,null,null,null,null,null,null,null,null,null,null,0]
[null,null,null,null,null,null,null,null,null,null,null,null,null,null,null,null,null,null,0]
[null,null,null,null,null,null,null,null,null,null,null,null,null,null,null,null,null,null,0]
[null,null,null,null,null,null,null,null,null,null,null,null,null,null,null,null,null,null,0]
[null,null,null,null,null,null,null,null,null,null,null,null,null,null,null,null,null,null,0]
[null,null,null,null,null,null,null,null,null,null,null,null,null,null,null,null,null,null,0]
[null,null,null,null,null,null,null,null,null,null,null,null,null,null,null,null,null,null,0]
[null,null,null,null,null,null,null,null,null,null,null,null,null,null,null,null,null,null,0]
[null,null,null,null,null,null,null,null,null,null,null,null,null,null,null,null,null,null,0]
[null,null,null,null,null,null,null,null,null,null,null,null,null,null,null,null,null,null,0]
[null,null,null,null,null,null,null,null,null,null,null,null,null,null,null,null,null,null,0]
[null,null,null,null,null,null,null,null,null,null,null,null,null,null,null,null,null,null,0]
[null,null,null,null,null,null,null,null,null,null,null,null,null,null,null,null,null,null,0]
[null,null,null,null,null,null,null,null,null,null,null,null,null,null,null,null,null,null,0]
[null,null,null,null,null,null,null,null,null,null,null,null,null,null,null,null,null,null,0]
[null,null,null,null,null,null,null,null,null,null,null,null,null,null,null,null,null,null,0]
[null,null,null,null,null,null,null,null,null,null,null,null,null,null,null,null,null,null,0]
[null,null,null,null,null,null,null,null,null,null,null,null,null,null,null,null,null,null,0]
[null,null,null,null,null,null,null,null,null,null,null,null,null,null,null,null,null,null,0]
[null,null,null,null,null,null,null,null,null,null,null,null,null,null,null,null,null,null,0]
[null,null,null,null,null,null,null,null,null,null,null,null,null,null,null,null,null,null,0]
[null,null,null,null,null,null,null,null,null,null,null,null,null,null,null,null,null,null,0]
[null,null,null,null,null,null,null,null,null,null,null,null,null,null,null,null,null,null,0]
[null,null,null,null,null,null,null,null,null,null,null,null,null,null,null,null,null,null,0]
[null,null,null,null,null,null,null,null,null,null,null,null,null,null,null,null,null,null,0]
[null,null,null,null,null,null,null,null,null,null,null,null,null,null,null,null,null,null,0]
[null,null,null,null,null,null,null,null,null,null,null,null,null,null,null,null,null,null,0]
[null,null,null,null,null,null,null,null,null,null,null,null,null,null,null,null,null,null,0]
[null,null,null,null,null,null,null,null,null,null,null,null,null,null,null,null,null,null,0]
[null,null,null,null,null,null,null,null,null,null,null,null,null,null,null,null,null,null,0]
[null,null,null,null,null,null,null,null,null,null,null,null,null,null,null,null,null,null,0]
[null,null,null,null,null,null,null,null,null,null,null,null,null,null,null,null,null,null,0]
[null,null,null,null,null,null,null,null,null,null,null,null,null,null,null,null,null,null,0]
[null,null,null,null,null,null,null,null,null,null,null,null,null,null,null,null,null,null,0]
[null,null,null,null,null,null,null,null,null,null,null,null,null,null,null,null,null,null,0]
[null,null,null,null,null,null,null,null,null,null,null,null,null,null,null,null,null,null,0]
[null,null,null,null,null,null,null,null,null,null,null,null,null,null,null,null,null,null,0]
[null,null,null,null,null,null,null,null,null,null,null,null,null,null,null,null,null,null,0]
[null,null,null,null,null,null,null,null,null,null,null,null,null,null,null,null,null,null,0]
[null,null,null,null,null,null,null,null,null,null,null,null,null,null,null,null,null,null,0]
[null,null,null,null,null,null,null,null,null,null,null,null,null,null,null,null,null,null,0]
[null,null,null,null,null,null,null,null,null,null,null,null,null,null,null,null,null,null,0]
[null,null,null,null,null,null,null,null,null,null,null,null,null,null,null,null,null,null,0]
[null,null,null,null,null,null,null,null,null,null,null,null,null,null,null,null,null,null,0]
[null,null,null,null,null,null,null,null,null,null,null,null,null,null,null,null,null,null,0]
[null,null,null,null,null,null,null,null,null,null,null,null,null,null,null,null,null,null,0]
[null,null,null,null,null,null,null,null,null,null,null,null,null,null,null,null,null,null,0]
[null,null,null,null,null,null,null,null,null,null,null,null,null,null,null,null,null,null,0]
[null,null,null,null,null,null,null,null,null,null,null,null,null,null,null,null,null,null,0]
[null,null,null,null,null,null,null,null,null,null,null,null,null,null,null,null,null,null,0]
[null,null,null,null,null,null,null,null,null,null,null,null,null,null,null,null,null,null,0]
[null,null,null,null,null,null,null,null,null,null,null,null,null,null,null,null,null,null,0]
[null,null,null,null,null,null,null,null,null,null,null,null,null,null,null,null,null,null,0]
[null,null,null,null,null,null,null,null,null,null,null,null,null,null,null,null,null,null,0]
[null,null,null,null,null,null,null,null,null,null,null,null,null,null,null,null,null,null,0]
[null,null,null,null,null,null,null,null,null,null,null,null,null,null,null,null,null,null,0]
[null,null,null,null,null,null,null,null,null,null,null,null,null,null,null,null,null,null,0]
[null,null,null,null,null,null,null,null,null,null,null,null,null,null,null,null,null,null,0]
[null,null,null,null,null,null,null,null,null,null,null,null,null,null,null,null,null,null,0]
[null,null,null,null,null,null,null,null,null,null,null,null,null,null,null,null,null,null,0]
[null,null,null,null,null,null,null,null,null,null,null,null,null,null,null,null,null,null,0]
[null,null,null,null,null,null,null,null,null,null,null,null,null,null,null,null,null,null,0]
[null,null,null,null,null,null,null,null,null,null,null,null,null,null,null,null,null,null,0]
[null,null,null,null,null,null,null,null,null,null,null,null,null,null,null,null,null,null,0]
[null,null,null,null,null,null,null,null,null,null,null,null,null,null,null,null,null,null,0]
[null,null,null,null,null,null,null,null,null,null,null,null,null,null,null,null,null,null,0]
[null,null,null,null,null,null,null,null,null,null,null,null,null,null,null,null,null,null,0]
[null,null,null,null,null,null,null,null,null,null,null,null,null,null,null,null,null,null,0]
[null,null,null,null,null,null,null,null,null,null,null,null,null,null,null,null,null,null,0]
[null,null,null,null,null,null,null,null,null,null,null,null,null,null,null,null,null,null,0]
[null,null,null,null,null,null,null,null,null,null,null,null,null,null,null,null,null,null,0]
[null,null,null,null,null,null,null,null,null,null,null,null,null,null,null,null,null,null,0]
[null,null,null,null,null,null,null,null,null,null,null,null,null,null,null,null,null,null,0]
[null,null,null,null,null,null,null,null,null,null,null,null,null,null,null,null,null,null,0]
[null,null,null,null,null,null,null,null,null,null,null,null,null,null,null,null,null,null,0]
[null,null,null,null,null,null,null,null,null,null,null,null,null,null,null,null,null,null,0]
[null,null,null,null,null,null,null,null,null,null,null,null,null,null,null,null,null,null,0]
[null,null,null,null,null,null,null,null,null,null,null,null,null,null,null,null,null,null,0]
[null,null,null,null,null,null,null,null,null,null,null,null,null,null,null,null,null,null,0]
[null,null,null,null,null,null,null,null,null,null,null,null,null,null,null,null,null,null,0]
[null,null,null,null,null,null,null,null,null,null,null,null,null,null,null,null,null,null,0]
[null,null,null,null,null,null,null,null,null,null,null,null,null,null,null,null,null,null,0]
[null,null,null,null,null,null,null,null,null,null,null,null,null,null,null,null,null,null,0]
[null,null,null,null,null,null,null,null,null,null,null,null,null,null,null,null,null,null,0]
[null,null,null,null,null,null,null,null,null,null,null,null,null,null,null,null,null,null,0]
[null,null,null,null,null,null,null,null,null,null,null,null,null,null,null,null,null,null,0]
[null,null,null,null,null,null,null,null,null,null,null,null,null,null,null,null,null,null,0]
[null,null,null,null,null,null,null,null,null,null,null,null,null,null,null,null,null,null,0]
[null,null,null,null,null,null,null,null,null,null,null,null,null,null,null,null,null,null,0]
[null,null,null,null,null,null,null,null,null,null,null,null,null,null,null,null,null,null,0]
[null,null,null,null,null,null,null,null,null,null,null,null,null,null,null,null,null,null,0]
[null,null,null,null,null,null,null,null,null,null,null,null,null,null,null,null,null,null,0]
[null,null,null,null,null,null,null,null,null,null,null,null,null,null,null,null,null,null,0]
[null,null,null,null,null,null,null,null,null,null,null,null,null,null,null,null,null,null,0]
[null,null,null,null,null,null,null,null,null,null,null,null,null,null,null,null,null,null,0]
[null,null,null,null,null,null,null,null,null,null,null,null,null,null,null,null,null,null,0]
[null,null,null,null,null,null,null,null,null,null,null,null,null,null,null,null,null,null,0]
[null,null,null,null,null,null,null,null,null,null,null,null,null,null,null,null,null,null,0]
[null,null,null,null,null,null,null,null,null,null,null,null,null,null,null,null,null,null,0]
[null,null,null,null,null,null,null,null,null,null,null,null,null,null,null,null,null,null,0]
[null,null,null,null,null,null,null,null,null,null,null,null,null,null,null,null,null,null,0]
[null,null,null,null,null,null,null,null,null,null,null,null,null,null,null,null,null,null,0]
[null,null,null,null,null,null,null,null,null,null,null,null,null,null,null,null,null,null,0]
[null,null,null,null,null,null,null,null,null,null,null,null,null,null,null,null,null,null,0]
[null,null,null,null,null,null,null,null,null,null,null,null,null,null,null,null,null,null,0]
[null,null,null,null,null,null,null,null,null,null,null,null,null,null,null,null,null,null,0]
[null,null,null,null,null,null,null,null,null,null,null,null,null,null,null,null,null,null,0]
[null,null,null,null,null,null,null,null,null,null,null,null,null,null,null,null,null,null,0]
[null,null,null,null,null,null,null,null,null,null,null,null,null,null,null,null,null,null,0]
[null,null,null,null,null,null,null,null,null,null,null,null,null,null,null,null,null,null,0]
[null,null,null,null,null,null,null,null,null,null,null,null,null,null,null,null,null,null,0]
[null,null,null,null,null,null,null,null,null,null,null,null,null,null,null,null,null,null,0]
[null,null,null,null,null,null,null,null,null,null,null,null,null,null,null,null,null,null,0]
[null,null,null,null,null,null,null,null,null,null,null,null,null,null,null,null,null,null,0]
[null,null,null,null,null,null,null,null,null,null,null,null,null,null,null,null,null,null,0]
[null,null,null,null,null,null,null,null,null,null,null,null,null,null,null,null,null,null,0]
[null,null,null,null,null,null,null,null,null,null,null,null,null,null,null,null,null,null,0]
[null,null,null,null,null,null,null,null,null,null,null,null,null,null,null,null,null,null,0]
[null,null,null,null,null,null,null,null,null,null,null,null,null,null,null,null,null,null,0]
[null,null,null,null,null,null,null,null,null,null,null,null,null,null,null,null,null,null,0]
[null,null,null,null,null,null,null,null,null,null,null,null,null,null,null,null,null,null,0]
[null,null,null,null,null,null,null,null,null,null,null,null,null,null,null,null,null,null,0]
[null,null,null,null,null,null,null,null,null,null,null,null,null,null,null,null,null,null,0]
[null,null,null,null,null,null,null,null,null,null,null,null,null,null,null,null,null,null,0]
[null,null,null,null,null,null,null,null,null,null,null,null,null,null,null,null,null,null,0]
[null,null,null,null,null,null,null,null,null,null,null,null,null,null,null,null,null,null,0]
[null,null,null,null,null,null,null,null,null,null,null,null,null,null,null,null,null,null,0]
[null,null,null,null,null,null,null,null,null,null,null,null,null,null,null,null,null,null,0]
[null,null,null,null,null,null,null,null,null,null,null,null,null,null,null,null,null,null,0]
[null,null,null,null,null,null,null,null,null,null,null,null,null,null,null,null,null,null,0]
[null,null,null,null,null,null,null,null,null,null,null,null,null,null,null,null,null,null,0]
[null,null,null,null,null,null,null,null,null,null,null,null,null,null,null,null,null,null,0]
[null,null,null,null,null,null,null,null,null,null,null,null,null,null,null,null,null,null,0]
[null,null,null,null,null,null,null,null,null,null,null,null,null,null,null,null,null,null,0]
[null,null,null,null,null,null,null,null,null,null,null,null,null,null,null,null,null,null,0]
[null,null,null,null,null,null,null,null,null,null,null,null,null,null,null,null,null,null,0]
[null,null,null,null,null,null,null,null,null,null,null,null,null,null,null,null,null,null,0]
[null,null,null,null,null,null,null,null,null,null,null,null,null,null,null,null,null,null,{"$f":"SUM(L6756:O6756)","v":0}]
[null,null,null,null,null,null,null,null,null,null,null,null,null,null,null,null,null,null,0]
[null,null,null,null,null,null,null,null,null,null,null,null,null,null,null,null,null,null,0]
[null,null,null,null,null,null,null,null,null,null,null,null,null,null,null,null,null,null,0]
[null,null,null,null,null,null,null,null,null,null,null,null,null,null,null,null,null,null,0]
[null,null,null,null,null,null,null,null,null,null,null,null,null,null,null,null,null,null,0]
[null,null,null,null,null,null,null,null,null,null,null,null,null,null,null,null,null,null,0]
[null,null,null,null,null,null,null,null,null,null,null,null,null,null,null,null,null,null,0]
[null,null,null,null,null,null,null,null,null,null,null,null,null,null,null,null,null,null,0]
[null,null,null,null,null,null,null,null,null,null,null,null,null,null,null,null,null,null,0]
[null,null,null,null,null,null,null,null,null,null,null,null,null,null,null,null,null,null,0]
[null,null,null,null,null,null,null,null,null,null,null,null,null,null,null,null,null,null,0]
[null,null,null,null,null,null,null,null,null,null,null,null,null,null,null,null,null,null,0]
[null,null,null,null,null,null,null,null,null,null,null,null,null,null,null,null,null,null,0]
[null,null,null,null,null,null,null,null,null,null,null,null,null,null,null,null,null,null,0]
[null,null,null,null,null,null,null,null,null,null,null,null,null,null,null,null,null,null,0]
[null,null,null,null,null,null,null,null,null,null,null,null,null,null,null,null,null,null,0]
[null,null,null,null,null,null,null,null,null,null,null,null,null,null,null,null,null,null,0]
[null,null,null,null,null,null,null,null,null,null,null,null,null,null,null,null,null,null,0]
[null,null,null,null,null,null,null,null,null,null,null,null,null,null,null,null,null,null,0]
[null,null,null,null,null,null,null,null,null,null,null,null,null,null,null,null,null,null,0]
[null,null,null,null,null,null,null,null,null,null,null,null,null,null,null,null,null,null,0]
[null,null,null,null,null,null,null,null,null,null,null,null,null,null,null,null,null,null,0]
[null,null,null,null,null,null,null,null,null,null,null,null,null,null,null,null,null,null,0]
[null,null,null,null,null,null,null,null,null,null,null,null,null,null,null,null,null,null,{"$f":"SUM(L6820:O6820)","v":0}]
[null,null,null,null,null,null,null,null,null,null,null,null,null,null,null,null,null,null,0]
[null,null,null,null,null,null,null,null,null,null,null,null,null,null,null,null,null,null,0]
[null,null,null,null,null,null,null,null,null,null,null,null,null,null,null,null,null,null,0]
[null,null,null,null,null,null,null,null,null,null,null,null,null,null,null,null,null,null,0]
[null,null,null,null,null,null,null,null,null,null,null,null,null,null,null,null,null,null,0]
[null,null,null,null,null,null,null,null,null,null,null,null,null,null,null,null,null,null,0]
[null,null,null,null,null,null,null,null,null,null,null,null,null,null,null,null,null,null,0]
[null,null,null,null,null,null,null,null,null,null,null,null,null,null,null,null,null,null,0]
[null,null,null,null,null,null,null,null,null,null,null,null,null,null,null,null,null,null,0]
[null,null,null,null,null,null,null,null,null,null,null,null,null,null,null,null,null,null,0]
[null,null,null,null,null,null,null,null,null,null,null,null,null,null,null,null,null,null,0]
[null,null,null,null,null,null,null,null,null,null,null,null,null,null,null,null,null,null,0]
[null,null,null,null,null,null,null,null,null,null,null,null,null,null,null,null,null,null,0]
[null,null,null,null,null,null,null,null,null,null,null,null,null,null,null,null,null,null,0]
[null,null,null,null,null,null,null,null,null,null,null,null,null,null,null,null,null,null,0]
[null,null,null,null,null,null,null,null,null,null,null,null,null,null,null,null,null,null,0]
[null,null,null,null,null,null,null,null,null,null,null,null,null,null,null,null,null,null,0]
[null,null,null,null,null,null,null,null,null,null,null,null,null,null,null,null,null,null,0]
[null,null,null,null,null,null,null,null,null,null,null,null,null,null,null,null,null,null,0]
[null,null,null,null,null,null,null,null,null,null,null,null,null,null,null,null,null,null,0]
[null,null,null,null,null,null,null,null,null,null,null,null,null,null,null,null,null,null,0]
[null,null,null,null,null,null,null,null,null,null,null,null,null,null,null,null,null,null,0]
[null,null,null,null,null,null,null,null,null,null,null,null,null,null,null,null,null,null,0]
[null,null,null,null,null,null,null,null,null,null,null,null,null,null,null,null,null,null,0]
[null,null,null,null,null,null,null,null,null,null,null,null,null,null,null,null,null,null,0]
[null,null,null,null,null,null,null,null,null,null,null,null,null,null,null,null,null,null,0]
[null,null,null,null,null,null,null,null,null,null,null,null,null,null,null,null,null,null,0]
[null,null,null,null,null,null,null,null,null,null,null,null,null,null,null,null,null,null,0]
[null,null,null,null,null,null,null,null,null,null,null,null,null,null,null,null,null,null,0]
[null,null,null,null,null,null,null,null,null,null,null,null,null,null,null,null,null,null,0]
[null,null,null,null,null,null,null,null,null,null,null,null,null,null,null,null,null,null,0]
[null,null,null,null,null,null,null,null,null,null,null,null,null,null,null,null,null,null,0]
[null,null,null,null,null,null,null,null,null,null,null,null,null,null,null,null,null,null,0]
[null,null,null,null,null,null,null,null,null,null,null,null,null,null,null,null,null,null,0]
[null,null,null,null,null,null,null,null,null,null,null,null,null,null,null,null,null,null,0]
[null,null,null,null,null,null,null,null,null,null,null,null,null,null,null,null,null,null,0]
[null,null,null,null,null,null,null,null,null,null,null,null,null,null,null,null,null,null,0]
[null,null,null,null,null,null,null,null,null,null,null,null,null,null,null,null,null,null,0]
[null,null,null,null,null,null,null,null,null,null,null,null,null,null,null,null,null,null,0]
[null,null,null,null,null,null,null,null,null,null,null,null,null,null,null,null,null,null,0]
[null,null,null,null,null,null,null,null,null,null,null,null,null,null,null,null,null,null,0]
[null,null,null,null,null,null,null,null,null,null,null,null,null,null,null,null,null,null,0]
[null,null,null,null,null,null,null,null,null,null,null,null,null,null,null,null,null,null,0]
[null,null,null,null,null,null,null,null,null,null,null,null,null,null,null,null,null,null,0]
[null,null,null,null,null,null,null,null,null,null,null,null,null,null,null,null,null,null,0]
[null,null,null,null,null,null,null,null,null,null,null,null,null,null,null,null,null,null,0]
[null,null,null,null,null,null,null,null,null,null,null,null,null,null,null,null,null,null,0]
[null,null,null,null,null,null,null,null,null,null,null,null,null,null,null,null,null,null,0]
[null,null,null,null,null,null,null,null,null,null,null,null,null,null,null,null,null,null,0]
[null,null,null,null,null,null,null,null,null,null,null,null,null,null,null,null,null,null,0]
[null,null,null,null,null,null,null,null,null,null,null,null,null,null,null,null,null,null,0]
[null,null,null,null,null,null,null,null,null,null,null,null,null,null,null,null,null,null,0]
[null,null,null,null,null,null,null,null,null,null,null,null,null,null,null,null,null,null,0]
[null,null,null,null,null,null,null,null,null,null,null,null,null,null,null,null,null,null,0]
[null,null,null,null,null,null,null,null,null,null,null,null,null,null,null,null,null,null,0]
[null,null,null,null,null,null,null,null,null,null,null,null,null,null,null,null,null,null,0]
[null,null,null,null,null,null,null,null,null,null,null,null,null,null,null,null,null,null,0]
[null,null,null,null,null,null,null,null,null,null,null,null,null,null,null,null,null,null,0]
[null,null,null,null,null,null,null,null,null,null,null,null,null,null,null,null,null,null,0]
[null,null,null,null,null,null,null,null,null,null,null,null,null,null,null,null,null,null,0]
[null,null,null,null,null,null,null,null,null,null,null,null,null,null,null,null,null,null,0]
[null,null,null,null,null,null,null,null,null,null,null,null,null,null,null,null,null,null,0]
[null,null,null,null,null,null,null,null,null,null,null,null,null,null,null,null,null,null,0]
[null,null,null,null,null,null,null,null,null,null,null,null,null,null,null,null,null,null,0]
[null,null,null,null,null,null,null,null,null,null,null,null,null,null,null,null,null,null,0]
[null,null,null,null,null,null,null,null,null,null,null,null,null,null,null,null,null,null,0]
[null,null,null,null,null,null,null,null,null,null,null,null,null,null,null,null,null,null,0]
[null,null,null,null,null,null,null,null,null,null,null,null,null,null,null,null,null,null,0]
[null,null,null,null,null,null,null,null,null,null,null,null,null,null,null,null,null,null,0]
[null,null,null,null,null,null,null,null,null,null,null,null,null,null,null,null,null,null,0]
[null,null,null,null,null,null,null,null,null,null,null,null,null,null,null,null,null,null,0]
[null,null,null,null,null,null,null,null,null,null,null,null,null,null,null,null,null,null,0]
[null,null,null,null,null,null,null,null,null,null,null,null,null,null,null,null,null,null,0]
[null,null,null,null,null,null,null,null,null,null,null,null,null,null,null,null,null,null,0]
[null,null,null,null,null,null,null,null,null,null,null,null,null,null,null,null,null,null,0]
[null,null,null,null,null,null,null,null,null,null,null,null,null,null,null,null,null,null,0]
[null,null,null,null,null,null,null,null,null,null,null,null,null,null,null,null,null,null,0]
[null,null,null,null,null,null,null,null,null,null,null,null,null,null,null,null,null,null,0]
[null,null,null,null,null,null,null,null,null,null,null,null,null,null,null,null,null,null,0]
[null,null,null,null,null,null,null,null,null,null,null,null,null,null,null,null,null,null,0]
[null,null,null,null,null,null,null,null,null,null,null,null,null,null,null,null,null,null,0]
[null,null,null,null,null,null,null,null,null,null,null,null,null,null,null,null,null,null,0]
[null,null,null,null,null,null,null,null,null,null,null,null,null,null,null,null,null,null,0]
[]
[]
[]
[]
[null,null,null,null,null,null,null,null,null,null,null,null,"Allowances Current Period End (Including ECL)"]
[null,null,null,null,null,null,null,null,null,null,null,null,null,null,null,{"$f":"SUM(J7067:L7067)","v":0}]
[null,null,null,null,null,null,null,null,null,null,null,null,null,null,null,0]
[null,null,null,null,null,null,null,null,null,null,null,null,null,null,null,0]
[null,null,null,null,null,null,null,null,null,null,null,null,null,null,null,0]
[null,null,null,null,null,null,null,null,null,null,null,null,null,null,null,0]
[null,null,null,null,null,null,null,null,null,null,null,null,null,null,null,0]
[null,null,null,null,null,null,null,null,null,null,null,null,null,null,null,0]
[null,null,null,null,null,null,null,null,null,null,null,null,null,null,null,0]
[null,null,null,null,null,null,null,null,null,null,null,null,null,null,null,0]
[null,null,null,null,null,null,null,null,null,null,null,null,null,null,null,0]
[null,null,null,null,null,null,null,null,null,null,null,null,null,null,null,0]
[null,null,null,null,null,null,null,null,null,null,null,null,null,null,null,0]
[null,null,null,null,null,null,null,null,null,null,null,null,null,null,null,0]
[null,null,null,null,null,null,null,null,null,null,null,null,null,null,null,0]
[null,null,null,null,null,null,null,null,null,null,null,null,null,null,null,0]
[null,null,null,null,null,null,null,null,null,null,null,null,null,null,null,0]
[null,null,null,null,null,null,null,null,null,null,null,null,null,null,null,0]
[null,null,null,null,null,null,null,null,null,null,null,null,null,null,null,0]
[null,null,null,null,null,null,null,null,null,null,null,null,null,null,null,0]
[null,null,null,null,null,null,null,null,null,null,null,null,null,null,null,0]
[null,null,null,null,null,null,null,null,null,null,null,null,null,null,null,0]
[null,null,null,null,null,null,null,null,null,null,null,null,null,null,null,0]
[null,null,null,null,null,null,null,null,null,null,null,null,null,null,null,0]
[null,null,null,null,null,null,null,null,null,null,null,null,null,null,null,0]
[null,null,null,null,null,null,null,null,null,null,null,null,null,null,null,0]
[null,null,null,null,null,null,null,null,null,null,null,null,null,null,null,0]
[null,null,null,null,null,null,null,null,null,null,null,null,null,null,null,0]
[null,null,null,null,null,null,null,null,null,null,null,null,null,null,null,0]
[null,null,null,null,null,null,null,null,null,null,null,null,null,null,null,0]
[null,null,null,null,null,null,null,null,null,null,null,null,null,null,null,0]
[null,null,null,null,null,null,null,null,null,null,null,null,null,null,null,0]
[null,null,null,null,null,null,null,null,null,null,null,null,null,null,null,0]
[null,null,null,null,null,null,null,null,null,null,null,null,null,null,null,0]
[null,null,null,null,null,null,null,null,null,null,null,null,null,null,null,0]
[null,null,null,null,null,null,null,null,null,null,null,null,null,null,null,0]
[null,null,null,null,null,null,null,null,null,null,null,null,null,null,null,0]
[null,null,null,null,null,null,null,null,null,null,null,null,null,null,null,0]
[null,null,null,null,null,null,null,null,null,null,null,null,null,null,null,0]
[null,null,null,null,null,null,null,null,null,null,null,null,null,null,null,0]
[null,null,null,null,null,null,null,null,null,null,null,null,null,null,null,0]
[null,null,null,null,null,null,null,null,null,null,null,null,null,null,null,0]
[null,null,null,null,null,null,null,null,null,null,null,null,null,null,null,0]
[null,null,null,null,null,null,null,null,null,null,null,null,null,null,null,0]
[null,null,null,null,null,null,null,null,null,null,null,null,null,null,null,0]
[null,null,null,null,null,null,null,null,null,null,null,null,null,null,null,0]
[null,null,null,null,null,null,null,null,null,null,null,null,null,null,null,0]
[null,null,null,null,null,null,null,null,null,null,null,null,null,null,null,0]
[null,null,null,null,null,null,null,null,null,null,null,null,null,null,null,0]
[null,null,null,null,null,null,null,null,null,null,null,null,null,null,null,0]
[null,null,null,null,null,null,null,null,null,null,null,null,null,null,null,0]
[null,null,null,null,null,null,null,null,null,null,null,null,null,null,null,0]
[null,null,null,null,null,null,null,null,null,null,null,null,null,null,null,0]
[null,null,null,null,null,null,null,null,null,null,null,null,null,null,null,0]
[null,null,null,null,null,null,null,null,null,null,null,null,null,null,null,0]
[null,null,null,null,null,null,null,null,null,null,null,null,null,null,null,0]
[null,null,null,null,null,null,null,null,null,null,null,null,null,null,null,0]
[null,null,null,null,null,null,null,null,null,null,null,null,null,null,null,0]
[null,null,null,null,null,null,null,null,null,null,null,null,null,null,null,0]
[null,null,null,null,null,null,null,null,null,null,null,null,null,null,null,0]
[null,null,null,null,null,null,null,null,null,null,null,null,null,null,null,0]
[null,null,null,null,null,null,null,null,null,null,null,null,null,null,null,0]
[null,null,null,null,null,null,null,null,null,null,null,null,null,null,null,0]
[null,null,null,null,null,null,null,null,null,null,null,null,null,null,null,0]
[null,null,null,null,null,null,null,null,null,null,null,null,null,null,null,0]
[null,null,null,null,null,null,null,null,null,null,null,null,null,null,null,0]
[null,null,null,null,null,null,null,null,null,null,null,null,null,null,null,0]
[null,null,null,null,null,null,null,null,null,null,null,null,null,null,null,0]
[null,null,null,null,null,null,null,null,null,null,null,null,null,null,null,0]
[null,null,null,null,null,null,null,null,null,null,null,null,null,null,null,0]
[null,null,null,null,null,null,null,null,null,null,null,null,null,null,null,0]
[null,null,null,null,null,null,null,null,null,null,null,null,null,null,null,0]
[null,null,null,null,null,null,null,null,null,null,null,null,null,null,null,0]
[null,null,null,null,null,null,null,null,null,null,null,null,null,null,null,0]
[null,null,null,null,null,null,null,null,null,null,null,null,null,null,null,0]
[null,null,null,null,null,null,null,null,null,null,null,null,null,null,null,0]
[null,null,null,null,null,null,null,null,null,null,null,null,null,null,null,0]
[null,null,null,null,null,null,null,null,null,null,null,null,null,null,null,0]
[null,null,null,null,null,null,null,null,null,null,null,null,null,null,null,0]
[null,null,null,null,null,null,null,null,null,null,null,null,null,null,null,0]
[null,null,null,null,null,null,null,null,null,null,null,null,null,null,null,0]
[null,null,null,null,null,null,null,null,null,null,null,null,null,null,null,0]
[null,null,null,null,null,null,null,null,null,null,null,null,null,null,null,0]
[null,null,null,null,null,null,null,null,null,null,null,null,null,null,null,0]
[null,null,null,null,null,null,null,null,null,null,null,null,null,null,null,0]
[null,null,null,null,null,null,null,null,null,null,null,null,null,null,null,0]
[null,null,null,null,null,null,null,null,null,null,null,null,null,null,null,0]
[null,null,null,null,null,null,null,null,null,null,null,null,null,null,null,0]
[null,null,null,null,null,null,null,null,null,null,null,null,null,null,null,0]
[null,null,null,null,null,null,null,null,null,null,null,null,null,null,null,0]
[null,null,null,null,null,null,null,null,null,null,null,null,null,null,null,0]
[]
[]
[]
[]
[]
[null,null,null,null,null,null,null,null,{"$f":"G7331+H7331","v":0},null,null,null,{"$f":"SUM(J7331:L7331)","v":0}]
[null,null,null,null,null,null,null,null,0,null,null,null,0]
[null,null,null,null,null,null,null,null,0,null,null,null,0]
[null,null,null,null,null,null,null,null,0,null,null,null,0]
[null,null,null,null,null,null,null,null,0,null,null,null,0]
[null,null,null,null,null,null,null,null,0,null,null,null,0]
[null,null,null,null,null,null,null,null,0,null,null,null,0]
[null,null,null,null,null,null,null,null,0,null,null,null,0]
[null,null,null,null,null,null,null,null,0,null,null,null,0]
[null,null,null,null,null,null,null,null,0,null,null,null,0]
[null,null,null,null,null,null,null,null,0,null,null,null,0]
[null,null,null,null,null,null,null,null,0,null,null,null,0]
[null,null,null,null,null,null,null,null,0,null,null,null,0]
[null,null,null,null,null,null,null,null,0,null,null,null,0]
[null,null,null,null,null,null,null,null,0,null,null,null,0]
[null,null,null,null,null,null,null,null,0,null,null,null,0]
[null,null,null,null,null,null,null,null,0,null,null,null,0]
[null,null,null,null,null,null,null,null,0,null,null,null,0]
[null,null,null,null,null,null,null,null,0,null,null,null,0]
[null,null,null,null,null,null,null,null,0,null,null,null,0]
[null,null,null,null,null,null,null,null,0,null,null,null,0]
[null,null,null,null,null,null,null,null,0,null,null,null,0]
[null,null,null,null,null,null,null,null,0,null,null,null,0]
[null,null,null,null,null,null,null,null,0,null,null,null,0]
[null,null,null,null,null,null,null,null,{"$f":"G7397+H7397","v":0},null,null,null,{"$f":"SUM(J7397:L7397)","v":0}]
[null,null,null,null,null,null,null,null,0,null,null,null,0]
[null,null,null,null,null,null,null,null,0,null,null,null,0]
[null,null,null,null,null,null,null,null,0,null,null,null,0]
[null,null,null,null,null,null,null,null,0,null,null,null,0]
[null,null,null,null,null,null,null,null,0,null,null,null,0]
[null,null,null,null,null,null,null,null,0,null,null,null,0]
[null,null,null,null,null,null,null,null,0,null,null,null,0]
[null,null,null,null,null,null,null,null,0,null,null,null,0]
[null,null,null,null,null,null,null,null,0,null,null,null,0]
[null,null,null,null,null,null,null,null,0,null,null,null,0]
[null,null,null,null,null,null,null,null,0,null,null,null,0]
[null,null,null,null,null,null,null,null,0,null,null,null,0]
[null,null,null,null,null,null,null,null,0,null,null,null,0]
[null,null,null,null,null,null,null,null,0,null,null,null,0]
[null,null,null,null,null,null,null,null,0,null,null,null,0]
[null,null,null,null,null,null,null,null,0,null,null,null,0]
[null,null,null,null,null,null,null,null,0,null,null,null,0]
[null,null,null,null,null,null,null,null,0,null,null,null,0]
[null,null,null,null,null,null,null,null,0,null,null,null,0]
[null,null,null,null,null,null,null,null,0,null,null,null,0]
[null,null,null,null,null,null,null,null,0,null,null,null,0]
[null,null,null,null,null,null,null,null,0,null,null,null,0]
[null,null,null,null,null,null,null,null,{"$f":"G7461+H7461","v":0},null,null,null,{"$f":"SUM(J7461:L7461)","v":0}]
[null,null,null,null,null,null,null,null,0,null,null,null,0]
[null,null,null,null,null,null,null,null,0,null,null,null,0]
[null,null,null,null,null,null,null,null,0,null,null,null,0]
[null,null,null,null,null,null,null,null,0,null,null,null,0]
[null,null,null,null,null,null,null,null,0,null,null,null,0]
[null,null,null,null,null,null,null,null,0,null,null,null,0]
[null,null,null,null,null,null,null,null,0,null,null,null,0]
[null,null,null,null,null,null,null,null,0,null,null,null,0]
[null,null,null,null,null,null,null,null,0,null,null,null,0]
[null,null,null,null,null,null,null,null,0,null,null,null,0]
[null,null,null,null,null,null,null,null,0,null,null,null,0]
[null,null,null,null,null,null,null,null,0,null,null,null,0]
[null,null,null,null,null,null,null,null,0,null,null,null,0]
[null,null,null,null,null,null,null,null,0,null,null,null,0]
[null,null,null,null,null,null,null,null,0,null,null,null,0]
[null,null,null,null,null,null,null,null,0,null,null,null,0]
[null,null,null,null,null,null,null,null,0,null,null,null,0]
[null,null,null,null,null,null,null,null,0,null,null,null,0]
[null,null,null,null,null,null,null,null,0,null,null,null,0]
[null,null,null,null,null,null,null,null,0,null,null,null,0]
[null,null,null,null,null,null,null,null,0,null,null,null,0]
[null,null,null,null,null,null,null,null,0,null,null,null,0]
[null,null,null,null,null,null,null,null,0,null,null,null,0]
[null,null,null,null,null,null,null,null,0,null,null,null,0]
[null,null,null,null,null,null,null,null,0,null,null,null,0]
[null,null,null,null,null,null,null,null,0,null,null,null,0]
[null,null,null,null,null,null,null,null,{"$f":"G7537+H7537","v":0},null,null,null,{"$f":"SUM(J7537:L7537)","v":0}]
[null,null,null,null,null,null,null,null,0,null,null,null,0]
[null,null,null,null,null,null,null,null,0,null,null,null,0]
[null,null,null,null,null,null,null,null,0,null,null,null,0]
[null,null,null,null,null,null,null,null,0,null,null,null,0]
[null,null,null,null,null,null,null,null,0,null,null,null,0]
[null,null,null,null,null,null,null,null,0,null,null,null,0]
[null,null,null,null,null,null,null,null,0,null,null,null,0]
[null,null,null,null,null,null,null,null,0,null,null,null,0]
[null,null,null,null,null,null,null,null,0,null,null,null,0]
[null,null,null,null,null,null,null,null,0,null,null,null,0]
[null,null,null,null,null,null,null,null,0,null,null,null,0]
[null,null,null,null,null,null,null,null,0,null,null,null,0]
[null,null,null,null,null,null,null,null,0,null,null,null,0]
[null,null,null,null,null,null,null,null,0,null,null,null,0]
[null,null,null,null,null,null,null,null,0,null,null,null,0]
[null,null,null,null,null,null,null,null,0,null,null,null,0]
[null,null,null,null,null,null,null,null,0,null,null,null,0]
[null,null,null,null,null,null,null,null,0,null,null,null,0]
[null,null,null,null,null,null,null,null,0,null,null,null,0]
[null,null,null,null,null,null,null,null,0,null,null,null,0]
[null,null,null,null,null,null,null,null,0,null,null,null,0]
[null,null,null,null,null,null,null,null,0,null,null,null,0]
[null,null,null,null,null,null,null,null,0,null,null,null,0]
[null,null,null,null,null,null,null,null,0,null,null,null,0]
[null,null,null,null,null,null,null,null,0,null,null,null,0]
[null,null,null,null,null,null,null,null,0,null,null,null,0]
[null,null,null,null,null,null,null,null,0,null,null,null,0]
[null,null,null,null,null,null,null,null,0,null,null,null,0]
[null,null,null,null,null,null,null,null,0,null,null,null,0]
[null,null,null,null,null,null,null,null,0,null,null,null,0]
[null,null,null,null,null,null,null,null,0,null,null,null,0]
[null,null,null,null,null,null,null,null,0,null,null,null,0]
[null,null,null,null,null,null,null,null,0,null,null,null,0]
[null,null,null,null,null,null,null,null,0,null,null,null,0]
[null,null,null,null,null,null,null,null,0,null,null,null,0]
[null,null,null,null,null,null,null,null,0,null,null,null,0]
[null,null,null,null,null,null,null,null,0,null,null,null,0]
[null,null,null,null,null,null,null,null,0,null,null,null,0]
[null,null,null,null,null,null,null,null,0,null,null,null,0]
[null,null,null,null,null,null,null,null,0,null,null,null,0]
[null,null,null,null,null,null,null,null,0,null,null,null,0]
[null,null,null,null,null,null,null,null,0,null,null,null,0]
[null,null,null,null,null,null,null,null,0,null,null,null,0]
[null,null,null,null,null,null,null,null,0,null,null,null,0]
[null,null,null,null,null,null,null,null,0,null,null,null,0]
[]
[]
[]
[]
[]
["LOANS AND MORTGAGES"]
[]
[null,null,null,null,null,null,null,"Allowances Current Period End (Including ECL)"]
[null,"Description","Identification Number","Date of Issue","Domicile","Issued Currency","Closing Loan Amount","Stage I","Stage II","Stage III","Total"]
[null,null,null,null,null,{"$f":"Specifications!$C$22","v":"Rs."},{"$f":"Specifications!$C$22","v":"Rs."},{"$f":"Specifications!$C$22","v":"Rs."},{"$f":"Specifications!$C$22","v":"Rs."},{"$f":"Specifications!$C$22","v":"Rs."},{"$f":"Specifications!$C$22","v":"Rs."}]
[null,null,null,null,null,null,null,null,null,null,{"$f":"G7593","v":0}]
[null,null,null,null,null,null,null,null,null,null,{"$f":"G7594","v":0}]
[null,null,null,null,null,null,null,null,null,null,0]
[null,null,null,null,null,null,null,null,null,null,0]
[null,null,null,null,null,null,null,null,null,null,0]
[null,null,null,null,null,null,null,null,null,null,0]
[null,null,null,null,null,null,null,null,null,null,0]
[null,null,null,null,null,null,null,null,null,null,0]
[null,null,null,null,null,null,null,null,null,null,0]
[null,null,null,null,null,null,null,null,null,null,0]
[null,null,null,null,null,null,null,null,null,null,0]
[null,null,null,null,null,null,null,null,null,null,0]
[null,null,null,null,null,null,null,null,null,null,0]
[null,null,null,null,null,null,null,null,null,null,0]
[null,null,null,null,null,null,null,null,null,null,0]
[null,null,null,null,null,null,null,null,null,null,0]
[null,null,null,null,null,null,null,null,null,null,0]
[null,null,null,null,null,null,null,null,null,null,0]
[null,null,null,null,null,null,null,null,null,null,0]
[null,null,null,null,null,null,null,null,null,null,0]
[null,null,null,null,null,null,null,null,null,null,0]
[null,null,null,null,null,null,null,null,null,null,0]
[null,null,null,null,null,null,null,null,null,null,0]
[null,null,null,null,null,null,null,null,null,null,0]
[null,null,null,null,null,null,null,null,null,null,0]
[null,null,null,null,null,null,null,null,null,null,0]
[null,null,null,null,null,null,null,null,null,null,0]
[null,null,null,null,null,null,null,null,null,null,0]
[null,null,null,null,null,null,null,null,null,null,0]
[null,null,null,null,null,null,null,null,null,null,0]
[null,null,null,null,null,null,null,null,null,null,0]
[null,null,null,null,null,null,null,null,null,null,0]
[null,null,null,null,null,null,null,null,null,null,0]
[null,null,null,null,null,null,null,null,null,null,0]
[null,null,null,null,null,null,null,null,null,null,0]
[null,null,null,null,null,null,null,null,null,null,0]
[null,null,null,null,null,null,null,null,null,null,0]
[null,null,null,null,null,null,null,null,null,null,0]
[null,null,null,null,null,null,null,null,null,null,0]
[null,null,null,null,null,null,null,null,null,null,0]
[null,null,null,null,null,null,null,null,null,null,0]
[null,null,null,null,null,null,null,null,null,null,0]
[null,null,null,null,null,null,null,null,null,null,0]
[null,null,null,null,null,null,null,null,null,null,0]
[null,null,null,null,null,null,null,null,null,null,0]
[null,null,null,null,null,null,null,null,null,null,0]
[null,null,null,null,null,null,null,null,null,null,0]
[null,null,null,null,null,null,null,null,null,null,0]
[null,null,null,null,null,null,null,null,null,null,0]
[null,null,null,null,null,null,null,null,null,null,0]
[null,null,null,null,null,null,null,null,null,null,0]
[null,null,null,null,null,null,null,null,null,null,0]
[null,null,null,null,null,null,null,null,null,null,0]
[null,null,null,null,null,null,null,null,null,null,0]
[null,null,null,null,null,null,null,null,null,null,0]
[null,null,null,null,null,null,null,null,null,null,0]
[null,null,null,null,null,null,null,null,null,null,0]
[null,null,null,null,null,null,null,null,null,null,0]
[null,null,null,null,null,null,null,null,null,null,0]
[null,null,null,null,null,null,null,null,null,null,0]
[null,null,null,null,null,null,null,null,null,null,0]
[null,null,null,null,null,null,null,null,null,null,0]
[null,null,null,null,null,null,null,null,null,null,0]
[null,null,null,null,null,null,null,null,null,null,0]
[null,null,null,null,null,null,null,null,null,null,0]
[null,null,null,null,null,null,null,null,null,null,{"$f":"G7658","v":0}]
[null,null,null,null,null,null,null,null,null,null,0]
[null,null,null,null,null,null,null,null,null,null,0]
[null,null,null,null,null,null,null,null,null,null,0]
[null,null,null,null,null,null,null,null,null,null,0]
[null,null,null,null,null,null,null,null,null,null,0]
[null,null,null,null,null,null,null,null,null,null,0]
[null,null,null,null,null,null,null,null,null,null,0]
[null,null,null,null,null,null,null,null,null,null,0]
[null,null,null,null,null,null,null,null,null,null,0]
[null,null,null,null,null,null,null,null,null,null,0]
[null,null,null,null,null,null,null,null,null,null,0]
[null,null,null,null,null,null,null,null,null,null,0]
[null,null,null,null,null,null,null,null,null,null,0]
[null,null,null,null,null,null,null,null,null,null,0]
[null,null,null,null,null,null,null,null,null,null,0]
[null,null,null,null,null,null,null,null,null,null,0]
[null,null,null,null,null,null,null,null,null,null,0]
[null,null,null,null,null,null,null,null,null,null,0]
[null,null,null,null,null,null,null,null,null,null,0]
[null,null,null,null,null,null,null,null,null,null,0]
[null,null,null,null,null,null,null,null,null,null,0]
[null,null,null,null,null,null,null,null,null,null,0]
[null,null,null,null,null,null,null,null,null,null,0]
[null,null,null,null,null,null,null,null,null,null,0]
[null,null,null,null,null,null,null,null,null,null,0]
[null,null,null,null,null,null,null,null,null,null,0]
[null,null,null,null,null,null,null,null,null,null,0]
[null,null,null,null,null,null,null,null,null,null,0]
[null,null,null,null,null,null,null,null,null,null,0]
[null,null,null,null,null,null,null,null,null,null,0]
[null,null,null,null,null,null,null,null,null,null,0]
[null,null,null,null,null,null,null,null,null,null,0]
[null,null,null,null,null,null,null,null,null,null,0]
[null,null,null,null,null,null,null,null,null,null,0]
[null,null,null,null,null,null,null,null,null,null,0]
[null,null,null,null,null,null,null,null,null,null,0]
[null,null,null,null,null,null,null,null,null,null,0]
[null,null,null,null,null,null,null,null,null,null,0]
[null,null,null,null,null,null,null,null,null,null,0]
[null,null,null,null,null,null,null,null,null,null,0]
[null,null,null,null,null,null,null,null,null,null,0]
[null,null,null,null,null,null,null,null,null,null,0]
[null,null,null,null,null,null,null,null,null,null,0]
[null,null,null,null,null,null,null,null,null,null,0]
[null,null,null,null,null,null,null,null,null,null,0]
[null,null,null,null,null,null,null,null,null,null,0]
[null,null,null,null,null,null,null,null,null,null,0]
[null,null,null,null,null,null,null,null,null,null,0]
[null,null,null,null,null,null,null,null,null,null,0]
[null,null,null,null,null,null,null,null,null,null,0]
[null,null,null,null,null,null,null,null,null,null,0]
[null,null,null,null,null,null,null,null,null,null,0]
[null,null,null,null,null,null,null,null,null,null,0]
[null,null,null,null,null,null,null,null,null,null,0]
[null,null,null,null,null,null,null,null,null,null,0]
[null,null,null,null,null,null,null,null,null,null,0]
[null,null,null,null,null,null,null,null,null,null,0]
[null,null,null,null,null,null,null,null,null,null,0]
[null,null,null,null,null,null,null,null,null,null,0]
[null,null,null,null,null,null,null,null,null,null,0]
[null,null,null,null,null,null,null,null,null,null,0]
[null,null,null,null,null,null,null,null,null,null,0]
[null,null,null,null,null,null,null,null,null,null,0]
[null,null,null,null,null,null,null,null,null,null,{"$f":"G7722","v":0}]
[null,null,null,null,null,null,null,null,null,null,0]
[null,null,null,null,null,null,null,null,null,null,0]
[null,null,null,null,null,null,null,null,null,null,0]
[null,null,null,null,null,null,null,null,null,null,0]
[null,null,null,null,null,null,null,null,null,null,0]
[null,null,null,null,null,null,null,null,null,null,0]
[null,null,null,null,null,null,null,null,null,null,0]
[null,null,null,null,null,null,null,null,null,null,0]
[null,null,null,null,null,null,null,null,null,null,0]
[null,null,null,null,null,null,null,null,null,null,0]
[null,null,null,null,null,null,null,null,null,null,0]
[null,null,null,null,null,null,null,null,null,null,0]
[null,null,null,null,null,null,null,null,null,null,0]
[null,null,null,null,null,null,null,null,null,null,0]
[null,null,null,null,null,null,null,null,null,null,0]
[null,null,null,null,null,null,null,null,null,null,0]
[null,null,null,null,null,null,null,null,null,null,0]
[null,null,null,null,null,null,null,null,null,null,0]
[null,null,null,null,null,null,null,null,null,null,0]
[null,null,null,null,null,null,null,null,null,null,0]
[null,null,null,null,null,null,null,null,null,null,0]
[null,null,null,null,null,null,null,null,null,null,0]
[null,null,null,null,null,null,null,null,null,null,0]
[null,null,null,null,null,null,null,null,null,null,0]
[null,null,null,null,null,null,null,null,null,null,0]
[null,null,null,null,null,null,null,null,null,null,0]
[null,null,null,null,null,null,null,null,null,null,0]
[null,null,null,null,null,null,null,null,null,null,0]
[null,null,null,null,null,null,null,null,null,null,0]
[null,null,null,null,null,null,null,null,null,null,0]
[null,null,null,null,null,null,null,null,null,null,0]
[null,null,null,null,null,null,null,null,null,null,0]
[null,null,null,null,null,null,null,null,null,null,0]
[null,null,null,null,null,null,null,null,null,null,0]
[null,null,null,null,null,null,null,null,null,null,0]
[null,null,null,null,null,null,null,null,null,null,0]
[null,null,null,null,null,null,null,null,null,null,0]
[null,null,null,null,null,null,null,null,null,null,0]
[null,null,null,null,null,null,null,null,null,null,0]
[null,null,null,null,null,null,null,null,null,null,0]
[null,null,null,null,null,null,null,null,null,null,0]
[null,null,null,null,null,null,null,null,null,null,0]
[null,null,null,null,null,null,null,null,null,null,0]
[null,null,null,null,null,null,null,null,null,null,0]
[null,null,null,null,null,null,null,null,null,null,0]
[null,null,null,null,null,null,null,null,null,null,0]
[null,null,null,null,null,null,null,null,null,null,0]
[null,null,null,null,null,null,null,null,null,null,0]
[null,null,null,null,null,null,null,null,null,null,0]
[null,null,null,null,null,null,null,null,null,null,0]
[null,null,null,null,null,null,null,null,null,null,0]
[null,null,null,null,null,null,null,null,null,null,0]
[null,null,null,null,null,null,null,null,null,null,0]
[null,null,null,null,null,null,null,null,null,null,0]
[null,null,null,null,null,null,null,null,null,null,0]
[null,null,null,null,null,null,null,null,null,null,0]
[null,null,null,null,null,null,null,null,null,null,0]
[null,null,null,null,null,null,null,null,null,null,0]
[null,null,null,null,null,null,null,null,null,null,0]
[null,null,null,null,null,null,null,null,null,null,0]
[null,null,null,null,null,null,null,null,null,null,0]
[null,null,null,null,null,null,null,null,null,null,0]
[null,null,null,null,null,null,null,null,null,null,0]
[null,null,null,null,null,null,null,null,null,null,{"$f":"G7786","v":0}]
[null,null,null,null,null,null,null,null,null,null,0]
[null,null,null,null,null,null,null,null,null,null,0]
[null,null,null,null,null,null,null,null,null,null,0]
[null,null,null,null,null,null,null,null,null,null,0]
[null,null,null,null,null,null,null,null,null,null,0]
[null,null,null,null,null,null,null,null,null,null,0]
[null,null,null,null,null,null,null,null,null,null,0]
[null,null,null,null,null,null,null,null,null,null,0]
[null,null,null,null,null,null,null,null,null,null,0]
[null,null,null,null,null,null,null,null,null,null,0]
[null,null,null,null,null,null,null,null,null,null,0]
[null,null,null,null,null,null,null,null,null,null,0]
[null,null,null,null,null,null,null,null,null,null,0]
[null,null,null,null,null,null,null,null,null,null,0]
[null,null,null,null,null,null,null,null,null,null,0]
[null,null,null,null,null,null,null,null,null,null,0]
[null,null,null,null,null,null,null,null,null,null,0]
[null,null,null,null,null,null,null,null,null,null,0]
[null,null,null,null,null,null,null,null,null,null,0]
[]
[]
[]
[]
["COLLECTIVE INVESTMENT VEHICLES AND COMMODITIES"]
[]
[null,null,null,null,null,null,null,null,null,"Allowances Current Period End (Including ECL)"]
[null,"Description","Type","Domicile","Listed/Unlisted","Issued Currency","Closing balance / Fair Value Through Profit or Loss","Closing balance / Fair Value Through Other Comprehensive Income","Amortized  Cost","Stage I","Stage II","Stage III","Total"]
[null,null,null,null,null,null,{"$f":"Specifications!$C$22","v":"Rs."},{"$f":"Specifications!$C$22","v":"Rs."},{"$f":"Specifications!$C$22","v":"Rs."},{"$f":"Specifications!$C$22","v":"Rs."},{"$f":"Specifications!$C$22","v":"Rs."},{"$f":"Specifications!$C$22","v":"Rs."},{"$f":"Specifications!$C$22","v":"Rs."}]
[null,null,null,null,null,null,null,null,null,null,null,null,{"$f":"SUM(G7815:I7815)","v":0}]
[null,null,null,null,null,null,null,null,null,null,null,null,{"$f":"SUM(G7816:I7816)","v":0}]
[null,null,null,null,null,null,null,null,null,null,null,null,0]
[null,null,null,null,null,null,null,null,null,null,null,null,0]
[null,null,null,null,null,null,null,null,null,null,null,null,0]
[null,null,null,null,null,null,null,null,null,null,null,null,0]
[null,null,null,null,null,null,null,null,null,null,null,null,0]
[null,null,null,null,null,null,null,null,null,null,null,null,0]
[null,null,null,null,null,null,null,null,null,null,null,null,0]
[null,null,null,null,null,null,null,null,null,null,null,null,0]
[null,null,null,null,null,null,null,null,null,null,null,null,0]
[null,null,null,null,null,null,null,null,null,null,null,null,0]
[null,null,null,null,null,null,null,null,null,null,null,null,0]
[null,null,null,null,null,null,null,null,null,null,null,null,0]
[null,null,null,null,null,null,null,null,null,null,null,null,0]
[null,null,null,null,null,null,null,null,null,null,null,null,0]
[null,null,null,null,null,null,null,null,null,null,null,null,0]
[null,null,null,null,null,null,null,null,null,null,null,null,0]
[null,null,null,null,null,null,null,null,null,null,null,null,0]
[null,null,null,null,null,null,null,null,null,null,null,null,0]
[null,null,null,null,null,null,null,null,null,null,null,null,0]
[null,null,null,null,null,null,null,null,null,null,null,null,0]
[null,null,null,null,null,null,null,null,null,null,null,null,0]
[null,null,null,null,null,null,null,null,null,null,null,null,0]
[null,null,null,null,null,null,null,null,null,null,null,null,0]
[null,null,null,null,null,null,null,null,null,null,null,null,0]
[null,null,null,null,null,null,null,null,null,null,null,null,0]
[null,null,null,null,null,null,null,null,null,null,null,null,0]
[null,null,null,null,null,null,null,null,null,null,null,null,0]
[null,null,null,null,null,null,null,null,null,null,null,null,0]
[null,null,null,null,null,null,null,null,null,null,null,null,0]
[null,null,null,null,null,null,null,null,null,null,null,null,0]
[null,null,null,null,null,null,null,null,null,null,null,null,0]
[null,null,null,null,null,null,null,null,null,null,null,null,0]
[null,null,null,null,null,null,null,null,null,null,null,null,0]
[null,null,null,null,null,null,null,null,null,null,null,null,0]
[null,null,null,null,null,null,null,null,null,null,null,null,0]
[null,null,null,null,null,null,null,null,null,null,null,null,0]
[null,null,null,null,null,null,null,null,null,null,null,null,0]
[null,null,null,null,null,null,null,null,null,null,null,null,0]
[null,null,null,null,null,null,null,null,null,null,null,null,0]
[null,null,null,null,null,null,null,null,null,null,null,null,0]
[null,null,null,null,null,null,null,null,null,null,null,null,0]
[null,null,null,null,null,null,null,null,null,null,null,null,0]
[null,null,null,null,null,null,null,null,null,null,null,null,0]
[null,null,null,null,null,null,null,null,null,null,null,null,0]
[null,null,null,null,null,null,null,null,null,null,null,null,0]
[null,null,null,null,null,null,null,null,null,null,null,null,0]
[null,null,null,null,null,null,null,null,null,null,null,null,0]
[null,null,null,null,null,null,null,null,null,null,null,null,0]
[null,null,null,null,null,null,null,null,null,null,null,null,0]
[null,null,null,null,null,null,null,null,null,null,null,null,0]
[null,null,null,null,null,null,null,null,null,null,null,null,0]
[null,null,null,null,null,null,null,null,null,null,null,null,0]
[null,null,null,null,null,null,null,null,null,null,null,null,0]
[null,null,null,null,null,null,null,null,null,null,null,null,0]
[null,null,null,null,null,null,null,null,null,null,null,null,0]
[null,null,null,null,null,null,null,null,null,null,null,null,0]
[null,null,null,null,null,null,null,null,null,null,null,null,0]
[null,null,null,null,null,null,null,null,null,null,null,null,0]
[null,null,null,null,null,null,null,null,null,null,null,null,0]
[null,null,null,null,null,null,null,null,null,null,null,null,0]
[null,null,null,null,null,null,null,null,null,null,null,null,0]
[null,null,null,null,null,null,null,null,null,null,null,null,0]
[null,null,null,null,null,null,null,null,null,null,null,null,0]
[null,null,null,null,null,null,null,null,null,null,null,null,{"$f":"SUM(G7880:I7880)","v":0}]
[null,null,null,null,null,null,null,null,null,null,null,null,0]
[null,null,null,null,null,null,null,null,null,null,null,null,0]
[null,null,null,null,null,null,null,null,null,null,null,null,0]
[null,null,null,null,null,null,null,null,null,null,null,null,0]
[null,null,null,null,null,null,null,null,null,null,null,null,0]
[null,null,null,null,null,null,null,null,null,null,null,null,0]
[null,null,null,null,null,null,null,null,null,null,null,null,0]
[null,null,null,null,null,null,null,null,null,null,null,null,0]
[null,null,null,null,null,null,null,null,null,null,null,null,0]
[null,null,null,null,null,null,null,null,null,null,null,null,0]
[null,null,null,null,null,null,null,null,null,null,null,null,0]
[null,null,null,null,null,null,null,null,null,null,null,null,0]
[null,null,null,null,null,null,null,null,null,null,null,null,0]
[null,null,null,null,null,null,null,null,null,null,null,null,0]
[null,null,null,null,null,null,null,null,null,null,null,null,0]
[null,null,null,null,null,null,null,null,null,null,null,null,0]
[null,null,null,null,null,null,null,null,null,null,null,null,0]
[null,null,null,null,null,null,null,null,null,null,null,null,0]
[null,null,null,null,null,null,null,null,null,null,null,null,0]
[null,null,null,null,null,null,null,null,null,null,null,null,0]
[null,null,null,null,null,null,null,null,null,null,null,null,0]
[null,null,null,null,null,null,null,null,null,null,null,null,0]
[null,null,null,null,null,null,null,null,null,null,null,null,0]
[null,null,null,null,null,null,null,null,null,null,null,null,0]
[null,null,null,null,null,null,null,null,null,null,null,null,0]
[null,null,null,null,null,null,null,null,null,null,null,null,0]
[null,null,null,null,null,null,null,null,null,null,null,null,0]
[null,null,null,null,null,null,null,null,null,null,null,null,0]
[null,null,null,null,null,null,null,null,null,null,null,null,0]
[null,null,null,null,null,null,null,null,null,null,null,null,0]
[null,null,null,null,null,null,null,null,null,null,null,null,0]
[null,null,null,null,null,null,null,null,null,null,null,null,0]
[null,null,null,null,null,null,null,null,null,null,null,null,0]
[null,null,null,null,null,null,null,null,null,null,null,null,0]
[null,null,null,null,null,null,null,null,null,null,null,null,0]
[null,null,null,null,null,null,null,null,null,null,null,null,0]
[null,null,null,null,null,null,null,null,null,null,null,null,0]
[null,null,null,null,null,null,null,null,null,null,null,null,0]
[null,null,null,null,null,null,null,null,null,null,null,null,0]
[null,null,null,null,null,null,null,null,null,null,null,null,0]
[null,null,null,null,null,null,null,null,null,null,null,null,0]
[null,null,null,null,null,null,null,null,null,null,null,null,0]
[null,null,null,null,null,null,null,null,null,null,null,null,0]
[null,null,null,null,null,null,null,null,null,null,null,null,0]
[null,null,null,null,null,null,null,null,null,null,null,null,0]
[null,null,null,null,null,null,null,null,null,null,null,null,0]
[null,null,null,null,null,null,null,null,null,null,null,null,0]
[null,null,null,null,null,null,null,null,null,null,null,null,0]
[null,null,null,null,null,null,null,null,null,null,null,null,0]
[null,null,null,null,null,null,null,null,null,null,null,null,0]
[null,null,null,null,null,null,null,null,null,null,null,null,0]
[null,null,null,null,null,null,null,null,null,null,null,null,0]
[null,null,null,null,null,null,null,null,null,null,null,null,0]
[null,null,null,null,null,null,null,null,null,null,null,null,0]
[null,null,null,null,null,null,null,null,null,null,null,null,0]
[null,null,null,null,null,null,null,null,null,null,null,null,0]
[null,null,null,null,null,null,null,null,null,null,null,null,0]
[null,null,null,null,null,null,null,null,null,null,null,null,0]
[null,null,null,null,null,null,null,null,null,null,null,null,0]
[null,null,null,null,null,null,null,null,null,null,null,null,0]
[null,null,null,null,null,null,null,null,null,null,null,null,0]
[null,null,null,null,null,null,null,null,null,null,null,null,0]
[null,null,null,null,null,null,null,null,null,null,null,null,0]
[null,null,null,null,null,null,null,null,null,null,null,null,{"$f":"SUM(G7944:I7944)","v":0}]
[null,null,null,null,null,null,null,null,null,null,null,null,0]
[null,null,null,null,null,null,null,null,null,null,null,null,0]
[null,null,null,null,null,null,null,null,null,null,null,null,0]
[null,null,null,null,null,null,null,null,null,null,null,null,0]
[null,null,null,null,null,null,null,null,null,null,null,null,0]
[null,null,null,null,null,null,null,null,null,null,null,null,0]
[null,null,null,null,null,null,null,null,null,null,null,null,0]
[null,null,null,null,null,null,null,null,null,null,null,null,0]
[null,null,null,null,null,null,null,null,null,null,null,null,0]
[null,null,null,null,null,null,null,null,null,null,null,null,0]
[null,null,null,null,null,null,null,null,null,null,null,null,0]
[null,null,null,null,null,null,null,null,null,null,null,null,0]
[null,null,null,null,null,null,null,null,null,null,null,null,0]
[null,null,null,null,null,null,null,null,null,null,null,null,0]
[null,null,null,null,null,null,null,null,null,null,null,null,0]
[null,null,null,null,null,null,null,null,null,null,null,null,0]
[null,null,null,null,null,null,null,null,null,null,null,null,0]
[null,null,null,null,null,null,null,null,null,null,null,null,0]
[null,null,null,null,null,null,null,null,null,null,null,null,0]
[null,null,null,null,null,null,null,null,null,null,null,null,0]
[null,null,null,null,null,null,null,null,null,null,null,null,0]
[null,null,null,null,null,null,null,null,null,null,null,null,0]
[null,null,null,null,null,null,null,null,null,null,null,null,0]
[null,null,null,null,null,null,null,null,null,null,null,null,0]
[null,null,null,null,null,null,null,null,null,null,null,null,0]
[null,null,null,null,null,null,null,null,null,null,null,null,0]
[null,null,null,null,null,null,null,null,null,null,null,null,0]
[null,null,null,null,null,null,null,null,null,null,null,null,0]
[null,null,null,null,null,null,null,null,null,null,null,null,0]
[null,null,null,null,null,null,null,null,null,null,null,null,0]
[null,null,null,null,null,null,null,null,null,null,null,null,0]
[null,null,null,null,null,null,null,null,null,null,null,null,0]
[null,null,null,null,null,null,null,null,null,null,null,null,0]
[null,null,null,null,null,null,null,null,null,null,null,null,0]
[null,null,null,null,null,null,null,null,null,null,null,null,0]
[null,null,null,null,null,null,null,null,null,null,null,null,0]
[null,null,null,null,null,null,null,null,null,null,null,null,0]
[null,null,null,null,null,null,null,null,null,null,null,null,0]
[null,null,null,null,null,null,null,null,null,null,null,null,0]
[null,null,null,null,null,null,null,null,null,null,null,null,0]
[null,null,null,null,null,null,null,null,null,null,null,null,0]
[null,null,null,null,null,null,null,null,null,null,null,null,0]
[null,null,null,null,null,null,null,null,null,null,null,null,0]
[null,null,null,null,null,null,null,null,null,null,null,null,0]
[null,null,null,null,null,null,null,null,null,null,null,null,0]
[null,null,null,null,null,null,null,null,null,null,null,null,0]
[null,null,null,null,null,null,null,null,null,null,null,null,0]
[null,null,null,null,null,null,null,null,null,null,null,null,0]
[null,null,null,null,null,null,null,null,null,null,null,null,0]
[null,null,null,null,null,null,null,null,null,null,null,null,0]
[null,null,null,null,null,null,null,null,null,null,null,null,0]
[null,null,null,null,null,null,null,null,null,null,null,null,0]
[null,null,null,null,null,null,null,null,null,null,null,null,0]
[null,null,null,null,null,null,null,null,null,null,null,null,0]
[null,null,null,null,null,null,null,null,null,null,null,null,0]
[null,null,null,null,null,null,null,null,null,null,null,null,0]
[null,null,null,null,null,null,null,null,null,null,null,null,0]
[null,null,null,null,null,null,null,null,null,null,null,null,0]
[null,null,null,null,null,null,null,null,null,null,null,null,0]
[null,null,null,null,null,null,null,null,null,null,null,null,0]
[null,null,null,null,null,null,null,null,null,null,null,null,0]
[null,null,null,null,null,null,null,null,null,null,null,null,0]
[null,null,null,null,null,null,null,null,null,null,null,null,0]
[null,null,null,null,null,null,null,null,null,null,null,null,{"$f":"SUM(G8008:I8008)","v":0}]
[null,null,null,null,null,null,null,null,null,null,null,null,0]
[null,null,null,null,null,null,null,null,null,null,null,null,0]
[null,null,null,null,null,null,null,null,null,null,null,null,0]
[null,null,null,null,null,null,null,null,null,null,null,null,0]
[null,null,null,null,null,null,null,null,null,null,null,null,0]
[null,null,null,null,null,null,null,null,null,null,null,null,0]
[null,null,null,null,null,null,null,null,null,null,null,null,0]
[null,null,null,null,null,null,null,null,null,null,null,null,0]
[null,null,null,null,null,null,null,null,null,null,null,null,0]
[null,null,null,null,null,null,null,null,null,null,null,null,0]
[null,null,null,null,null,null,null,null,null,null,null,null,0]
[null,null,null,null,null,null,null,null,null,null,null,null,0]
[null,null,null,null,null,null,null,null,null,null,null,null,0]
[null,null,null,null,null,null,null,null,null,null,null,null,0]
[null,null,null,null,null,null,null,null,null,null,null,null,0]
[null,null,null,null,null,null,null,null,null,null,null,null,0]
[null,null,null,null,null,null,null,null,null,null,null,null,0]
[null,null,null,null,null,null,null,null,null,null,null,null,0]
[null,null,null,null,null,null,null,null,null,null,null,null,0]
[null,null,null,null,null,null,null,null,null,null,null,null,0]
[null,null,null,null,null,null,null,null,null,null,null,null,0]
[null,null,null,null,null,null,null,null,null,null,null,null,0]
[null,null,null,null,null,null,null,null,null,null,null,null,0]
[null,null,null,null,null,null,null,null,null,null,null,null,0]
[null,null,null,null,null,null,null,null,null,null,null,null,0]
[null,null,null,null,null,null,null,null,null,null,null,null,0]
[null,null,null,null,null,null,null,null,null,null,null,null,0]
[null,null,null,null,null,null,null,null,null,null,null,null,0]
[null,null,null,null,null,null,null,null,null,null,null,null,0]

{"sheet":"A7","index":23,"n_rows":22,"n_cols":9,"rows_kept":22,"cut":false,"hidden":false,"merged":[[2,1,2,8],[10,6,10,8],[5,2,5,4],[6,2,6,4]]}
[]
[]
[null,"FORM A7: DERIVATIVE ASSETS"]
[]
[]
[null,"NAME OF CAPTIVE INSURER",{"$f":"Specifications!C6","v":0}]
[null,"YEAR ENDED",{"$f":"Specifications!C21","v":"00:00:00"}]
[]
[]
[]
[null,null,null,null,null,null,"Remaining term of exposure"]
[null,null,"Issued Currency","Amount","Credit rating","Credit spread","Less than 1 year","1-5 years","Over 5 years"]
[null,null,null,{"$f":"Specifications!$C$22","v":"Rs."},null,"%",{"$f":"Specifications!$C$22","v":"Rs."},{"$f":"Specifications!$C$22","v":"Rs."},{"$f":"Specifications!$C$22","v":"Rs."}]
[null,"Futures"]
[null,"Call options"]
[null,"Put options"]
[null,"Swaps"]
[null,"Forwards"]
[null,"Credit derivatives"]
[null,"Other derivatives"]
[]
[null,"TOTAL DERIVATIVE ASSETS",null,{"$f":"SUM(D14:D20)","v":0},null,null,{"$f":"SUM(G14:G20)","v":0},{"$f":"SUM(H14:H20)","v":0},0]

{"sheet":"A8","index":24,"n_rows":51,"n_cols":7,"rows_kept":51,"cut":false,"hidden":false,"merged":[[2,1,2,6],[31,1,32,1],[5,2,5,4],[6,2,6,4]]}
[]
[]
[null,"FORM A8: CURRENT AND DEFERRED TAX ASSETS AND LIABILITIES"]
[]
[]
[null,"NAME OF CAPTIVE INSURER",{"$f":"Specifications!C6","v":0}]
[null,"YEAR ENDED",{"$f":"Specifications!C21","v":"00:00:00"}]
[]
[]
[null,"CURRENT TAX ASSETS AND LIABILITIES"]
[]
[null,"Current tax assets","Amount"]
[null,null,{"$f":"Specifications!$C$22","v":"Rs."}]
[null,"Tax recoverable within 12 months"]
[null,"Tax recoverable after 12 months"]
[]
[null,"Total current tax assets",{"$f":"SUM(C14:C15)","v":0}]
[]
[]
[null,"Current tax liabilities","Amount"]
[null,null,{"$f":"Specifications!$C$22","v":"Rs."}]
[null,"Tax due within 12 months"]
[null,"Tax due after 12 months"]
[]
[null,"Total current tax liabilities",{"$f":"SUM(C22:C23)","v":0}]
[]
[]
[]
[]
[null,"DEFERRED TAX ASSETS/(LIABILITIES)"]
[]
[null,"Deferred tax assets/(liabilities)","Net opening tax asset/(liability)","Tax credited/(charged) to the income statement","Tax credited/(charged) to the other comprehensive income or equity","Acquisitions/ Transfers/(Disposals)","Net closing tax asset/(liability)"]
[null,null,{"$f":"Specifications!$C$22","v":"Rs."},{"$f":"Specifications!$C$22","v":"Rs."},{"$f":"Specifications!$C$22","v":"Rs."},{"$f":"Specifications!$C$22","v":"Rs."},{"$f":"Specifications!$C$22","v":"Rs."}]
[null,"Assets for insurance acquisition cashflows",null,null,null,null,{"$f":"SUM(C34:F34)","v":0}]
[null,"Difference between the tax and accounting value of insurance contracts",{"$f":"SUM(C36:C37)","v":0},{"$f":"SUM(D36:D37)","v":0},0,0,{"$f":"SUM(C35:F35)","v":0}]
[null,"    MRU",null,null,null,null,{"$f":"SUM(C36:F36)","v":0}]
[null,"    Overseas",null,null,null,null,0]
[null,"Realised and unrealised gains on investments",null,null,null,null,0]
[null,"Excess of depreciation over capital allowances",null,null,null,null,0]
[null,"Excess expenses",null,null,null,null,0]
[null,"Accounting provisions and other",null,null,null,null,0]
[null,"Trading losses",null,null,null,null,0]
[null,"Pension fund deficit",null,null,null,null,0]
[null,"Acquired intangibles",null,null,null,null,0]
[null,"Others",null,null," ",null,0]
[]
[null,"Total deferred tax assets/(liabilities)",{"$f":"SUM(C36:C45)+C34","v":0},{"$f":"SUM(D36:D45)+D34","v":0},0,0,{"$f":"SUM(C47:F47)","v":0}]
[]
[null,"Net deferred tax liabilities transferred on disposal",null,null,null,null,{"$f":"SUM(C49:F49)","v":0}]
[]
[null,"Net deferred tax assets/(liabilities)",{"$f":"C47-C49","v":0},{"$f":"D47-D49","v":0},0,0,{"$f":"SUM(C51:F51)","v":0}]

{"sheet":"A9","index":25,"n_rows":74,"n_cols":13,"rows_kept":74,"cut":false,"hidden":false,"merged":[[12,1,12,2],[9,1,10,2],[14,1,14,2],[2,1,2,12],[11,1,11,2],[5,2,5,4],[6,2,6,4]]}
[]
[]
[null,"FORM A9: RECEIVABLES"]
[]
[]
[null,"NAME OF CAPTIVE INSURER",{"$f":"Specifications!C6","v":0}]
[null,"YEAR ENDED",{"$f":"Specifications!C21","v":"00:00:00"}]
[]
[]
[null,"Description",null,"Receivables","Less than 12 months","12 months or more",null,"Gross receivables",null,"Bad debts written off","Provision for doubtful debts",null,"Net receivables "]
[null,null,null,{"$f":"Specifications!$C$22","v":"Rs."},{"$f":"Specifications!$C$22","v":"Rs."},{"$f":"Specifications!$C$22","v":"Rs."},null,{"$f":"Specifications!$C$22","v":"Rs."},null,{"$f":"Specifications!$C$22","v":"Rs."},{"$f":"Specifications!$C$22","v":"Rs."},null,{"$f":"Specifications!$C$22","v":"Rs."}]
[null,"Related Companies",null,{"$f":"SUMIFS(D$21:D74, $C$21:$C74, $B12)","v":0},{"$f":"SUMIFS(E$21:E74, $C$21:$C74, $B12)","v":0},{"$f":"SUMIFS(F$21:F74, $C$21:$C74, $B12)","v":0},null,{"$f":"SUM(E12:F12)","v":0},null,{"$f":"SUMIFS(J$21:J74, $C$21:$C74, $B12)","v":0},{"$f":"SUMIFS(K$21:K74, $C$21:$C74, $B12)","v":0},null,{"$f":"SUMIFS(M$21:M74, $C$21:$C74, $B12)","v":0}]
[null,"Other receivables",null,{"$f":"SUMIFS(D$21:D77, C$21:C77, $B13)","v":0},{"$f":"SUMIFS(E$21:E77, $C$21:$C77, $B13)","v":0},{"$f":"SUMIFS(F$21:F77, $C$21:$C77, $B13)","v":0},null,{"$f":"SUM(E13:F13)","v":0},null,{"$f":"SUMIFS(J$21:J77, $C$21:$C77, $B13)","v":0},{"$f":"SUMIFS(K$21:K77, $C$21:$C77, $B13)","v":0},null,{"$f":"SUMIFS(M$21:M77, $C$21:$C77, $B13)","v":0}]
[]
[null,"TOTAL RECEIVABLES",null,{"$f":"SUM(D12:D13)","v":0},{"$f":"SUM(E12:E13)","v":0},{"$f":"SUM(F12:F13)","v":0},null,{"$f":"SUM(H12:H13)","v":0},null,{"$f":"SUM(J12:J13)","v":0},{"$f":"SUM(K12:K13)","v":0},null,{"$f":"SUM(M12:M13)","v":0}]
[]
[]
[]
[null,"Entity","Description","Receivables","Less than 12 months","12 months or more",null,"Gross receivables",null,"Bad debts written off","Provision for doubtful debts",null,"Net receivables"]
[null,null,null,{"$f":"Specifications!$C$22","v":"Rs."},{"$f":"Specifications!$C$22","v":"Rs."},{"$f":"Specifications!$C$22","v":"Rs."},null,{"$f":"Specifications!$C$22","v":"Rs."},null,{"$f":"Specifications!$C$22","v":"Rs."},{"$f":"Specifications!$C$22","v":"Rs."},null,{"$f":"Specifications!$C$22","v":"Rs."}]
[null,null,null,null,null,null,null,{"$f":"SUM(E21:F21)","v":0},null,null,null,null,{"$f":"H21-SUM(J21:K21)","v":0}]
[null,null,null,null,null,null,null,0,null,null,null,null,{"$f":"H22-SUM(J22:K22)","v":0}]
[null,null,null,null,null,null,null,0,null,null,null,null,0]
[null,null,null,null,null,null,null,0,null,null,null,null,0]
[null,null,null,null,null,null,null,0,null,null,null,null,0]
[null,null,null,null,null,null,null,0,null,null,null,null,0]
[null,null,null,null,null,null,null,0,null,null,null,null,0]
[null,null,null,null,null,null,null,0,null,null,null,null,0]
[null,null,null,null,null,null,null,0,null,null,null,null,0]
[null,null,null,null,null,null,null,0,null,null,null,null,0]
[null,null,null,null,null,null,null,0,null,null,null,null,0]
[null,null,null,null,null,null,null,0,null,null,null,null,0]
[null,null,null,null,null,null,null,0,null,null,null,null,0]
[null,null,null,null,null,null,null,0,null,null,null,null,0]
[null,null,null,null,null,null,null,0,null,null,null,null,0]
[null,null,null,null,null,null,null,0,null,null,null,null,0]
[null,null,null,null,null,null,null,0,null,null,null,null,0]
[null,null,null,null,null,null,null,0,null,null,null,null,0]
[null,null,null,null,null,null,null,0,null,null,null,null,0]
[null,null,null,null,null,null,null,0,null,null,null,null,0]
[null,null,null,null,null,null,null,0,null,null,null,null,0]
[null,null,null,null,null,null,null,0,null,null,null,null,0]
[null,null,null,null,null,null,null,0,null,null,null,null,0]
[null,null,null,null,null,null,null,0,null,null,null,null,0]
[null,null,null,null,null,null,null,0,null,null,null,null,0]
[null,null,null,null,null,null,null,0,null,null,null,null,0]
[null,null,null,null,null,null,null,0,null,null,null,null,0]
[null,null,null,null,null,null,null,0,null,null,null,null,0]
[null,null,null,null,null,null,null,0,null,null,null,null,0]
[null,null,null,null,null,null,null,0,null,null,null,null,0]
[null,null,null,null,null,null,null,0,null,null,null,null,0]
[null,null,null,null,null,null,null,0,null,null,null,null,0]
[null,null,null,null,null,null,null,{"$f":"SUM(E53:F53)","v":0},null,null,null,null,0]
[null,null,null,null,null,null,null,0,null,null,null,null,0]
[null,null,null,null,null,null,null,0,null,null,null,null,0]
[null,null,null,null,null,null,null,0,null,null,null,null,0]
[null,null,null,null,null,null,null,0,null,null,null,null,0]
[null,null,null,null,null,null,null,0,null,null,null,null,0]
[null,null,null,null,null,null,null,0,null,null,null,null,0]
[null,null,null,null,null,null,null,0,null,null,null,null,0]
[null,null,null,null,null,null,null,0,null,null,null,null,0]
[null,null,null,null,null,null,null,0,null,null,null,null,0]
[null,null,null,null,null,null,null,0,null,null,null,null,0]
[null,null,null,null,null,null,null,0,null,null,null,null,0]
[null,null,null,null,null,null,null,0,null,null,null,null,0]
[null,null,null,null,null,null,null,0,null,null,null,null,0]
[null,null,null,null,null,null,null,0,null,null,null,null,{"$f":"H67-SUM(J67:K67)","v":0}]
[null,null,null,null,null,null,null,0,null,null,null,null,0]
[null,null,null,null,null,null,null,0,null,null,null,null,0]
[null,null,null,null,null,null,null,0,null,null,null,null,0]
[null,null,null,null,null,null,null,0,null,null,null,null,0]
[null,null,null,null,null,null,null,0,null,null,null,null,{"$f":"H72-SUM(J72:K72)","v":0}]
[null,null,null,null,null,null,null,0,null,null,null,null,{"$f":"H73-SUM(J73:K73)","v":0}]
[null,null,null,null,null,null,null,0,null,null,null,null,{"$f":"H74-SUM(J74:K74)","v":0}]

{"sheet":"A10","index":26,"n_rows":38,"n_cols":14,"rows_kept":38,"cut":false,"hidden":false,"merged":[[2,1,2,13],[6,2,6,4],[7,2,7,4],[10,1,11,1]]}
[]
[]
[null,"FORM A10: RECOVERIES FROM INSURANCE COMPANIES"]
[]
[]
[]
[null,"NAME OF INSURER",{"$f":"Specifications!C6","v":0}]
[null,"YEAR ENDED",{"$f":"Specifications!C21","v":"00:00:00"}]
[]
[]
[null,null,"Receivables","Less than 6 months","6 months or more but less than 1 year","1 year or more but less than 2 years","2 years or more",null,"Gross receivables",null,"Bad debts written off","Provision for doubtful debts",null,"Net receivables"]
[null,null,{"$f":"Specifications!$C$22","v":"Rs."},{"$f":"Specifications!$C$22","v":"Rs."},{"$f":"Specifications!$C$22","v":"Rs."},{"$f":"Specifications!$C$22","v":"Rs."},{"$f":"Specifications!$C$22","v":"Rs."},null,{"$f":"Specifications!$C$22","v":"Rs."},null,{"$f":"Specifications!$C$22","v":"Rs."},{"$f":"Specifications!$C$22","v":"Rs."},null,{"$f":"Specifications!$C$22","v":"Rs."}]
[]
[null,"TOTAL RECOVERIES FROM INSURANCE COMPANIES",{"$f":"SUM(C19:C38)","v":0},{"$f":"SUM(D19:D38)","v":0},{"$f":"SUM(E19:E38)","v":0},{"$f":"SUM(F19:F38)","v":0},{"$f":"SUM(G19:G38)","v":0},null,{"$f":"SUM(I19:I38)","v":0},null,{"$f":"SUM(K19:K38)","v":0},{"$f":"SUM(L19:L38)","v":0},null,{"$f":"SUM(N19:N38)","v":0}]
[]
[]
[null,"Insurance company","Receivables","Less than 6 months","6 months or more but less than 1 year","1 year or more but less than 2 years","2 years or more",null,"Gross receivables",null,"Bad debts written off","Provision for doubtful debts",null,"Net receivables"]
[null,null,{"$f":"Specifications!$C$22","v":"Rs."},{"$f":"Specifications!$C$22","v":"Rs."},{"$f":"Specifications!$C$22","v":"Rs."},{"$f":"Specifications!$C$22","v":"Rs."},{"$f":"Specifications!$C$22","v":"Rs."},null,{"$f":"Specifications!$C$22","v":"Rs."},null,{"$f":"Specifications!$C$22","v":"Rs."},{"$f":"Specifications!$C$22","v":"Rs."},null,{"$f":"Specifications!$C$22","v":"Rs."}]
[null,null,null,null,null,null,null,null,{"$f":"SUM(D19:G19)","v":0},null,null,null,null,{"$f":"I19-SUM(K19:L19)","v":0}]
[null,null,null,null,null,null,null,null,{"$f":"SUM(D20:G20)","v":0},null,null,null,null,{"$f":"I20-SUM(K20:L20)","v":0}]
[null,null,null,null,null,null,null,null,0,null,null,null,null,0]
[null,null,null,null,null,null,null,null,0,null,null,null,null,0]
[null,null,null,null,null,null,null,null,0,null,null,null,null,0]
[null,null,null,null,null,null,null,null,0,null,null,null,null,0]
[null,null,null,null,null,null,null,null,0,null,null,null,null,0]
[null,null,null,null,null,null,null,null,0,null,null,null,null,{"$f":"I26-SUM(K26:L26)","v":0}]
[null,null,null,null,null,null,null,null,0,null,null,null,null,0]
[null,null,null,null,null,null,null,null,0,null,null,null,null,0]
[null,null,null,null,null,null,null,null,0,null,null,null,null,0]
[null,null,null,null,null,null,null,null,0,null,null,null,null,0]
[null,null,null,null,null,null,null,null,0,null,null,null,null,0]
[null,null,null,null,null,null,null,null,0,null,null,null,null,0]
[null,null,null,null,null,null,null,null,0,null,null,null,null,0]
[null,null,null,null,null,null,null,null,0,null,null,null,null,0]
[null,null,null,null,null,null,null,null,0,null,null,null,null,0]
[null,null,null,null,null,null,null,null,0,null,null,null,null,0]
[null,null,null,null,null,null,null,null,0,null,null,null,null,0]
[null,null,null,null,null,null,null,null,0,null,null,null,null,0]

{"sheet":"A11","index":27,"n_rows":68,"n_cols":3,"rows_kept":68,"cut":false,"hidden":false,"merged":[[2,1,2,4],[5,2,5,4],[6,2,6,4],[8,2,8,4],[9,2,9,4],[67,2,67,4],[10,2,10,4],[11,2,11,4],[12,2,12,4],[13,2,13,4],[14,2,14,4],[15,2,15,4],[16,2,16,4],[17,2,17,4],[18,2,18,4],[19,2,19,4],[20,2,20,4],[21,2,21,4],[22,2,22,4],[23,2,23,4],[24,2,24,4],[25,2,25,4],[26,2,26,4],[27,2,27,4],[28,2,28,4],[29,2,29,4],[30,2,30,4],[31,2,31,4],[32,2,32,4],[33,2,33,4],[34,2,34,4],[35,2,35,4],[36,2,36,4],[37,2,37,4],[38,2,38,4],[39,2,39,4],[40,2,40,4],[41,2,41,4],[42,2,42,4],[43,2,43,4],[44,2,44,4],[45,2,45,4],[46,2,46,4],[47,2,47,4],[48,2,48,4],[49,2,49,4],[50,2,50,4],[51,2,51,4],[52,2,52,4],[53,2,53,4],[54,2,54,4],[55,2,55,4],[56,2,56,4],[57,2,57,4],[58,2,58,4],[59,2,59,4],[65,2,65,4],[60,2,60,4],[61,2,61,4],[62,2,62,4],[63,2,63,4],[64,2,64,4]]}
[]
[]
[null,"FORM A11: ASSETS HELD FOR SALE"]
[]
[]
[null,"NAME OF CAPTIVE INSURER",{"$f":"Specifications!C6","v":0}]
[null,"YEAR ENDED",{"$f":"Specifications!C21","v":"00:00:00"}]
[]
[null,"Description","Amount"]
[null,null,{"$f":"Specifications!$C$22","v":"Rs."}]
[null,"Property, plant and equipment",{"$f":"'A1'!I25","v":0}]
[null,"Goodwill",{"$f":"'A2'!H13","v":0}]
[null,"Other Intangible Assets",{"$f":"'A2'!H15","v":0}]
[null,"Investment property",{"$f":"'A5'!J9","v":0}]
[null,"Others (Please Specify)"]
[null,"Others (Please Specify)"]
[null,"Others (Please Specify)"]
[null,"Others (Please Specify)"]
[null,"Others (Please Specify)"]
[null,"Others (Please Specify)"]
[null,"Others (Please Specify)"]
[null,"Others (Please Specify)"]
[null,"Others (Please Specify)"]
[null,"Others (Please Specify)"]
[null,"Others (Please Specify)"]
[null,"Others (Please Specify)"]
[null,"Others (Please Specify)"]
[null,"Others (Please Specify)"]
[null,"Others (Please Specify)"]
[null,"Others (Please Specify)"]
[null,"Others (Please Specify)"]
[null,"Others (Please Specify)"]
[null,"Others (Please Specify)"]
[null,"Others (Please Specify)"]
[null,"Others (Please Specify)"]
[null,"Others (Please Specify)"]
[null,"Others (Please Specify)"]
[null,"Others (Please Specify)"]
[null,"Others (Please Specify)"]
[null,"Others (Please Specify)"]
[null,"Others (Please Specify)"]
[null,"Others (Please Specify)"]
[null,"Others (Please Specify)"]
[null,"Others (Please Specify)"]
[null,"Others (Please Specify)"]
[null,"Others (Please Specify)"]
[null,"Others (Please Specify)"]
[null,"Others (Please Specify)"]
[null,"Others (Please Specify)"]
[null,"Others (Please Specify)"]
[null,"Others (Please Specify)"]
[null,"Others (Please Specify)"]
[null,"Others (Please Specify)"]
[null,"Others (Please Specify)"]
[null,"Others (Please Specify)"]
[null,"Others (Please Specify)"]
[null,"Others (Please Specify)"]
[null,"Others (Please Specify)"]
[null,"Others (Please Specify)"]
[null,"Others (Please Specify)"]
[null,"Others (Please Specify)"]
[null,"Others (Please Specify)"]
[null,"Others (Please Specify)"]
[null,"Others (Please Specify)"]
[null,"Others (Please Specify)"]
[null,"Others (Please Specify)"]
[]
[null,"TOTAL ASSETS HELD FOR SALE",{"$f":"SUM(C11:E66)","v":0}]

{"sheet":"A12","index":28,"n_rows":22,"n_cols":3,"rows_kept":22,"cut":false,"hidden":false,"merged":[[21,2,21,3],[9,2,9,3],[10,2,10,3],[11,2,11,3],[13,2,13,3],[15,2,15,3],[2,1,2,3],[5,2,5,3],[6,2,6,3],[17,2,17,3],[19,2,19,3]]}
[]
[]
[null,"FORM A12: ASSETS COVERING GENERAL BUSINESS TECHNICAL PROVISIONS"]
[]
[]
[null,"NAME OF CAPTIVE INSURER",{"$f":"Specifications!C6","v":0}]
[null,"YEAR ENDED",{"$f":"Specifications!C21","v":"00:00:00"}]
[]
[]
[null,"Section 12 of the Captive Insurance Act",{"$f":"Specifications!$C$22","v":"Rs."}]
[null,"Total Assets",{"$f":"A0!D39","v":0}]
[null,"Less: encumbered assets"]
[]
[null,"Total free assets",{"$f":"C11-C12","v":0}]
[]
[null,"Less: liabilities other than insurance and reinsurance contract liabilities"]
[]
[null,"Assets available to cover Insurance and reinsurance contract liabilities",{"$f":"C14-C16","v":0}]
[]
[null,"Insurance and reinsurance contract liabilities"]
[]
[null,"Surplus / (Shortage)",{"$f":"C18-C20","v":0}]

{"sheet":"A13","index":29,"n_rows":16,"n_cols":3,"rows_kept":16,"cut":false,"hidden":false,"merged":[[2,1,2,2]]}
[]
[]
[null,"FORM A13: CASH AND OTHER ASSETS"]
[]
[]
[null,"NAME OF INSURER",{"$f":"Specifications!C6","v":0}]
[null,"YEAR ENDED",{"$f":"Specifications!C21","v":"00:00:00"}]
[]
[null,null,"Amount"]
[null,null,{"$f":"Specifications!$C$22","v":"Rs."}]
[null,"Asset for Insurance Acquisition Cash Flows"]
[null,"Prepayments and Accrued Income"]
[null,"Retirement Benefit Asset"]
[null,"Cash"]
[null,"Assets Encumbered"]
[null,"Other assets",{"$f":"SUM(C17:C52)","v":0}]

{"sheet":"L0","index":30,"n_rows":42,"n_cols":5,"rows_kept":42,"cut":false,"hidden":false,"merged":[[11,1,12,1],[11,3,11,4],[2,1,2,4],[5,3,5,4]]}
[]
[]
[null,"FORM L0 : BALANCE SHEET LIABILITIES AND EQUITY"]
[]
[]
[null,"NAME OF CAPTIVE INSURER",null,{"$f":"Specifications!C6","v":0}]
[null,"YEAR ENDED",null,{"$f":"Specifications!C21","v":"00:00:00"},{"$f":"Specifications!C21 - IF(MOD(YEAR(Specifications!C21),4)=0, 366, 365)","v":-366}]
[]
[]
[null,"LIABILITIES AND EQUITY"]
[]
[null,"EQUITY",null,"AMOUNT"]
[null,null,null,"Current Year","Previous Year"]
[null,"Share Capital"]
[null,"Share Premium"]
[null,"Retained earnings"]
[null,"Reserves"]
[]
[null,"TOTAL EQUITIES",null,{"$f":"SUM(D14:D17)","v":0},{"$f":"SUM(E14:E17)","v":0}]
[]
[]
[null,"LIABILITIES",null,"Current Year","Previous Year"]
[null,"Insurance Contract Liabilities",{"$f":"HYPERLINK(\"#'IR1'!A1\", \"IR1\")","v":"IR1"},{"$f":"'IR1'!F37+'IR1'!H66","v":0}]
[null,"Reinsurance Contract Liabilities",{"$f":"HYPERLINK(\"#'IR3'!A1\", \"IR3\")","v":"IR3"},{"$f":"'IR3'!F37+'IR3'!H66","v":0}]
[null,"Current tax liabilities",{"$f":"HYPERLINK(\"#'A8'!A1\", \"A8\")","v":"A8"},{"$f":"'A8'!C25","v":0}]
[null,"Deferred tax liabilities",{"$f":"HYPERLINK(\"#'A8'!A1\", \"A8\")","v":"A8"},{"$f":"IF('A8'!G51<0, 'A8'!G51, 0)","v":0}]
[null,"Liabilities held for sale",{"$f":"HYPERLINK(\"#'L1'!A1\", \"L1\")","v":"L1"},{"$f":"'L1'!C68","v":0}]
[null,"Financial liabilities"]
[null,"    Derivatives",{"$f":"HYPERLINK(\"#'L2'!A1\", \"L2\")","v":"L2"},{"$f":"'L2'!D22","v":0}]
[null,"    Investment contracts",{"$f":"HYPERLINK(\"#'L3'!A1\", \"L3\")","v":"L3"},{"$f":"'L3'!C62","v":0}]
[null,"Lease liabilities",{"$f":"HYPERLINK(\"#'L4'!A1\", \"L4\")","v":"L4"},{"$f":"'L4'!I68","v":0}]
[null,"Trade and other payables",{"$f":"HYPERLINK(\"#'L5'!A1\", \"L5\")","v":"L5"},{"$f":"'L5'!C18","v":0}]
[null,"Borrowings",{"$f":"HYPERLINK(\"#'L6'!A1\", \"L6\")","v":"L6"}]
[null,"    Subordinated",null,{"$f":"'L6'!C12","v":0}]
[null,"    Senior",null,{"$f":"'L6'!C13","v":0}]
[null,"    Short term operational",null,{"$f":"'L6'!C14","v":0}]
[null,"Retirement benefit liabilities",{"$f":"HYPERLINK(\"#'L7'!A1\", \"L7\")","v":"L7"},{"$f":"'L7'!C12","v":0}]
[null,"Other Liabilities",{"$f":"HYPERLINK(\"#'L7'!A1\", \"L7\")","v":"L7"},{"$f":"'L7'!C13","v":0}]
[]
[null,"TOTAL LIABILITIES",null,{"$f":"SUM(D23:D38)","v":0},{"$f":"SUM(E23:E38)","v":0}]
[]
[null,"TOTAL LIABILITIES AND EQUITY",null,{"$f":"SUM(D19,D40)","v":0},{"$f":"SUM(E19,E40)","v":0}]

{"sheet":"L1","index":31,"n_rows":68,"n_cols":3,"rows_kept":68,"cut":false,"hidden":false,"merged":[[65,2,65,4],[60,2,60,4],[61,2,61,4],[62,2,62,4],[63,2,63,4],[64,2,64,4],[55,2,55,4],[56,2,56,4],[57,2,57,4],[58,2,58,4],[59,2,59,4],[50,2,50,4],[51,2,51,4],[52,2,52,4],[53,2,53,4],[54,2,54,4],[45,2,45,4],[46,2,46,4],[47,2,47,4],[48,2,48,4],[49,2,49,4],[40,2,40,4],[41,2,41,4],[42,2,42,4],[43,2,43,4],[44,2,44,4],[35,2,35,4],[36,2,36,4],[37,2,37,4],[38,2,38,4],[39,2,39,4],[30,2,30,4],[31,2,31,4],[32,2,32,4],[33,2,33,4],[34,2,34,4],[25,2,25,4],[26,2,26,4],[27,2,27,4],[28,2,28,4],[29,2,29,4],[15,2,15,4],[16,2,16,4],[67,2,67,4],[10,2,10,4],[11,2,11,4],[12,2,12,4],[13,2,13,4],[14,2,14,4],[17,2,17,4],[18,2,18,4],[19,2,19,4],[20,2,20,4],[21,2,21,4],[22,2,22,4],[23,2,23,4],[24,2,24,4],[2,1,2,4],[5,2,5,4],[6,2,6,4],[8,2,8,4],[9,2,9,4]]}
[]
[]
[null,"FORM L1: LIABILITIES HELD FOR SALE"]
[]
[]
[null,"NAME OF CAPTIVE INSURER",{"$f":"Specifications!C6","v":0}]
[null,"YEAR ENDED",{"$f":"Specifications!C21","v":"00:00:00"}]
[]
[null,"Description of liabilities","Amount"]
[null,null,{"$f":"Specifications!$C$22","v":"Rs."}]
[]
[]
[]
[]
[]
[]
[]
[]
[]
[]
[]
[]
[]
[]
[]
[]
[]
[]
[]
[]
[]
[]
[]
[]
[]
[]
[]
[]
[]
[]
[]
[]
[]
[]
[]
[]
[]
[]
[]
[]
[]
[]
[]
[]
[]
[]
[]
[]
[]
[]
[]
[]
[]
[]
[]
[]
[]
[null,"TOTAL LIABILITIES HELD FOR SALE",{"$f":"SUM(C11:C67)","v":0}]

{"sheet":"L2","index":32,"n_rows":22,"n_cols":9,"rows_kept":22,"cut":false,"hidden":false,"merged":[[10,6,10,8],[2,1,2,8],[5,2,5,4],[6,2,6,4]]}
[]
[]
[null,"FORM L2: DERIVATIVE LIABILITIES"]
[]
[]
[null,"NAME OF CAPTIVE INSURER",{"$f":"Specifications!C6","v":0}]
[null,"YEAR ENDED",{"$f":"Specifications!C21","v":"00:00:00"}]
[]
[]
[]
[null,null,null,null,null,null,"Remaining term of exposure"]
[null,null,"Issued Currency","Amount","Credit rating","Credit spread","Less than 1 year","1-5 years","Over 5 years"]
[null,null,null,{"$f":"Specifications!$C$22","v":"Rs."},null,"%",{"$f":"Specifications!$C$22","v":"Rs."},{"$f":"Specifications!$C$22","v":"Rs."},{"$f":"Specifications!$C$22","v":"Rs."}]
[null,"Futures"]
[null,"Call options"]
[null,"Put options"]
[null,"Swaps"]
[null,"Forwards"]
[null,"Credit derivatives"]
[null,"Other derivatives"]
[]
[null,"TOTAL DERIVATIVE LIABILITIES",null,{"$f":"SUM(D14:D20)","v":0},null,null,{"$f":"SUM(G14:G20)","v":0},{"$f":"SUM(H14:H20)","v":0},{"$f":"SUM(I14:I20)","v":0}]

{"sheet":"L3","index":33,"n_rows":62,"n_cols":3,"rows_kept":62,"cut":false,"hidden":false,"merged":[[55,2,55,3],[56,2,56,3],[57,2,57,3],[58,2,58,3],[59,2,59,3],[50,2,50,3],[51,2,51,3],[52,2,52,3],[53,2,53,3],[54,2,54,3],[45,2,45,3],[46,2,46,3],[47,2,47,3],[48,2,48,3],[49,2,49,3],[40,2,40,3],[41,2,41,3],[42,2,42,3],[43,2,43,3],[44,2,44,3],[35,2,35,3],[36,2,36,3],[37,2,37,3],[38,2,38,3],[39,2,39,3],[30,2,30,3],[31,2,31,3],[32,2,32,3],[33,2,33,3],[34,2,34,3],[25,2,25,3],[26,2,26,3],[27,2,27,3],[28,2,28,3],[29,2,29,3],[15,2,15,3],[61,2,61,3],[10,2,10,3],[11,2,11,3],[12,2,12,3],[13,2,13,3],[14,2,14,3],[16,2,16,3],[17,2,17,3],[18,2,18,3],[19,2,19,3],[20,2,20,3],[21,2,21,3],[22,2,22,3],[23,2,23,3],[24,2,24,3],[8,1,9,1],[2,1,2,3],[5,2,5,3],[6,2,6,3],[8,2,8,3],[9,2,9,3]]}
[]
[]
[null,"FORM L3: INVESTMENT CONTRACT LIABILITIES"]
[]
[]
[null,"NAME OF CAPTIVE INSURER",{"$f":"Specifications!C6","v":0}]
[null,"YEAR ENDED",{"$f":"Specifications!C21","v":"00:00:00"}]
[]
[null,"Description of Investment contract liabilities","Amount"]
[null,null,{"$f":"Specifications!$C$22","v":"Rs."}]
[]
[]
[]
[]
[]
[]
[]
[]
[]
[]
[]
[]
[]
[]
[]
[]
[]
[]
[]
[]
[]
[]
[]
[]
[]
[]
[]
[]
[]
[]
[]
[]
[]
[]
[]
[]
[]
[]
[]
[]
[]
[]
[]
[]
[]
[]
[]
[]
[]
[]
[]
[null,"TOTAL INVESTMENT CONTRACT LIABILITIES",{"$f":"SUM(C11:C61)","v":0}]

{"sheet":"L4","index":34,"n_rows":68,"n_cols":10,"rows_kept":68,"cut":false,"hidden":false,"merged":[[2,1,2,9],[5,2,5,4],[6,2,6,4]]}
[]
[]
[null,"FORM L4: LEASE LIABILITIES"]
[]
[]
[null,"NAME OF CAPTIVE INSURER",{"$f":"Specifications!C6","v":0}]
[null,"YEAR ENDED",{"$f":"Specifications!C21","v":"00:00:00"}]
[]
[]
[null,"Description","Inception date","Commencement date","Issued Currency","Opening balance","Additions","Accretion of interest","Payments","Closing balance"]
[null,null,null,null,null,{"$f":"Specifications!$C$22","v":"Rs."},{"$f":"Specifications!$C$22","v":"Rs."},{"$f":"Specifications!$C$22","v":"Rs."},{"$f":"Specifications!$C$22","v":"Rs."},{"$f":"Specifications!$C$22","v":"Rs."}]
[null,null,null,null,null,null,null,null,null,{"$f":"SUM(F12:H12)-I12","v":0}]
[null,null,null,null,null,null,null,null,null,{"$f":"SUM(F13:H13)-I13","v":0}]
[null,null,null,null,null,null,null,null,null,0]
[null,null,null,null,null,null,null,null,null,0]
[null,null,null,null,null,null,null,null,null,0]
[null,null,null,null,null,null,null,null,null,0]
[null,null,null,null,null,null,null,null,null,0]
[null,null,null,null,null,null,null,null,null,0]
[null,null,null,null,null,null,null,null,null,0]
[null,null,null,null,null,null,null,null,null,0]
[null,null,null,null,null,null,null,null,null,0]
[null,null,null,null,null,null,null,null,null,0]
[null,null,null,null,null,null,null,null,null,0]
[null,null,null,null,null,null,null,null,null,0]
[null,null,null,null,null,null,null,null,null,0]
[null,null,null,null,null,null,null,null,null,0]
[null,null,null,null,null,null,null,null,null,0]
[null,null,null,null,null,null,null,null,null,0]
[null,null,null,null,null,null,null,null,null,0]
[null,null,null,null,null,null,null,null,null,0]
[null,null,null,null,null,null,null,null,null,0]
[null,null,null,null,null,null,null,null,null,0]
[null,null,null,null,null,null,null,null,null,0]
[null,null,null,null,null,null,null,null,null,0]
[null,null,null,null,null,null,null,null,null,0]
[null,null,null,null,null,null,null,null,null,0]
[null,null,null,null,null,null,null,null,null,0]
[null,null,null,null,null,null,null,null,null,0]
[null,null,null,null,null,null,null,null,null,0]
[null,null,null,null,null,null,null,null,null,0]
[null,null,null,null,null,null,null,null,null,0]
[null,null,null,null,null,null,null,null,null,0]
[null,null,null,null,null,null,null,null,null,0]
[null,null,null,null,null,null,null,null,null,0]
[null,null,null,null,null,null,null,null,null,0]
[null,null,null,null,null,null,null,null,null,0]
[null,null,null,null,null,null,null,null,null,0]
[null,null,null,null,null,null,null,null,null,0]
[null,null,null,null,null,null,null,null,null,0]
[null,null,null,null,null,null,null,null,null,0]
[null,null,null,null,null,null,null,null,null,0]
[null,null,null,null,null,null,null,null,null,0]
[null,null,null,null,null,null,null,null,null,0]
[null,null,null,null,null,null,null,null,null,0]
[null,null,null,null,null,null,null,null,null,0]
[null,null,null,null,null,null,null,null,null,0]
[null,null,null,null,null,null,null,null,null,0]
[null,null,null,null,null,null,null,null,null,0]
[null,null,null,null,null,null,null,null,null,0]
[null,null,null,null,null,null,null,null,null,0]
[null,null,null,null,null,null,null,null,null,0]
[null,null,null,null,null,null,null,null,null,0]
[null,null,null,null,null,null,null,null,null,0]
[null,null,null,null,null,null,null,null,null,0]
[null,null,null,null,null,null,null,null,null,0]
[]
[null,"TOTAL LEASE LIABILITIES",null,null,null,{"$f":"SUM(F12:F67)","v":0},{"$f":"SUM(G12:G67)","v":0},{"$f":"SUM(H12:H67)","v":0},{"$f":"SUM(I12:I67)","v":0},{"$f":"SUM(J12:J67)","v":0}]

{"sheet":"L5","index":35,"n_rows":18,"n_cols":3,"rows_kept":18,"cut":false,"hidden":false,"merged":[[2,1,2,4],[5,2,5,4],[6,2,6,4],[8,2,8,4],[9,2,9,4],[15,2,15,4],[17,2,17,4],[10,2,10,4],[11,2,11,4],[12,2,12,4],[13,2,13,4],[14,2,14,4]]}
[]
[]
[null,"FORM L5: TRADE AND OTHER PAYABLES, INCLUDING INSURANCE PAYABLES"]
[]
[]
[null,"NAME OF CAPTIVE INSURER",{"$f":"Specifications!C6","v":0}]
[null,"YEAR ENDED",{"$f":"Specifications!C21","v":"00:00:00"}]
[]
[null,null,"Amount "]
[null,"Item",{"$f":"Specifications!$C$22","v":"Rs."}]
[null,"Accruals"]
[null,"Trade creditors"]
[null,"Other creditors"]
[null,"Due to agents, brokers and intermediaries"]
[null,"Deferred income"]
[null,"Due to insurance companies"]
[]
[null,"TOTAL TRADE AND OTHER PAYABLES, INCLUDING INSURANCE PAYABLES",{"$f":"SUM(C11:C17)","v":0}]

{"sheet":"L6","index":36,"n_rows":20,"n_cols":9,"rows_kept":20,"cut":false,"hidden":false,"merged":[[2,1,2,8],[5,2,5,5],[6,2,6,5]]}
[]
[]
[null,"FORM L6 : BORROWINGS"]
[]
[]
[null,"NAME OF CAPTIVE INSURER",{"$f":"Specifications!C6","v":0}]
[null,"YEAR ENDED",{"$f":"Specifications!C21","v":"00:00:00"}]
[]
[]
[null,"Type","Amount"]
[null,null,{"$f":"Specifications!$C$22","v":"Rs."}]
[null,"Subordinated borrowings",{"$f":"SUMIFS($C$21:$C$128, $D$21:$D$128, B12)","v":0}]
[null,"Senior borrowings",{"$f":"SUMIFS($C$21:$C$128, $D$21:$D$128, B13)","v":0}]
[null,"Short term operational borrowings",{"$f":"SUMIFS($C$21:$C$128, $D$21:$D$128, B14)","v":0}]
[]
[null,"Total Borrowings",{"$f":"SUM(C12:C14)","v":0}]
[]
[]
[null,"Description","Amount","Type","Secured/Unsecured","Interest rate","Fixed or floating","Date of issue","Term to Maturity"]
[null,null,{"$f":"Specifications!$C$22","v":"Rs."},null,null,"%"]

{"sheet":"L7","index":37,"n_rows":13,"n_cols":3,"rows_kept":13,"cut":false,"hidden":false,"merged":[[2,1,2,2]]}
[]
[]
[null,"FORM L7: OTHER LIABILITIES"]
[]
[]
[]
[null,"NAME OF CAPTIVE INSURER",{"$f":"Specifications!C6","v":0}]
[null,"YEAR ENDED",{"$f":"Specifications!C21","v":"00:00:00"}]
[]
[null,null,"Amount"]
[null,null,{"$f":"Specifications!$C$22","v":"Rs."}]
[null,"Retirement benefit liabilities"]
[null,"Other Liabilities"]

{"sheet":"Insurance&Reinsurance>>>","index":38,"n_rows":0,"n_cols":0,"rows_kept":0,"cut":false,"hidden":false,"merged":[]}

{"sheet":"IR0","index":39,"n_rows":46,"n_cols":10,"rows_kept":46,"cut":false,"hidden":false,"merged":[[6,2,6,3],[21,2,21,3],[21,5,21,6],[21,8,21,9],[2,1,2,9]]}
[]
[]
[null,"FORM IR0: BALANCE SHEET AND RESERVES SUMMARY"]
[]
[]
[]
[null,"NAME OF CAPTIVE INSURER",{"$f":"Specifications!C6","v":0}]
[null,"YEAR ENDED",{"$f":"Specifications!C21","v":"00:00:00"},{"$f":"Specifications!C21 - IF(MOD(YEAR(Specifications!C21),4)=0, 366, 365)","v":-366}]
[]
[]
[null,"IFRS Balance Sheet Summary"]
[]
[null,"Summary","Current Year","Previous Year"]
[null,null,{"$f":"Specifications!$C$22","v":"Rs."},{"$f":"Specifications!$C$22","v":"Rs."}]
[null,"Assets",{"$f":"A0!D41","v":0},{"$f":"A0!E41","v":0}]
[null,"Liabilities",{"$f":"-L0!D40","v":0},{"$f":"-L0!E40","v":0}]
[null,"Equity",{"$f":"L0!D19","v":0},{"$f":"L0!E19","v":0}]
[]
[]
[null,"Reserves summary"]
[]
[null,null,"TOTAL",null,null,"GENERAL INSURANCE BUSINESS",null,null,"LONG TERM INSURANCE BUSINESS"]
[null,"Summary","Current Year","Previous Year",null,"Current Year","Previous Year",null,"Current Year","Previous Year"]
[null,null,{"$f":"Specifications!$C$22","v":"Rs."},{"$f":"Specifications!$C$22","v":"Rs."},null,{"$f":"Specifications!$C$22","v":"Rs."},{"$f":"Specifications!$C$22","v":"Rs."},null,{"$f":"Specifications!$C$22","v":"Rs."},{"$f":"Specifications!$C$22","v":"Rs."}]
[null,"Insurance liabilities"]
[null,"Liability for incurred claims",{"$f":"F26+I26","v":0},{"$f":"G26+J26","v":0},null,{"$f":"'IR1'!F24","v":0},null,null,{"$f":"'IR1'!F35","v":0}]
[null,"Liability for remaining coverage",{"$f":"F27+I27","v":0},{"$f":"G27+J27","v":0},null,{"$f":"'IR1'!H53","v":0},null,null,{"$f":"'IR1'!H64","v":0}]
[null,"Insurance Assets"]
[null,"Liability for incurred claims",{"$f":"F29+I29","v":0},{"$f":"G29+J29","v":0},null,{"$f":"'IR2'!F24","v":0},null,null,{"$f":"'IR2'!F35","v":0}]
[null,"Liability for remaining coverage",{"$f":"F30+I30","v":0},{"$f":"G30+J30","v":0},null,{"$f":"'IR2'!H53","v":0},null,null,{"$f":"'IR2'!H64","v":0}]
[]
[null,"Liability arising from insurance contracts",{"$f":"SUM(C26:C27)-SUM(C29:C30)","v":0},{"$f":"SUM(D26:D27)-SUM(D29:D30)","v":0},null,{"$f":"SUM(F26:F27)-SUM(F29:F30)","v":0},{"$f":"SUM(G26:G27)-SUM(G29:G30)","v":0},null,{"$f":"SUM(I26:I27)-SUM(I29:I30)","v":0},{"$f":"SUM(J26:J27)-SUM(J29:J30)","v":0}]
[]
[null,"Reinsurance Assets"]
[null,"Asset Recoverable from Incurred Claims",{"$f":"F35+I35","v":0},{"$f":"G35+J35","v":0},null,{"$f":"'IR4'!F24","v":0},null,null,{"$f":"'IR4'!F35","v":0}]
[null,"Asset for Remaining Coverage",{"$f":"F36+I36","v":0},{"$f":"G36+J36","v":0},null,{"$f":"'IR4'!H53","v":0},null,null,{"$f":"'IR4'!H64","v":0}]
[null,"Reinsurance Liabilities"]
[null,"Asset Recoverable from Incurred Claims",{"$f":"F38+I38","v":0},{"$f":"G38+J38","v":0},null,{"$f":"'IR3'!F24","v":0},null,null,{"$f":"'IR3'!F35","v":0}]
[null,"Asset for Remaining Coverage",{"$f":"F39+I39","v":0},{"$f":"G39+J39","v":0},null,{"$f":"'IR3'!H53","v":0},null,null,{"$f":"'IR3'!H64","v":0}]
[]
[null,"Asset from reinsurance contracts",{"$f":"SUM(C35:C36)-SUM(C38:C39)","v":0},{"$f":"SUM(D35:D36)-SUM(D38:D39)","v":0},null,{"$f":"SUM(F35:F36)-SUM(F38:F39)","v":0},{"$f":"SUM(G35:G36)-SUM(G38:G39)","v":0},null,{"$f":"SUM(I35:I36)-SUM(I38:I39)","v":0},{"$f":"SUM(J35:J36)-SUM(J38:J39)","v":0}]
[]
[null,"Net liability arising from insurance contracts",{"$f":"C32-C41","v":0},{"$f":"D32-D41","v":0},null,{"$f":"F32-F41","v":0},{"$f":"G32-G41","v":0},null,{"$f":"I32-I41","v":0},{"$f":"J32-J41","v":0}]
[]
[]
[null,"MCR ratio",{"$f":"C0!D31","v":0}]

{"sheet":"IR1","index":40,"n_rows":89,"n_cols":10,"rows_kept":89,"cut":false,"hidden":false,"merged":[[2,1,2,9],[6,2,6,3],[7,2,7,3],[12,1,13,1],[12,9,13,9],[81,1,82,1],[81,9,82,9],[70,1,71,1],[70,9,71,9],[25,1,26,1],[25,9,26,9],[54,1,55,1],[54,9,55,9],[41,1,42,1],[41,9,42,9]]}
[]
[]
[null,"FORM IR1: INSURANCE LIABILITIES"]
[]
[]
[]
[null,"NAME OF CAPTIVE INSURER",{"$f":"Specifications!C6","v":0}]
[null,"YEAR ENDED",{"$f":"Specifications!C21","v":"00:00:00"}]
[]
[]
[null,"Liability for incurred claims (LIC)"]
[]
[null,"LIABILITY FOR INCURRED CLAIMS - GENERAL INSURANCE BUSINESS","Best Estimate liability (Undiscounted)","Impact of Discounting","Risk adjustment","Total LIC",null,null,null,"Checks"]
[null,null,{"$f":"Specifications!$C$22","v":"Rs."},{"$f":"Specifications!$C$22","v":"Rs."},{"$f":"Specifications!$C$22","v":"Rs."},{"$f":"Specifications!$C$22","v":"Rs."}]
[null,"Motor ",null,null,null,{"$f":"SUM(C15:E15)","v":0},null,null,null,{"$f":"IF(D15>0,\"Impact of discounting should be negative\",\"Pass\")","v":"Pass"}]
[null,"Accident and Health ",null,null,null,{"$f":"SUM(C16:E16)","v":0},null,null,null,"Pass"]
[null,"Engineering ",null,null,null,{"$f":"SUM(C17:E17)","v":0},null,null,null,"Pass"]
[null,"Liability ",null,null,null,0,null,null,null,"Pass"]
[null,"Property ",null,null,null,0,null,null,null,"Pass"]
[null,"Transportation ",null,null,null,{"$f":"SUM(C20:E20)","v":0},null,null,null,"Pass"]
[null,"Guarantee ",null,null,null,0,null,null,null,"Pass"]
[null,"Miscellaneous ",null,null,null,0,null,null,null,"Pass"]
[]
[null,"LIABILITY FOR INCURRED CLAIMS - GENERAL INSURANCE BUSINESS",{"$f":"SUM(C15:C22)","v":0},{"$f":"SUM(D15:D22)","v":0},0,{"$f":"SUM(F15:F22)","v":0}]
[]
[null,"LIABILITY FOR INCURRED CLAIMS - LONG TERM INSURANCE BUSINESS","Best Estimate liability (Undiscounted)","Impact of Discounting","Risk adjustment","Total LIC",null,null,null,"Checks"]
[null,null,{"$f":"Specifications!$C$22","v":"Rs."},{"$f":"Specifications!$C$22","v":"Rs."},{"$f":"Specifications!$C$22","v":"Rs."},{"$f":"Specifications!$C$22","v":"Rs."}]
[null,"Life \nAssurance",null,null,null,{"$f":"SUM(C28:E28)","v":0},null,null,null,{"$f":"IF(D28>0,\"Impact of discounting should be negative\",\"Pass\")","v":"Pass"}]
[null,"Pension\n",null,null,null,0,null,null,null,"Pass"]
[null,"Permanent \nHealth \nInsurance",null,null,null,{"$f":"SUM(C30:E30)","v":0},null,null,null,"Pass"]
[null,"Linked \nLong Term \nInsurance",null,null,null,0,null,null,null,"Pass"]
[null,"Structured Investment-Linked Insurance Business",null,null,null,0,null,null,null,"Pass"]
[null,"Other",null,null,null,0,null,null,null,"Pass"]
[]
[null,"LIABILITY FOR INCURRED CLAIMS - LONG TERM INSURANCE BUSINESS",{"$f":"SUM(C28:C33)","v":0},{"$f":"SUM(D28:D33)","v":0},{"$f":"SUM(E28:E33)","v":0},{"$f":"SUM(F28:F33)","v":0}]
[]
[null,"TOTAL LIABILITY FOR INCURRED CLAIMS",{"$f":"C35+C24","v":0},{"$f":"D35+D24","v":0},{"$f":"E35+E24","v":0},{"$f":"F35+F24","v":0}]
[]
[]
[null,"Liability for remaining coverage (LRC)"]
[]
[null,"Liability FOR REMAINING COVERAGE - GENERAL INSURANCE BUSINESS","Best estimate \n(Undiscounted and Excluding Loss Component)","Impact of Discounting","Risk adjustment","Contractual Service Margin","Loss component","Total LRC (Including Contractual Service Margin)",null,"Checks"]
[null,null,{"$f":"Specifications!$C$22","v":"Rs."},{"$f":"Specifications!$C$22","v":"Rs."},{"$f":"Specifications!$C$22","v":"Rs."},{"$f":"Specifications!$C$22","v":"Rs."},{"$f":"Specifications!$C$22","v":"Rs."},{"$f":"Specifications!$C$22","v":"Rs."}]
[null,"Motor ",null,null,null,null,null,{"$f":"SUM(C44:G44)","v":0},null,{"$f":"IF(D44>0,\"Impact of discounting should be negative\",\"Pass\")","v":"Pass"}]
[null,"Accident and Health ",null,null,null,null,null,0,null,"Pass"]
[null,"Engineering ",null,null,null,null,null,{"$f":"SUM(C46:G46)","v":0},null,"Pass"]
[null,"Liability ",null,null,null,null,null,{"$f":"SUM(C47:G47)","v":0},null,"Pass"]
[null,"Property ",null,null,null,null,null,0,null,"Pass"]
[null,"Transportation ",null,null,null,null,null,0,null,"Pass"]
[null,"Guarantee ",null,null,null,null,null,0,null,"Pass"]
[null,"Miscellaneous ",null,null,null,null,null,0,null,"Pass"]
[]
[null,"LIABILITY FOR REMAINING COVERAGE - GENERAL INSURANCE BUSINESS",{"$f":"SUM(C44:C51)","v":0},{"$f":"SUM(D44:D51)","v":0},0,0,0,0]
[]
[null,"Liability FOR REMAINING COVERAGE - LONG TERM INSURANCE BUSINESS","Best estimate \n(Undiscounted and Excluding Loss Component)","Impact of Discounting","Risk adjustment","Contractual Service Margin","Loss component","Total LRC (Including Contractual Service Margin)",null,"Checks"]
[null,null,{"$f":"Specifications!$C$22","v":"Rs."},{"$f":"Specifications!$C$22","v":"Rs."},{"$f":"Specifications!$C$22","v":"Rs."},{"$f":"Specifications!$C$22","v":"Rs."},{"$f":"Specifications!$C$22","v":"Rs."},{"$f":"Specifications!$C$22","v":"Rs."}]
[null,"Life \nAssurance",null,null,null,null,null,{"$f":"SUM(C57:G57)","v":0},null,{"$f":"IF(D57>0,\"Impact of discounting should be negative\",\"Pass\")","v":"Pass"}]
[null,"Pension\n",null,null,null,null,null,0,null,"Pass"]
[null,"Permanent \nHealth \nInsurance",null,null,null,null,null,{"$f":"SUM(C59:G59)","v":0},null,"Pass"]
[null,"Linked \nLong Term \nInsurance",null,null,null,null,null,0,null,"Pass"]
[null,"Structured Investment-Linked Insurance Business",null,null,null,null,null,0,null,"Pass"]
[null,"Other",null,null,null,null,null,0,null,"Pass"]
[]
[null,"LIABILITY FOR REMAINING COVERAGE - LONG TERM INSURANCE BUSINESS",{"$f":"SUM(C57:C62)","v":0},0,0,0,0,0]
[]
[null,"TOTAL LIABILITY FOR REMAINING COVERAGE",{"$f":"C64+C53","v":0},0,0,0,0,0]
[]
[]
[null,"LIC +LRC ( Overall liability)"]
[]
[null,"OVERALL LIABILITY - GENERAL INSURANCE BUSINESS","Total Liability Positions ",null,null,null,null,null,null,"Checks"]
[null,null,{"$f":"Specifications!$C$22","v":"Rs."}]
[null,"Motor ",{"$f":"F15+H44","v":0},null,null,null,null,null,null,{"$f":"IF(C73<0,\"Please consider reporting portfolio in insurance contract assets\",\"Pass\")","v":"Pass"}]
[null,"Accident and Health ",0,null,null,null,null,null,null,"Pass"]
[null,"Engineering ",0,null,null,null,null,null,null,"Pass"]
[null,"Liability ",0,null,null,null,null,null,null,"Pass"]
[null,"Property ",0,null,null,null,null,null,null,"Pass"]
[null,"Transportation ",0,null,null,null,null,null,null,"Pass"]
[null,"Guarantee ",0,null,null,null,null,null,null,"Pass"]
[null,"Miscellaneous ",0,null,null,null,null,null,null,"Pass"]
[]
[null,"OVERALL LIABILITY - LONG TERM INSURANCE BUSINESS","Total Liability Positions ",null,null,null,null,null,null,"Checks"]
[null,null,{"$f":"Specifications!$C$22","v":"Rs."}]
[null,"Life \nAssurance",{"$f":"F28+H57","v":0},null,null,null,null,null,null,{"$f":"IF(C84<0,\"Please consider reporting portfolio in insurance contract assets\",\"Pass\")","v":"Pass"}]
[null,"Pension\n",0,null,null,null,null,null,null,{"$f":"IF(C85<0,\"Please consider reporting portfolio in insurance contract assets\",\"Pass\")","v":"Pass"}]
[null,"Permanent \nHealth \nInsurance",0,null,null,null,null,null,null,{"$f":"IF(C86<0,\"Please consider reporting portfolio in insurance contract assets\",\"Pass\")","v":"Pass"}]
[null,"Linked \nLong Term \nInsurance",0,null,null,null,null,null,null,{"$f":"IF(C87<0,\"Please consider reporting portfolio in insurance contract assets\",\"Pass\")","v":"Pass"}]
[null,"Structured Investment-Linked Insurance Business",0,null,null,null,null,null,null,{"$f":"IF(C88<0,\"Please consider reporting portfolio in insurance contract assets\",\"Pass\")","v":"Pass"}]
[null,"Other",0,null,null,null,null,null,null,"Pass"]

{"sheet":"IR2","index":41,"n_rows":89,"n_cols":10,"rows_kept":89,"cut":false,"hidden":false,"merged":[[2,1,2,9],[6,2,6,3],[7,2,7,3],[12,1,13,1],[12,9,13,9],[81,1,82,1],[81,9,82,9],[70,1,71,1],[70,9,71,9],[25,1,26,1],[25,9,26,9],[54,1,55,1],[54,9,55,9],[41,1,42,1],[41,9,42,9]]}
[]
[]
[null,"FORM IR2: INSURANCE ASSETS"]
[]
[]
[]
[null,"NAME OF CAPTIVE INSURER",{"$f":"Specifications!C6","v":0}]
[null,"YEAR ENDED",{"$f":"Specifications!C21","v":"00:00:00"}]
[]
[]
[null,"Liability for incurred claims (LIC)"]
[]
[null,"LIABILITY FOR INCURRED CLAIMS - GENERAL INSURANCE BUSINESS (ASSET POSITION)","Best Estimate liability (Undiscounted)","Impact of Discounting","Risk adjustment","Total LIC",null,null,null,"Checks"]
[null,null,{"$f":"Specifications!$C$22","v":"Rs."},{"$f":"Specifications!$C$22","v":"Rs."},{"$f":"Specifications!$C$22","v":"Rs."},{"$f":"Specifications!$C$22","v":"Rs."}]
[null,"Motor ",null,null,null,{"$f":"SUM(C15:E15)","v":0},null,null,null,{"$f":"IF(D15>0,\"Impact of discounting should be negative\",\"Pass\")","v":"Pass"}]
[null,"Accident and Health ",null,null,null,0,null,null,null,"Pass"]
[null,"Engineering ",null,null,null,0,null,null,null,"Pass"]
[null,"Liability ",null,null,null,0,null,null,null,"Pass"]
[null,"Property ",null,null,null,0,null,null,null,"Pass"]
[null,"Transportation ",null,null,null,0,null,null,null,"Pass"]
[null,"Guarantee ",null,null,null,0,null,null,null,"Pass"]
[null,"Miscellaneous ",null,null,null,0,null,null,null,"Pass"]
[]
[null,"LIABILITY FOR INCURRED CLAIMS - GENERAL INSURANCE BUSINESS",{"$f":"SUM(C15:C22)","v":0},{"$f":"SUM(D15:D22)","v":0},0,0]
[]
[null,"LIABILITY FOR INCURRED CLAIMS - LONG TERM INSURANCE BUSINESS (ASSET POSITION)","Best Estimate liability (Undiscounted)","Impact of Discounting","Risk adjustment","Total LIC",null,null,null,"Checks"]
[null,null,{"$f":"Specifications!$C$22","v":"Rs."},{"$f":"Specifications!$C$22","v":"Rs."},{"$f":"Specifications!$C$22","v":"Rs."},{"$f":"Specifications!$C$22","v":"Rs."}]
[null,"Life \nAssurance",null,null,null,{"$f":"SUM(C28:E28)","v":0},null,null,null,{"$f":"IF(D28>0,\"Impact of discounting should be negative\",\"Pass\")","v":"Pass"}]
[null,"Pension\n",null,null,null,0,null,null,null,"Pass"]
[null,"Permanent \nHealth \nInsurance",null,null,null,0,null,null,null,"Pass"]
[null,"Linked \nLong Term \nInsurance",null,null,null,0,null,null,null,"Pass"]
[null,"Structured Investment-Linked Insurance Business",null,null,null,0,null,null,null,"Pass"]
[null,"Other",null,null,null,0,null,null,null,"Pass"]
[]
[null,"LIABILITY FOR INCURRED CLAIMS - LONG TERM INSURANCE BUSINESS",{"$f":"SUM(C28:C33)","v":0},{"$f":"SUM(D28:D33)","v":0},0,0]
[]
[null,"TOTAL LIABILITY FOR INCURRED CLAIMS",{"$f":"C24+C35","v":0},{"$f":"D24+D35","v":0},0,0]
[]
[]
[null,"Liability for remaining coverage (LRC)"]
[]
[null,"Liability FOR REMAINING COVERAGE - GENERAL INSURANCE BUSINESS (ASSET POSITION)","Best estimate \n(Undiscounted and Excluding Loss Component)","Impact of Discounting","Risk adjustment","Contractual Service Margin","Loss component","Total LRC (Including Contractual Service Margin)",null,"Checks"]
[null,null,{"$f":"Specifications!$C$22","v":"Rs."},{"$f":"Specifications!$C$22","v":"Rs."},{"$f":"Specifications!$C$22","v":"Rs."},{"$f":"Specifications!$C$22","v":"Rs."},{"$f":"Specifications!$C$22","v":"Rs."},{"$f":"Specifications!$C$22","v":"Rs."}]
[null,"Motor ",null,null,null,null,null,{"$f":"SUM(C44:G44)","v":0},null,{"$f":"IF(D44>0,\"Impact of discounting should be negative\",\"Pass\")","v":"Pass"}]
[null,"Accident and Health ",null,null,null,null,null,0,null,"Pass"]
[null,"Engineering ",null,null,null,null,null,{"$f":"SUM(C46:G46)","v":0},null,"Pass"]
[null,"Liability ",null,null,null,null,null,0,null,"Pass"]
[null,"Property ",null,null,null,null,null,0,null,"Pass"]
[null,"Transportation ",null,null,null,null,null,0,null,"Pass"]
[null,"Guarantee ",null,null,null,null,null,0,null,"Pass"]
[null,"Miscellaneous ",null,null,null,null,null,0,null,"Pass"]
[]
[null,"LIABILITY FOR REMAINING COVERAGE - GENERAL INSURANCE BUSINESS",{"$f":"SUM(C44:C51)","v":0},{"$f":"SUM(D44:D51)","v":0},0,0,0,0]
[]
[null,"Liability FOR REMAINING COVERAGE - LONG TERM INSURANCE BUSINESS (ASSET POSITION)","Best estimate \n(Undiscounted and Excluding Loss Component)","Impact of Discounting","Risk adjustment","Contractual Service Margin","Loss component","Total LRC (Including Contractual Service Margin)",null,"Checks"]
[null,null,{"$f":"Specifications!$C$22","v":"Rs."},{"$f":"Specifications!$C$22","v":"Rs."},{"$f":"Specifications!$C$22","v":"Rs."},{"$f":"Specifications!$C$22","v":"Rs."},{"$f":"Specifications!$C$22","v":"Rs."},{"$f":"Specifications!$C$22","v":"Rs."}]
[null,"Life \nAssurance",null,null,null,null,null,{"$f":"SUM(C57:G57)","v":0},null,{"$f":"IF(D57>0,\"Impact of discounting should be negative\",\"Pass\")","v":"Pass"}]
[null,"Pension\n",null,null,null,null,null,0,null,"Pass"]
[null,"Permanent \nHealth \nInsurance",null,null,null,null,null,0,null,"Pass"]
[null,"Linked \nLong Term \nInsurance",null,null,null,null,null,0,null,"Pass"]
[null,"Structured Investment-Linked Insurance Business",null,null,null,null,null,0,null,"Pass"]
[null,"Other",null,null,null,null,null,{"$f":"SUM(C62:G62)","v":0},null,"Pass"]
[]
[null,"LIABILITY FOR REMAINING COVERAGE - LONG TERM INSURANCE BUSINESS",{"$f":"SUM(C57:C62)","v":0},{"$f":"SUM(D57:D62)","v":0},0,0,0,0]
[]
[null,"TOTAL LIABILITY FOR REMAINING COVERAGE",{"$f":"C53+C64","v":0},{"$f":"D53+D64","v":0},0,0,0,0]
[]
[]
[null,"LIC +LRC (Overall asset)"]
[]
[null,"OVERALL ASSET - GENERAL INSURANCE BUSINESS","Total Asset Positions ",null,null,null,null,null,null,"Checks"]
[null,null,{"$f":"Specifications!$C$22","v":"Rs."}]
[null,"Motor ",{"$f":"F15+H44","v":0},null,null,null,null,null,null,{"$f":"IF(C73<0,\"Please consider reporting portfolio in insurance contract liabilities\",\"Pass\")","v":"Pass"}]
[null,"Accident and Health ",0,null,null,null,null,null,null,{"$f":"IF(C74<0,\"Please consider reporting portfolio in insurance contract liabilities\",\"Pass\")","v":"Pass"}]
[null,"Engineering ",0,null,null,null,null,null,null,"Pass"]
[null,"Liability ",0,null,null,null,null,null,null,"Pass"]
[null,"Property ",0,null,null,null,null,null,null,"Pass"]
[null,"Transportation ",0,null,null,null,null,null,null,"Pass"]
[null,"Guarantee ",0,null,null,null,null,null,null,"Pass"]
[null,"Miscellaneous ",0,null,null,null,null,null,null,"Pass"]
[]
[null,"OVERALL ASSET- LONG TERM INSURANCE BUSINESS","Total Asset Positions ",null,null,null,null,null,null,"Checks"]
[null,null,{"$f":"Specifications!$C$22","v":"Rs."}]
[null,"Life \nAssurance",{"$f":"F28+H57","v":0},null,null,null,null,null,null,{"$f":"IF(C84<0,\"Please consider reporting portfolio in insurance contract liabilities\",\"Pass\")","v":"Pass"}]
[null,"Pension\n",{"$f":"F29+H58","v":0},null,null,null,null,null,null,{"$f":"IF(C85<0,\"Please consider reporting portfolio in insurance contract liabilities\",\"Pass\")","v":"Pass"}]
[null,"Permanent \nHealth \nInsurance",0,null,null,null,null,null,null,"Pass"]
[null,"Linked \nLong Term \nInsurance",0,null,null,null,null,null,null,"Pass"]
[null,"Structured Investment-Linked Insurance Business",0,null,null,null,null,null,null,"Pass"]
[null,"Other",0,null,null,null,null,null,null,"Pass"]

{"sheet":"IR3","index":42,"n_rows":89,"n_cols":10,"rows_kept":89,"cut":false,"hidden":false,"merged":[[2,1,2,9],[6,2,6,4],[7,2,7,4],[12,1,13,1],[12,9,13,9],[81,1,82,1],[81,9,82,9],[70,1,71,1],[70,9,71,9],[25,1,26,1],[25,9,26,9],[54,1,55,1],[54,9,55,9],[41,1,42,1],[41,9,42,9]]}
[]
[]
[null,"FORM IR3: REINSURANCE LIABILITIES"]
[]
[]
[]
[null,"NAME OF CAPTIVE INSURER",{"$f":"Specifications!C6","v":0}]
[null,"YEAR ENDED",{"$f":"Specifications!C21","v":"00:00:00"}]
[]
[]
[null,"Amount Recoverable from Incurred Claims (ARIC)"]
[]
[null,"AMOUNT RECOVERABLE FROM INCURRED CLAIMS - GENERAL INSURANCE BUSINESS (LIABILITY POSITION)","Best estimate\n(Undiscounted)","Impact of Discounting","Risk adjustment","Total ARIC",null,null,null,"Checks"]
[null,null,{"$f":"Specifications!$C$22","v":"Rs."},{"$f":"Specifications!$C$22","v":"Rs."},{"$f":"Specifications!$C$22","v":"Rs."},{"$f":"Specifications!$C$22","v":"Rs."}]
[null,"Motor ",null,null,null,{"$f":"SUM(C15:E15)","v":0},null,null,null,{"$f":"IF(D15>0,\"Impact of discounting should be negative\",\"Pass\")","v":"Pass"}]
[null,"Accident and Health ",null,null,null,0,null,null,null,"Pass"]
[null,"Engineering ",null,null,null,0,null,null,null,"Pass"]
[null,"Liability ",null,null,null,0,null,null,null,"Pass"]
[null,"Property ",null,null,null,0,null,null,null,"Pass"]
[null,"Transportation ",null,null,null,0,null,null,null,"Pass"]
[null,"Guarantee ",null,null,null,0,null,null,null,"Pass"]
[null,"Miscellaneous ",null,null,null,0,null,null,null,"Pass"]
[]
[null,"AMOUNT RECOVERABLE FROM INCURRED CLAIMS- GENERAL INSURANCE BUSINESS",{"$f":"SUM(C15:C22)","v":0},{"$f":"SUM(D15:D22)","v":0},0,0]
[]
[null,"AMOUNT RECOVERABLE FROM INCURRED CLAIMS - LONG TERM INSURANCE BUSINESS (LIABILITY POSITION)","Best estimate\n(Undiscounted)","Impact of Discounting","Risk adjustment","Total ARIC",null,null,null,"Checks"]
[null,null,{"$f":"Specifications!$C$22","v":"Rs."},{"$f":"Specifications!$C$22","v":"Rs."},{"$f":"Specifications!$C$22","v":"Rs."},{"$f":"Specifications!$C$22","v":"Rs."}]
[null,"Life \nAssurance",null,null,null,{"$f":"SUM(C28:E28)","v":0},null,null,null,{"$f":"IF(D28>0,\"Impact of discounting should be negative\",\"Pass\")","v":"Pass"}]
[null,"Pension\n",null,null,null,0,null,null,null,"Pass"]
[null,"Permanent \nHealth \nInsurance",null,null,null,0,null,null,null,"Pass"]
[null,"Linked \nLong Term \nInsurance",null,null,null,0,null,null,null,"Pass"]
[null,"Structured Investment-Linked Insurance Business",null,null,null,0,null,null,null,"Pass"]
[null,"Other",null,null,null,0,null,null,null,"Pass"]
[]
[null,"AMOUNT RECOVERABLE FROM INCURRED CLAIMS - LONG TERM INSURANCE BUSINESS",{"$f":"SUM(C28:C33)","v":0},{"$f":"SUM(D28:D33)","v":0},0,0]
[]
[null,"TOTAL AMOUNT RECOVERABLE FROM INCURRED CLAIMS",{"$f":"C24+C35","v":0},{"$f":"D24+D35","v":0},0,0]
[]
[]
[null,"Asset for Remaining Coverage (ARC)"]
[]
[null,"ASSET FOR REMAINING COVERAGE - GENERAL INSURANCE BUSINESS (LIABILITY POSITION)","Best estimate \n(Undiscounted and Excluding Loss Component)","Impact of Discounting","Risk adjustment","Contractual Service Margin","Loss recovery component","Total ARC (Including Contractual Service Margin)",null,"Checks"]
[null,null,{"$f":"Specifications!$C$22","v":"Rs."},{"$f":"Specifications!$C$22","v":"Rs."},{"$f":"Specifications!$C$22","v":"Rs."},{"$f":"Specifications!$C$22","v":"Rs."},{"$f":"Specifications!$C$22","v":"Rs."},{"$f":"Specifications!$C$22","v":"Rs."}]
[null,"Motor ",null,null,null,null,null,{"$f":"SUM(C44:G44)","v":0},null,{"$f":"IF(D44>0,\"Impact of discounting should be negative\",\"Pass\")","v":"Pass"}]
[null,"Accident and Health ",null,null,null,null,null,{"$f":"SUM(C45:G45)","v":0},null,"Pass"]
[null,"Engineering ",null,null,null,null,null,0,null,"Pass"]
[null,"Liability ",null,null,null,null,null,0,null,"Pass"]
[null,"Property ",null,null,null,null,null,0,null,"Pass"]
[null,"Transportation ",null,null,null,null,null,0,null,"Pass"]
[null,"Guarantee ",null,null,null,null,null,0,null,"Pass"]
[null,"Miscellaneous ",null,null,null,null,null,0,null,"Pass"]
[]
[null,"ASSET FOR REMAINING COVERAGE - GENERAL INSURANCE BUSINESS",{"$f":"SUM(C44:C51)","v":0},{"$f":"SUM(D44:D51)","v":0},0,0,0,0]
[]
[null,"ASSET FOR REMAINING COVERAGE - LONG TERM INSURANCE BUSINESS (LIABILITY POSITION)","Best estimate \n(Undiscounted and Excluding Loss Component)","Impact of Discounting","Risk adjustment","Contractual Service Margin","Loss recovery component","Total ARC (Including Contractual Service Margin)",null,"Checks"]
[null,null,{"$f":"Specifications!$C$22","v":"Rs."},{"$f":"Specifications!$C$22","v":"Rs."},{"$f":"Specifications!$C$22","v":"Rs."},{"$f":"Specifications!$C$22","v":"Rs."},{"$f":"Specifications!$C$22","v":"Rs."},{"$f":"Specifications!$C$22","v":"Rs."}]
[null,"Life \nAssurance",null,null,null,null,null,{"$f":"SUM(C57:G57)","v":0},null,{"$f":"IF(D57>0,\"Impact of discounting should be negative\",\"Pass\")","v":"Pass"}]
[null,"Pension\n",null,null,null,null,null,0,null,"Pass"]
[null,"Permanent \nHealth \nInsurance",null,null,null,null,null,0,null,"Pass"]
[null,"Linked \nLong Term \nInsurance",null,null,null,null,null,{"$f":"SUM(C60:G60)","v":0},null,"Pass"]
[null,"Structured Investment-Linked Insurance Business",null,null,null,null,null,0,null,"Pass"]
[null,"Other",null,null,null,null,null,0,null,"Pass"]
[]
[null,"ASSET FOR REMAINING COVERAGE - LONG TERM INSURANCE BUSINESS",{"$f":"SUM(C57:C62)","v":0},{"$f":"SUM(D57:D62)","v":0},0,0,0,0]
[]
[null,"TOTAL ASSET FOR REMAINING COVERAGE",{"$f":"C53+C64","v":0},{"$f":"D53+D64","v":0},0,0,0,0]
[]
[]
[null,"ARIC + ARC (Overall liability)"]
[]
[null,"OVERALL LIABILITY - GENERAL INSURANCE BUSINESS","Total Liability Positions ",null,null,null,null,null,null,"Checks"]
[null,null,{"$f":"Specifications!$C$22","v":"Rs."}]
[null,"Motor ",{"$f":"F15+H44","v":0},null,null,null,null,null,null,{"$f":"IF(C73<0,\"Please consider reporting portfolio in reinsurance contract assets\",\"Pass\")","v":"Pass"}]
[null,"Accident and Health ",0,null,null,null,null,null,null,{"$f":"IF(C74<0,\"Please consider reporting portfolio in reinsurance contract assets\",\"Pass\")","v":"Pass"}]
[null,"Engineering ",0,null,null,null,null,null,null,"Pass"]
[null,"Liability ",0,null,null,null,null,null,null,"Pass"]
[null,"Property ",0,null,null,null,null,null,null,"Pass"]
[null,"Transportation ",{"$f":"F20+H49","v":0},null,null,null,null,null,null,"Pass"]
[null,"Guarantee ",0,null,null,null,null,null,null,"Pass"]
[null,"Miscellaneous ",0,null,null,null,null,null,null,"Pass"]
[]
[null,"OVERALL LIABILITY - LONG TERM INSURANCE BUSINESS","Total Liability Positions ",null,null,null,null,null,null,"Checks"]
[null,null,{"$f":"Specifications!$C$22","v":"Rs."}]
[null,"Life \nAssurance",{"$f":"F28+H57","v":0},null,null,null,null,null,null,{"$f":"IF(C84<0,\"Please consider reporting portfolio in reinsurance contract assets\",\"Pass\")","v":"Pass"}]
[null,"Pension\n",{"$f":"F29+H58","v":0},null,null,null,null,null,null,{"$f":"IF(C85<0,\"Please consider reporting portfolio in reinsurance contract assets\",\"Pass\")","v":"Pass"}]
[null,"Permanent \nHealth \nInsurance",0,null,null,null,null,null,null,"Pass"]
[null,"Linked \nLong Term \nInsurance",0,null,null,null,null,null,null,"Pass"]
[null,"Structured Investment-Linked Insurance Business",0,null,null,null,null,null,null,"Pass"]
[null,"Other",0,null,null,null,null,null,null,"Pass"]

{"sheet":"IR4","index":43,"n_rows":89,"n_cols":10,"rows_kept":89,"cut":false,"hidden":false,"merged":[[2,1,2,9],[6,2,6,4],[7,2,7,4],[12,1,13,1],[12,9,13,9],[81,1,82,1],[81,9,82,9],[70,1,71,1],[70,9,71,9],[25,1,26,1],[25,9,26,9],[54,1,55,1],[54,9,55,9],[41,1,42,1],[41,9,42,9]]}
[]
[]
[null,"FORM IR4: REINSURANCE ASSETS"]
[]
[]
[]
[null,"NAME OF CAPTIVE INSURER",{"$f":"Specifications!C6","v":0}]
[null,"YEAR ENDED",{"$f":"Specifications!C21","v":"00:00:00"}]
[]
[]
[null,"Amount Recoverable from Incurred Claims (ARIC)"]
[]
[null,"AMOUNT RECOVERABLE FROM INCURRED CLAIMS - GENERAL INSURANCE BUSINESS","Best estimate\n(Undiscounted)","Impact of Discounting","Risk adjustment","Total ARIC",null,null,null,"Checks"]
[null,null,{"$f":"Specifications!$C$22","v":"Rs."},{"$f":"Specifications!$C$22","v":"Rs."},{"$f":"Specifications!$C$22","v":"Rs."},{"$f":"Specifications!$C$22","v":"Rs."}]
[null,"Motor ",null,null,null,{"$f":"SUM(C15:E15)","v":0},null,null,null,{"$f":"IF(D15>0,\"Impact of discounting should be negative\",\"Pass\")","v":"Pass"}]
[null,"Accident and Health ",null,null,null,0,null,null,null,"Pass"]
[null,"Engineering ",null,null,null,0,null,null,null,"Pass"]
[null,"Liability ",null,null,null,0,null,null,null,"Pass"]
[null,"Property ",null,null,null,0,null,null,null,"Pass"]
[null,"Transportation ",null,null,null,0,null,null,null,"Pass"]
[null,"Guarantee ",null,null,null,0,null,null,null,"Pass"]
[null,"Miscellaneous ",null,null,null,0,null,null,null,"Pass"]
[]
[null,"AMOUNT RECOVERABLE FROM INCURRED CLAIMS - GENERAL INSURANCE BUSINESS",{"$f":"SUM(C15:C22)","v":0},{"$f":"SUM(D15:D22)","v":0},0,0]
[]
[null,"AMOUNT RECOVERABLE FROM INCURRED CLAIMS - LONG TERM INSURANCE BUSINESS","Best estimate\n(Undiscounted)","Impact of Discounting","Risk adjustment","Total ARIC",null,null,null,"Checks"]
[null,null,{"$f":"Specifications!$C$22","v":"Rs."},{"$f":"Specifications!$C$22","v":"Rs."},{"$f":"Specifications!$C$22","v":"Rs."},{"$f":"Specifications!$C$22","v":"Rs."}]
[null,"Life \nAssurance",null,null,null,{"$f":"SUM(C28:E28)","v":0},null,null,null,{"$f":"IF(D28>0,\"Impact of discounting should be negative\",\"Pass\")","v":"Pass"}]
[null,"Pension\n",null,null,null,0,null,null,null,"Pass"]
[null,"Permanent \nHealth \nInsurance",null,null,null,0,null,null,null,"Pass"]
[null,"Linked \nLong Term \nInsurance",null,null,null,0,null,null,null,"Pass"]
[null,"Structured Investment-Linked Insurance Business",null,null,null,0,null,null,null,"Pass"]
[null,"Other",null,null,null,0,null,null,null,"Pass"]
[]
[null,"AMOUNT RECOVERABLE FROM INCURRED CLAIMS - LONG TERM INSURANCE BUSINESS",{"$f":"SUM(C28:C33)","v":0},{"$f":"SUM(D28:D33)","v":0},0,0]
[]
[null,"TOTAL AMOUNT RECOVERABLE FROM INCURRED CLAIMS",{"$f":"C24+C35","v":0},{"$f":"D24+D35","v":0},0,0]
[]
[]
[null,"Asset for Remaining Coverage (ARC)"]
[]
[null,"ASSET FOR REMAINING COVERAGE - GENERAL INSURANCE BUSINESS","Best estimate \n(Undiscounted and Excluding Loss Component)","Impact of Discounting","Risk adjustment","Contractual Service Margin","Loss recovery component","Total ARC (Including Contractual Service Margin)",null,"Checks"]
[null,null,{"$f":"Specifications!$C$22","v":"Rs."},{"$f":"Specifications!$C$22","v":"Rs."},{"$f":"Specifications!$C$22","v":"Rs."},{"$f":"Specifications!$C$22","v":"Rs."},{"$f":"Specifications!$C$22","v":"Rs."},{"$f":"Specifications!$C$22","v":"Rs."}]
[null,"Motor ",null,null,null,null,null,{"$f":"SUM(C44:G44)","v":0},null,{"$f":"IF(D44>0,\"Impact of discounting should be negative\",\"Pass\")","v":"Pass"}]
[null,"Accident and Health ",null,null,null,null,null,0,null,"Pass"]
[null,"Engineering ",null,null,null,null,null,0,null,"Pass"]
[null,"Liability ",null,null,null,null,null,0,null,"Pass"]
[null,"Property ",null,null,null,null,null,0,null,"Pass"]
[null,"Transportation ",null,null,null,null,null,0,null,"Pass"]
[null,"Guarantee ",null,null,null,null,null,0,null,"Pass"]
[null,"Miscellaneous ",null,null,null,null,null,0,null,"Pass"]
[]
[null,"ASSET FOR REMAINING COVERAGE - GENERAL INSURANCE BUSINESS",{"$f":"SUM(C44:C51)","v":0},{"$f":"SUM(D44:D51)","v":0},0,0,0,0]
[]
[null,"ASSET FOR REMAINING COVERAGE - LONG TERM INSURANCE BUSINESS","Best estimate \n(Undiscounted and Excluding Loss Component)","Impact of Discounting","Risk adjustment","Contractual Service Margin","Loss recovery component","Total ARC (Including Contractual Service Margin)",null,"Checks"]
[null,null,{"$f":"Specifications!$C$22","v":"Rs."},{"$f":"Specifications!$C$22","v":"Rs."},{"$f":"Specifications!$C$22","v":"Rs."},{"$f":"Specifications!$C$22","v":"Rs."},{"$f":"Specifications!$C$22","v":"Rs."},{"$f":"Specifications!$C$22","v":"Rs."}]
[null,"Life \nAssurance",null,null,null,null,null,{"$f":"SUM(C57:G57)","v":0},null,{"$f":"IF(D57>0,\"Impact of discounting should be negative\",\"Pass\")","v":"Pass"}]
[null,"Pension\n",null,null,null,null,null,0,null,"Pass"]
[null,"Permanent \nHealth \nInsurance",null,null,null,null,null,0,null,"Pass"]
[null,"Linked \nLong Term \nInsurance",null,null,null,null,null,0,null,"Pass"]
[null,"Structured Investment-Linked Insurance Business",null,null,null,null,null,0,null,"Pass"]
[null,"Other",null,null,null,null,null,0,null,"Pass"]
[]
[null,"ASSET FOR REMAINING COVERAGE - LONG TERM INSURANCE BUSINESS",{"$f":"SUM(C57:C62)","v":0},{"$f":"SUM(D57:D62)","v":0},0,0,0,0]
[]
[null,"TOTAL ASSET FOR REMAINING COVERAGE",{"$f":"C53+C64","v":0},{"$f":"D53+D64","v":0},0,0,0,0]
[]
[]
[null,"ARIC + ARC (Overall asset)"]
[]
[null,"OVERALL ASSET - GENERAL INSURANCE BUSINESS","Total Asset Positions ",null,null,null,null,null,null,"Checks"]
[null,null,{"$f":"Specifications!$C$22","v":"Rs."}]
[null,"Motor ",{"$f":"F15+H44","v":0},null,null,null,null,null,null,{"$f":"IF(C73<0,\"Please consider reporting portfolio in reinsurance contract liabilities\",\"Pass\")","v":"Pass"}]
[null,"Accident and Health ",0,null,null,null,null,null,null,{"$f":"IF(C74<0,\"Please consider reporting portfolio in reinsurance contract liabilities\",\"Pass\")","v":"Pass"}]
[null,"Engineering ",0,null,null,null,null,null,null,"Pass"]
[null,"Liability ",0,null,null,null,null,null,null,"Pass"]
[null,"Property ",0,null,null,null,null,null,null,"Pass"]
[null,"Transportation ",0,null,null,null,null,null,null,"Pass"]
[null,"Guarantee ",0,null,null,null,null,null,null,"Pass"]
[null,"Miscellaneous ",0,null,null,null,null,null,null,"Pass"]
[]
[null,"OVERALL ASSET - LONG TERM INSURANCE BUSINESS","Total Asset Positions ",null,null,null,null,null,null,"Checks"]
[null,null,{"$f":"Specifications!$C$22","v":"Rs."}]
[null,"Life \nAssurance",{"$f":"F28+H57","v":0},null,null,null,null,null,null,{"$f":"IF(C84<0,\"Please consider reporting portfolio in reinsurance contract liabilities\",\"Pass\")","v":"Pass"}]
[null,"Pension\n",{"$f":"F29+H58","v":0},null,null,null,null,null,null,{"$f":"IF(C85<0,\"Please consider reporting portfolio in reinsurance contract liabilities\",\"Pass\")","v":"Pass"}]
[null,"Permanent \nHealth \nInsurance",0,null,null,null,null,null,null,"Pass"]
[null,"Linked \nLong Term \nInsurance",0,null,null,null,null,null,null,"Pass"]
[null,"Structured Investment-Linked Insurance Business",0,null,null,null,null,null,null,"Pass"]
[null,"Other",0,null,null,null,null,null,null,"Pass"]

{"sheet":"IR5","index":44,"n_rows":33,"n_cols":4,"rows_kept":33,"cut":false,"hidden":false,"merged":[[2,1,2,3],[6,2,6,3],[7,2,7,3],[14,1,15,1],[25,1,26,1]]}
[]
[]
[null,"FORM IR5: CASHFLOWS"]
[]
[]
[]
[null,"NAME OF CAPTIVE INSURER",{"$f":"Specifications!C6","v":0}]
[null,"YEAR ENDED",{"$f":"Specifications!C21","v":"00:00:00"}]
[]
[]
[]
[]
[null,"INSURANCE"]
[]
[null,"CASH FLOWS","General Measurement Model","Premium Allocation Approach"]
[null,null,{"$f":"Specifications!$C$22","v":"Rs."},{"$f":"Specifications!$C$22","v":"Rs."}]
[null,"Premiums received for insurance contracts"]
[null,"Claims and other insurance service paid, including investment components"]
[null,"Insurance acquisition cash flows"]
[]
[null,"TOTAL INSURANCE CASH FLOWS",{"$f":"SUM(C17:C19)","v":0},{"$f":"SUM(D17:D19)","v":0}]
[]
[]
[null,"REINSURANCE"]
[]
[null,"CASH FLOWS","General Measurement Model","Premium Allocation Approach"]
[null,null,{"$f":"Specifications!$C$22","v":"Rs."},{"$f":"Specifications!$C$22","v":"Rs."}]
[null,"Premiums paid for reinsurance contracts held"]
[null,"Amounts received for incurred claims, including investment components"]
[]
[null,"TOTAL REINSURANCE CASH FLOWS",{"$f":"SUM(C28:C29)","v":0},{"$f":"SUM(D28:D29)","v":0}]
[]
[null,"TOTAL CASH FLOWS",{"$f":"C31+C21","v":0},{"$f":"D31+D21","v":0}]

{"sheet":"IR6","index":45,"n_rows":47,"n_cols":4,"rows_kept":47,"cut":false,"hidden":false,"merged":[[2,1,2,3]]}
[]
[]
[null,"FORM IR6: RISK ADJUSTMENT CONFIDENCE INTERVALS"]
[]
[]
[]
[null,"NAME OF CAPTIVE INSURER",{"$f":"Specifications!C6","v":0}]
[null,"YEAR ENDED",{"$f":"Specifications!C21","v":"00:00:00"}]
[]
[]
[null,"INSURANCE"]
[]
[null,"CLASS OF BUSINESS","Method used","Confidence Interval"]
[null,"Motor "]
[null,"Accident and Health "]
[null,"Engineering "]
[null,"Liability "]
[null,"Property "]
[null,"Transportation "]
[null,"Guarantee "]
[null,"Miscellaneous "]
[]
[null,"Life \nAssurance"]
[null,"Pension\n"]
[null,"Permanent \nHealth \nInsurance"]
[null,"Linked \nLong Term \nInsurance"]
[null,"Structured Investment-Linked Insurance Business"]
[null,"Other"]
[]
[null,"REINSURANCE"]
[]
[null,"CLASS OF BUSINESS","Method used","Confidence Interval"]
[null,"Motor "]
[null,"Accident and Health "]
[null,"Engineering "]
[null,"Liability "]
[null,"Property "]
[null,"Transportation "]
[null,"Guarantee "]
[null,"Miscellaneous "]
[]
[null,"Life \nAssurance"]
[null,"Pension\n"]
[null,"Permanent \nHealth \nInsurance"]
[null,"Linked \nLong Term \nInsurance"]
[null,"Structured Investment-Linked Insurance Business"]
[null,"Other"]

{"sheet":"Profit&Loss>>>","index":46,"n_rows":0,"n_cols":0,"rows_kept":0,"cut":false,"hidden":false,"merged":[]}

{"sheet":"I0","index":47,"n_rows":44,"n_cols":38,"rows_kept":44,"cut":false,"hidden":false,"merged":[[5,2,5,4],[6,2,6,4],[11,34,11,37],[2,1,2,37],[11,7,12,7],[11,4,11,6],[11,3,12,3],[11,9,11,11],[11,12,11,14],[11,15,11,17],[11,18,11,20],[11,21,11,23],[11,24,11,26],[11,27,11,29],[11,30,11,32]]}
[]
[]
[null,"FORM I0: STATEMENT OF FINANCIAL PERFORMANCE"]
[]
[]
[null,"NAME OF CAPTIVE INSURER",{"$f":"Specifications!C6","v":0}]
[null,"YEAR ENDED",{"$f":"Specifications!C21","v":"00:00:00"}]
[]
[]
[]
[]
[null,null,"Links","TOTAL","TOTAL GENERAL INSURANCE BUSINESS",null,null,"TOTAL LONG TERM INSURANCE BUSINESS",null,"Motor",null,null,"Accident &\nHealth",null,null,"Engineering",null,null,"Liability",null,null,"Property",null,null,"Transport",null,null,"Guarantee",null,null,"Miscellaneous",null,null,null,"LONG-TERM INSURANCE"]
[null,null,null,null,"Related business","Unrelated business other than Long Term Insurance Business","Business from Insurable interest other than LTI",null,null,"Related business","Unrelated business other than Long Term Insurance Business","Business from Insurable interest other than LTI","Related business","Unrelated business other than Long Term Insurance Business","Business from Insurable interest other than LTI","Related business","Unrelated business other than Long Term Insurance Business","Business from Insurable interest other than LTI","Related business","Unrelated business other than Long Term Insurance Business","Business from Insurable interest other than LTI","Related business","Unrelated business other than Long Term Insurance Business","Business from Insurable interest other than LTI","Related business","Unrelated business other than Long Term Insurance Business","Business from Insurable interest other than LTI","Related business","Unrelated business other than Long Term Insurance Business","Business from Insurable interest other than LTI","Related business","Unrelated business other than Long Term Insurance Business","Business from Insurable interest other than LTI",null,"Linked Long-Term Insurance","Permanent Health Insurance","Life Insurance","Pension"]
[null,null,null,{"$f":"Specifications!$C$22","v":"Rs."},{"$f":"Specifications!$C$22","v":"Rs."},{"$f":"Specifications!$C$22","v":"Rs."},{"$f":"Specifications!$C$22","v":"Rs."},{"$f":"Specifications!$C$22","v":"Rs."},null,{"$f":"Specifications!$C$22","v":"Rs."},{"$f":"Specifications!$C$22","v":"Rs."},{"$f":"Specifications!$C$22","v":"Rs."},{"$f":"Specifications!$C$22","v":"Rs."},{"$f":"Specifications!$C$22","v":"Rs."},{"$f":"Specifications!$C$22","v":"Rs."},{"$f":"Specifications!$C$22","v":"Rs."},{"$f":"Specifications!$C$22","v":"Rs."},{"$f":"Specifications!$C$22","v":"Rs."},{"$f":"Specifications!$C$22","v":"Rs."},{"$f":"Specifications!$C$22","v":"Rs."},{"$f":"Specifications!$C$22","v":"Rs."},{"$f":"Specifications!$C$22","v":"Rs."},{"$f":"Specifications!$C$22","v":"Rs."},{"$f":"Specifications!$C$22","v":"Rs."},{"$f":"Specifications!$C$22","v":"Rs."},{"$f":"Specifications!$C$22","v":"Rs."},{"$f":"Specifications!$C$22","v":"Rs."},{"$f":"Specifications!$C$22","v":"Rs."},{"$f":"Specifications!$C$22","v":"Rs."},{"$f":"Specifications!$C$22","v":"Rs."},{"$f":"Specifications!$C$22","v":"Rs."},{"$f":"Specifications!$C$22","v":"Rs."},{"$f":"Specifications!$C$22","v":"Rs."},null,{"$f":"Specifications!$C$22","v":"Rs."},{"$f":"Specifications!$C$22","v":"Rs."},{"$f":"Specifications!$C$22","v":"Rs."},{"$f":"Specifications!$C$22","v":"Rs."}]
[null,"Insurance Revenue",null,{"$f":"SUM(E15:H15)","v":0},{"$f":"J15+M15+P15+S15+V15+Y15+AB15+AE15","v":0},{"$f":"K15+N15+Q15+T15+W15+Z15+AC15+AF15","v":0},0,{"$f":"SUM(AI15:AL15)","v":0},null,{"$f":"SUM(J17:J21)","v":0},{"$f":"SUM(K17:K21)","v":0},0,0,0,0,0,0,{"$f":"SUM(R17:R21)","v":0},0,0,0,0,0,0,0,0,0,0,0,0,0,0,0,null,{"$f":"SUM(AI17:AI21)","v":0},0,0,0]
[null,"Direct"]
[null,"    Revenue from BBA contracts",{"$f":"HYPERLINK(\"#'I1'!A1\", \"I1\")","v":"I1"},{"$f":"SUM(E17:H17)","v":0},{"$f":"J17+M17+P17+S17+V17+Y17+AB17+AE17","v":0},0,{"$f":"L17+O17+R17+U17+X17+AA17+AD17+AG17","v":0},{"$f":"SUM(AI17:AL17)","v":0},null,{"$f":"'I1'!I22","v":0},{"$f":"'I1'!J22","v":0},{"$f":"'I1'!K22","v":0},{"$f":"'I1'!L22","v":0},{"$f":"'I1'!M22","v":0},{"$f":"'I1'!N22","v":0},{"$f":"'I1'!O22","v":0},{"$f":"'I1'!P22","v":0},{"$f":"'I1'!Q22","v":0},{"$f":"'I1'!R22","v":0},{"$f":"'I1'!S22","v":0},{"$f":"'I1'!T22","v":0},{"$f":"'I1'!U22","v":0},{"$f":"'I1'!V22","v":0},{"$f":"'I1'!W22","v":0},{"$f":"'I1'!X22","v":0},{"$f":"'I1'!Y22","v":0},{"$f":"'I1'!Z22","v":0},{"$f":"'I1'!AA22","v":0},{"$f":"'I1'!AB22","v":0},{"$f":"'I1'!AC22","v":0},{"$f":"'I1'!AD22","v":0},{"$f":"'I1'!AE22","v":0},{"$f":"'I1'!AF22","v":0},null,{"$f":"'I1'!AH22","v":0},{"$f":"'I1'!AI22","v":0},{"$f":"'I1'!AJ22","v":0},{"$f":"'I1'!AK22","v":0}]
[null,"    Revenue from PAA contracts",{"$f":"HYPERLINK(\"#'I2'!A1\", \"I2\")","v":"I2"},0,0,0,0,0,null,{"$f":"'I2'!H15","v":0},{"$f":"'I2'!I15","v":0},{"$f":"'I2'!J15","v":0},{"$f":"'I2'!K15","v":0},{"$f":"'I2'!L15","v":0},{"$f":"'I2'!M15","v":0},{"$f":"'I2'!N15","v":0},{"$f":"'I2'!O15","v":0},{"$f":"'I2'!P15","v":0},{"$f":"'I2'!Q15","v":0},{"$f":"'I2'!R15","v":0},{"$f":"'I2'!S15","v":0},{"$f":"'I2'!T15","v":0},{"$f":"'I2'!U15","v":0},{"$f":"'I2'!V15","v":0},{"$f":"'I2'!W15","v":0},{"$f":"'I2'!X15","v":0},{"$f":"'I2'!Y15","v":0},{"$f":"'I2'!Z15","v":0},{"$f":"'I2'!AA15","v":0},{"$f":"'I2'!AB15","v":0},{"$f":"'I2'!AC15","v":0},{"$f":"'I2'!AD15","v":0},{"$f":"'I2'!AE15","v":0}]
[null,"Reinsurance Inwards"]
[null,"    Revenue from BBA contracts",{"$f":"HYPERLINK(\"#'I1'!A1\", \"I1\")","v":"I1"},0,0,0,0,0,null,{"$f":"'I1'!I38","v":0},{"$f":"'I1'!J38","v":0},{"$f":"'I1'!K38","v":0},{"$f":"'I1'!L38","v":0},{"$f":"'I1'!M38","v":0},{"$f":"'I1'!N38","v":0},{"$f":"'I1'!O38","v":0},{"$f":"'I1'!P38","v":0},{"$f":"'I1'!Q38","v":0},{"$f":"'I1'!R38","v":0},{"$f":"'I1'!S38","v":0},{"$f":"'I1'!T38","v":0},{"$f":"'I1'!U38","v":0},{"$f":"'I1'!V38","v":0},{"$f":"'I1'!W38","v":0},{"$f":"'I1'!X38","v":0},{"$f":"'I1'!Y38","v":0},{"$f":"'I1'!Z38","v":0},{"$f":"'I1'!AA38","v":0},{"$f":"'I1'!AB38","v":0},{"$f":"'I1'!AC38","v":0},{"$f":"'I1'!AD38","v":0},{"$f":"'I1'!AE38","v":0},{"$f":"'I1'!AF38","v":0},null,{"$f":"'I1'!AH38","v":0},{"$f":"'I1'!AI38","v":0},{"$f":"'I1'!AJ38","v":0},{"$f":"'I1'!AK38","v":0}]
[null,"    Revenue from PAA contracts",{"$f":"HYPERLINK(\"#'I2'!A1\", \"I2\")","v":"I2"},0,0,0,0,0,null,{"$f":"'I2'!H27","v":0},{"$f":"'I2'!I27","v":0},{"$f":"'I2'!J27","v":0},{"$f":"'I2'!K27","v":0},{"$f":"'I2'!L27","v":0},{"$f":"'I2'!M27","v":0},{"$f":"'I2'!N27","v":0},{"$f":"'I2'!O27","v":0},{"$f":"'I2'!P27","v":0},{"$f":"'I2'!Q27","v":0},{"$f":"'I2'!R27","v":0},{"$f":"'I2'!S27","v":0},{"$f":"'I2'!T27","v":0},{"$f":"'I2'!U27","v":0},{"$f":"'I2'!V27","v":0},{"$f":"'I2'!W27","v":0},{"$f":"'I2'!X27","v":0},{"$f":"'I2'!Y27","v":0},{"$f":"'I2'!Z27","v":0},{"$f":"'I2'!AA27","v":0},{"$f":"'I2'!AB27","v":0},{"$f":"'I2'!AC27","v":0},{"$f":"'I2'!AD27","v":0},{"$f":"'I2'!AE27","v":0}]
[]
[null,"Insurance Service Expense",null,0,{"$f":"J23+M23+P23+S23+V23+Y23+AB23+AE23","v":0},0,0,0,null,{"$f":"SUM(J25:J29)","v":0},{"$f":"SUM(K25:K29)","v":0},0,0,0,0,0,0,0,0,0,0,0,0,0,0,0,0,0,0,0,0,0,0,null,{"$f":"SUM(AI25:AI29)","v":0},0,0,0]
[null,"Direct"]
[null,"    Service expense for BBA contracts",{"$f":"HYPERLINK(\"#'I3'!A1\", \"I3\")","v":"I3"},0,{"$f":"J25+M25+P25+S25+V25+Y25+AB25+AE25","v":0},0,{"$f":"L25+O25+R25+U25+X25+AA25+AD25+AG25","v":0},0,null,{"$f":"'I3'!I33","v":0},{"$f":"'I3'!J33","v":0},{"$f":"'I3'!K33","v":0},{"$f":"'I3'!L33","v":0},{"$f":"'I3'!M33","v":0},{"$f":"'I3'!N33","v":0},{"$f":"'I3'!O33","v":0},{"$f":"'I3'!P33","v":0},{"$f":"'I3'!Q33","v":0},{"$f":"'I3'!R33","v":0},{"$f":"'I3'!S33","v":0},{"$f":"'I3'!T33","v":0},{"$f":"'I3'!U33","v":0},{"$f":"'I3'!V33","v":0},{"$f":"'I3'!W33","v":0},{"$f":"'I3'!X33","v":0},{"$f":"'I3'!Y33","v":0},{"$f":"'I3'!Z33","v":0},{"$f":"'I3'!AA33","v":0},{"$f":"'I3'!AB33","v":0},{"$f":"'I3'!AC33","v":0},{"$f":"'I3'!AD33","v":0},{"$f":"'I3'!AE33","v":0},{"$f":"'I3'!AF33","v":0},null,{"$f":"'I3'!AH33","v":0},{"$f":"'I3'!AI33","v":0},{"$f":"'I3'!AJ33","v":0},{"$f":"'I3'!AK33","v":0}]
[null,"    Service expense for PAA contracts",{"$f":"HYPERLINK(\"#'I4'!A1\", \"I4\")","v":"I4"},0,0,0,0,0,null,{"$f":"'I4'!H33","v":0},{"$f":"'I4'!I33","v":0},{"$f":"'I4'!J33","v":0},{"$f":"'I4'!K33","v":0},{"$f":"'I4'!L33","v":0},{"$f":"'I4'!M33","v":0},{"$f":"'I4'!N33","v":0},{"$f":"'I4'!O33","v":0},{"$f":"'I4'!P33","v":0},{"$f":"'I4'!Q33","v":0},{"$f":"'I4'!R33","v":0},{"$f":"'I4'!S33","v":0},{"$f":"'I4'!T33","v":0},{"$f":"'I4'!U33","v":0},{"$f":"'I4'!V33","v":0},{"$f":"'I4'!W33","v":0},{"$f":"'I4'!X33","v":0},{"$f":"'I4'!Y33","v":0},{"$f":"'I4'!Z33","v":0},{"$f":"'I4'!AA33","v":0},{"$f":"'I4'!AB33","v":0},{"$f":"'I4'!AC33","v":0},{"$f":"'I4'!AD33","v":0},{"$f":"'I4'!AE33","v":0}]
[null,"Reinsurance Inwards"]
[null,"    Service expense for BBA contracts",{"$f":"HYPERLINK(\"#'I3'!A1\", \"I3\")","v":"I3"},0,0,0,0,0,null,{"$f":"'I3'!I59","v":0},{"$f":"'I3'!J59","v":0},{"$f":"'I3'!K59","v":0},{"$f":"'I3'!L59","v":0},{"$f":"'I3'!M59","v":0},{"$f":"'I3'!N59","v":0},{"$f":"'I3'!O59","v":0},{"$f":"'I3'!P59","v":0},{"$f":"'I3'!Q59","v":0},{"$f":"'I3'!R59","v":0},{"$f":"'I3'!S59","v":0},{"$f":"'I3'!T59","v":0},{"$f":"'I3'!U59","v":0},{"$f":"'I3'!V59","v":0},{"$f":"'I3'!W59","v":0},{"$f":"'I3'!X59","v":0},{"$f":"'I3'!Y59","v":0},{"$f":"'I3'!Z59","v":0},{"$f":"'I3'!AA59","v":0},{"$f":"'I3'!AB59","v":0},{"$f":"'I3'!AC59","v":0},{"$f":"'I3'!AD59","v":0},{"$f":"'I3'!AE59","v":0},{"$f":"'I3'!AF59","v":0},null,{"$f":"'I3'!AH59","v":0},{"$f":"'I3'!AI59","v":0},{"$f":"'I3'!AJ59","v":0},{"$f":"'I3'!AK59","v":0}]
[null,"    Service expense for PAA contracts",{"$f":"HYPERLINK(\"#'I4'!A1\", \"I4\")","v":"I4"},0,0,0,0,0,null,{"$f":"'I4'!H59","v":0},{"$f":"'I4'!I59","v":0},{"$f":"'I4'!J59","v":0},{"$f":"'I4'!K59","v":0},{"$f":"'I4'!L59","v":0},{"$f":"'I4'!M59","v":0},{"$f":"'I4'!N59","v":0},{"$f":"'I4'!O59","v":0},{"$f":"'I4'!P59","v":0},{"$f":"'I4'!Q59","v":0},{"$f":"'I4'!R59","v":0},{"$f":"'I4'!S59","v":0},{"$f":"'I4'!T59","v":0},{"$f":"'I4'!U59","v":0},{"$f":"'I4'!V59","v":0},{"$f":"'I4'!W59","v":0},{"$f":"'I4'!X59","v":0},{"$f":"'I4'!Y59","v":0},{"$f":"'I4'!Z59","v":0},{"$f":"'I4'!AA59","v":0},{"$f":"'I4'!AB59","v":0},{"$f":"'I4'!AC59","v":0},{"$f":"'I4'!AD59","v":0},{"$f":"'I4'!AE59","v":0}]
[]
[null,"Insurance Service Result Before Reinsurance Contracts Held ",null,0,{"$f":"J31+M31+P31+S31+V31+Y31+AB31+AE31","v":0},0,{"$f":"L31+O31+R31+U31+X31+AA31+AD31+AG31","v":0},0,null,{"$f":"J15-J23","v":0},{"$f":"K15-K23","v":0},{"$f":"L15-L23","v":0},{"$f":"M15-M23","v":0},0,0,0,0,0,0,0,0,0,0,0,0,0,0,0,0,0,0,0,0,null,0,{"$f":"AJ15-AJ23","v":0},0,0]
[]
[null,"Allocation of Reinsurance Premiums",null,0,{"$f":"J33+M33+P33+S33+V33+Y33+AB33+AE33","v":0},0,{"$f":"L33+O33+R33+U33+X33+AA33+AD33+AG33","v":0},0]
[null,"Amounts recoverable from reinsurers for incurred claims",null,0,{"$f":"J34+M34+P34+S34+V34+Y34+AB34+AE34","v":0},0,{"$f":"L34+O34+R34+U34+X34+AA34+AD34+AG34","v":0},0]
[null,"Risk of non-performance",null,{"$f":"SUM(E35:H35)","v":0},{"$f":"J35+M35+P35+S35+V35+Y35+AB35+AE35","v":0},{"$f":"K35+N35+Q35+T35+W35+Z35+AC35+AF35","v":0},{"$f":"L35+O35+R35+U35+X35+AA35+AD35+AG35","v":0},{"$f":"SUM(AI35:AL35)","v":0}]
[]
[null,"Net income/(expenses) from reinsurance contracts held ",null,{"$f":"SUM(E37:H37)","v":0},{"$f":"J37+M37+P37+S37+V37+Y37+AB37+AE37","v":0},{"$f":"K37+N37+Q37+T37+W37+Z37+AC37+AF37","v":0},{"$f":"L37+O37+R37+U37+X37+AA37+AD37+AG37","v":0},{"$f":"SUM(AI37:AL37)","v":0},null,{"$f":"J33-J34","v":0},{"$f":"K33-K34","v":0},{"$f":"L33-L34","v":0},0,0,0,0,0,0,0,0,0,0,0,0,0,0,0,0,0,0,0,0,0,null,{"$f":"AI33-AI34","v":0},0,0,0]
[]
[null,"Insurance service result ",null,0,{"$f":"J39+M39+P39+S39+V39+Y39+AB39+AE39","v":0},0,{"$f":"L39+O39+R39+U39+X39+AA39+AD39+AG39","v":0},0,null,{"$f":"SUM(J31,J37)","v":0},{"$f":"SUM(K31,K37)","v":0},{"$f":"SUM(L31,L37)","v":0},0,0,0,0,0,0,0,0,0,0,0,0,0,0,0,0,0,0,0,0,0,null,{"$f":"SUM(AI31,AI37)","v":0},0,0,0]
[]
[null,"Finance income/(expenses) for insurance contracts issued ",{"$f":"HYPERLINK(\"#'I6'!A1\", \"I6\")","v":"I6"},0,{"$f":"J41+M41+P41+S41+V41+Y41+AB41+AE41","v":0},0,{"$f":"L41+O41+R41+U41+X41+AA41+AD41+AG41","v":0},0,null,{"$f":"'I6'!I30","v":0},{"$f":"'I6'!J30","v":0},{"$f":"'I6'!K30","v":0},{"$f":"'I6'!L30","v":0},{"$f":"'I6'!M30","v":0},{"$f":"'I6'!N30","v":0},{"$f":"'I6'!O30","v":0},{"$f":"'I6'!P30","v":0},{"$f":"'I6'!Q30","v":0},{"$f":"'I6'!R30","v":0},{"$f":"'I6'!S30","v":0},{"$f":"'I6'!T30","v":0},{"$f":"'I6'!U30","v":0},{"$f":"'I6'!V30","v":0},{"$f":"'I6'!W30","v":0},{"$f":"'I6'!X30","v":0},{"$f":"'I6'!Y30","v":0},{"$f":"'I6'!Z30","v":0},{"$f":"'I6'!AA30","v":0},{"$f":"'I6'!AB30","v":0},{"$f":"'I6'!AC30","v":0},{"$f":"'I6'!AD30","v":0},{"$f":"'I6'!AE30","v":0},{"$f":"'I6'!AF30","v":0},null,{"$f":"'I6'!AH30","v":0},{"$f":"'I6'!AI30","v":0},{"$f":"'I6'!AJ30","v":0},{"$f":"'I6'!AK30","v":0}]
[null,"Finance income/(expenses) for reinsurance contracts held ",{"$f":"HYPERLINK(\"#'I7'!A1\", \"I7\")","v":"I7"},0,0,0,0,0,null,{"$f":"'I7'!I33","v":0},{"$f":"'I7'!J33","v":0},{"$f":"'I7'!K33","v":0},{"$f":"'I7'!L33","v":0},{"$f":"'I7'!M33","v":0},{"$f":"'I7'!N33","v":0},{"$f":"'I7'!O33","v":0},{"$f":"'I7'!P33","v":0},{"$f":"'I7'!Q33","v":0},{"$f":"'I7'!R33","v":0},{"$f":"'I7'!S33","v":0},{"$f":"'I7'!T33","v":0},{"$f":"'I7'!U33","v":0},{"$f":"'I7'!V33","v":0},{"$f":"'I7'!W33","v":0},{"$f":"'I7'!X33","v":0},{"$f":"'I7'!Y33","v":0},{"$f":"'I7'!Z33","v":0},{"$f":"'I7'!AA33","v":0},{"$f":"'I7'!AB33","v":0},{"$f":"'I7'!AC33","v":0},{"$f":"'I7'!AD33","v":0},{"$f":"'I7'!AE33","v":0},{"$f":"'I7'!AF33","v":0},null,{"$f":"'I7'!AH33","v":0},{"$f":"'I7'!AI33","v":0},{"$f":"'I7'!AJ33","v":0},{"$f":"'I7'!AK33","v":0}]
[]
[null,"Net Insurance Financial Result",null,0,{"$f":"J44+M44+P44+S44+V44+Y44+AB44+AE44","v":0},0,{"$f":"L44+O44+R44+U44+X44+AA44+AD44+AG44","v":0},0,null,{"$f":"SUM(J41:J42,J39)","v":0},{"$f":"SUM(K41:K42,K39)","v":0},0,0,0,0,0,0,0,0,0,0,0,0,0,0,0,0,0,0,0,0,0,0,null,{"$f":"SUM(AI41:AI42,AI39)","v":0},0,0,0]

{"sheet":"I1","index":48,"n_rows":40,"n_cols":37,"rows_kept":40,"cut":false,"hidden":false,"merged":[[10,2,11,2],[10,1,12,1],[2,1,2,36],[10,8,10,10],[10,11,10,13],[10,3,10,5],[10,6,11,6],[10,33,10,36],[5,2,5,4],[6,2,6,4],[26,1,28,1],[26,2,27,2],[26,8,26,10],[26,11,26,13],[26,14,26,16],[26,3,26,5],[26,6,27,6],[26,33,26,36],[10,14,10,16],[10,17,10,19],[10,20,10,22],[10,23,10,25],[10,26,10,28],[10,29,10,31],[26,29,26,31],[26,17,26,19],[26,20,26,22],[26,23,26,25],[26,26,26,28]]}
[]
[]
[null,"FORM I1: INSURANCE REVENUE - BBA"]
[]
[]
[null,"NAME OF CAPTIVE INSURER",{"$f":"Specifications!C6","v":0}]
[null,"YEAR ENDED",{"$f":"Specifications!C21","v":"00:00:00"}]
[]
[null,"DIRECT BUSINESS"]
[]
[null,"Description ","Total","TOTAL GENERAL INSURANCE BUSINESS",null,null,"TOTAL LONG TERM INSURANCE BUSINESS",null,"Motor",null,null,"Accident &Health",null,null,"Engineering",null,null,"Liability",null,null,"Property",null,null,"Transport",null,null,"Guarantee",null,null,"Miscellaneous",null,null,null,"LONG TERM INSURANCE"]
[null,null,null,"Related business","Unrelated business other than Long Term Insurance Business","Business from Insurable interest other than LTI",null,null,"Related business","Unrelated business other than Long Term Insurance Business","Business from Insurable interest other than LTI","Related business","Unrelated business other than Long Term Insurance Business","Business from Insurable interest other than LTI","Related business","Unrelated business other than Long Term Insurance Business","Business from Insurable interest other than LTI","Related business","Unrelated business other than Long Term Insurance Business","Business from Insurable interest other than LTI","Related business","Unrelated business other than Long Term Insurance Business","Business from Insurable interest other than LTI","Related business","Unrelated business other than Long Term Insurance Business","Business from Insurable interest other than LTI","Related business","Unrelated business other than Long Term Insurance Business","Business from Insurable interest other than LTI","Related business","Unrelated business other than Long Term Insurance Business","Business from Insurable interest other than LTI",null,"Linked Long-Term Insurance","Permanent Health Insurance","Life Insurance","Pension"]
[null,null,{"$f":"Specifications!$C$22","v":"Rs."},{"$f":"Specifications!$C$22","v":"Rs."},{"$f":"Specifications!$C$22","v":"Rs."},{"$f":"Specifications!$C$22","v":"Rs."},{"$f":"Specifications!$C$22","v":"Rs."},null,{"$f":"Specifications!$C$22","v":"Rs."},{"$f":"Specifications!$C$22","v":"Rs."},{"$f":"Specifications!$C$22","v":"Rs."},{"$f":"Specifications!$C$22","v":"Rs."},{"$f":"Specifications!$C$22","v":"Rs."},{"$f":"Specifications!$C$22","v":"Rs."},{"$f":"Specifications!$C$22","v":"Rs."},{"$f":"Specifications!$C$22","v":"Rs."},{"$f":"Specifications!$C$22","v":"Rs."},{"$f":"Specifications!$C$22","v":"Rs."},{"$f":"Specifications!$C$22","v":"Rs."},{"$f":"Specifications!$C$22","v":"Rs."},{"$f":"Specifications!$C$22","v":"Rs."},{"$f":"Specifications!$C$22","v":"Rs."},{"$f":"Specifications!$C$22","v":"Rs."},{"$f":"Specifications!$C$22","v":"Rs."},{"$f":"Specifications!$C$22","v":"Rs."},{"$f":"Specifications!$C$22","v":"Rs."},{"$f":"Specifications!$C$22","v":"Rs."},{"$f":"Specifications!$C$22","v":"Rs."},{"$f":"Specifications!$C$22","v":"Rs."},{"$f":"Specifications!$C$22","v":"Rs."},{"$f":"Specifications!$C$22","v":"Rs."},{"$f":"Specifications!$C$22","v":"Rs."},null,{"$f":"Specifications!$C$22","v":"Rs."},{"$f":"Specifications!$C$22","v":"Rs."},{"$f":"Specifications!$C$22","v":"Rs."},{"$f":"Specifications!$C$22","v":"Rs."}]
[null,"Expected claims ",{"$f":"SUM(D14:G14)","v":0},{"$f":"I14+L14+O14+R14+U14+X14+AA14+AD14","v":0},{"$f":"J14+M14+P14+S14+V14+Y14+AB14+AE14","v":0},0,{"$f":"SUM(AH14:AK14)","v":0}]
[null,"Expected expenses",{"$f":"SUM(D15:G15)","v":0},{"$f":"I15+L15+O15+R15+U15+X15+AA15+AD15","v":0},{"$f":"J15+M15+P15+S15+V15+Y15+AB15+AE15","v":0},{"$f":"K15+N15+Q15+T15+W15+Z15+AC15+AF15","v":0},{"$f":"SUM(AH15:AK15)","v":0}]
[null,"Other expenses",0,0,0,0,0]
[null,"Contractual service margin recognised for service provided",0,0,0,0,0]
[null,"Recovery of insurance acquisition cash flows",0,0,0,0,0]
[null,"Experience adjustments not related to future service",0,{"$f":"I19+L19+O19+R19+U19+X19+AA19+AD19","v":0},{"$f":"J19+M19+P19+S19+V19+Y19+AB19+AE19","v":0},{"$f":"K19+N19+Q19+T19+W19+Z19+AC19+AF19","v":0},{"$f":"SUM(AH19:AK19)","v":0}]
[null,"Restatement and Other Changes",0,0,0,0,0]
[]
[null,"TOTAL DIRECT BUSINESS REVENUE UNDER BBA",{"$f":"SUM(C14:C20)","v":0},0,0,0,0,null,0,0,0,0,0,0,0,0,0,0,0,0,0,0,0,0,0,0,0,0,0,0,0,0,null,{"$f":"SUM(AH14:AH20)","v":0},0,0,0]
[]
[]
[null,"REINSURANCE INWARDS"]
[]
[null,"Description ","Total","TOTAL GENERAL INSURANCE BUSINESS",null,null,"TOTAL LONG TERM INSURANCE BUSINESS",null,"Motor",null,null,"Accident &Health",null,null,"Engineering",null,null,"Liability",null,null,"Property",null,null,"Transport",null,null,"Guarantee",null,null,"Miscellaneous",null,null,null,"LONG TERM INSURANCE"]
[null,null,null,"Related business","Unrelated business other than Long Term Insurance Business","Business from Insurable interest other than LTI",null,null,"Related business","Unrelated business other than Long Term Insurance Business","Business from Insurable interest other than LTI","Related business","Unrelated business other than Long Term Insurance Business","Business from Insurable interest other than LTI","Related business","Unrelated business other than Long Term Insurance Business","Business from Insurable interest other than LTI","Related business","Unrelated business other than Long Term Insurance Business","Business from Insurable interest other than LTI","Related business","Unrelated business other than Long Term Insurance Business","Business from Insurable interest other than LTI","Related business","Unrelated business other than Long Term Insurance Business","Business from Insurable interest other than LTI","Related business","Unrelated business other than Long Term Insurance Business","Business from Insurable interest other than LTI","Related business","Unrelated business other than Long Term Insurance Business","Business from Insurable interest other than LTI",null,"Linked Long-Term Insurance","Permanent Health Insurance","Life Insurance","Pension"]
[null,null,{"$f":"Specifications!$C$22","v":"Rs."},{"$f":"Specifications!$C$22","v":"Rs."},{"$f":"Specifications!$C$22","v":"Rs."},{"$f":"Specifications!$C$22","v":"Rs."},{"$f":"Specifications!$C$22","v":"Rs."},null,{"$f":"Specifications!$C$22","v":"Rs."},{"$f":"Specifications!$C$22","v":"Rs."},{"$f":"Specifications!$C$22","v":"Rs."},{"$f":"Specifications!$C$22","v":"Rs."},{"$f":"Specifications!$C$22","v":"Rs."},{"$f":"Specifications!$C$22","v":"Rs."},{"$f":"Specifications!$C$22","v":"Rs."},{"$f":"Specifications!$C$22","v":"Rs."},{"$f":"Specifications!$C$22","v":"Rs."},{"$f":"Specifications!$C$22","v":"Rs."},{"$f":"Specifications!$C$22","v":"Rs."},{"$f":"Specifications!$C$22","v":"Rs."},{"$f":"Specifications!$C$22","v":"Rs."},{"$f":"Specifications!$C$22","v":"Rs."},{"$f":"Specifications!$C$22","v":"Rs."},{"$f":"Specifications!$C$22","v":"Rs."},{"$f":"Specifications!$C$22","v":"Rs."},{"$f":"Specifications!$C$22","v":"Rs."},{"$f":"Specifications!$C$22","v":"Rs."},{"$f":"Specifications!$C$22","v":"Rs."},{"$f":"Specifications!$C$22","v":"Rs."},{"$f":"Specifications!$C$22","v":"Rs."},{"$f":"Specifications!$C$22","v":"Rs."},{"$f":"Specifications!$C$22","v":"Rs."},null,{"$f":"Specifications!$C$22","v":"Rs."},{"$f":"Specifications!$C$22","v":"Rs."},{"$f":"Specifications!$C$22","v":"Rs."},{"$f":"Specifications!$C$22","v":"Rs."}]
[null,"Expected claims ",{"$f":"SUM(D30:G30)","v":0},{"$f":"I30+L30+O30+R30+U30+X30+AA30+AD30","v":0},{"$f":"J30+M30+P30+S30+V30+Y30+AB30+AE30","v":0},{"$f":"K30+N30+Q30+T30+W30+Z30+AC30+AF30","v":0},{"$f":"SUM(AH30:AK30)","v":0}]
[null,"Expected expenses",{"$f":"SUM(D31:G31)","v":0},{"$f":"I31+L31+O31+R31+U31+X31+AA31+AD31","v":0},0,0,{"$f":"SUM(AH31:AK31)","v":0}]
[null,"Other expenses",0,0,0,0,0]
[null,"Contractual service margin recognised for service provided",0,0,0,0,0]
[null,"Recovery of insurance acquisition cash flows",0,{"$f":"I34+L34+O34+R34+U34+X34+AA34+AD34","v":0},{"$f":"J34+M34+P34+S34+V34+Y34+AB34+AE34","v":0},{"$f":"K34+N34+Q34+T34+W34+Z34+AC34+AF34","v":0},{"$f":"SUM(AH34:AK34)","v":0}]
[null,"Experience adjustments not related to future service",0,0,0,0,0]
[null,"Restatement and Other Changes",0,0,0,0,0]
[]
[null,"TOTAL REINSURANCE INWARDS REVENUE UNDER BBA",{"$f":"SUM(C30:C36)","v":0},{"$f":"SUM(D30:D36)","v":0},{"$f":"SUM(E30:E36)","v":0},{"$f":"SUM(F30:F36)","v":0},{"$f":"SUM(G30:G36)","v":0},null,{"$f":"SUM(I30:I36)","v":0},0,0,0,0,0,0,0,0,0,0,0,0,0,0,0,0,0,0,0,0,0,{"$f":"SUM(AE30:AE36)","v":0},0,null,{"$f":"SUM(AH30:AH36)","v":0},0,0,0]
[]
[null,"TOTAL INSURANCE REVENUE UNDER BBA",{"$f":"C38+C22","v":0},{"$f":"D38+D22","v":0},0,0,0,null,0,0,0,0,0,0,0,0,0,0,0,0,0,0,0,0,0,0,0,0,0,0,0,0,null,0,0,0,0]

{"sheet":"I2","index":49,"n_rows":29,"n_cols":31,"rows_kept":29,"cut":false,"hidden":false,"merged":[[21,13,21,15],[11,1,13,1],[11,2,12,2],[11,7,11,9],[11,10,11,12],[11,13,11,15],[21,1,23,1],[21,2,22,2],[21,3,21,5],[21,7,21,9],[21,10,21,12],[21,28,21,30],[21,16,21,18],[21,19,21,21],[21,22,21,24],[21,25,21,27],[11,16,11,18],[11,19,11,21],[2,1,2,30],[11,3,11,5],[11,22,11,24],[11,25,11,27],[11,28,11,30],[5,2,5,4],[6,2,6,4]]}
[]
[]
[null,"FORM I2: INSURANCE REVENUE - PAA"]
[]
[]
[null,"NAME OF CAPTIVE INSURER",{"$f":"Specifications!C6","v":0}]
[null,"YEAR ENDED",{"$f":"Specifications!C21","v":"00:00:00"}]
[]
[]
[null,"DIRECT BUSINESS"]
[]
[null,"Description ","Total","TOTAL GENERAL INSURANCE BUSINESS",null,null,null,"Motor",null,null,"Accident &Health",null,null,"Engineering",null,null,"Liability",null,null,"Property",null,null,"Transport",null,null,"Guarantee",null,null,"Miscellaneous"]
[null,null,null,"Related business","Unrelated business","Business from Insurable interest ",null,"Related business","Unrelated business other than Long Term Insurance Business","Business from Insurable interest other than LTI","Related business","Unrelated business other than Long Term Insurance Business","Business from Insurable interest other than LTI","Related business","Unrelated business other than Long Term Insurance Business","Business from Insurable interest other than LTI","Related business","Unrelated business other than Long Term Insurance Business","Business from Insurable interest other than LTI","Related business","Unrelated business other than Long Term Insurance Business","Business from Insurable interest other than LTI","Related business","Unrelated business other than Long Term Insurance Business","Business from Insurable interest other than LTI","Related business","Unrelated business other than Long Term Insurance Business","Business from Insurable interest other than LTI","Related business","Unrelated business other than Long Term Insurance Business","Business from Insurable interest other than LTI"]
[null,null,{"$f":"Specifications!$C$22","v":"Rs."},{"$f":"Specifications!$C$22","v":"Rs."},{"$f":"Specifications!$C$22","v":"Rs."},{"$f":"Specifications!$C$22","v":"Rs."},null,{"$f":"Specifications!$C$22","v":"Rs."},{"$f":"Specifications!$C$22","v":"Rs."},{"$f":"Specifications!$C$22","v":"Rs."},{"$f":"Specifications!$C$22","v":"Rs."},{"$f":"Specifications!$C$22","v":"Rs."},{"$f":"Specifications!$C$22","v":"Rs."},{"$f":"Specifications!$C$22","v":"Rs."},{"$f":"Specifications!$C$22","v":"Rs."},{"$f":"Specifications!$C$22","v":"Rs."},{"$f":"Specifications!$C$22","v":"Rs."},{"$f":"Specifications!$C$22","v":"Rs."},{"$f":"Specifications!$C$22","v":"Rs."},{"$f":"Specifications!$C$22","v":"Rs."},{"$f":"Specifications!$C$22","v":"Rs."},{"$f":"Specifications!$C$22","v":"Rs."},{"$f":"Specifications!$C$22","v":"Rs."},{"$f":"Specifications!$C$22","v":"Rs."},{"$f":"Specifications!$C$22","v":"Rs."},{"$f":"Specifications!$C$22","v":"Rs."},{"$f":"Specifications!$C$22","v":"Rs."},{"$f":"Specifications!$C$22","v":"Rs."},{"$f":"Specifications!$C$22","v":"Rs."},{"$f":"Specifications!$C$22","v":"Rs."},{"$f":"Specifications!$C$22","v":"Rs."}]
[null,"Premium receipts allocated to the period during which services are provided (including acquisition costs)",{"$f":"SUM(H15:AC15)","v":0},{"$f":"H15+K15+N15+Q15+T15+W15+Z15+AC15","v":0},{"$f":"I15+L15+O15+R15+U15+X15+AA15+AD15","v":0},0]
[]
[null,"TOTAL DIRECT BUSINESS REVENUE UNDER PAA",{"$f":"SUM(C15:C15)","v":0},0,0,0,null,0,null,null,0,null,null,0,null,null,0,null,null,0,null,null,0,null,null,0,null,null,0,{"$f":"SUM(AD15:AD15)","v":0},0]
[]
[]
[null,"REINSURANCE INWARDS"]
[]
[null,"Description ","Total","TOTAL GENERAL INSURANCE BUSINESS",null,null,null,"Motor",null,null,"Accident &Health",null,null,"Engineering",null,null,"Liability",null,null,"Property",null,null,"Transport",null,null,"Guarantee",null,null,"Miscellaneous"]
[null,null,null,"Related business","Unrelated business","Business from Insurable interest ",null,"Related business","Unrelated business other than Long Term Insurance Business","Business from Insurable interest other than LTI","Related business","Unrelated business other than Long Term Insurance Business","Business from Insurable interest other than LTI","Related business","Unrelated business other than Long Term Insurance Business","Business from Insurable interest other than LTI","Related business","Unrelated business other than Long Term Insurance Business","Business from Insurable interest other than LTI","Related business","Unrelated business other than Long Term Insurance Business","Business from Insurable interest other than LTI","Related business","Unrelated business other than Long Term Insurance Business","Business from Insurable interest other than LTI","Related business","Unrelated business other than Long Term Insurance Business","Business from Insurable interest other than LTI","Related business","Unrelated business other than Long Term Insurance Business","Business from Insurable interest other than LTI"]
[null,null,{"$f":"Specifications!$C$22","v":"Rs."},{"$f":"Specifications!$C$22","v":"Rs."},{"$f":"Specifications!$C$22","v":"Rs."},{"$f":"Specifications!$C$22","v":"Rs."},null,{"$f":"Specifications!$C$22","v":"Rs."},{"$f":"Specifications!$C$22","v":"Rs."},{"$f":"Specifications!$C$22","v":"Rs."},{"$f":"Specifications!$C$22","v":"Rs."},{"$f":"Specifications!$C$22","v":"Rs."},{"$f":"Specifications!$C$22","v":"Rs."},{"$f":"Specifications!$C$22","v":"Rs."},{"$f":"Specifications!$C$22","v":"Rs."},{"$f":"Specifications!$C$22","v":"Rs."},{"$f":"Specifications!$C$22","v":"Rs."},{"$f":"Specifications!$C$22","v":"Rs."},{"$f":"Specifications!$C$22","v":"Rs."},{"$f":"Specifications!$C$22","v":"Rs."},{"$f":"Specifications!$C$22","v":"Rs."},{"$f":"Specifications!$C$22","v":"Rs."},{"$f":"Specifications!$C$22","v":"Rs."},{"$f":"Specifications!$C$22","v":"Rs."},{"$f":"Specifications!$C$22","v":"Rs."},{"$f":"Specifications!$C$22","v":"Rs."},{"$f":"Specifications!$C$22","v":"Rs."},{"$f":"Specifications!$C$22","v":"Rs."},{"$f":"Specifications!$C$22","v":"Rs."},{"$f":"Specifications!$C$22","v":"Rs."},{"$f":"Specifications!$C$22","v":"Rs."}]
[null,"Premium receipts allocated to the period during which services are provided (including acquisition costs)",{"$f":"SUM(H25:AC25)","v":0},{"$f":"H25+K25+N25+Q25+T25+W25+Z25+AC25","v":0},{"$f":"I25+L25+O25+R25+U25+X25+AA25+AD25","v":0},{"$f":"J25+M25+P25+S25+V25+Y25+AB25+AE25","v":0}]
[]
[null,"TOTAL REINSURANCE INWARDS REVENUE UNDER PAA",{"$f":"SUM(C25:C25)","v":0},0,0,0,null,0,0,0,0,0,0,0,0,0,0,0,0,0,0,0,0,0,0,0,0,0,0,0,0]
[]
[null,"TOTAL INSURANCE REVENUE UNDER PAA",{"$f":"C27+C17","v":0},{"$f":"D27+D17","v":0},0,0,null,{"$f":"H27+H17","v":0},0,0,0,0,0,0,0,0,0,0,0,0,0,0,0,0,0,0,0,0,0,{"$f":"AD27+AD17","v":0},0]

{"sheet":"I3","index":50,"n_rows":61,"n_cols":37,"rows_kept":61,"cut":false,"hidden":false,"merged":[[2,1,2,36],[11,3,11,5],[11,6,12,6],[5,2,5,4],[6,2,6,4],[37,33,37,36],[37,1,39,1],[37,2,38,2],[11,1,13,1],[11,2,12,2],[11,33,11,36],[11,8,11,10],[11,11,11,13],[11,14,11,16],[11,17,11,19],[11,20,11,22],[11,23,11,25],[11,26,11,28],[11,29,11,31],[37,3,37,5],[37,6,38,6],[37,23,37,25],[37,26,37,28],[37,29,37,31],[37,8,37,10],[37,11,37,13],[37,14,37,16],[37,17,37,19],[37,20,37,22]]}
[]
[]
[null,"FORM I3: INSURANCE SERVICE EXPENSE - BBA"]
[]
[]
[null,"NAME OF CAPTIVE INSURER",{"$f":"Specifications!C6","v":0}]
[null,"YEAR ENDED",{"$f":"Specifications!C21","v":"00:00:00"}]
[]
[]
[null,"DIRECT BUSINESS"]
[]
[null,"Description ","Total","TOTAL GENERAL INSURANCE BUSINESS",null,null,"TOTAL LONG TERM INSURANCE BUSINESS",null,"Motor",null,null,"Accident &Health",null,null,"Engineering",null,null,"Liability",null,null,"Property",null,null,"Transport",null,null,"Guarantee",null,null,"Miscellaneous",null,null,null,"LONG TERM INSURANCE"]
[null,null,null,"Related business","Unrelated business other than Long Term Insurance Business","Business from Insurable interest other than LTI",null,null,"Related business","Unrelated business other than Long Term Insurance Business","Business from Insurable interest other than LTI","Related business","Unrelated business other than Long Term Insurance Business","Business from Insurable interest other than LTI","Related business","Unrelated business other than Long Term Insurance Business","Business from Insurable interest other than LTI","Related business","Unrelated business other than Long Term Insurance Business","Business from Insurable interest other than LTI","Related business","Unrelated business other than Long Term Insurance Business","Business from Insurable interest other than LTI","Related business","Unrelated business other than Long Term Insurance Business","Business from Insurable interest other than LTI","Related business","Unrelated business other than Long Term Insurance Business","Business from Insurable interest other than LTI","Related business","Unrelated business other than Long Term Insurance Business","Business from Insurable interest other than LTI",null,"Linked Long-Term Insurance","Permanent Health Insurance","Life Insurance","Pension"]
[null,null,{"$f":"Specifications!$C$22","v":"Rs."},{"$f":"Specifications!$C$22","v":"Rs."},{"$f":"Specifications!$C$22","v":"Rs."},{"$f":"Specifications!$C$22","v":"Rs."},{"$f":"Specifications!$C$22","v":"Rs."},null,{"$f":"Specifications!$C$22","v":"Rs."},{"$f":"Specifications!$C$22","v":"Rs."},{"$f":"Specifications!$C$22","v":"Rs."},{"$f":"Specifications!$C$22","v":"Rs."},{"$f":"Specifications!$C$22","v":"Rs."},{"$f":"Specifications!$C$22","v":"Rs."},{"$f":"Specifications!$C$22","v":"Rs."},{"$f":"Specifications!$C$22","v":"Rs."},{"$f":"Specifications!$C$22","v":"Rs."},{"$f":"Specifications!$C$22","v":"Rs."},{"$f":"Specifications!$C$22","v":"Rs."},{"$f":"Specifications!$C$22","v":"Rs."},{"$f":"Specifications!$C$22","v":"Rs."},{"$f":"Specifications!$C$22","v":"Rs."},{"$f":"Specifications!$C$22","v":"Rs."},{"$f":"Specifications!$C$22","v":"Rs."},{"$f":"Specifications!$C$22","v":"Rs."},{"$f":"Specifications!$C$22","v":"Rs."},{"$f":"Specifications!$C$22","v":"Rs."},{"$f":"Specifications!$C$22","v":"Rs."},{"$f":"Specifications!$C$22","v":"Rs."},{"$f":"Specifications!$C$22","v":"Rs."},{"$f":"Specifications!$C$22","v":"Rs."},{"$f":"Specifications!$C$22","v":"Rs."},null,{"$f":"Specifications!$C$22","v":"Rs."},{"$f":"Specifications!$C$22","v":"Rs."},{"$f":"Specifications!$C$22","v":"Rs."},{"$f":"Specifications!$C$22","v":"Rs."}]
[null,"Incurred insurance service expenses",{"$f":"SUM(C16:C32)","v":0},{"$f":"SUM(D16:D32)","v":0},0,0,0,null,{"$f":"SUM(I16:I23)","v":0},{"$f":"SUM(J16:J23)","v":0},0,0,0,0,0,0,0,0,0,0,0,0,0,0,0,0,0,0,0,0,0,0,null,0,{"$f":"SUM(AI16:AI23)","v":0},{"$f":"SUM(AJ16:AJ23)","v":0},{"$f":"SUM(AK16:AK23)","v":0}]
[null,"   Incurred claims ",{"$f":"SUM(I16:AD16)","v":0},{"$f":"I16+L16+O16+R16+U16+X16+AA16+AD16","v":0},{"$f":"SUM(K16:AF16)","v":0},{"$f":"SUM(L16:AG16)","v":0},{"$f":"SUM(M16:AH16)","v":0}]
[null,"   Expenses",0,0,0,0,0]
[null,"   Other expenses ",0,0,0,0,0]
[null,"   Other movements related to current service",{"$f":"SUM(I19:AD19)","v":0},0,{"$f":"J19+M19+P19+S19+V19+Y19+AB19+AE19","v":0},{"$f":"K19+N19+Q19+T19+W19+Z19+AC19+AF19","v":0},{"$f":"SUM(AH19:AK19)","v":0}]
[null,"Insurance acquisition cash flows expensed when incurred",{"$f":"SUM(I20:AD20)","v":0},0,{"$f":"J20+M20+P20+S20+V20+Y20+AB20+AE20","v":0},0,{"$f":"SUM(AH20:AK20)","v":0}]
[null,"Amortisation of insurance acquisition cash flows",0,0,0,0,0]
[null,"Impairment Loss on Assets for Insurance Acquisition Cash Flow ",{"$f":"SUM(I22:AD22)","v":0},0,0,0,0]
[null,"Reversal of Impairment Loss on Assets for Insurance Acquisition Cash Flow",{"$f":"SUM(I23:AD23)","v":0},0,{"$f":"J23+M23+P23+S23+V23+Y23+AB23+AE23","v":0},{"$f":"K23+N23+Q23+T23+W23+Z23+AC23+AF23","v":0},{"$f":"SUM(AH23:AK23)","v":0}]
[]
[null,"Changes that relate to past service",{"$f":"SUM(C26:C27)","v":0},{"$f":"SUM(D26:D27)","v":0},0,0,0,null,{"$f":"SUM(I26:I27)","v":0},{"$f":"SUM(J26:J27)","v":0},0,0,0,0,0,0,0,0,0,0,0,0,0,0,0,0,0,0,0,0,0,0,null,0,{"$f":"SUM(AI26:AI27)","v":0},{"$f":"SUM(AJ26:AJ27)","v":0},{"$f":"SUM(AK26:AK27)","v":0}]
[null,"   Changes in estimates in LIC fulfilment cash flows",{"$f":"SUM(I26:AD26)","v":0},{"$f":"I26+L26+O26+R26+U26+X26+AA26+AD26","v":0},{"$f":"J26+M26+P26+S26+V26+Y26+AB26+AE26","v":0},{"$f":"K26+N26+Q26+T26+W26+Z26+AC26+AF26","v":0},{"$f":"SUM(AH26:AK26)","v":0}]
[null,"   Experience adjustments in claims and other insurance service expenses in LIC",0,0,0,0,0]
[]
[null,"Changes that relate to future service",{"$f":"SUM(C30:C31)","v":0},{"$f":"SUM(D30:D31)","v":0},{"$f":"SUM(E30:E31)","v":0},{"$f":"SUM(F30:F31)","v":0},{"$f":"SUM(G30:G31)","v":0},null,{"$f":"SUM(I30:I31)","v":0},{"$f":"SUM(J30:J31)","v":0},0,0,0,0,0,0,0,0,0,0,0,0,0,0,0,0,0,0,0,0,0,0,null,0,{"$f":"SUM(AI30:AI31)","v":0},{"$f":"SUM(AJ30:AJ31)","v":0},{"$f":"SUM(AK30:AK31)","v":0}]
[null,"   Losses for the net outflow recognized on initial recognition",{"$f":"SUM(I30:AD30)","v":0},{"$f":"I30+L30+O30+R30+U30+X30+AA30+AD30","v":0},{"$f":"J30+M30+P30+S30+V30+Y30+AB30+AE30","v":0},{"$f":"K30+N30+Q30+T30+W30+Z30+AC30+AF30","v":0},{"$f":"SUM(AH30:AK30)","v":0}]
[null,"   Losses and reversal of losses on onerous contracts - subsequent measurement",0,0,0,0,0]
[]
[null,"TOTAL DIRECT BUSINESS SERVICE EXPENSE UNDER BBA",{"$f":"C15+C25+C29","v":0},{"$f":"D15+D25+D29","v":0},{"$f":"E15+E25+E29","v":0},0,0,null,{"$f":"I15+I25+I29","v":0},{"$f":"J15+J25+J29","v":0},0,0,0,0,0,0,0,0,0,0,0,0,0,0,0,0,0,0,0,0,0,{"$f":"AF15+AF25+AF29","v":0},null,{"$f":"AH15+AH25+AH29","v":0},{"$f":"AI15+AI25+AI29","v":0},{"$f":"AJ15+AJ25+AJ29","v":0},{"$f":"AK15+AK25+AK29","v":0}]
[]
[]
[null,"REINSURANCE INWARDS"]
[]
[null,"Description ","Total","TOTAL GENERAL INSURANCE BUSINESS",null,null,"TOTAL LONG TERM INSURANCE BUSINESS",null,"Motor",null,null,"Accident &Health",null,null,"Engineering",null,null,"Liability",null,null,"Property",null,null,"Transport",null,null,"Guarantee",null,null,"Miscellaneous",null,null,null,"LONG TERM INSURANCE"]
[null,null,null,"Related business","Unrelated business other than Long Term Insurance Business","Business from Insurable interest other than LTI",null,null,"Related business","Unrelated business other than Long Term Insurance Business","Business from Insurable interest other than LTI","Related business","Unrelated business other than Long Term Insurance Business","Business from Insurable interest other than LTI","Related business","Unrelated business other than Long Term Insurance Business","Business from Insurable interest other than LTI","Related business","Unrelated business other than Long Term Insurance Business","Business from Insurable interest other than LTI","Related business","Unrelated business other than Long Term Insurance Business","Business from Insurable interest other than LTI","Related business","Unrelated business other than Long Term Insurance Business","Business from Insurable interest other than LTI","Related business","Unrelated business other than Long Term Insurance Business","Business from Insurable interest other than LTI","Related business","Unrelated business other than Long Term Insurance Business","Business from Insurable interest other than LTI",null,"Linked Long-Term Insurance","Permanent Health Insurance","Life Insurance","Pension"]
[null,null,{"$f":"Specifications!$C$22","v":"Rs."},{"$f":"Specifications!$C$22","v":"Rs."},{"$f":"Specifications!$C$22","v":"Rs."},{"$f":"Specifications!$C$22","v":"Rs."},{"$f":"Specifications!$C$22","v":"Rs."},null,{"$f":"Specifications!$C$22","v":"Rs."},{"$f":"Specifications!$C$22","v":"Rs."},{"$f":"Specifications!$C$22","v":"Rs."},{"$f":"Specifications!$C$22","v":"Rs."},{"$f":"Specifications!$C$22","v":"Rs."},{"$f":"Specifications!$C$22","v":"Rs."},{"$f":"Specifications!$C$22","v":"Rs."},{"$f":"Specifications!$C$22","v":"Rs."},{"$f":"Specifications!$C$22","v":"Rs."},{"$f":"Specifications!$C$22","v":"Rs."},{"$f":"Specifications!$C$22","v":"Rs."},{"$f":"Specifications!$C$22","v":"Rs."},{"$f":"Specifications!$C$22","v":"Rs."},{"$f":"Specifications!$C$22","v":"Rs."},{"$f":"Specifications!$C$22","v":"Rs."},{"$f":"Specifications!$C$22","v":"Rs."},{"$f":"Specifications!$C$22","v":"Rs."},{"$f":"Specifications!$C$22","v":"Rs."},{"$f":"Specifications!$C$22","v":"Rs."},{"$f":"Specifications!$C$22","v":"Rs."},{"$f":"Specifications!$C$22","v":"Rs."},{"$f":"Specifications!$C$22","v":"Rs."},{"$f":"Specifications!$C$22","v":"Rs."},{"$f":"Specifications!$C$22","v":"Rs."},null,{"$f":"Specifications!$C$22","v":"Rs."},{"$f":"Specifications!$C$22","v":"Rs."},{"$f":"Specifications!$C$22","v":"Rs."},{"$f":"Specifications!$C$22","v":"Rs."}]
[null,"Incurred insurance service expenses",{"$f":"SUM(C42:C49)","v":0},{"$f":"SUM(D42:D49)","v":0},0,0,0,null,{"$f":"SUM(I42:I49)","v":0},{"$f":"SUM(J42:J49)","v":0},{"$f":"SUM(K42:K49)","v":0},{"$f":"SUM(L42:L49)","v":0},{"$f":"SUM(M42:M49)","v":0},{"$f":"SUM(N42:N49)","v":0},{"$f":"SUM(O42:O49)","v":0},{"$f":"SUM(P42:P49)","v":0},{"$f":"SUM(Q42:Q49)","v":0},{"$f":"SUM(R42:R49)","v":0},{"$f":"SUM(S42:S49)","v":0},{"$f":"SUM(T42:T49)","v":0},{"$f":"SUM(U42:U49)","v":0},{"$f":"SUM(V42:V49)","v":0},{"$f":"SUM(W42:W49)","v":0},{"$f":"SUM(X42:X49)","v":0},{"$f":"SUM(Y42:Y49)","v":0},{"$f":"SUM(Z42:Z49)","v":0},{"$f":"SUM(AA42:AA49)","v":0},{"$f":"SUM(AB42:AB49)","v":0},{"$f":"SUM(AC42:AC49)","v":0},{"$f":"SUM(AD42:AD49)","v":0},{"$f":"SUM(AE42:AE49)","v":0},{"$f":"SUM(AF42:AF49)","v":0},null,{"$f":"SUM(AH42:AH49)","v":0},{"$f":"SUM(AI42:AI49)","v":0},{"$f":"SUM(AJ42:AJ49)","v":0},{"$f":"SUM(AK42:AK49)","v":0}]
[null,"   Incurred claims ",{"$f":"SUM(I42:AD42)","v":0},{"$f":"I42+L42+O42+R42+U42+X42+AA42+AD42","v":0},{"$f":"J42+M42+P42+S42+V42+Y42+AB42+AE42","v":0},{"$f":"K42+N42+Q42+T42+W42+Z42+AC42+AF42","v":0},{"$f":"SUM(AH42:AK42)","v":0}]
[null,"   Expenses",0,0,0,0,0]
[null,"   Other expenses ",0,0,0,0,0]
[null,"   Other movements related to current service",0,0,0,0,0]
[null,"Insurance acquisition cash flows expensed when incurred",0,0,0,0,0]
[null,"Amortisation of insurance acquisition cash flows",{"$f":"SUM(I47:AD47)","v":0},{"$f":"I47+L47+O47+R47+U47+X47+AA47+AD47","v":0},{"$f":"J47+M47+P47+S47+V47+Y47+AB47+AE47","v":0},{"$f":"K47+N47+Q47+T47+W47+Z47+AC47+AF47","v":0},{"$f":"SUM(AH47:AK47)","v":0}]
[null,"Impairment Loss on Assets for Insurance Acquisition Cash Flow ",0,0,0,0,0]
[null,"Reversal of Impairment Loss on Assets for Insurance Acquisition Cash Flow",0,0,0,0,0]
[]
[null,"Changes that relate to past service",{"$f":"SUM(C52:C53)","v":0},{"$f":"SUM(D52:D53)","v":0},0,0,0,null,{"$f":"SUM(I52:I53)","v":0},{"$f":"SUM(J52:J53)","v":0},{"$f":"SUM(K52:K53)","v":0},{"$f":"SUM(L52:L53)","v":0},{"$f":"SUM(M52:M53)","v":0},{"$f":"SUM(N52:N53)","v":0},{"$f":"SUM(O52:O53)","v":0},{"$f":"SUM(P52:P53)","v":0},{"$f":"SUM(Q52:Q53)","v":0},{"$f":"SUM(R52:R53)","v":0},{"$f":"SUM(S52:S53)","v":0},{"$f":"SUM(T52:T53)","v":0},{"$f":"SUM(U52:U53)","v":0},{"$f":"SUM(V52:V53)","v":0},{"$f":"SUM(W52:W53)","v":0},{"$f":"SUM(X52:X53)","v":0},{"$f":"SUM(Y52:Y53)","v":0},{"$f":"SUM(Z52:Z53)","v":0},{"$f":"SUM(AA52:AA53)","v":0},{"$f":"SUM(AB52:AB53)","v":0},{"$f":"SUM(AC52:AC53)","v":0},{"$f":"SUM(AD52:AD53)","v":0},{"$f":"SUM(AE52:AE53)","v":0},{"$f":"SUM(AF52:AF53)","v":0},null,{"$f":"SUM(AH52:AH53)","v":0},{"$f":"SUM(AI52:AI53)","v":0},{"$f":"SUM(AJ52:AJ53)","v":0},{"$f":"SUM(AK52:AK53)","v":0}]
[null,"   Changes in estimates in LIC fulfilment cash flows",{"$f":"SUM(I52:AD52)","v":0},{"$f":"I52+L52+O52+R52+U52+X52+AA52+AD52","v":0},{"$f":"J52+M52+P52+S52+V52+Y52+AB52+AE52","v":0},{"$f":"K52+N52+Q52+T52+W52+Z52+AC52+AF52","v":0},{"$f":"SUM(AH52:AK52)","v":0}]
[null,"   Experience adjustments in claims and other insurance service expenses in LIC",0,0,0,0,0]
[]
[null,"Changes that relate to future service",{"$f":"SUM(C56:C57)","v":0},{"$f":"SUM(D56:D57)","v":0},{"$f":"SUM(E56:E57)","v":0},{"$f":"SUM(F56:F57)","v":0},{"$f":"SUM(G56:G57)","v":0},null,{"$f":"SUM(I56:I57)","v":0},{"$f":"SUM(J56:J57)","v":0},{"$f":"SUM(K56:K57)","v":0},{"$f":"SUM(L56:L57)","v":0},{"$f":"SUM(M56:M57)","v":0},{"$f":"SUM(N56:N57)","v":0},{"$f":"SUM(O56:O57)","v":0},{"$f":"SUM(P56:P57)","v":0},{"$f":"SUM(Q56:Q57)","v":0},{"$f":"SUM(R56:R57)","v":0},{"$f":"SUM(S56:S57)","v":0},{"$f":"SUM(T56:T57)","v":0},{"$f":"SUM(U56:U57)","v":0},{"$f":"SUM(V56:V57)","v":0},{"$f":"SUM(W56:W57)","v":0},{"$f":"SUM(X56:X57)","v":0},{"$f":"SUM(Y56:Y57)","v":0},{"$f":"SUM(Z56:Z57)","v":0},{"$f":"SUM(AA56:AA57)","v":0},{"$f":"SUM(AB56:AB57)","v":0},{"$f":"SUM(AC56:AC57)","v":0},{"$f":"SUM(AD56:AD57)","v":0},{"$f":"SUM(AE56:AE57)","v":0},{"$f":"SUM(AF56:AF57)","v":0},null,{"$f":"SUM(AH56:AH57)","v":0},{"$f":"SUM(AI56:AI57)","v":0},{"$f":"SUM(AJ56:AJ57)","v":0},{"$f":"SUM(AK56:AK57)","v":0}]
[null,"   Losses for the net outflow recognized on initial recognition",{"$f":"SUM(I56:AD56)","v":0},{"$f":"I56+L56+O56+R56+U56+X56+AA56+AD56","v":0},{"$f":"J56+M56+P56+S56+V56+Y56+AB56+AE56","v":0},{"$f":"K56+N56+Q56+T56+W56+Z56+AC56+AF56","v":0},{"$f":"SUM(AH56:AK56)","v":0}]
[null,"   Losses and reversal of losses on onerous contracts - subsequent measurement",0,0,0,0,0]
[]
[null,"TOTAL REINSURANCE INWARDS SERVICE EXPENSE UNDER BBA",{"$f":"C41+C51+C55","v":0},{"$f":"D41+D51+D55","v":0},0,0,0,null,{"$f":"I41+I51+I55","v":0},{"$f":"J41+J51+J55","v":0},0,0,0,0,0,{"$f":"P41+P51+P55","v":0},0,0,0,0,0,0,0,0,0,0,0,0,0,0,0,{"$f":"AF41+AF51+AF55","v":0},null,{"$f":"AH41+AH51+AH55","v":0},{"$f":"AI41+AI51+AI55","v":0},{"$f":"AJ41+AJ51+AJ55","v":0},{"$f":"AK41+AK51+AK55","v":0}]
[]
[null,"TOTAL INSURANCE SERVICE EXPENSE UNDER BBA",{"$f":"C59+C33","v":0},{"$f":"D59+D33","v":0},{"$f":"E59+E33","v":0},{"$f":"F59+F33","v":0},0,null,{"$f":"I33+I59","v":0},{"$f":"J33+J59","v":0},0,0,0,0,0,0,0,0,0,0,0,0,0,0,0,0,0,0,0,0,0,0,null,{"$f":"AH33+AH59","v":0},0,0,{"$f":"AK33+AK59","v":0}]

{"sheet":"I4","index":51,"n_rows":61,"n_cols":31,"rows_kept":61,"cut":false,"hidden":false,"merged":[[37,13,37,15],[11,1,13,1],[11,2,12,2],[11,7,11,9],[11,10,11,12],[11,13,11,15],[37,1,39,1],[37,2,38,2],[37,3,37,5],[37,7,37,9],[37,10,37,12],[37,28,37,30],[37,16,37,18],[37,19,37,21],[37,22,37,24],[37,25,37,27],[11,16,11,18],[11,19,11,21],[2,1,2,30],[11,3,11,5],[11,22,11,24],[11,25,11,27],[11,28,11,30],[5,2,5,4],[6,2,6,4]]}
[]
[]
[null,"FORM I4: INSURANCE SERVICE EXPENSE - PAA"]
[]
[]
[null,"NAME OF CAPTIVE INSURER",{"$f":"Specifications!C6","v":0}]
[null,"YEAR ENDED",{"$f":"Specifications!C21","v":"00:00:00"}]
[]
[]
[null,"DIRECT BUSINESS"]
[]
[null,"Description ","Total","TOTAL GENERAL INSURANCE BUSINESS",null,null,null,"Motor",null,null,"Accident &Health",null,null,"Engineering",null,null,"Liability",null,null,"Property",null,null,"Transport",null,null,"Guarantee",null,null,"Miscellaneous"]
[null,null,null,"Related business","Unrelated business","Business from Insurable interest ",null,"Related business","Unrelated business other than Long Term Insurance Business","Business from Insurable interest other than LTI","Related business","Unrelated business other than Long Term Insurance Business","Business from Insurable interest other than LTI","Related business","Unrelated business other than Long Term Insurance Business","Business from Insurable interest other than LTI","Related business","Unrelated business other than Long Term Insurance Business","Business from Insurable interest other than LTI","Related business","Unrelated business other than Long Term Insurance Business","Business from Insurable interest other than LTI","Related business","Unrelated business other than Long Term Insurance Business","Business from Insurable interest other than LTI","Related business","Unrelated business other than Long Term Insurance Business","Business from Insurable interest other than LTI","Related business","Unrelated business other than Long Term Insurance Business","Business from Insurable interest other than LTI"]
[null,null,{"$f":"Specifications!$C$22","v":"Rs."},{"$f":"Specifications!$C$22","v":"Rs."},{"$f":"Specifications!$C$22","v":"Rs."},{"$f":"Specifications!$C$22","v":"Rs."},null,{"$f":"Specifications!$C$22","v":"Rs."},{"$f":"Specifications!$C$22","v":"Rs."},{"$f":"Specifications!$C$22","v":"Rs."},{"$f":"Specifications!$C$22","v":"Rs."},{"$f":"Specifications!$C$22","v":"Rs."},{"$f":"Specifications!$C$22","v":"Rs."},{"$f":"Specifications!$C$22","v":"Rs."},{"$f":"Specifications!$C$22","v":"Rs."},{"$f":"Specifications!$C$22","v":"Rs."},{"$f":"Specifications!$C$22","v":"Rs."},{"$f":"Specifications!$C$22","v":"Rs."},{"$f":"Specifications!$C$22","v":"Rs."},{"$f":"Specifications!$C$22","v":"Rs."},{"$f":"Specifications!$C$22","v":"Rs."},{"$f":"Specifications!$C$22","v":"Rs."},{"$f":"Specifications!$C$22","v":"Rs."},{"$f":"Specifications!$C$22","v":"Rs."},{"$f":"Specifications!$C$22","v":"Rs."},{"$f":"Specifications!$C$22","v":"Rs."},{"$f":"Specifications!$C$22","v":"Rs."},{"$f":"Specifications!$C$22","v":"Rs."},{"$f":"Specifications!$C$22","v":"Rs."},{"$f":"Specifications!$C$22","v":"Rs."},{"$f":"Specifications!$C$22","v":"Rs."}]
[null,"Incurred insurance service expenses",{"$f":"SUM(C16:C23)","v":0},{"$f":"SUM(D16:D23)","v":0},{"$f":"SUM(E16:E23)","v":0},{"$f":"SUM(F16:F23)","v":0},null,{"$f":"SUM(H16:H23)","v":0},{"$f":"SUM(I16:I23)","v":0},0,0,0,0,0,0,0,0,0,0,0,0,0,0,0,0,0,0,0,0,0,{"$f":"SUM(AE16:AE23)","v":0}]
[null,"   Incurred claims ",{"$f":"SUM(H16:AC16)","v":0},{"$f":"H16+K16+N16+Q16+T16+W16+Z16+AC16","v":0},{"$f":"I16+L16+O16+R16+U16+X16+AA16+AD16","v":0},0]
[null,"   Expenses",0,0,{"$f":"I17+L17+O17+R17+U17+X17+AA17+AD17","v":0},0]
[null,"   Other expenses ",0,0,0,0]
[null,"   Other movements related to current service",{"$f":"SUM(H19:AC19)","v":0},{"$f":"H19+K19+N19+Q19+T19+W19+Z19+AC19","v":0},{"$f":"I19+L19+O19+R19+U19+X19+AA19+AD19","v":0},{"$f":"J19+M19+P19+S19+V19+Y19+AB19+AE19","v":0}]
[null,"Insurance acquisition cash flows expensed when incurred",0,0,0,0]
[null,"Amortisation of insurance acquisition cash flows",0,0,0,0]
[null,"Impairment Loss on Assets for Insurance Acquisition Cash Flow ",0,0,0,0]
[null,"Reversal of Impairment Loss on Assets for Insurance Acquisition Cash Flow",0,0,0,0]
[]
[null,"Changes that relate to past service",{"$f":"SUM(C26:C27)","v":0},{"$f":"SUM(D26:D27)","v":0},{"$f":"SUM(E26:E27)","v":0},0,null,{"$f":"SUM(H26:H27)","v":0},{"$f":"SUM(I26:I27)","v":0},0,0,0,0,0,0,0,0,0,0,0,0,0,0,0,0,0,0,0,0,{"$f":"SUM(AD26:AD27)","v":0},0]
[null,"   Changes in estimates in LIC fulfilment cash flows",{"$f":"SUM(H26:AC26)","v":0},{"$f":"H26+K26+N26+Q26+T26+W26+Z26+AC26","v":0},{"$f":"I26+L26+O26+R26+U26+X26+AA26+AD26","v":0},{"$f":"J26+M26+P26+S26+V26+Y26+AB26+AE26","v":0}]
[null,"   Experience adjustments in claims and other insurance service expenses in LIC",0,0,0,0]
[]
[null,"Changes that relate to future service",{"$f":"SUM(C30:C31)","v":0},{"$f":"SUM(D30:D31)","v":0},{"$f":"SUM(E30:E31)","v":0},{"$f":"SUM(F30:F31)","v":0},null,{"$f":"SUM(H30:H31)","v":0},{"$f":"SUM(I30:I31)","v":0},0,0,0,0,{"$f":"SUM(N30:N31)","v":0},0,0,0,0,0,0,0,0,0,0,0,0,0,0,0,0,0]
[null,"   Losses for the net outflow recognized on initial recognition",{"$f":"SUM(H30:AC30)","v":0},{"$f":"H30+K30+N30+Q30+T30+W30+Z30+AC30","v":0},{"$f":"I30+L30+O30+R30+U30+X30+AA30+AD30","v":0},{"$f":"J30+M30+P30+S30+V30+Y30+AB30+AE30","v":0}]
[null,"   Losses and reversal of losses on onerous contracts - subsequent measurement",{"$f":"SUM(H31:AC31)","v":0},0,{"$f":"I31+L31+O31+R31+U31+X31+AA31+AD31","v":0},0]
[]
[null,"TOTAL DIRECT BUSINESS INSURANCE SERVICE EXPENSE UNDER PAA",{"$f":"C29+C25+C15","v":0},{"$f":"D29+D25+D15","v":0},0,{"$f":"F29+F25+F15","v":0},null,{"$f":"H15+H25+H29","v":0},{"$f":"I15+I25+I29","v":0},0,0,0,0,0,0,0,0,0,0,0,0,0,0,0,0,0,0,0,0,0,{"$f":"AE15+AE25+AE29","v":0}]
[]
[]
[null,"REINSURANCE INWARDS"]
[]
[null,"Description ","Total","TOTAL GENERAL INSURANCE BUSINESS",null,null,null,"Motor",null,null,"Accident &Health",null,null,"Engineering",null,null,"Liability",null,null,"Property",null,null,"Transport",null,null,"Guarantee",null,null,"Miscellaneous"]
[null,null,null,"Related business","Unrelated business","Business from Insurable interest ",null,"Related business","Unrelated business other than Long Term Insurance Business","Business from Insurable interest other than LTI","Related business","Unrelated business other than Long Term Insurance Business","Business from Insurable interest other than LTI","Related business","Unrelated business other than Long Term Insurance Business","Business from Insurable interest other than LTI","Related business","Unrelated business other than Long Term Insurance Business","Business from Insurable interest other than LTI","Related business","Unrelated business other than Long Term Insurance Business","Business from Insurable interest other than LTI","Related business","Unrelated business other than Long Term Insurance Business","Business from Insurable interest other than LTI","Related business","Unrelated business other than Long Term Insurance Business","Business from Insurable interest other than LTI","Related business","Unrelated business other than Long Term Insurance Business","Business from Insurable interest other than LTI"]
[null,null,{"$f":"Specifications!$C$22","v":"Rs."},{"$f":"Specifications!$C$22","v":"Rs."},{"$f":"Specifications!$C$22","v":"Rs."},{"$f":"Specifications!$C$22","v":"Rs."},null,{"$f":"Specifications!$C$22","v":"Rs."},{"$f":"Specifications!$C$22","v":"Rs."},{"$f":"Specifications!$C$22","v":"Rs."},{"$f":"Specifications!$C$22","v":"Rs."},{"$f":"Specifications!$C$22","v":"Rs."},{"$f":"Specifications!$C$22","v":"Rs."},{"$f":"Specifications!$C$22","v":"Rs."},{"$f":"Specifications!$C$22","v":"Rs."},{"$f":"Specifications!$C$22","v":"Rs."},{"$f":"Specifications!$C$22","v":"Rs."},{"$f":"Specifications!$C$22","v":"Rs."},{"$f":"Specifications!$C$22","v":"Rs."},{"$f":"Specifications!$C$22","v":"Rs."},{"$f":"Specifications!$C$22","v":"Rs."},{"$f":"Specifications!$C$22","v":"Rs."},{"$f":"Specifications!$C$22","v":"Rs."},{"$f":"Specifications!$C$22","v":"Rs."},{"$f":"Specifications!$C$22","v":"Rs."},{"$f":"Specifications!$C$22","v":"Rs."},{"$f":"Specifications!$C$22","v":"Rs."},{"$f":"Specifications!$C$22","v":"Rs."},{"$f":"Specifications!$C$22","v":"Rs."},{"$f":"Specifications!$C$22","v":"Rs."},{"$f":"Specifications!$C$22","v":"Rs."}]
[null,"Incurred insurance service expenses",{"$f":"SUM(C42:C49)","v":0},{"$f":"SUM(D42:D49)","v":0},0,{"$f":"SUM(F42:F49)","v":0},null,{"$f":"SUM(H42:H49)","v":0},{"$f":"SUM(I42:I49)","v":0},0,0,0,0,0,0,0,0,0,0,0,0,0,0,0,0,0,0,0,0,0,{"$f":"SUM(AE42:AE49)","v":0}]
[null,"   Incurred claims ",{"$f":"SUM(H42:AC42)","v":0},{"$f":"H42+K42+N42+Q42+T42+W42+Z42+AC42","v":0},{"$f":"I42+L42+O42+R42+U42+X42+AA42+AD42","v":0},0]
[null,"   Expenses",0,0,0,0]
[null,"   Other expenses ",0,0,0,0]
[null,"   Other movements related to current service",0,0,0,0]
[null,"Insurance acquisition cash flows expensed when incurred",{"$f":"SUM(H46:AC46)","v":0},{"$f":"H46+K46+N46+Q46+T46+W46+Z46+AC46","v":0},{"$f":"I46+L46+O46+R46+U46+X46+AA46+AD46","v":0},{"$f":"J46+M46+P46+S46+V46+Y46+AB46+AE46","v":0}]
[null,"Amortisation of insurance acquisition cash flows",0,0,0,0]
[null,"Impairment Loss on Assets for Insurance Acquisition Cash Flow ",0,0,0,0]
[null,"Reversal of Impairment Loss on Assets for Insurance Acquisition Cash Flow",0,0,0,0]
[]
[null,"Changes that relate to past service",{"$f":"SUM(C52:C53)","v":0},{"$f":"SUM(D52:D53)","v":0},0,0,null,{"$f":"SUM(H52:H53)","v":0},{"$f":"SUM(I52:I53)","v":0},0,0,0,0,0,0,0,0,0,0,0,0,0,0,0,0,0,0,0,0,0,{"$f":"SUM(AE52:AE53)","v":0}]
[null,"   Changes in estimates in LIC fulfilment cash flows",{"$f":"SUM(H52:AC52)","v":0},{"$f":"H52+K52+N52+Q52+T52+W52+Z52+AC52","v":0},{"$f":"I52+L52+O52+R52+U52+X52+AA52+AD52","v":0},{"$f":"J52+M52+P52+S52+V52+Y52+AB52+AE52","v":0}]
[null,"   Experience adjustments in claims and other insurance service expenses in LIC",0,0,0,0]
[]
[null,"Changes that relate to future service",{"$f":"SUM(C56:C57)","v":0},{"$f":"SUM(D56:D57)","v":0},0,0,null,{"$f":"SUM(H56:H57)","v":0},{"$f":"SUM(I56:I57)","v":0},0,0,0,0,0,0,0,0,0,0,0,0,0,0,0,0,0,0,0,0,0,{"$f":"SUM(AE56:AE57)","v":0}]
[null,"   Losses for the net outflow recognized on initial recognition",{"$f":"SUM(H56:AC56)","v":0},{"$f":"H56+K56+N56+Q56+T56+W56+Z56+AC56","v":0},{"$f":"I56+L56+O56+R56+U56+X56+AA56+AD56","v":0},{"$f":"J56+M56+P56+S56+V56+Y56+AB56+AE56","v":0}]
[null,"   Losses and reversal of losses on onerous contracts - subsequent measurement",0,0,0,0]
[]
[null,"TOTAL REINSURANCE INWARDS SERVICE EXPENSE UNDER PAA",{"$f":"C55+C51+C41","v":0},{"$f":"D55+D51+D41","v":0},0,{"$f":"F55+F51+F41","v":0},null,{"$f":"H41+H51+++H55","v":0},{"$f":"I41+I51+++I55","v":0},0,0,0,0,0,0,0,0,0,0,0,0,0,0,0,0,0,0,0,0,0,{"$f":"AE41+AE51+++AE55","v":0}]
[]
[null,"TOTAL INSURANCE SERVICE EXPENSE UNDER PAA",{"$f":"C59+C33","v":0},{"$f":"D59+D33","v":0},{"$f":"E59+E33","v":0},{"$f":"F59+F33","v":0},null,{"$f":"H59+H33","v":0},{"$f":"I59+I33","v":0},0,0,0,0,0,0,0,0,0,0,0,0,0,0,0,0,0,0,0,0,0,{"$f":"AE59+AE33","v":0}]

{"sheet":"I5","index":52,"n_rows":31,"n_cols":4,"rows_kept":31,"cut":false,"hidden":false,"merged":[[2,1,2,3],[6,2,6,3],[7,2,7,3],[11,1,13,1],[11,2,12,2],[11,3,12,3]]}
[]
[]
[null,"FORM I5: NET EXPENSES FROM REINSURANCE CONTRACTS"]
[]
[]
[]
[null,"NAME OF CAPTIVE INSURER",{"$f":"Specifications!C6","v":0}]
[null,"YEAR ENDED",{"$f":"Specifications!C21","v":"00:00:00"}]
[]
[]
[null,"NET EXPENSES FROM REINSURANCE CONTRACTS"]
[null,null,"Current \nYear","Previous \nYear"]
[]
[null,null,{"$f":"Specifications!$C$22","v":"Rs."},{"$f":"Specifications!$C$22","v":"Rs."}]
[null,"Allocation of the premiums paid"]
[]
[null,"Amounts recovered from reinsurance",{"$f":"C18+C22+C25","v":0},{"$f":"D18+D22+D25","v":0}]
[null,"     Incurred insurance service expenses",{"$f":"SUM(C19:C21)","v":0},{"$f":"SUM(D19:D21)","v":0}]
[null,"        Claims"]
[null,"        Expenses"]
[null,"        Other movements related to current service"]
[null,"     Changes that relate to past service (changes in fulfilment cash flows re LIC)",{"$f":"SUM(C23:C24)","v":0},{"$f":"SUM(D23:D24)","v":0}]
[null,"        Changes in estimates in LIC fulfilment cash flows"]
[null,"        Experience adjustments in claims and other insurance service expenses in LIC "]
[null,"     Changes that relate to future service",{"$f":"C26+C27","v":0},{"$f":"D26+D27","v":0}]
[null,"        Loss recovery related to losses on underlying insurance contracts at initial recognition"]
[null,"        Loss recovery and reversals of recoveries related to underlying insurance contracts losses - subsequent measurement"]
[]
[null,"Changes in Risk of Non-Performance"]
[]
[null,"TOTAL NET EXPENSES FROM REINSURANCE CONTRACTS",{"$f":"C17+C15+C29","v":0},{"$f":"D17+D15+D29","v":0}]

{"sheet":"I6","index":53,"n_rows":30,"n_cols":37,"rows_kept":30,"cut":false,"hidden":false,"merged":[[2,1,2,36],[10,3,10,5],[10,6,11,6],[10,23,10,25],[10,26,10,28],[10,29,10,31],[10,33,10,36],[10,8,10,10],[10,11,10,13],[10,14,10,16],[10,17,10,19],[10,20,10,22],[5,2,5,4],[6,2,6,4],[10,1,12,1],[10,2,11,2]]}
[]
[]
[null,"FORM I6: FINANCE INCOME/(EXPENSES) FOR INSURANCE CONTRACTS ISSUED"]
[]
[]
[null,"NAME OF CAPTIVE INSURER",{"$f":"Specifications!C6","v":0}]
[null,"YEAR ENDED",{"$f":"Specifications!C21","v":"00:00:00"}]
[]
[null,"AMOUNT RECOGNISED IN PROFIT AND LOSS"]
[]
[null,"Description ","Total","TOTAL GENERAL INSURANCE BUSINESS",null,null,"TOTAL LONG TERM INSURANCE BUSINESS",null,"Motor",null,null,"Accident &Health",null,null,"Engineering",null,null,"Liability",null,null,"Property",null,null,"Transport",null,null,"Guarantee",null,null,"Miscellaneous",null,null,null,"LONG TERM INSURANCE"]
[null,null,null,"Related business","Unrelated business other than Long Term Insurance Business","Business from Insurable interest other than LTI",null,null,"Related business","Unrelated business other than Long Term Insurance Business","Business from Insurable interest other than LTI","Related business","Unrelated business other than Long Term Insurance Business","Business from Insurable interest other than LTI","Related business","Unrelated business other than Long Term Insurance Business","Business from Insurable interest other than LTI","Related business","Unrelated business other than Long Term Insurance Business","Business from Insurable interest other than LTI","Related business","Unrelated business other than Long Term Insurance Business","Business from Insurable interest other than LTI","Related business","Unrelated business other than Long Term Insurance Business","Business from Insurable interest other than LTI","Related business","Unrelated business other than Long Term Insurance Business","Business from Insurable interest other than LTI","Related business","Unrelated business other than Long Term Insurance Business","Business from Insurable interest other than LTI",null,"Linked Long-Term Insurance","Permanent Health Insurance","Life Insurance","Pension"]
[null,null,{"$f":"Specifications!$C$22","v":"Rs."},{"$f":"Specifications!$C$22","v":"Rs."},{"$f":"Specifications!$C$22","v":"Rs."},{"$f":"Specifications!$C$22","v":"Rs."},{"$f":"Specifications!$C$22","v":"Rs."},null,{"$f":"Specifications!$C$22","v":"Rs."},{"$f":"Specifications!$C$22","v":"Rs."},{"$f":"Specifications!$C$22","v":"Rs."},{"$f":"Specifications!$C$22","v":"Rs."},{"$f":"Specifications!$C$22","v":"Rs."},{"$f":"Specifications!$C$22","v":"Rs."},{"$f":"Specifications!$C$22","v":"Rs."},{"$f":"Specifications!$C$22","v":"Rs."},{"$f":"Specifications!$C$22","v":"Rs."},{"$f":"Specifications!$C$22","v":"Rs."},{"$f":"Specifications!$C$22","v":"Rs."},{"$f":"Specifications!$C$22","v":"Rs."},{"$f":"Specifications!$C$22","v":"Rs."},{"$f":"Specifications!$C$22","v":"Rs."},{"$f":"Specifications!$C$22","v":"Rs."},{"$f":"Specifications!$C$22","v":"Rs."},{"$f":"Specifications!$C$22","v":"Rs."},{"$f":"Specifications!$C$22","v":"Rs."},{"$f":"Specifications!$C$22","v":"Rs."},{"$f":"Specifications!$C$22","v":"Rs."},{"$f":"Specifications!$C$22","v":"Rs."},{"$f":"Specifications!$C$22","v":"Rs."},{"$f":"Specifications!$C$22","v":"Rs."},{"$f":"Specifications!$C$22","v":"Rs."},null,{"$f":"Specifications!$C$22","v":"Rs."},{"$f":"Specifications!$C$22","v":"Rs."},{"$f":"Specifications!$C$22","v":"Rs."},{"$f":"Specifications!$C$22","v":"Rs."}]
[null,"Interest accreted on the carrying amount of the Contractual Service Margin",{"$f":"SUM(I14:AD14)","v":0},{"$f":"I14+L14+O14+R14+U14+X14+AA14+AD14","v":0},{"$f":"J14+M14+P14+S14+V14+Y14+AB14+AE14","v":0},{"$f":"K14+N14+Q14+T14+W14+Z14+AC14+AF14","v":0},{"$f":"SUM(AH14:AK14)","v":0}]
[null,"Interest accreted on present value cash flows",{"$f":"SUM(I15:AD15)","v":0},{"$f":"I15+L15+O15+R15+U15+X15+AA15+AD15","v":0},{"$f":"J15+M15+P15+S15+V15+Y15+AB15+AE15","v":0},{"$f":"K15+N15+Q15+T15+W15+Z15+AC15+AF15","v":0},{"$f":"SUM(AH15:AK15)","v":0}]
[null,"Interest accreted on risk adjustment",0,0,0,0,0]
[null,"Interest accreted on LRC for contracts measured under the PAA.",0,0,0,0,0]
[null,"The effect of financial risk and changes in financial risk",0,0,0,0,0]
[null,"Foreign exchange differences on changes in the carrying amount of groups of insurance contracts",0,0,0,0,0]
[]
[null,"Total amount recognised in profit and loss",{"$f":"SUM(C14:C19)","v":0},{"$f":"SUM(D14:D19)","v":0},{"$f":"SUM(E14:E19)","v":0},{"$f":"SUM(F14:F19)","v":0},{"$f":"SUM(G14:G19)","v":0},null,{"$f":"SUM(I14:I19)","v":0},{"$f":"SUM(J14:J19)","v":0},0,0,0,0,0,0,0,0,0,0,0,0,0,0,0,0,0,0,0,0,0,0,null,{"$f":"SUM(AH14:AH19)","v":0},{"$f":"SUM(AI14:AI19)","v":0},{"$f":"SUM(AJ14:AJ19)","v":0},{"$f":"SUM(AK14:AK19)","v":0}]
[]
[null,"AMOUNT RECOGNISED IN OTHER COMPREHENSIVE INCOME"]
[]
[null,"The effect of financial risk and changes in financial risk",{"$f":"SUM(I25:AD25)","v":0},{"$f":"I25+L25+O25+R25+U25+X25+AA25+AD25","v":0},{"$f":"J25+M25+P25+S25+V25+Y25+AB25+AE25","v":0},{"$f":"K25+N25+Q25+T25+W25+Z25+AC25+AF25","v":0},{"$f":"SUM(AH25:AK25)","v":0}]
[null,"Foreign exchange differences on changes in the carrying amount of groups of insurance contracts",{"$f":"SUM(I26:AD26)","v":0},{"$f":"I26+L26+O26+R26+U26+X26+AA26+AD26","v":0},0,0,{"$f":"SUM(AH26:AK26)","v":0}]
[]
[null,"Total amount recognised in other comprehensive income",{"$f":"SUM(C25:C26)","v":0},0,0,0,0,null,0,0,0,0,0,0,0,0,0,0,0,0,0,0,0,0,0,0,0,0,0,0,0,0,null,{"$f":"SUM(AH25:AH26)","v":0},0,0,0]
[]
[null,"TOTAL FINANCE INCOME/(EXPENSES) FOR INSURANCE CONTACTS ISSUED ",{"$f":"C21+C28","v":0},0,0,0,0,null,0,0,0,0,0,0,0,0,0,0,0,0,0,0,0,0,0,0,0,0,0,0,{"$f":"AE21+AE28","v":0},0,null,{"$f":"AH21+AH28","v":0},0,0,0]

{"sheet":"I7","index":54,"n_rows":33,"n_cols":37,"rows_kept":33,"cut":false,"hidden":false,"merged":[[2,1,2,36],[13,3,13,5],[13,6,14,6],[13,23,13,25],[13,26,13,28],[13,29,13,31],[13,33,13,36],[13,8,13,10],[13,11,13,13],[13,14,13,16],[13,17,13,19],[13,20,13,22],[5,2,5,4],[6,2,6,4],[13,1,15,1],[13,2,14,2]]}
[]
[]
[null,"FORM I7: FINANCE INCOME/(EXPENSES) FOR REINSURANCE CONTRACTS HELD"]
[]
[]
[null,"NAME OF CAPTIVE INSURER",{"$f":"Specifications!C6","v":0}]
[null,"YEAR ENDED",{"$f":"Specifications!C21","v":"00:00:00"}]
[]
[]
[]
[]
[null,"AMOUNT RECOGNISED IN PROFIT AND LOSS"]
[]
[null,"Description ","Total","TOTAL GENERAL INSURANCE BUSINESS",null,null,"TOTAL LONG TERM INSURANCE BUSINESS",null,"Motor",null,null,"Accident &Health",null,null,"Engineering",null,null,"Liability",null,null,"Property",null,null,"Transport",null,null,"Guarantee",null,null,"Miscellaneous",null,null,null,"LONG TERM INSURANCE"]
[null,null,null,"Related business","Unrelated business other than Long Term Insurance Business","Business from Insurable interest other than LTI",null,null,"Related business","Unrelated business other than Long Term Insurance Business","Business from Insurable interest other than LTI","Related business","Unrelated business other than Long Term Insurance Business","Business from Insurable interest other than LTI","Related business","Unrelated business other than Long Term Insurance Business","Business from Insurable interest other than LTI","Related business","Unrelated business other than Long Term Insurance Business","Business from Insurable interest other than LTI","Related business","Unrelated business other than Long Term Insurance Business","Business from Insurable interest other than LTI","Related business","Unrelated business other than Long Term Insurance Business","Business from Insurable interest other than LTI","Related business","Unrelated business other than Long Term Insurance Business","Business from Insurable interest other than LTI","Related business","Unrelated business other than Long Term Insurance Business","Business from Insurable interest other than LTI",null,"Linked Long-Term Insurance","Permanent Health Insurance","Life Insurance","Pension"]
[null,null,{"$f":"Specifications!$C$22","v":"Rs."},{"$f":"Specifications!$C$22","v":"Rs."},{"$f":"Specifications!$C$22","v":"Rs."},{"$f":"Specifications!$C$22","v":"Rs."},{"$f":"Specifications!$C$22","v":"Rs."},null,{"$f":"Specifications!$C$22","v":"Rs."},{"$f":"Specifications!$C$22","v":"Rs."},{"$f":"Specifications!$C$22","v":"Rs."},{"$f":"Specifications!$C$22","v":"Rs."},{"$f":"Specifications!$C$22","v":"Rs."},{"$f":"Specifications!$C$22","v":"Rs."},{"$f":"Specifications!$C$22","v":"Rs."},{"$f":"Specifications!$C$22","v":"Rs."},{"$f":"Specifications!$C$22","v":"Rs."},{"$f":"Specifications!$C$22","v":"Rs."},{"$f":"Specifications!$C$22","v":"Rs."},{"$f":"Specifications!$C$22","v":"Rs."},{"$f":"Specifications!$C$22","v":"Rs."},{"$f":"Specifications!$C$22","v":"Rs."},{"$f":"Specifications!$C$22","v":"Rs."},{"$f":"Specifications!$C$22","v":"Rs."},{"$f":"Specifications!$C$22","v":"Rs."},{"$f":"Specifications!$C$22","v":"Rs."},{"$f":"Specifications!$C$22","v":"Rs."},{"$f":"Specifications!$C$22","v":"Rs."},{"$f":"Specifications!$C$22","v":"Rs."},{"$f":"Specifications!$C$22","v":"Rs."},{"$f":"Specifications!$C$22","v":"Rs."},{"$f":"Specifications!$C$22","v":"Rs."},null,{"$f":"Specifications!$C$22","v":"Rs."},{"$f":"Specifications!$C$22","v":"Rs."},{"$f":"Specifications!$C$22","v":"Rs."},{"$f":"Specifications!$C$22","v":"Rs."}]
[null,"Interest accreted on the carrying amount of the Contractual Service Margin",{"$f":"SUM(I17:AD17)","v":0},{"$f":"I17+L17+O17+R17+U17+X17+AA17+AD17","v":0},{"$f":"J17+M17+P17+S17+V17+Y17+AB17+AE17","v":0},0,{"$f":"SUM(AH17:AK17)","v":0}]
[null,"Interest accreted on present value cash flows",{"$f":"SUM(I18:AD18)","v":0},{"$f":"I18+L18+O18+R18+U18+X18+AA18+AD18","v":0},{"$f":"J18+M18+P18+S18+V18+Y18+AB18+AE18","v":0},{"$f":"K18+N18+Q18+T18+W18+Z18+AC18+AF18","v":0},{"$f":"SUM(AH18:AK18)","v":0}]
[null,"Interest accreted on risk adjustment",0,0,0,0,0]
[null,"Interest accreted on LRC for contracts measured under the PAA.",0,0,0,0,0]
[null,"The effect of financial risk and changes in financial risk",0,0,0,0,0]
[null,"Foreign exchange differences on changes in the carrying amount of groups of reinsurance contracts",{"$f":"SUM(I22:AD22)","v":0},{"$f":"I22+L22+O22+R22+U22+X22+AA22+AD22","v":0},0,0,{"$f":"SUM(AH22:AK22)","v":0}]
[]
[null,"Total amount recognised in profit and loss",{"$f":"SUM(C17:C22)","v":0},{"$f":"SUM(D17:D22)","v":0},{"$f":"SUM(E17:E22)","v":0},{"$f":"SUM(F17:F22)","v":0},{"$f":"SUM(G17:G22)","v":0},null,{"$f":"SUM(I17:I22)","v":0},0,0,0,0,0,0,0,0,0,0,0,0,0,0,0,0,0,0,0,0,0,0,0,null,{"$f":"SUM(AH17:AH22)","v":0},{"$f":"SUM(AI17:AI22)","v":0},{"$f":"SUM(AJ17:AJ22)","v":0},{"$f":"SUM(AK17:AK22)","v":0}]
[]
[null,"AMOUNT RECOGNISED IN OTHER COMPREHENSIVE INCOME"]
[]
[null,"The effect of financial risk and changes in financial risk",{"$f":"SUM(I28:AD28)","v":0},{"$f":"I28+L28+O28+R28+U28+X28+AA28+AD28","v":0},{"$f":"J28+M28+P28+S28+V28+Y28+AB28+AE28","v":0},{"$f":"K28+N28+Q28+T28+W28+Z28+AC28+AF28","v":0},{"$f":"SUM(AH28:AK28)","v":0}]
[null,"Foreign exchange differences on changes in the carrying amount of groups of reinsurance contracts held",{"$f":"SUM(I29:AD29)","v":0},0,0,0,0]
[]
[null,"Total amount recognised in other comprehensive income",{"$f":"SUM(C28:C29)","v":0},0,0,0,0,null,0,0,0,0,0,0,0,0,0,0,0,0,0,0,0,0,0,0,0,0,0,0,0,0,null,{"$f":"SUM(AH28:AH29)","v":0},0,0,0]
[]
[null,"TOTAL FINANCE INCOME/(EXPENSES) FOR REINSURANCE CONTRACTS HELD",{"$f":"SUM(C24,C31)","v":0},{"$f":"SUM(D24,D31)","v":0},0,0,0,null,{"$f":"SUM(I24,I31)","v":0},0,0,0,0,0,0,0,0,0,0,0,0,0,0,0,0,0,0,0,0,0,0,0,null,{"$f":"SUM(AH24,AH31)","v":0},0,0,0]

{"sheet":"I8","index":55,"n_rows":77,"n_cols":18,"rows_kept":77,"cut":false,"hidden":false,"merged":[[2,1,2,17],[20,14,20,17],[9,14,9,17],[9,5,9,12],[20,5,20,12],[10,1,10,3],[5,2,5,3],[6,2,6,3]]}
[]
[]
[null,"FORM I8: REINSURANCE CEDED"]
[]
[]
[null,"NAME OF CAPTIVE INSURER",{"$f":"Specifications!C6","v":0}]
[null,"YEAR ENDED",{"$f":"Specifications!C21","v":"00:00:00"}]
[]
[]
[null,null,null,null,null,"GENERAL INSURANCE BUSINESS CLASSES",null,null,null,null,null,null,null,null,"LONG TERM INSURANCE CLASSES"]
[null,null,null,null,null,"Motor","Accident & \nHealth","Engineering","Liability","Property","Transport","Guarantee","Miscellaneous",null,"Linked Long-Term Insurance","Permanent Health Insurance","Life Insurance","Pension"]
[null,null,null,null,null,{"$f":"Specifications!$C$22","v":"Rs."},{"$f":"Specifications!$C$22","v":"Rs."},{"$f":"Specifications!$C$22","v":"Rs."},{"$f":"Specifications!$C$22","v":"Rs."},{"$f":"Specifications!$C$22","v":"Rs."},{"$f":"Specifications!$C$22","v":"Rs."},{"$f":"Specifications!$C$22","v":"Rs."},{"$f":"Specifications!$C$22","v":"Rs."},null,{"$f":"Specifications!$C$22","v":"Rs."},{"$f":"Specifications!$C$22","v":"Rs."},{"$f":"Specifications!$C$22","v":"Rs."},{"$f":"Specifications!$C$22","v":"Rs."}]
[]
[null,"Gross premium"]
[]
[null,"Total Reinsurance ceded - Acceptable Rating",null,null,null,{"$f":"SUMIFS(F$23:F78, $E$23:$E78, \"Acceptable\")","v":0},{"$f":"SUMIFS(G$23:G78, $E$23:$E78, \"Acceptable\")","v":0},{"$f":"SUMIFS(H$23:H78, $E$23:$E78, \"Acceptable\")","v":0},{"$f":"SUMIFS(I$23:I78, $E$23:$E78, \"Acceptable\")","v":0},{"$f":"SUMIFS(J$23:J78, $E$23:$E78, \"Acceptable\")","v":0},{"$f":"SUMIFS(K$23:K78, $E$23:$E78, \"Acceptable\")","v":0},{"$f":"SUMIFS(L$23:L78, $E$23:$E78, \"Acceptable\")","v":0},{"$f":"SUMIFS(M$23:M78, $E$23:$E78, \"Acceptable\")","v":0},null,{"$f":"SUMIFS(O$23:O78, $E$23:$E78, \"Acceptable\")","v":0},{"$f":"SUMIFS(P$23:P78, $E$23:$E78, \"Acceptable\")","v":0},{"$f":"SUMIFS(Q$23:Q78, $E$23:$E78, \"Acceptable\")","v":0},{"$f":"SUMIFS(R$23:R78, $E$23:$E78, \"Acceptable\")","v":0}]
[null,"Total Reinsurance ceded - Unacceptable Rating",null,null,null,{"$f":"SUMIFS(F$23:F78, $E$23:$E78, \"Unacceptable\")","v":0},{"$f":"SUMIFS(G$23:G78, $E$23:$E78, \"Unacceptable\")","v":0},{"$f":"SUMIFS(H$23:H78, $E$23:$E78, \"Unacceptable\")","v":0},{"$f":"SUMIFS(I$23:I78, $E$23:$E78, \"Unacceptable\")","v":0},{"$f":"SUMIFS(J$23:J78, $E$23:$E78, \"Unacceptable\")","v":0},{"$f":"SUMIFS(K$23:K78, $E$23:$E78, \"Unacceptable\")","v":0},{"$f":"SUMIFS(L$23:L78, $E$23:$E78, \"Unacceptable\")","v":0},{"$f":"SUMIFS(M$23:M78, $E$23:$E78, \"Unacceptable\")","v":0},null,{"$f":"SUMIFS(O$23:O78, $E$23:$E78, \"Unacceptable\")","v":0},{"$f":"SUMIFS(P$23:P78, $E$23:$E78, \"Unacceptable\")","v":0},{"$f":"SUMIFS(Q$23:Q78, $E$23:$E78, \"Unacceptable\")","v":0},{"$f":"SUMIFS(R$23:R78, $E$23:$E78, \"Unacceptable\")","v":0}]
[]
[null,"TOTAL REINSURANCE CEDED",null,null,null,{"$f":"SUM(F23:F80)","v":0},0,0,0,0,0,0,0,null,{"$f":"SUM(O23:O80)","v":0},{"$f":"SUM(P23:P80)","v":0},{"$f":"SUM(Q23:Q80)","v":0},{"$f":"SUM(R23:R80)","v":0}]
[]
[null,null,null,null,null,"Reinsurance Ceded",null,null,null,null,null,null,null,null,"Reinsurance Ceded"]
[null,"Reinsurer","Agency","Rating","Rate"]
[null,null,null,null,{"$f":"IFERROR(INDEX(Dev!I:I, MATCH(C23&D23, Dev!H:H, 0)), 0)","v":0}]
[null,null,null,null,{"$f":"IFERROR(INDEX(Dev!I:I, MATCH(C24&D24, Dev!H:H, 0)), 0)","v":0}]
[null,null,null,null,{"$f":"IFERROR(INDEX(Dev!I:I, MATCH(C25&D25, Dev!H:H, 0)), 0)","v":0}]
[null,null,null,null,{"$f":"IFERROR(INDEX(Dev!I:I, MATCH(C26&D26, Dev!H:H, 0)), 0)","v":0}]
[null,null,null,null,{"$f":"IFERROR(INDEX(Dev!I:I, MATCH(C27&D27, Dev!H:H, 0)), 0)","v":0}]
[null,null,null,null,{"$f":"IFERROR(INDEX(Dev!I:I, MATCH(C28&D28, Dev!H:H, 0)), 0)","v":0}]
[null,null,null,null,{"$f":"IFERROR(INDEX(Dev!I:I, MATCH(C29&D29, Dev!H:H, 0)), 0)","v":0}]
[null,null,null,null,{"$f":"IFERROR(INDEX(Dev!I:I, MATCH(C30&D30, Dev!H:H, 0)), 0)","v":0}]
[null,null,null,null,{"$f":"IFERROR(INDEX(Dev!I:I, MATCH(C31&D31, Dev!H:H, 0)), 0)","v":0}]
[null,null,null,null,{"$f":"IFERROR(INDEX(Dev!I:I, MATCH(C32&D32, Dev!H:H, 0)), 0)","v":0}]
[null,null,null,null,{"$f":"IFERROR(INDEX(Dev!I:I, MATCH(C33&D33, Dev!H:H, 0)), 0)","v":0}]
[null,null,null,null,{"$f":"IFERROR(INDEX(Dev!I:I, MATCH(C34&D34, Dev!H:H, 0)), 0)","v":0}]
[null,null,null,null,{"$f":"IFERROR(INDEX(Dev!I:I, MATCH(C35&D35, Dev!H:H, 0)), 0)","v":0}]
[null,null,null,null,{"$f":"IFERROR(INDEX(Dev!I:I, MATCH(C36&D36, Dev!H:H, 0)), 0)","v":0}]
[null,null,null,null,{"$f":"IFERROR(INDEX(Dev!I:I, MATCH(C37&D37, Dev!H:H, 0)), 0)","v":0}]
[null,null,null,null,{"$f":"IFERROR(INDEX(Dev!I:I, MATCH(C38&D38, Dev!H:H, 0)), 0)","v":0}]
[null,null,null,null,{"$f":"IFERROR(INDEX(Dev!I:I, MATCH(C39&D39, Dev!H:H, 0)), 0)","v":0}]
[null,null,null,null,{"$f":"IFERROR(INDEX(Dev!I:I, MATCH(C40&D40, Dev!H:H, 0)), 0)","v":0}]
[null,null,null,null,{"$f":"IFERROR(INDEX(Dev!I:I, MATCH(C41&D41, Dev!H:H, 0)), 0)","v":0}]
[null,null,null,null,{"$f":"IFERROR(INDEX(Dev!I:I, MATCH(C42&D42, Dev!H:H, 0)), 0)","v":0}]
[null,null,null,null,{"$f":"IFERROR(INDEX(Dev!I:I, MATCH(C43&D43, Dev!H:H, 0)), 0)","v":0}]
[null,null,null,null,{"$f":"IFERROR(INDEX(Dev!I:I, MATCH(C44&D44, Dev!H:H, 0)), 0)","v":0}]
[null,null,null,null,{"$f":"IFERROR(INDEX(Dev!I:I, MATCH(C45&D45, Dev!H:H, 0)), 0)","v":0}]
[null,null,null,null,{"$f":"IFERROR(INDEX(Dev!I:I, MATCH(C46&D46, Dev!H:H, 0)), 0)","v":0}]
[null,null,null,null,{"$f":"IFERROR(INDEX(Dev!I:I, MATCH(C47&D47, Dev!H:H, 0)), 0)","v":0}]
[null,null,null,null,{"$f":"IFERROR(INDEX(Dev!I:I, MATCH(C48&D48, Dev!H:H, 0)), 0)","v":0}]
[null,null,null,null,{"$f":"IFERROR(INDEX(Dev!I:I, MATCH(C49&D49, Dev!H:H, 0)), 0)","v":0}]
[null,null,null,null,{"$f":"IFERROR(INDEX(Dev!I:I, MATCH(C50&D50, Dev!H:H, 0)), 0)","v":0}]
[null,null,null,null,{"$f":"IFERROR(INDEX(Dev!I:I, MATCH(C51&D51, Dev!H:H, 0)), 0)","v":0}]
[null,null,null,null,{"$f":"IFERROR(INDEX(Dev!I:I, MATCH(C52&D52, Dev!H:H, 0)), 0)","v":0}]
[null,null,null,null,{"$f":"IFERROR(INDEX(Dev!I:I, MATCH(C53&D53, Dev!H:H, 0)), 0)","v":0}]
[null,null,null,null,{"$f":"IFERROR(INDEX(Dev!I:I, MATCH(C54&D54, Dev!H:H, 0)), 0)","v":0}]
[null,null,null,null,{"$f":"IFERROR(INDEX(Dev!I:I, MATCH(C55&D55, Dev!H:H, 0)), 0)","v":0}]
[null,null,null,null,{"$f":"IFERROR(INDEX(Dev!I:I, MATCH(C56&D56, Dev!H:H, 0)), 0)","v":0}]
[null,null,null,null,{"$f":"IFERROR(INDEX(Dev!I:I, MATCH(C57&D57, Dev!H:H, 0)), 0)","v":0}]
[null,null,null,null,{"$f":"IFERROR(INDEX(Dev!I:I, MATCH(C58&D58, Dev!H:H, 0)), 0)","v":0}]
[null,null,null,null,{"$f":"IFERROR(INDEX(Dev!I:I, MATCH(C59&D59, Dev!H:H, 0)), 0)","v":0}]
[null,null,null,null,{"$f":"IFERROR(INDEX(Dev!I:I, MATCH(C60&D60, Dev!H:H, 0)), 0)","v":0}]
[null,null,null,null,{"$f":"IFERROR(INDEX(Dev!I:I, MATCH(C61&D61, Dev!H:H, 0)), 0)","v":0}]
[null,null,null,null,{"$f":"IFERROR(INDEX(Dev!I:I, MATCH(C62&D62, Dev!H:H, 0)), 0)","v":0}]
[null,null,null,null,{"$f":"IFERROR(INDEX(Dev!I:I, MATCH(C63&D63, Dev!H:H, 0)), 0)","v":0}]
[null,null,null,null,{"$f":"IFERROR(INDEX(Dev!I:I, MATCH(C64&D64, Dev!H:H, 0)), 0)","v":0}]
[null,null,null,null,{"$f":"IFERROR(INDEX(Dev!I:I, MATCH(C65&D65, Dev!H:H, 0)), 0)","v":0}]
[null,null,null,null,{"$f":"IFERROR(INDEX(Dev!I:I, MATCH(C66&D66, Dev!H:H, 0)), 0)","v":0}]
[null,null,null,null,{"$f":"IFERROR(INDEX(Dev!I:I, MATCH(C67&D67, Dev!H:H, 0)), 0)","v":0}]
[null,null,null,null,{"$f":"IFERROR(INDEX(Dev!I:I, MATCH(C68&D68, Dev!H:H, 0)), 0)","v":0}]
[null,null,null,null,{"$f":"IFERROR(INDEX(Dev!I:I, MATCH(C69&D69, Dev!H:H, 0)), 0)","v":0}]
[null,null,null,null,{"$f":"IFERROR(INDEX(Dev!I:I, MATCH(C70&D70, Dev!H:H, 0)), 0)","v":0}]
[null,null,null,null,{"$f":"IFERROR(INDEX(Dev!I:I, MATCH(C71&D71, Dev!H:H, 0)), 0)","v":0}]
[null,null,null,null,{"$f":"IFERROR(INDEX(Dev!I:I, MATCH(C72&D72, Dev!H:H, 0)), 0)","v":0}]
[null,null,null,null,{"$f":"IFERROR(INDEX(Dev!I:I, MATCH(C73&D73, Dev!H:H, 0)), 0)","v":0}]
[null,null,null,null,{"$f":"IFERROR(INDEX(Dev!I:I, MATCH(C74&D74, Dev!H:H, 0)), 0)","v":0}]
[null,null,null,null,{"$f":"IFERROR(INDEX(Dev!I:I, MATCH(C75&D75, Dev!H:H, 0)), 0)","v":0}]
[null,null,null,null,{"$f":"IFERROR(INDEX(Dev!I:I, MATCH(C76&D76, Dev!H:H, 0)), 0)","v":0}]
[null,null,null,null,{"$f":"IFERROR(INDEX(Dev!I:I, MATCH(C77&D77, Dev!H:H, 0)), 0)","v":0}]

{"sheet":"I9","index":56,"n_rows":26,"n_cols":15,"rows_kept":26,"cut":false,"hidden":false,"merged":[[8,2,8,7],[8,8,8,13],[8,14,9,14],[2,1,2,14],[5,2,5,4],[6,2,6,4]]}
[]
[]
[null,"FORM I9: NET EXPENSES FROM REINSURANCE"]
[]
[]
[null,"NAME OF CAPTIVE INSURER",{"$f":"Specifications!C6","v":0}]
[null,"YEAR ENDED",{"$f":"Specifications!C21","v":"00:00:00"}]
[]
[null,null,"Allocation of reinsurance premiums",null,null,null,null,null,"Amounts recoverable from reinsurers for incurred claims",null,null,null,null,null,"Effect of changes in non-performance risk of reinsurers"]
[null,"Classes of Insurance","Quota Share","Surplus","Excess of Loss","Stop Loss","Facultative","Total","Quota Share","Surplus","Excess of Loss","Stop Loss","Facultative","Total"]
[null,null,{"$f":"Specifications!$C$22","v":"Rs."},{"$f":"Specifications!$C$22","v":"Rs."},{"$f":"Specifications!$C$22","v":"Rs."},{"$f":"Specifications!$C$22","v":"Rs."},{"$f":"Specifications!$C$22","v":"Rs."},{"$f":"Specifications!$C$22","v":"Rs."},{"$f":"Specifications!$C$22","v":"Rs."},{"$f":"Specifications!$C$22","v":"Rs."},{"$f":"Specifications!$C$22","v":"Rs."},{"$f":"Specifications!$C$22","v":"Rs."},{"$f":"Specifications!$C$22","v":"Rs."},{"$f":"Specifications!$C$22","v":"Rs."},{"$f":"Specifications!$C$22","v":"Rs."}]
[null,"Motor",null,null,null,null,null,{"$f":"SUM(C12:G12)","v":0},null,null,null,null,null,{"$f":"SUM(I12:M12)","v":0}]
[null,"Accident & \nHealth",null,null,null,null,null,{"$f":"SUM(C13:G13)","v":0},null,null,null,null,null,{"$f":"SUM(I13:M13)","v":0}]
[null,"Engineering",null,null,null,null,null,0,null,null,null,null,null,0]
[null,"Liability",null,null,null,null,null,0,null,null,null,null,null,0]
[null,"Property",null,null,null,null,null,0,null,null,null,null,null,0]
[null,"Transport",null,null,null,null,null,0,null,null,null,null,null,0]
[null,"Guarantee",null,null,null,null,null,0,null,null,null,null,null,0]
[null,"Miscellaneous",null,null,null,null,null,0,null,null,null,null,null,0]
[]
[null,"Linked Long-Term Insurance",null,null,null,null,null,{"$f":"SUM(C21:G21)","v":0},null,null,null,null,null,{"$f":"SUM(I21:M21)","v":0}]
[null,"Permanent Health Insurance",null,null,null,null,null,0,null,null,null,null,null,0]
[null,"Life Insurance",null,null,null,null,null,0,null,null,null,null,null,0]
[null,"Pension",null,null,null,null,null,0,null,null,null,null,null,0]
[]
[null,"Total",{"$f":"SUM(C12:C24)","v":0},{"$f":"SUM(D12:D24)","v":0},0,0,0,0,0,0,0,0,0,0,0]

{"sheet":"PL0","index":57,"n_rows":52,"n_cols":5,"rows_kept":52,"cut":false,"hidden":false,"merged":[[2,1,2,4],[5,3,5,4],[8,2,9,2]]}
[]
[]
[null,"FORM PL0: STATEMENT OF PROFIT AND LOSS"]
[]
[]
[null,"NAME OF CAPTIVE INSURER",null,{"$f":"Specifications!C6","v":0}]
[null,"YEAR ENDED",null,{"$f":"Specifications!C21","v":"00:00:00"},{"$f":"Specifications!C21-365","v":-365}]
[]
[null,null,"Links","Current Year","Previous Year"]
[null,null,null,{"$f":"Specifications!$C$22","v":"Rs."},{"$f":"Specifications!$C$22","v":"Rs."}]
[null,"Total insurance revenue",null,{"$f":"SUM(D13:D17)","v":0},{"$f":"SUM(E13:E17)","v":0}]
[null,"Direct"]
[null,"    Revenue from BBA contracts",{"$f":"HYPERLINK(\"#'I1'!A1\", \"I1\")","v":"I1"},{"$f":"'I1'!C22","v":0}]
[null,"    Revenue from PAA contracts",{"$f":"HYPERLINK(\"#'I2'!A1\", \"I2\")","v":"I2"},{"$f":"'I2'!C15","v":0}]
[null,"Reinsurance Inwards"]
[null,"    Revenue from BBA contracts",{"$f":"HYPERLINK(\"#'I1'!A1\", \"I1\")","v":"I1"},{"$f":"'I1'!C38","v":0}]
[null,"    Revenue from PAA contracts",{"$f":"HYPERLINK(\"#'I2'!A1\", \"I2\")","v":"I2"},{"$f":"'I2'!C27","v":0}]
[]
[null,"Insurance service expenses",null,{"$f":"SUM(D21:D25)","v":0},{"$f":"SUM(E21:E25)","v":0}]
[null,"Direct"]
[null,"    Service expense from BBA contracts",{"$f":"HYPERLINK(\"#'I3'!A1\", \"I3\")","v":"I3"},{"$f":"'I3'!C33","v":0}]
[null,"    Service expense from PAA contracts",{"$f":"HYPERLINK(\"#'I4'!A1\", \"I4\")","v":"I4"},{"$f":"'I4'!C33","v":0}]
[null,"Reinsurance Inwards"]
[null,"    Service expense from BBA contracts",{"$f":"HYPERLINK(\"#'I3'!A1\", \"I3\")","v":"I3"},{"$f":"'I3'!C59","v":0}]
[null,"    Service expense from PAA contracts",{"$f":"HYPERLINK(\"#'I4'!A1\", \"I4\")","v":"I4"},{"$f":"'I4'!C59","v":0}]
[]
[null,"Insurance Service Result Before Reinsurance Contracts Held ",{"$f":"HYPERLINK(\"#'I0'!A1\", \"I0\")","v":"I0"},{"$f":"I0!D31","v":0},{"$f":"E11-E19","v":0}]
[]
[null,"Net income/(expenses) from reinsurance contracts held ",{"$f":"HYPERLINK(\"#'I0'!A1\", \"I0\")","v":"I0"},{"$f":"I0!D37","v":0}]
[]
[null,"Insurance service result ",{"$f":"HYPERLINK(\"#'I0'!A1\", \"I0\")","v":"I0"},{"$f":"I0!D39","v":0},{"$f":"SUM(E27:E29)","v":0}]
[]
[null,"Net Insurance Financial Result",{"$f":"HYPERLINK(\"#'I0'!A1\", \"I0\")","v":"I0"},{"$f":"I0!D44","v":0}]
[]
[null,"Other income"]
[null,"Non-attributable expenses",{"$f":"HYPERLINK(\"#'PL1'!A1\", \"PL1\")","v":"PL1"},{"$f":"'PL1'!C92","v":0}]
[]
[null,"Net Insurance Profit/(loss) before taxation ",null,{"$f":"D33+D35-D36","v":0},{"$f":"E33+E35-E36","v":0}]
[]
[null,"Taxation"]
[]
[null,"Net profit after tax",null,{"$f":"D38-D40","v":0},{"$f":"E38-E40","v":0}]
[]
[null,"Investment Income",{"$f":"HYPERLINK(\"#'PL2'!A1\", \"PL2\")","v":"PL2"},{"$f":"'PL2'!C50","v":0},{"$f":"'PL2'!D50","v":0}]
[null,"Total Other Comprehensive Income",{"$f":"HYPERLINK(\"#'PL3'!A1\", \"PL3\")","v":"PL3"},{"$f":"'PL3'!C42","v":0}]
[]
[null,"Total Comprehensive Income",null,{"$f":"SUM(D42:D45)","v":0},{"$f":"SUM(E42:E45)","v":0}]
[]
[null,"Transfer to Reserves"]
[null,"Dividends"]
[]
[null,"Retained profit",null,{"$f":"D47-D49-D50","v":0},{"$f":"E47-E49-E50","v":0}]

{"sheet":"PL1","index":58,"n_rows":92,"n_cols":17,"rows_kept":92,"cut":false,"hidden":false,"merged":[[2,1,2,16],[9,4,9,11],[9,13,9,16]]}
[]
[]
[null,"FORM PL1: NON ATTRIBUTABLE EXPENSES"]
[]
[]
[null,"NAME OF CAPTIVE INSURER",{"$f":"Specifications!C6","v":0}]
[null,"YEAR ENDED",{"$f":"Specifications!C21","v":"00:00:00"}]
[]
[]
[null,null,null,null,"GENERAL INSURANCE",null,null,null,null,null,null,null,null,"LONG TERM INSURANCE"]
[null,"NON ATTRIBUTABLE EXPENSES","TOTAL",null,"Motor","Accident &\nHealth","Engineering","Liability","Property","Transport","Guarantee","Miscellaneous",null,"Linked Long-Term Insurance","Permanent Health Insurance","Life Insurance","Pension"]
[null,null,{"$f":"Specifications!$C$22","v":"Rs."},null,{"$f":"Specifications!$C$22","v":"Rs."},{"$f":"Specifications!$C$22","v":"Rs."},{"$f":"Specifications!$C$22","v":"Rs."},{"$f":"Specifications!$C$22","v":"Rs."},{"$f":"Specifications!$C$22","v":"Rs."},{"$f":"Specifications!$C$22","v":"Rs."},{"$f":"Specifications!$C$22","v":"Rs."},{"$f":"Specifications!$C$22","v":"Rs."},null,{"$f":"Specifications!$C$22","v":"Rs."},{"$f":"Specifications!$C$22","v":"Rs."},{"$f":"Specifications!$C$22","v":"Rs."},{"$f":"Specifications!$C$22","v":"Rs."}]
[null,"Salaries and employee benefits",{"$f":"SUM(E13:L13)+SUM(N13:Q13)","v":0}]
[null,"Directors salaries, fees and benefits",{"$f":"SUM(E14:L14)+SUM(N14:Q14)","v":0}]
[null,"Audit fees",0]
[null,"Legal fees",0]
[null,"Actuarial fees",0]
[null,"Survey fees",0]
[null,"Marketing expenses",{"$f":"SUM(E19:L19)+SUM(N19:Q19)","v":0}]
[null,"Repairs & Maintenance",0]
[null,"Printing & stationery",0]
[null,"Travelling expenses",0]
[null,"Entertainment",0]
[null,"Provision for bad/doubtful debts",0]
[null,"Bad debts written off",0]
[null,"Other (please specify)",0]
[null,"Other (please specify)",0]
[null,"Other (please specify)",0]
[null,"Other (please specify)",0]
[null,"Other (please specify)",0]
[null,"Other (please specify)",0]
[null,"Other (please specify)",0]
[null,"Other (please specify)",0]
[null,"Other (please specify)",0]
[null,"Other (please specify)",0]
[null,"Other (please specify)",0]
[null,"Other (please specify)",0]
[null,"Other (please specify)",0]
[null,"Other (please specify)",0]
[null,"Other (please specify)",0]
[null,"Other (please specify)",0]
[null,"Other (please specify)",0]
[null,"Other (please specify)",0]
[null,"Other (please specify)",0]
[null,"Other (please specify)",0]
[null,"Other (please specify)",0]
[null,"Other (please specify)",0]
[null,"Other (please specify)",0]
[null,"Other (please specify)",0]
[null,"Other (please specify)",0]
[null,"Other (please specify)",0]
[null,"Other (please specify)",0]
[null,"Other (please specify)",0]
[null,"Other (please specify)",0]
[null,"Other (please specify)",0]
[null,"Other (please specify)",0]
[null,"Other (please specify)",0]
[null,"Other (please specify)",0]
[null,"Other (please specify)",0]
[null,"Other (please specify)",0]
[null,"Other (please specify)",0]
[null,"Other (please specify)",0]
[null,"Other (please specify)",0]
[null,"Other (please specify)",0]
[null,"Other (please specify)",0]
[null,"Other (please specify)",0]
[null,"Other (please specify)",0]
[null,"Other (please specify)",0]
[null,"Other (please specify)",0]
[null,"Other (please specify)",0]
[null,"Other (please specify)",0]
[null,"Other (please specify)",0]
[null,"Other (please specify)",0]
[null,"Other (please specify)",0]
[null,"Other (please specify)",0]
[null,"Other (please specify)",0]
[null,"Other (please specify)",0]
[null,"Other (please specify)",{"$f":"SUM(E78:L78)+SUM(N78:Q78)","v":0}]
[null,"Other (please specify)",0]
[null,"Other (please specify)",0]
[null,"Other (please specify)",0]
[null,"Other (please specify)",0]
[null,"Other (please specify)",0]
[null,"Other (please specify)",0]
[null,"Other (please specify)",0]
[null,"Other (please specify)",0]
[null,"Other (please specify)",0]
[null,"Other (please specify)",0]
[null,"Other (please specify)",0]
[null,"Other (please specify)",{"$f":"SUM(E90:L90)+SUM(N90:Q90)","v":0}]
[]
[null,"Total non attributable expenses",{"$f":"SUM(C13:C90)","v":0},null,{"$f":"SUM(E13:E91)","v":0},{"$f":"SUM(F13:F91)","v":0},{"$f":"SUM(G13:G91)","v":0},0,0,0,0,0,null,{"$f":"SUM(N13:N91)","v":0},{"$f":"SUM(O13:O91)","v":0},{"$f":"SUM(P13:P91)","v":0},{"$f":"SUM(Q13:Q91)","v":0}]

{"sheet":"PL2","index":59,"n_rows":50,"n_cols":4,"rows_kept":50,"cut":false,"hidden":false,"merged":[[2,1,2,3],[5,2,5,3],[9,1,10,1]]}
[]
[]
[null,"FORM PL2: INVESTMENT INCOME"]
[]
[]
[null,"NAME OF CAPTIVE INSURER",{"$f":"Specifications!C6","v":0}]
[null,"YEAR ENDED",{"$f":"Specifications!C21","v":"00:00:00"},{"$f":"Specifications!C21-365","v":-365}]
[]
[]
[null,null,"Current \nYear","Previous \nyear"]
[null,null,{"$f":"Specifications!$C$22","v":"Rs."},{"$f":"Specifications!$C$22","v":"Rs."}]
[null,"Net Investment Income: "]
[null,"Realized Gains (Losses) on Sale"]
[null,"Bonds"]
[null,"Mortgage Loans"]
[null,"Preferred & Common Shares"]
[null,"Investment Properties"]
[null,"Income from Derivative Activities"]
[null,"Others"]
[]
[null,"Total Realized Gains (Losses) on Sale",{"$f":"SUM(C14:C19)","v":0},{"$f":"SUM(D14:D19)","v":0}]
[]
[null,"Fair Value Gains (Losses)"]
[null,"Bonds"]
[null,"Mortgage Loans"]
[null,"Preferred & Common Shares"]
[null,"Investment Properties"]
[null,"Income from Derivative Activities"]
[null,"Others"]
[]
[null,"Total Fair Value Gains (Losses)",{"$f":"SUM(C24:C29)","v":0},{"$f":"SUM(D24:D29)","v":0}]
[]
[null,"Dividends"]
[null,"Coupons"]
[null,"Interest income"]
[null,"Rental Income including captive insurer's own use rental income"]
[null,"Other Investment Income from Derivative Assets"]
[null,"Income from Other Invested Assets"]
[]
[null,"Gross Investment Income",{"$f":"SUM(C33:C38)+C31+C21","v":0},{"$f":"SUM(D33:D38)+D31+D21","v":0}]
[]
[null,"Less"]
[null,"Investment Expenses (other than Investment Taxes)"]
[null,"Investment Taxes"]
[]
[null,"Net Investment Income",{"$f":"C40-SUM(C43:C44)","v":0},{"$f":"D40-SUM(D43:D44)","v":0}]
[]
[null,"Allowances for expected credit losses"]
[]
[null,"INVESTMENT INCOME",{"$f":"C46-C48","v":0},{"$f":"D46-D48","v":0}]

{"sheet":"PL3","index":60,"n_rows":42,"n_cols":3,"rows_kept":42,"cut":false,"hidden":false,"merged":[[2,1,2,2]]}
[]
[]
[null,"FORM PL3: OTHER COMPREHENSIVE INCOME"]
[]
[]
[null,"NAME OF CAPTIVE INSURER",{"$f":"Specifications!C6","v":0}]
[null,"YEAR ENDED",{"$f":"Specifications!C21","v":"00:00:00"}]
[]
[]
[null,null,"Amount"]
[null,null,{"$f":"Specifications!$C$22","v":"Rs."}]
[null,"Profit for the year",{"$f":"PL0!D42","v":0}]
[]
[null,"Other comprehensive income"]
[]
[null,"Items to be classified to profit or loss in subsequent periods:"]
[null,"Exchange rate differences on translation of foreign operations"]
[null,"Cash flow hedges"]
[null,"Increase/(decrease) arising on revaluation of financial \nassets at fair value through other comprehensive income"]
[]
[null,"Net other comprehensive income to be reclassified to profit and loss in subsequent periods: ",{"$f":"SUM(C17:C19)","v":0}]
[]
[null,"Items that will not be reclassified to profit or loss in \nsubsequent periods:"]
[null,"Increase/(Decrease) arising on revaluation of financial assets at fair value through other comprehensive income"]
[null,"Income tax effect"]
[]
[null,"Re-measurement gains/(losses) on defined benefit plans"]
[null,"Income tax effect"]
[]
[null,"Revaluation of land and buildings"]
[]
[null,"Net other comprehensive not to be reclassified to profit or loss in subsequent periods",{"$f":"SUM(C24:C30)","v":0}]
[]
[null,"Other comprehensive income relating to insurance contracts:"]
[null,"Finance income/(expense) from insurance contracts",{"$f":"'I6'!C28","v":0}]
[null,"Finance income/(expense) from reinsurance contracts",{"$f":"'I7'!C31","v":0}]
[]
[null,"Direct participating features"]
[]
[null,"Net other comprehensive income relating to insurance contracts",{"$f":"SUM(C35:C36,C38)","v":0}]
[]
[null,"OTHER COMPREHENSIVE INCOME FOR THE PERIOD, NET OF TAX",{"$f":"C40+C32+C21","v":0}]

{"sheet":"Capital requirements>>>","index":61,"n_rows":0,"n_cols":0,"rows_kept":0,"cut":false,"hidden":false,"merged":[]}

{"sheet":"C0","index":62,"n_rows":35,"n_cols":6,"rows_kept":35,"cut":false,"hidden":false,"merged":[[2,1,2,3]]}
[]
[]
[null,"FORM C0: CAPITAL REQUIREMENT"]
[]
[]
[null,"NAME OF CAPTIVE INSURER",null,{"$f":"Specifications!$C$6","v":0}]
[null,"YEAR ENDED",null,{"$f":"Specifications!$C$21","v":"00:00:00"}]
[]
[]
[null,null,null,"Total"]
[null,"Capital Available","Links",{"$f":"Specifications!$C$22","v":"Rs."}]
[null,"Equity ",{"$f":"HYPERLINK(\"#'L0'!A1\", \"L0\")","v":"L0"},{"$f":"L0!D19","v":0}]
[null,"Contractual Service Margin"]
[null,"Impaired/ not accepted Capital"]
[]
[null,"Total Capital Available ",null,{"$f":"D12+D13-D14","v":0},null,{"$f":"IF(D16>'C1'!C13,1,0)","v":0}]
[]
[null,"Capital Required",null,{"$f":"Specifications!$C$22","v":"Rs."}]
[null,"Asset Capital",{"$f":"HYPERLINK(\"#'C2'!A1\", \"C2\")","v":"C2"},{"$f":"'C2'!E94","v":0}]
[null,"Underwriting Capital",{"$f":"HYPERLINK(\"#'C3'!A1\", \"C3\")","v":"C3"},{"$f":"'C3'!C32","v":0}]
[null,"CAR for Long Term Insurance",{"$f":"HYPERLINK(\"#'C4'!A1\", \"C4\")","v":"C4"},{"$f":"'C4'!L44","v":0}]
[]
[null,"Minimum Capital Requirement",{"$f":"HYPERLINK(\"#'C1'!A1\", \"C1\")","v":"C1"},{"$f":"MAX('C1'!$C$13,SUM(D19:D21))","v":5000000}]
[]
[null,"Excess Capital Available over Minimum Capital Requirement",null,{"$f":"D16-D23","v":-5000000},null,{"$f":"IF(D25>0,1,0)","v":0}]
[]
[null,"Excess of cash required",{"$f":"HYPERLINK(\"#'C1'!A1\", \"C1\")","v":"C1"},{"$f":"'C1'!C44","v":-2000000},null,{"$f":"IF(D25>0,1,0)","v":0}]
[]
[null,"Excess of minimum unimpaired paid up capital",{"$f":"HYPERLINK(\"#'C1'!A1\", \"C1\")","v":"C1"},{"$f":"'C1'!C14-'C1'!C13","v":-5000000},null,{"$f":"IF(D29>0,1,0)","v":0}]
[]
[null,"Capital Available as a % of Minimum Capital Requirement",null,{"$f":"IFERROR(D16/D23, 0)","v":0},null,{"$f":"IF(D31>1,1,0)","v":0}]
[]
[null,"Target Level",null,{"$f":"D23*150%","v":7500000}]
[]
[null,null,null,{"$f":"IF(PRODUCT(F17,F25,F27,F29,F31)=1, \"Correct\",\"Breached\")","v":"Breached"}]

{"sheet":"C1","index":63,"n_rows":46,"n_cols":3,"rows_kept":46,"cut":false,"hidden":false,"merged":[[2,1,2,2]]}
[]
[]
[null,"FORM C1 : CAPITAL REQUIREMENT - EQUITY"]
[]
[]
[null,"NAME OF CAPTIVE INSURER",{"$f":"Specifications!C6","v":0}]
[null,"YEAR ENDED",{"$f":"Specifications!C21","v":"00:00:00"}]
[]
[]
[null,"EQUITY"]
[]
[null,"EQUITY","Total Amount"]
[null,"Required minimum unimpaired paid up capital",{"$f":"_xlfn.SWITCH(Specifications!$C$22,\"Rs.\", 5000000, \"$\", 5000000/Disclosure!C29, \"€\", 5000000/Disclosure!C30)","v":5000000}]
[null,"Unimpaired paid up capital"]
[]
[null,"Shares issued and paid up",{"$f":"L0!D14","v":0}]
[null,"Share Premium ",{"$f":"L0!D15","v":0}]
[null,"Retained Earnings ",{"$f":"L0!D16","v":0}]
[null,"Reserves ",{"$f":"L0!D17","v":0}]
[null,"Other (please specify)",{"$f":"SUM(C21:C31)","v":0}]
[]
[]
[]
[]
[]
[]
[]
[]
[]
[]
[]
[]
[null,"TOTAL EQUITY",{"$f":"SUM(C16:C20)","v":0}]
[]
[null,"RULE 11"]
[]
[null,null,"Total Amount"]
[null,"Cash and Cash at Bank"]
[null,"Bank Deposits"]
[]
[null,"Less:"]
[null,"Minimum Cash and Cash Equivalent as per First Schedule",{"$f":"C13*40%","v":2000000}]
[]
[null,"Excess of Cash ",{"$f":"C38+C39-C42","v":-2000000}]
[]
[null,"Subordinated Loan ",{"$f":"'L6'!D12+'L6'!E12","v":0}]

{"sheet":"C2","index":64,"n_rows":94,"n_cols":16,"rows_kept":94,"cut":false,"hidden":false,"merged":[[2,1,2,4],[5,3,5,4],[6,3,6,4],[93,1,93,2],[8,1,9,1],[8,2,9,2]]}
[]
[]
[null,"FORM C2:  CAPITAL REQUIREMENT - ASSET CAPITAL"]
[]
[]
[null,"NAME OF CAPTIVE INSURER",null,{"$f":"Specifications!C6","v":0}]
[null,"YEAR ENDED",null,{"$f":"Specifications!C21","v":"00:00:00"}]
[]
[null,null,"Capital factors","Value","Capital Required",null,null,null,null,null,"Property, Plant and Equipment Owned",null,null,"    Treasury Bills","17%? Short term and liquid`","Govt bonds"]
[null,null,null,{"$f":"Specifications!$C$22","v":"Rs."},{"$f":"Specifications!$C$22","v":"Rs."},null,null,null,null,null,"Goodwill",null,null,"    Cash at bank"]
[null,"Freehold Land and Building ",0.08,null,{"$f":"D11*C11","v":0},"f",null,null,null,null,"Other Intangible Assets",null,null,"    Other short term investments",17,"In other"]
[null,"Plant and Equipment",0.17,null,{"$f":"D12*C12","v":0},"i",null,null,null,null,"Right-of-use assets",0,null,"Deposits, Bonds and Debentures"]
[null,"Goodwill",1,null,{"$f":"D13*C13","v":0},"g",null,null,null,null,"Investment in Related Companies",null,null,"Term deposits"]
[null,"Other Intangible Assets",1,null,{"$f":"D14*C14","v":0},"g",null,null,null,null,"Investment Property",null,null,"   Government"]
[null,"Investment Property",0.08,null,{"$f":"D15*C15","v":0},"f",null,null,null,null,"Financial Investments",null,null,"   Corporate"]
[null,null,null,null,null,null,null,null,null,null,"Financial Instrument Derivatives Assets",0.17,null,"Bonds"]
[null,"Financial Investments",null,null,null,null,null,null,null,null,"Current Tax Assets",0,null,"   Government"]
[null,null,null,null,null,null,null,null,null,null,"Deferred Tax Assets",0,null,"   Corporate"]
[null,"Investment in Related Companies",0.08,null,{"$f":"D19*C19","v":0},"e",null,null,null,null,"Asset for Insurance Acquisition Cash Flows",0,null,"Debentures","Do Bonds already capture this?","To remove "]
[null,null,null,null,null,null,null,null,null,null,"Other Receivables ",null,null,"   Government"]
[null,"Equity securities",null,null,null,null,null,null,null,null,"Prepayments and Accrued Income",0,null,"   Corporate"]
[null,"Listed",0.08,null,{"$f":"D22*C22","v":0},"f",null,null,null,null,"Insurance Contract Assets",0,null,"Structured notes",17]
[null,"Unlisted",0.17,null,{"$f":"D23*C23","v":0},"i",null,null,null,null,"Reinsurance Contract Assets",0,null,"Collateralised securities","asset backed"]
[null,null,null,null,null,null,null,null,null,null,"Retirement Benefit Asset",0,null,"Equity securities"]
[null,"Term Deposits and Bonds",null,null,null,null,null,null,null,null,"Cash and Cash Equivalents",null,null,"   Common shares"]
[null,"Government and Semi-Government Bonds",0.01,null,{"$f":"D26*C26","v":0},"b",null,null,null,null,"Assets Held For Sale",0.17,null,"   Preference shares"]
[null,"Corporate Bonds with acceptable ratings",0.06,null,{"$f":"D27*C27","v":0},"d",null,null,null,null,"Assets Encumbered",0.17,null,"Loans and mortgages","Other loans includes loans and mortgages?"]
[null,"Corporate Bonds with unacceptable ratings or Unrated",0.08,null,{"$f":"D28*C28","v":0},"f",null,null,null,null,"Other assets",null,null,"Collective investment vehicles"]
[null,"Other",0.17,null,{"$f":"D29*C29","v":0},"i",null,null,null,null,null,null,null,"Commodities","Commodity backed, not asset backed",17]
[]
[]
[null,"Loans"]
[null,"Loans to Related Companies approved by the FSC",0.08,null,{"$f":"D33*C33","v":0},"e"]
[null,"Loans to Related Companies not approved by the FSC",1,null,{"$f":"D34*C34","v":0},"h"]
[null,"Other",0.17,null,{"$f":"D35*C35","v":0},"i"]
[]
[null,"Receivables"]
[null,"Outstanding Less than 12 months"]
[null,"   Related Companies",0,null,{"$f":"D39*C39","v":0},"a"]
[null,"   Other",0,null,{"$f":"D40*C40","v":0},"a"]
[null,"Outstanding 12 months or more"]
[null,"   Related Companies",0.06,null,{"$f":"D42*C42","v":0},"d"]
[null,"   Other",0.06,null,{"$f":"D43*C43","v":0},"d"]
[]
[null,"Reinsurance Recoveries"]
[null,"Amounts Recoverable from Incurred Claims"]
[null,"   Outstanding less than 12 months ",0,null,{"$f":"D47*C47","v":0},"a"]
[null,"   Outstanding 12 months or more ",0.03,null,{"$f":"D48*C48","v":0},"c"]
[null,"Asset for Remaining Coverage",0,null,{"$f":"D49*C49","v":0}]
[]
[null,"Cash, Cash at Bank and Deposits"]
[null,"Cash and Cash at Bank","0%",null,{"$f":"D52*C52","v":0},"a"]
[null,"Deposits with term less than 12 months","0%",null,{"$f":"D53*C53","v":0},"a"]
[null,"Deposits with term equal to 12 months or more",0.03,null,{"$f":"D54*C54","v":0},"c"]
[]
[null,"Other Assets "]
[null,"Collective Investment Vehicles",0.01,null,{"$f":"D57*$C57","v":0},"b"]
[null,"Bond Funds with acceptable ratings",0.06,null,0,"d"]
[null,"Bond Funds below acceptable ratings or unrated",0.08,null,0,"f"]
[null,"Asset-backed securities with acceptable ratings",0.06,null,0,"d"]
[null,"Asset-backed securities below acceptable ratings or unrated",0.08,null,0,"f"]
[null,"Structured notes",0.17,null,0,"i"]
[null,"Commodities",0.17,null,0,"i"]
[null,"Assets held for sale",0.17,null,0,"i"]
[null,"Assets Encumbered",0.17,null,0,"i"]
[null,"Retirement Benefit Asset",0.17,null,0,"i"]
[null,"Other",0.17,{"$f":"SUM(D68:D84)","v":0},{"$f":"D67*C67","v":0},"i"]
[]
[]
[]
[]
[]
[]
[]
[]
[]
[]
[]
[]
[]
[]
[]
[]
[]
[null,"Other Assets with 0% capital requirement",0,{"$f":"SUM(D86:D92)","v":0},{"$f":"D85*C85","v":0},"i"]
[null,"Right-of-use assets",0,null,null,"i"]
[null,"Insurance contract assets",0]
[null,"Asset for Remaining Coverage",0]
[null,"Current Tax Assets",0,null,null,"i"]
[null,"Deferred Tax Assets",0,null,null,"i"]
[null,"Prepayments and Accrued Income",0,null,null,"i"]
[null,"Asset for Insurance Acquisition Cash Flows",0,null,null,"i"]
[]
[null,"TOTAL ASSETS",null,{"$f":"SUM(D11:D67)+D85","v":0},{"$f":"SUM(E11:F67)+E85","v":0}]

{"sheet":"C3","index":65,"n_rows":32,"n_cols":3,"rows_kept":32,"cut":false,"hidden":false,"merged":[[2,1,2,2]]}
[]
[]
[null,"FORM C3 : CAPITAL REQUIREMENT - UNDERWRITING CAPITAL"]
[]
[]
[null,"NAME OF CAPTIVE INSURER",{"$f":"Specifications!$C$6","v":0}]
[null,"YEAR ENDED",{"$f":"Specifications!$C$21","v":"00:00:00"}]
[]
[]
[]
[null,"UNDERWRITING CAPITAL","Total Amount"]
[null,"Gross Written Premium"]
[null,"Earned Premium"]
[null,"Max of Gross Written Premium and Earned Premium",{"$f":"MAX(C12:C13)","v":0}]
[]
[null,"Less:"]
[null,"Reinsurance Ceded, with acceptable rated Reinsurers",{"$f":"SUM('I8'!F16:R16)","v":0}]
[]
[null,"Balance",{"$f":"C14-C17","v":0}]
[]
[null,"Last 3 years' yearly average incurred service expense excluding acquisition cashflows"]
[null,"Last 3 years' yearly average outstanding claims and IBNR"]
[null,"Max of the averages",{"$f":"MAX(C21:C22)","v":0}]
[]
[null,"Less:"]
[null,"Recoveries from Reinsurers with acceptable ratings"]
[]
[null,"Balance",{"$f":"C23-C26","v":0}]
[]
[null,"Maximum of the 2 balances",{"$f":"MAX(C19,C28)","v":0}]
[]
[null,"Capital Required",{"$f":"C30*10%","v":0}]

{"sheet":"C4","index":66,"n_rows":44,"n_cols":12,"rows_kept":44,"cut":false,"hidden":false,"merged":[[2,1,2,11],[5,2,5,4],[6,2,6,4]]}
[]
[]
[null,"FORM C4: CAPITAL REQUIREMENT - CAR FOR LONG TERM INSURANCE BUSINESS"]
[]
[]
[null,"NAME OF CAPTIVE INSURER",{"$f":"Specifications!$C$6","v":0}]
[null,"YEAR ENDED",{"$f":"Specifications!$C$21","v":"00:00:00"}]
[]
[null,"CAPITAL ADEQUACY REQUIREMENTS"]
[]
[null,null,"Life Assurance\nParticipating","Life Assurance\nNon- Participating","Non administered Pension Business Participating","Non administered Pension Business\nNon Participating","PHI\nParticipating","PHI\nNon Participating","LLTI","Structured Investment-Linked Insurance","Other","Total"]
[null,null,{"$f":"Specifications!$C$22","v":"Rs."},{"$f":"Specifications!$C$22","v":"Rs."},{"$f":"Specifications!$C$22","v":"Rs."},{"$f":"Specifications!$C$22","v":"Rs."},{"$f":"Specifications!$C$22","v":"Rs."},{"$f":"Specifications!$C$22","v":"Rs."},{"$f":"Specifications!$C$22","v":"Rs."},{"$f":"Specifications!$C$22","v":"Rs."},{"$f":"Specifications!$C$22","v":"Rs."},{"$f":"Specifications!$C$22","v":"Rs."}]
[null,"Lapse CAR",null,null,null,null,null,null,null,null,null,{"$f":"SUM(C13:K13)","v":0}]
[null,"Surrender CAR",null,null,null,null,null,null,null,null,null,0]
[null,"TCAR",{"$f":"SUM(C13:C14)","v":0},{"$f":"SUM(D13:D14)","v":0},0,0,0,0,0,0,0,0]
[]
[null,"Lapse Risk",null,null,null,null,null,null,null,null,null,0]
[null,"Surrender Risk",null,null,null,null,null,null,null,null,null,0]
[null,"Mortality Risk",null,null,null,null,null,null,null,null,null,0]
[null,"Morbidity Risk",null,null,null,null,null,null,null,null,null,0]
[null,"Medical fluctuation",null,null,null,null,null,null,null,null,null,0]
[null,"Annuitant mortality fluctuation",null,null,null,null,null,null,null,null,null,0]
[null,"Mortality, morbidity and medical assumptions risk",null,null,null,null,null,null,null,null,null,0]
[null,"Expense fluctuation risk",null,null,null,null,null,null,null,null,null,0]
[null,"Expense assumption risk",null,null,null,null,null,null,null,null,null,0]
[null,"Investment Risk:",{"$f":"MAX(C27:C28)","v":0},{"$f":"MAX(D27:D28)","v":0},0,0,0,0,0,0,0,0]
[null,"     Resilience capital Adequacy requirement",null,null,null,null,null,null,null,null,null,0]
[null,"     Worse investment return capital adequacy requirement",null,null,null,null,null,null,null,null,null,0]
[null,"Foreign exchange risk",null,null,null,null,null,null,null,null,null,0]
[null,"Understatement of Liabilities",null,null,null,null,null,null,null,null,null,0]
[null,"Other",null,null,null,null,null,null,null,null,null,0]
[]
[null,"IOCAR",{"$f":"((C17^2+C18^2+C19^2+C20^2+C21^2+C22^2+C23^2+C24^2+C25^2+C26^2+C29^2)^(0.5))+C30+C31","v":0},0,0,0,0,0,0,0,0]
[]
[null,"Investment adjustment factor"]
[]
[null,"OCAR",{"$f":"C33*C35","v":0},{"$f":"D33*D35","v":0},0,0,0,0,0,0,0,{"$f":"L33*L35","v":0}]
[]
[null,"Minimum capital"]
[null,"13 weeks operation expenses"]
[]
[null,"MCAR",{"$f":"MAX(C39:C40)","v":0},{"$f":"MAX(D39:D40)","v":0},0,0,0,0,0,0,0,0]
[]
[null,"CAR",{"$f":"MAX(C42,C37,C15)","v":0},0,0,0,0,0,0,0,0,0]

{"sheet":"Reporting >>>","index":67,"n_rows":0,"n_cols":0,"rows_kept":0,"cut":false,"hidden":false,"merged":[]}

{"sheet":"R1","index":68,"n_rows":16,"n_cols":37,"rows_kept":16,"cut":false,"hidden":false,"merged":[[5,2,5,3],[9,1,11,1],[9,2,10,2],[9,3,9,5],[2,1,2,36],[9,6,10,6],[9,8,9,10],[9,11,9,13],[9,14,9,16],[9,17,9,19],[9,20,9,22],[9,23,9,25],[9,26,9,28],[9,29,9,31],[9,33,9,36]]}
[]
[]
[null,"FORM R1: COMMISSIONS"]
[]
[]
[null,"NAME OF CAPTIVE INSURER",{"$f":"Specifications!C6","v":0}]
[null,"YEAR ENDED",{"$f":"Specifications!C21","v":"00:00:00"},{"$f":"Specifications!C21-365","v":-365}]
[]
[]
[null,"Description ","Total","TOTAL GENERAL INSURANCE BUSINESS",null,null,"TOTAL LONG TERM INSURANCE BUSINESS",null,"Motor",null,null,"Accident &Health",null,null,"Engineering",null,null,"Liability",null,null,"Property",null,null,"Transport",null,null,"Guarantee",null,null,"Miscellaneous",null,null,null,"LONG TERM INSURANCE"]
[null,null,null,"Related business","Unrelated business other than Long Term Insurance Business","Business from Insurable interest other than LTI",null,null,"Related business","Unrelated business other than Long Term Insurance Business","Business from Insurable interest other than LTI","Related business","Unrelated business other than Long Term Insurance Business","Business from Insurable interest other than LTI","Related business","Unrelated business other than Long Term Insurance Business","Business from Insurable interest other than LTI","Related business","Unrelated business other than Long Term Insurance Business","Business from Insurable interest other than LTI","Related business","Unrelated business other than Long Term Insurance Business","Business from Insurable interest other than LTI","Related business","Unrelated business other than Long Term Insurance Business","Business from Insurable interest other than LTI","Related business","Unrelated business other than Long Term Insurance Business","Business from Insurable interest other than LTI","Related business","Unrelated business other than Long Term Insurance Business","Business from Insurable interest other than LTI",null,"Linked Long-Term Insurance","Permanent Health Insurance","Life Insurance","Pension"]
[null,null,{"$f":"Specifications!$C$22","v":"Rs."},{"$f":"Specifications!$C$22","v":"Rs."},{"$f":"Specifications!$C$22","v":"Rs."},{"$f":"Specifications!$C$22","v":"Rs."},{"$f":"Specifications!$C$22","v":"Rs."},null,{"$f":"Specifications!$C$22","v":"Rs."},{"$f":"Specifications!$C$22","v":"Rs."},{"$f":"Specifications!$C$22","v":"Rs."},{"$f":"Specifications!$C$22","v":"Rs."},{"$f":"Specifications!$C$22","v":"Rs."},{"$f":"Specifications!$C$22","v":"Rs."},{"$f":"Specifications!$C$22","v":"Rs."},{"$f":"Specifications!$C$22","v":"Rs."},{"$f":"Specifications!$C$22","v":"Rs."},{"$f":"Specifications!$C$22","v":"Rs."},{"$f":"Specifications!$C$22","v":"Rs."},{"$f":"Specifications!$C$22","v":"Rs."},{"$f":"Specifications!$C$22","v":"Rs."},{"$f":"Specifications!$C$22","v":"Rs."},{"$f":"Specifications!$C$22","v":"Rs."},{"$f":"Specifications!$C$22","v":"Rs."},{"$f":"Specifications!$C$22","v":"Rs."},{"$f":"Specifications!$C$22","v":"Rs."},{"$f":"Specifications!$C$22","v":"Rs."},{"$f":"Specifications!$C$22","v":"Rs."},{"$f":"Specifications!$C$22","v":"Rs."},{"$f":"Specifications!$C$22","v":"Rs."},{"$f":"Specifications!$C$22","v":"Rs."},{"$f":"Specifications!$C$22","v":"Rs."},null,{"$f":"Specifications!$C$22","v":"Rs."},{"$f":"Specifications!$C$22","v":"Rs."},{"$f":"Specifications!$C$22","v":"Rs."},{"$f":"Specifications!$C$22","v":"Rs."}]
[null,"Commission received",{"$f":"SUM(D13:G13)","v":0},{"$f":"I13+L13+O13+R13+U13+X13+AA13+AD13","v":0},{"$f":"J13+M13+P13+S13+V13+Y13+AB13+AE13","v":0},0,{"$f":"SUM(AH13:AK13)","v":0}]
[null,"Commission paid",{"$f":"SUM(D14:G14)","v":0},{"$f":"I14+L14+O14+R14+U14+X14+AA14+AD14","v":0},0,0,{"$f":"SUM(AH14:AK14)","v":0}]
[]
[null,"Net Commission",{"$f":"SUM(D16:G16)","v":0},{"$f":"I16+L16+O16+R16+U16+X16+AA16+AD16","v":0},{"$f":"J16+M16+P16+S16+V16+Y16+AB16+AE16","v":0},{"$f":"K16+N16+Q16+T16+W16+Z16+AC16+AF16","v":0},{"$f":"SUM(AH16:AK16)","v":0},null,{"$f":"I13-I14","v":0},{"$f":"J13-J14","v":0},0,0,0,0,0,0,0,0,0,0,0,0,0,0,0,0,0,0,0,0,0,0,null,0,0,0,0]

{"sheet":"R2","index":69,"n_rows":22,"n_cols":37,"rows_kept":22,"cut":false,"hidden":false,"merged":[[2,1,2,36],[5,2,5,3],[9,1,11,1],[9,2,10,2],[9,3,9,5],[9,6,10,6],[9,8,9,10],[9,11,9,13],[9,14,9,16],[9,17,9,19],[9,20,9,22],[9,23,9,25],[9,26,9,28],[9,29,9,31],[9,33,9,36]]}
[]
[]
[null,"FORM R2: GROSS WRITTEN PREMIUM AND TECHNICAL PROVISIONS"]
[]
[]
[null,"NAME OF CAPTIVE INSURER",{"$f":"Specifications!C6","v":0}]
[null,"YEAR ENDED",{"$f":"Specifications!C21","v":"00:00:00"},{"$f":"Specifications!C21-365","v":-365}]
[]
[]
[null,"Description ","Total","TOTAL GENERAL INSURANCE BUSINESS",null,null,"TOTAL LONG TERM INSURANCE BUSINESS",null,"Motor",null,null,"Accident &Health",null,null,"Engineering",null,null,"Liability",null,null,"Property",null,null,"Transport",null,null,"Guarantee",null,null,"Miscellaneous",null,null,null,"LONG TERM INSURANCE"]
[null,null,null,"Related business","Unrelated business other than Long Term Insurance Business","Business from Insurable interest other than LTI",null,null,"Related business","Unrelated business other than Long Term Insurance Business","Business from Insurable interest other than LTI","Related business","Unrelated business other than Long Term Insurance Business","Business from Insurable interest other than LTI","Related business","Unrelated business other than Long Term Insurance Business","Business from Insurable interest other than LTI","Related business","Unrelated business other than Long Term Insurance Business","Business from Insurable interest other than LTI","Related business","Unrelated business other than Long Term Insurance Business","Business from Insurable interest other than LTI","Related business","Unrelated business other than Long Term Insurance Business","Business from Insurable interest other than LTI","Related business","Unrelated business other than Long Term Insurance Business","Business from Insurable interest other than LTI","Related business","Unrelated business other than Long Term Insurance Business","Business from Insurable interest other than LTI",null,"Linked Long-Term Insurance","Permanent Health Insurance","Life Insurance","Pension"]
[null,null,{"$f":"Specifications!$C$22","v":"Rs."},{"$f":"Specifications!$C$22","v":"Rs."},{"$f":"Specifications!$C$22","v":"Rs."},{"$f":"Specifications!$C$22","v":"Rs."},{"$f":"Specifications!$C$22","v":"Rs."},null,{"$f":"Specifications!$C$22","v":"Rs."},{"$f":"Specifications!$C$22","v":"Rs."},{"$f":"Specifications!$C$22","v":"Rs."},{"$f":"Specifications!$C$22","v":"Rs."},{"$f":"Specifications!$C$22","v":"Rs."},{"$f":"Specifications!$C$22","v":"Rs."},{"$f":"Specifications!$C$22","v":"Rs."},{"$f":"Specifications!$C$22","v":"Rs."},{"$f":"Specifications!$C$22","v":"Rs."},{"$f":"Specifications!$C$22","v":"Rs."},{"$f":"Specifications!$C$22","v":"Rs."},{"$f":"Specifications!$C$22","v":"Rs."},{"$f":"Specifications!$C$22","v":"Rs."},{"$f":"Specifications!$C$22","v":"Rs."},{"$f":"Specifications!$C$22","v":"Rs."},{"$f":"Specifications!$C$22","v":"Rs."},{"$f":"Specifications!$C$22","v":"Rs."},{"$f":"Specifications!$C$22","v":"Rs."},{"$f":"Specifications!$C$22","v":"Rs."},{"$f":"Specifications!$C$22","v":"Rs."},{"$f":"Specifications!$C$22","v":"Rs."},{"$f":"Specifications!$C$22","v":"Rs."},{"$f":"Specifications!$C$22","v":"Rs."},{"$f":"Specifications!$C$22","v":"Rs."},null,{"$f":"Specifications!$C$22","v":"Rs."},{"$f":"Specifications!$C$22","v":"Rs."},{"$f":"Specifications!$C$22","v":"Rs."},{"$f":"Specifications!$C$22","v":"Rs."}]
[null,"Gross Premium on direct business",{"$f":"SUM(D13:G13)","v":0},{"$f":"I13+L13+O13+R13+U13+X13+AA13+AD13","v":0},{"$f":"J13+M13+P13+S13+V13+Y13+AB13+AE13","v":0},0,{"$f":"SUM(AH13:AK13)","v":0}]
[null,"Gross Premium on reinsurance business accepted",{"$f":"SUM(D14:G14)","v":0},{"$f":"I14+L14+O14+R14+U14+X14+AA14+AD14","v":0},0,0,{"$f":"SUM(AH14:AK14)","v":0}]
[]
[null,"Total Gross Premium",{"$f":"SUM(D16:G16)","v":0},{"$f":"I16+L16+O16+R16+U16+X16+AA16+AD16","v":0},0,0,{"$f":"SUM(AH16:AK16)","v":0},null,{"$f":"I13-I14","v":0},{"$f":"J13-J14","v":0},0,0,0,0,0,0,0,0,0,0,0,0,0,0,0,0,0,0,0,0,0,0,null,0,0,0,0]
[]
[null,"Technical Provisions (Liability for Incurred Claims)",{"$f":"SUM(D18:G18)","v":0},{"$f":"I18+L18+O18+R18+U18+X18+AA18+AD18","v":0},{"$f":"J18+M18+P18+S18+V18+Y18+AB18+AE18","v":0},{"$f":"K18+N18+Q18+T18+W18+Z18+AC18+AF18","v":0},{"$f":"SUM(AH18:AK18)","v":0}]
[]
[]
[null,"Gross Premium as % of Total Gross Premium",null,{"$f":"IFERROR(D16/$C$16,0)","v":0},{"$f":"IFERROR(E16/$C$16,0)","v":0},0,0]
[null,"Check",null,true,{"$f":"AND( E21<50%)","v":true},{"$f":"AND( F21<50%)","v":true},{"$f":"AND(G21<10%)","v":true}]

{"sheet":"R3","index":70,"n_rows":189,"n_cols":4,"rows_kept":189,"cut":false,"hidden":false,"merged":[[2,1,2,3],[5,2,5,3],[6,2,6,3],[14,1,14,2]]}
[]
[]
[null,"FORM R3: ANALYSIS OF CASH, BANK AND DEPOSITS"]
[]
[]
[null,"NAME OF CAPTIVE INSURER",{"$f":"Specifications!C6","v":0}]
[null,"YEAR ENDED",{"$f":"Specifications!C21","v":"00:00:00"}]
[]
[]
[]
[null,"CASH"]
[]
[]
[null,null,null,"Amount"]
[null,"Cash "]
[]
[]
[null,"CASH AT BANK"]
[]
[null,null,null,"        "]
[null,"Bank","Domicile","Amount"]
[]
[]
[]
[]
[]
[]
[]
[]
[]
[]
[]
[]
[]
[]
[]
[]
[]
[]
[]
[]
[]
[]
[]
[]
[]
[]
[]
[]
[]
[]
[]
[]
[]
[]
[]
[]
[]
[]
[]
[]
[]
[]
[]
[]
[]
[]
[]
[]
[]
[]
[null,"TOTAL ",{"$f":"SUM(C22:C71)","v":0},{"$f":"SUM(D22:D71)","v":0}]
[]
[null,"DEPOSITS"]
[]
[]
[null,"Bank","Domicile","Amount"]
[]
[]
[]
[]
[]
[]
[]
[]
[]
[]
[]
[]
[]
[]
[]
[]
[]
[]
[]
[]
[]
[]
[]
[]
[]
[]
[]
[]
[]
[]
[]
[]
[]
[]
[]
[]
[]
[]
[]
[]
[]
[]
[]
[]
[]
[]
[]
[]
[]
[]
[]
[null,"Total ",{"$f":"SUM(C78:C128)","v":0},{"$f":"SUM(D78:D128)","v":0}]
[]
[]
[null,"OTHER FINANCIAL INSTITUTIONS"]
[]
[]
[null,"Institution","Domicile","Amount"]
[]
[]
[]
[]
[]
[]
[]
[]
[]
[]
[]
[]
[]
[]
[]
[]
[]
[]
[]
[]
[]
[]
[]
[]
[]
[]
[]
[]
[]
[]
[]
[]
[]
[]
[]
[]
[]
[]
[]
[]
[]
[]
[]
[]
[]
[]
[]
[]
[]
[]
[]
[null,"Total",{"$f":"SUM(C136:C186)","v":0},{"$f":"SUM(D136:D186)","v":0}]
[]
[null,"Total Cash, Bank and Deposits",{"$f":"C72+C129+C187","v":0},{"$f":"D72+D129+D187","v":0}]

{"sheet":"R4","index":71,"n_rows":65,"n_cols":7,"rows_kept":65,"cut":false,"hidden":false,"merged":[[2,1,2,6],[11,1,13,1],[40,1,42,1],[40,2,40,6],[11,2,11,5],[5,2,5,4],[6,2,6,4]]}
[]
[]
[null,"FORM R4: MOVEMENT IN POLICIES - DIRECT BUSINESS"]
[]
[]
[null,"NAME OF CAPTIVE INSURER",{"$f":"Specifications!C6","v":0}]
[null,"YEAR ENDED",{"$f":"Specifications!C21","v":"00:00:00"}]
[]
[]
[null,"INDIVIDUAL BUSINESS"]
[]
[null,null,"Individual Business"]
[null,null,"Number of Policies in force",{"$f":"\"Total Gross Premium\"","v":"Total Gross Premium"},"Number of claims paid","Total Gross Claims"]
[null,null,null,{"$f":"Specifications!$C$22","v":"Rs."},null,{"$f":"Specifications!$C$22","v":"Rs."}]
[]
[null,"General Insurance"]
[null,"Motor"]
[null,"Accident and Health"]
[null,"Engineering"]
[null,"Liability"]
[null,"Property"]
[null,"Transport"]
[null,"Guarantee"]
[null,"Miscellaneous"]
[]
[null,"Total General Insurance",{"$f":"SUM(C17:C24)","v":0},{"$f":"SUM(D17:D24)","v":0},0,{"$f":"SUM(F17:F24)","v":0}]
[]
[null,"Long Term Insurance"]
[null,"Linked Long-Term Insurance"]
[null,"Permanent Health Insurance"]
[null,"Life Insurance"]
[null,"Pension"]
[]
[null,"Total Long Term Insurance",{"$f":"SUM(C29:C32)","v":0},{"$f":"SUM(D29:D32)","v":0},{"$f":"SUM(E29:E32)","v":0},{"$f":"SUM(F29:F32)","v":0}]
[]
[null,"Total",{"$f":"SUM(C26,C34)","v":0},{"$f":"SUM(D26,D34)","v":0},0,0]
[]
[]
[null,"GROUP BUSINESS"]
[]
[null,null,"Group Business"]
[null,null,"Number of Policies in force: Group policies","Number of Policies in force: Individual risks","Total Gross Premium","Number of claims paid","Total Gross Claims"]
[null,null,null,null,{"$f":"Specifications!$C$22","v":"Rs."},null,{"$f":"Specifications!$C$22","v":"Rs."}]
[]
[null,"General Insurance"]
[null,"Motor"]
[null,"Accident and Health"]
[null,"Engineering"]
[null,"Liability"]
[null,"Property"]
[null,"Transport"]
[null,"Guarantee"]
[null,"Miscellaneous"]
[]
[null,"Total General Insurance",{"$f":"SUM(C46:C53)","v":0},{"$f":"SUM(D46:D53)","v":0},0,0,0]
[]
[null,"Long Term Insurance"]
[null,"Linked Long-Term Insurance"]
[null,"Permanent Health Insurance"]
[null,"Life Insurance"]
[null,"Pension"]
[]
[null,"Total Long Term Insurance",{"$f":"SUM(C58:C61)","v":0},{"$f":"SUM(D58:D61)","v":0},{"$f":"SUM(E58:E61)","v":0},{"$f":"SUM(F58:F61)","v":0},{"$f":"SUM(G58:G61)","v":0}]
[]
[null,"Total",{"$f":"SUM(C55,C63)","v":0},{"$f":"SUM(D55,D63)","v":0},0,0,0]

{"sheet":"R5","index":72,"n_rows":65,"n_cols":7,"rows_kept":65,"cut":false,"hidden":false,"merged":[[2,1,2,6],[11,1,13,1],[11,2,11,5],[40,1,42,1],[40,2,40,6],[5,2,5,4],[6,2,6,4]]}
[]
[]
[null,"FORM R5: MOVEMENT IN POLICIES - REINSURANCE INWARDS BUSINESS"]
[]
[]
[null,"NAME OF CAPTIVE INSURER",{"$f":"Specifications!C6","v":0}]
[null,"YEAR ENDED",{"$f":"Specifications!C21","v":"00:00:00"}]
[]
[]
[null,"INDIVIDUAL BUSINESS"]
[]
[null,null,"Individual Business"]
[null,null,"Number of Policies in force",{"$f":"\"Total Gross Premium\"","v":"Total Gross Premium"},"Number of claims paid","Total Gross Claims"]
[null,null,null,{"$f":"Specifications!$C$22","v":"Rs."},null,{"$f":"Specifications!$C$22","v":"Rs."}]
[]
[null,"General Insurance"]
[null,"Motor"]
[null,"Accident and Health"]
[null,"Engineering"]
[null,"Liability"]
[null,"Property"]
[null,"Transport"]
[null,"Guarantee"]
[null,"Miscellaneous"]
[]
[null,"Total General Insurance",{"$f":"SUM(C17:C24)","v":0},{"$f":"SUM(D17:D24)","v":0},0,0]
[]
[null,"Long Term Insurance"]
[null,"Linked Long-Term Insurance"]
[null,"Permanent Health Insurance"]
[null,"Life Insurance"]
[null,"Pension"]
[]
[null,"Total Long Term Insurance",{"$f":"SUM(C29:C32)","v":0},{"$f":"SUM(D29:D32)","v":0},{"$f":"SUM(E29:E32)","v":0},{"$f":"SUM(F29:F32)","v":0}]
[]
[null,"Total",{"$f":"SUM(C26,C34)","v":0},{"$f":"SUM(D26,D34)","v":0},0,0]
[]
[]
[null,"GROUP BUSINESS"]
[]
[null,null,"Group Business"]
[null,null,"Number of Policies in force: Group policies","Number of Policies in force: Individual risks","Total Gross Premium","Number of claims paid","Total Gross Claims"]
[null,null,null,null,{"$f":"Specifications!$C$22","v":"Rs."},null,{"$f":"Specifications!$C$22","v":"Rs."}]
[]
[null,"General Insurance"]
[null,"Motor"]
[null,"Accident and Health"]
[null,"Engineering"]
[null,"Liability"]
[null,"Property"]
[null,"Transport"]
[null,"Guarantee"]
[null,"Miscellaneous"]
[]
[null,"Total General Insurance",{"$f":"SUM(C46:C53)","v":0},{"$f":"SUM(D46:D53)","v":0},0,0,0]
[]
[null,"Long Term Insurance"]
[null,"Linked Long-Term Insurance"]
[null,"Permanent Health Insurance"]
[null,"Life Insurance"]
[null,"Pension"]
[]
[null,"Total Long Term Insurance",{"$f":"SUM(C58:C61)","v":0},{"$f":"SUM(D58:D61)","v":0},{"$f":"SUM(E58:E61)","v":0},{"$f":"SUM(F58:F61)","v":0},{"$f":"SUM(G58:G61)","v":0}]
[]
[null,"Total",{"$f":"SUM(C55,C63)","v":0},{"$f":"SUM(D55,D63)","v":0},0,0,0]

{"sheet":"R6","index":73,"n_rows":44,"n_cols":6,"rows_kept":44,"cut":false,"hidden":false,"merged":[[2,1,2,5],[5,2,5,4],[6,2,6,4]]}
[]
[]
[null,"FORM R6: FINANCIAL RATIOS"]
[]
[]
[null,"NAME OF CAPTIVE INSURER",{"$f":"Specifications!C6","v":0}]
[null,"YEAR ENDED",{"$f":"Specifications!C21","v":"00:00:00"}]
[]
[]
[null,null,"Current \nYear (CY)","CY-1","CY-2","CY-3"]
[]
[null,"BALANCE SHEET SUMMARY"]
[null,"Assets",{"$f":"A0!D39","v":0},{"$f":"A0!E39","v":0}]
[null,"Liabilities",{"$f":"L0!D40","v":0},{"$f":"L0!E40","v":0}]
[null,"Equity",{"$f":"L0!D19","v":0},{"$f":"L0!E19","v":0}]
[]
[null,"PROFITABILITY"]
[null,"Insurance Service Result",{"$f":"PL0!D31","v":0},{"$f":"PL0!E31","v":0}]
[null,"Net profit after tax",{"$f":"PL0!D42","v":0},{"$f":"PL0!E42","v":0}]
[null,"Cash flows - Premiums received for Insurance Contracts"]
[null,"Insurance Revenue",{"$f":"PL0!D11","v":0},{"$f":"PL0!E11","v":0}]
[null,"Insurance Service Expenses",{"$f":"PL0!D19","v":0},{"$f":"PL0!E19","v":0}]
[null,"Allocation of Reinsurance Premiums",{"$f":"'I5'!C15","v":0},{"$f":"'I5'!D15","v":0}]
[null,"Amount Recoverable from Insurance Cashflows",{"$f":"'I5'!C17","v":0},{"$f":"'I5'!D17","v":0}]
[]
[null,"Gross Written Premium"]
[null,"Change in Gross Writings"]
[null,"Gross Claims Paid"]
[null,"Gross Loss ratio",{"$f":"IFERROR(C28/C26,0)","v":0},{"$f":"IFERROR(D28/D26,0)","v":0}]
[null,"Insurance Combined ratio",{"$f":"IFERROR(C22/C21,0)","v":0}]
[null,"Reinsurance Combined ratio",{"$f":"IFERROR(C24/C23,0)","v":0}]
[null,"Underwriting margin on revenues"]
[null,"Underwriting margin on liabilities"]
[null,"Insurance Contractual service margin ",{"$f":"'IR2'!F66","v":0}]
[null,"Reinsurance Contractual service margin ",{"$f":"'IR4'!F66","v":0}]
[]
[]
[null,"OTHER RATIOS"]
[null,"Change in life fund"]
[null,"Equity as a % of liabilities"]
[null,"Debt to Equity"]
[null,"Return on Equity"]
[null,"Profit Margin",{"$f":"IFERROR(C18/C21,0)","v":0}]
[null,"Capital Available as a % of Minimum Capital Required ",{"$f":"C0!D31","v":0}]

{"sheet":"R7","index":74,"n_rows":27,"n_cols":5,"rows_kept":27,"cut":false,"hidden":false,"merged":[[2,1,2,4],[5,2,5,4],[6,2,6,4]]}
[]
[]
[null,"FORM R7: INSURED VALUE AND POLICY LIMIT"]
[]
[]
[null,"NAME OF CAPTIVE INSURER",{"$f":"Specifications!C6","v":0}]
[null,"YEAR ENDED",{"$f":"Specifications!C21","v":"00:00:00"}]
[]
[]
[]
[null,null,"Total Insured Value","Total exposure","Maximum insured limit"]
[null,"Class of Insurance",{"$f":"Specifications!$C$22","v":"Rs."},{"$f":"Specifications!$C$22","v":"Rs."},{"$f":"Specifications!$C$22","v":"Rs."}]
[null,"Motor"]
[null,"Accident & \nHealth"]
[null,"Engineering"]
[null,"Liability"]
[null,"Property"]
[null,"Transport"]
[null,"Guarantee"]
[null,"Miscellaneous"]
[]
[null,"Linked Long-Term Insurance"]
[null,"Permanent Health Insurance"]
[null,"Life Insurance"]
[null,"Pension"]
[]
[null," TOTAL",{"$f":"SUM(C13:C25)","v":0},{"$f":"SUM(D13:D25)","v":0},0]

{"sheet":"Dev","index":75,"n_rows":117,"n_cols":9,"rows_kept":117,"cut":false,"hidden":true,"merged":[]}
["Column1","S & P","MOODY'S","FITCH","GCR","CARE","UNRATED","Rating text","Acceptable?"]
["A++","AAA","AAA","AAA","AAA","AAA",null,"AM BESTA++","Acceptable"]
["A+","AA+","AA1","AA+","AA+","AA",null,"AM BESTA+","Acceptable"]
["A","AA","AA2","AA","AA","A",null,"AM BESTA","Acceptable"]
["A-","AA-","AA3","AA-","AA-","BBB",null,"AM BESTA-","Acceptable"]
["B++","A+","A1","A+","A+","BB",null,"AM BESTB++","Acceptable"]
["B+","A","A2","A","A","B",null,"AM BESTB+","Acceptable"]
["B","A-","A3","A-","A-","CCC",null,"AM BESTB","Unacceptable"]
["B-","BBB+","BAA1","BBB+","BBB+","CCC",null,"AM BESTB-","Unacceptable"]
["C++","BBB","BAA2","BBB","BBB","CC",null,"AM BESTC++","Unacceptable"]
["C+","BBB-","BAA3","BBB-","BBB-","C",null,"AM BESTC+","Unacceptable"]
["C","BB+","BA1","BB+","BB+","SD",null,"AM BESTC","Unacceptable"]
["C-","BB","BA2","BB","BB","D",null,"AM BESTC-","Unacceptable"]
["D","BB-","BA3","BB-","BB-",null,null,"AM BESTD","Unacceptable"]
["E","B+","B1","B+","B+",null,null,"AM BESTE","Unacceptable"]
["F","B","B2","B","B",null,null,"AM BESTF","Unacceptable"]
["S","B-","B3","B-","B-",null,null,"AM BESTS","Unacceptable"]
[null,"CCC+","CAA1","CCC","CCC+",null,null,"S & PAAA","Acceptable"]
[null,"CCC","CAA2","CC","CCC",null,null,"S & PAA+","Acceptable"]
[null,"CCC-","CAA3","C","CCC-",null,null,"S & PAA","Acceptable"]
[null,"CC","CA","F","CC",null,null,"S & PAA-","Acceptable"]
[null,"R","C","","C",null,null,"S & PA+","Acceptable"]
[null,"SD","","","SD",null,null,"S & PA","Acceptable"]
[null,null,null,null,"D",null,null,"S & PA-","Unacceptable"]
[null,null,null,null,null,null,null,"S & PBBB+","Unacceptable"]
[null,null,null,null,null,null,null,"S & PBBB","Unacceptable"]
[null,null,null,null,null,null,null,"S & PBBB-","Unacceptable"]
[null,null,null,null,null,null,null,"S & PBB+","Unacceptable"]
[null,null,null,null,null,null,null,"S & PBB","Unacceptable"]
[null,null,null,null,null,null,null,"S & PBB-","Unacceptable"]
[null,null,null,null,null,null,null,"S & PB+","Unacceptable"]
[null,null,null,null,null,null,null,"S & PB","Unacceptable"]
[null,null,null,null,null,null,null,"S & PB-","Unacceptable"]
[null,null,null,null,null,null,null,"S & PCCC+","Unacceptable"]
[null,null,null,null,null,null,null,"S & PCCC","Unacceptable"]
[null,null,null,null,null,null,null,"S & PCCC-","Unacceptable"]
[null,null,null,null,null,null,null,"S & PCC","Unacceptable"]
[null,null,null,null,null,null,null,"S & PR","Unacceptable"]
[null,null,null,null,null,null,null,"S & PSD","Unacceptable"]
[null,null,null,null,null,null,null,"S & PD","Unacceptable"]
[null,null,null,null,null,null,null,"MOODY'SAAA","Acceptable"]
[null,null,null,null,null,null,null,"MOODY'SAA1","Acceptable"]
[null,null,null,null,null,null,null,"MOODY'SAA2","Acceptable"]
[null,null,null,null,null,null,null,"MOODY'SAA3","Acceptable"]
[null,null,null,null,null,null,null,"MOODY'SA1","Acceptable"]
[null,null,null,null,null,null,null,"MOODY'SA2","Acceptable"]
[null,null,null,null,null,null,null,"MOODY'SA3","Acceptable"]
[null,null,null,null,null,null,null,"MOODY'SBAA1","Unacceptable"]
[null,null,null,null,null,null,null,"MOODY'SBAA2","Unacceptable"]
[null,null,null,null,null,null,null,"MOODY'SBAA3","Unacceptable"]
[null,null,null,null,null,null,null,"MOODY'SBA1","Unacceptable"]
[null,null,null,null,null,null,null,"MOODY'SBA2","Unacceptable"]
[null,null,null,null,null,null,null,"MOODY'SBA3","Unacceptable"]
[null,null,null,null,null,null,null,"MOODY'SB1","Unacceptable"]
[null,null,null,null,null,null,null,"MOODY'SB2","Unacceptable"]
[null,null,null,null,null,null,null,"MOODY'SB3","Unacceptable"]
[null,null,null,null,null,null,null,"MOODY'SCAA1","Unacceptable"]
[null,null,null,null,null,null,null,"MOODY'SCAA2","Unacceptable"]
[null,null,null,null,null,null,null,"MOODY'SCAA3","Unacceptable"]
[null,null,null,null,null,null,null,"MOODY'SCA","Unacceptable"]
[null,null,null,null,null,null,null,"MOODY'SC","Unacceptable"]
[null,null,null,null,null,null,null,"FITCHAAA","Acceptable"]
[null,null,null,null,null,null,null,"FITCHAA+","Acceptable"]
[null,null,null,null,null,null,null,"FITCHAA","Acceptable"]
[null,null,null,null,null,null,null,"FITCHAA-","Acceptable"]
[null,null,null,null,null,null,null,"FITCHA+","Acceptable"]
[null,null,null,null,null,null,null,"FITCHA","Acceptable"]
[null,null,null,null,null,null,null,"FITCHA-","Unacceptable"]
[null,null,null,null,null,null,null,"FITCHBBB+","Unacceptable"]
[null,null,null,null,null,null,null,"FITCHBBB","Unacceptable"]
[null,null,null,null,null,null,null,"FITCHBBB-","Unacceptable"]
[null,null,null,null,null,null,null,"FITCHBB+","Unacceptable"]
[null,null,null,null,null,null,null,"FITCHBB","Unacceptable"]
[null,null,null,null,null,null,null,"FITCHBB-","Unacceptable"]
[null,null,null,null,null,null,null,"FITCHB+","Unacceptable"]
[null,null,null,null,null,null,null,"FITCHB","Unacceptable"]
[null,null,null,null,null,null,null,"FITCHB-","Unacceptable"]
[null,null,null,null,null,null,null,"FITCHCCC","Unacceptable"]
[null,null,null,null,null,null,null,"FITCHCC","Unacceptable"]
[null,null,null,null,null,null,null,"FITCHC","Unacceptable"]
[null,null,null,null,null,null,null,"FITCHF","Unacceptable"]
[null,null,null,null,null,null,null,"UNRATED","Unacceptable"]
[null,null,null,null,null,null,null,"GCRAAA","Acceptable"]
[null,null,null,null,null,null,null,"GCRAA+","Acceptable"]
[null,null,null,null,null,null,null,"GCRAA","Acceptable"]
[null,null,null,null,null,null,null,"GCRAA-","Acceptable"]
[null,null,null,null,null,null,null,"GCRA+","Acceptable"]
[null,null,null,null,null,null,null,"GCRA","Acceptable"]
[null,null,null,null,null,null,null,"GCRA-","Unacceptable"]
[null,null,null,null,null,null,null,"GCRBBB+","Unacceptable"]
[null,null,null,null,null,null,null,"GCRBBB","Unacceptable"]
[null,null,null,null,null,null,null,"GCRBBB-","Unacceptable"]
[null,null,null,null,null,null,null,"GCRBB+","Unacceptable"]
[null,null,null,null,null,null,null,"GCRBB","Unacceptable"]
[null,null,null,null,null,null,null,"GCRBB-","Unacceptable"]
[null,null,null,null,null,null,null,"GCRB+","Unacceptable"]
[null,null,null,null,null,null,null,"GCRB","Unacceptable"]
[null,null,null,null,null,null,null,"GCRB-","Unacceptable"]
[null,null,null,null,null,null,null,"GCRCCC+","Unacceptable"]
[null,null,null,null,null,null,null,"GCRCCC","Unacceptable"]
[null,null,null,null,null,null,null,"GCRCCC-","Unacceptable"]
[null,null,null,null,null,null,null,"GCRCC","Unacceptable"]
[null,null,null,null,null,null,null,"GCRC","Unacceptable"]
[null,null,null,null,null,null,null,"GCRSD","Unacceptable"]
[null,null,null,null,null,null,null,"GCRD","Unacceptable"]
[null,null,null,null,null,null,null,"CAREAAA","Acceptable"]
[null,null,null,null,null,null,null,"CAREAA","Acceptable"]
[null,null,null,null,null,null,null,"CAREA","Acceptable"]
[null,null,null,null,null,null,null,"CAREBBB","Unacceptable"]
[null,null,null,null,null,null,null,"CAREBB","Unacceptable"]
[null,null,null,null,null,null,null,"CAREB","Unacceptable"]
[null,null,null,null,null,null,null,"CARECCC","Unacceptable"]
[null,null,null,null,null,null,null,"CARECCC","Unacceptable"]
[null,null,null,null,null,null,null,"CARECC","Unacceptable"]
[null,null,null,null,null,null,null,"CAREC","Unacceptable"]
[null,null,null,null,null,null,null,"CARESD","Unacceptable"]
[null,null,null,null,null,null,null,"CARED","Unacceptable"]